Text-Amuse-Preprocessor v0.65 Perl 5 v5.24.0 x86_64-linux

Status
Pass
From
Slaven Rezić
Dist
Text-Amuse-Preprocessor v0.65
Platform
Perl 5 v5.24.0 x86_64-linux
Date
2021-11-20 09:54:17
ID
d343ff92-49e7-11ec-bc6c-60191f24ea8f
This distribution has been tested as part of the CPAN Testers
project, supporting the Perl programming language.  See
http://wiki.cpantesters.org/ for more information or email
questions to cpan-testers-discuss@perl.org


--
Dear Marco Pessotto,

This is a computer-generated report for Text-Amuse-Preprocessor-0.65
on perl 5.24.0, created by CPAN-Reporter-1.2018.

Thank you for uploading your work to CPAN.  Congratulations!
All tests were successful.

Sections of this report:

    * Tester comments
    * Program output
    * Prerequisites
    * Environment and other context

------------------------------
TESTER COMMENTS
------------------------------

Additional comments from tester:

none provided

------------------------------
PROGRAM OUTPUT
------------------------------

Output from '/usr/bin/make test':

PERL_DL_NONLAZY=1 "/opt/perl-5.24.0/bin/perl" "-MExtUtils::Command::MM" "-MTest::Harness" "-e" "undef *Test::Harness::Switches; test_harness(0, 'blib/lib', 'blib/arch')" t/*.t
# Testing Text::Amuse::Preprocessor 0.65, Perl 5.024000, /opt/perl-5.24.0/bin/perl
t/00-load.t ........... ok
t/changes.t ........... skipped: Changes testing not required (or Test::CPAN::Changes not found)
t/chars.t ............. ok
# Using /var/tmp/cpansmoker-1023/2021112010/MummuDNzl2 for ligatures
# Using /var/tmp/cpansmoker-1023/2021112010/2nXqGpiGq4 for missing_nl
# Using /var/tmp/cpansmoker-1023/2021112010/bRoqWgRLNS for garbage
# Using /var/tmp/cpansmoker-1023/2021112010/Q7t2wuypzG for ellipsis_no_fix
# Using /var/tmp/cpansmoker-1023/2021112010/o9hyNZUMI0 for ellipsis
# Using /var/tmp/cpansmoker-1023/2021112010/yBGalr6tXw for links
# Using /var/tmp/cpansmoker-1023/2021112010/cJP6QrkGOI for en
# Using /var/tmp/cpansmoker-1023/2021112010/fRYKAWuBCi for fi
# Using /var/tmp/cpansmoker-1023/2021112010/LTK5H7uxfw for es
# Using /var/tmp/cpansmoker-1023/2021112010/NIt4yFrG6m for sr
# Using /var/tmp/cpansmoker-1023/2021112010/n1mVqvi2d_ for hr
# Using /var/tmp/cpansmoker-1023/2021112010/4oD99fnbBI for ru
# Using /var/tmp/cpansmoker-1023/2021112010/JXzbTR4PDE for it
# Using /var/tmp/cpansmoker-1023/2021112010/TIALlsVaFH for mk
# Using /var/tmp/cpansmoker-1023/2021112010/FJRMkY5rfN for sv
# Using /var/tmp/cpansmoker-1023/2021112010/jGnHLwdnwm for de
# Using /var/tmp/cpansmoker-1023/2021112010/B6kc1ol87O for pl
# Using /var/tmp/cpansmoker-1023/2021112010/6vqiSdB779 for bg
# Using /var/tmp/cpansmoker-1023/2021112010/86NupUQ8FC for eo
# Using /var/tmp/cpansmoker-1023/2021112010/iRDFFhEhlN for fr
# Using /var/tmp/cpansmoker-1023/2021112010/JEFV7GkOYd for pt
# Using /var/tmp/cpansmoker-1023/2021112010/3rQ_7kjxxr for sq
# Using /var/tmp/cpansmoker-1023/2021112010/SuYKoTfvKi for da
# Using /var/tmp/cpansmoker-1023/2021112010/OscWVmkq6Q for nl
# Using /var/tmp/cpansmoker-1023/2021112010/XtVn84O6Bj for id
# Using /var/tmp/cpansmoker-1023/2021112010/ezJ90FQ7zS for Full example
# Using /var/tmp/cpansmoker-1023/2021112010/e_1cJgrIbk for Quote
# Using /var/tmp/cpansmoker-1023/2021112010/9kS5QbWNGX for Quote
# Using /var/tmp/cpansmoker-1023/2021112010/xfVQVoWulH for Nl quotation
t/common.t ............ ok
t/crash-on-verb.t ..... ok
# $VAR1 = "#title Test
# #lang en
# 
# 0
# 
# \x{201c}0\x{201d}
# 
# 0
# ";
# $VAR1 = "#title Test
# #lang en
# 
# 0
# 
# \x{201c}0\x{201d}
# 
# 0
# ";
t/crash_on_loop.t ..... ok
# /var/tmp/cpansmoker-1023/2021112010/NxAn3uGCFA/verbatim-in.muse
# /var/tmp/cpansmoker-1023/2021112010/NxAn3uGCFA
t/exclude-verbatim.t .. ok
# Testing t/footnotes/good.in => t/footnotes/good.out
# Testing t/footnotes/good2.in => t/footnotes/good2.out
# Testing t/footnotes/good3.in => t/footnotes/good3.out
# Testing t/footnotes/mixed.in => t/footnotes/mixed.out
# Testing t/footnotes/indentation.in => t/footnotes/indentation.out
# Testing t/footnotes/sec-good.in => t/footnotes/sec-good.out
# Testing t/footnotes/sec-good2.in => t/footnotes/sec-good2.out
# Testing t/footnotes/sec-good3.in => t/footnotes/sec-good3.out
# Testing t/footnotes/sec-bad.in => t/footnotes/sec-bad.out
# @@ -1 +1,2 @@
# -{4}
# +{3}
# +{3}
# Testing t/footnotes/sec-bad2.in => t/footnotes/sec-bad2.out
# @@ -1,3 +1,2 @@
# -{4}
# +{3}
# -{5}
# +{3}
# -{6}
# Testing t/footnotes/bad.in => t/footnotes/bad.out
# @@ -1,2 +1,3 @@
#  [1]
# -[1]
# +[2]
# +[4]
# Testing t/footnotes/bad2.in => t/footnotes/bad2.out
# @@ -1,4 +1,3 @@
#  [1]
# -[1]
# +[2]
#  [4]
# -[5]
t/footnotes.t ......... ok
tagpile mismatch: root, p
t/html-2.t ............ ok
# Using /var/tmp/cpansmoker-1023/2021112010/Ix0ibbhy_i.html
# Using /var/tmp/cpansmoker-1023/2021112010/BG79LKZ53e.html
# Using /var/tmp/cpansmoker-1023/2021112010/eIQUbyvxwX.html
# Using /var/tmp/cpansmoker-1023/2021112010/BJy1ef2cUs.html
# Using /var/tmp/cpansmoker-1023/2021112010/PESuR6h4R2.html
# Using /var/tmp/cpansmoker-1023/2021112010/ummt2ESWWH.html
# Using /var/tmp/cpansmoker-1023/2021112010/vaasNyc9GZ.html
# Using /var/tmp/cpansmoker-1023/2021112010/a9Vp5bFrAE.html
# Using /var/tmp/cpansmoker-1023/2021112010/fbboPa10UB.html
# Using /var/tmp/cpansmoker-1023/2021112010/8j6ZrmxodU.html
# Using /var/tmp/cpansmoker-1023/2021112010/We5kaTAGpu.html
# Using /var/tmp/cpansmoker-1023/2021112010/Mivu3seY9m.html
# Using /var/tmp/cpansmoker-1023/2021112010/4WcRBASn5M.html
# Using /var/tmp/cpansmoker-1023/2021112010/9rvLAJoq8e.html
# Using /var/tmp/cpansmoker-1023/2021112010/NFT9skkj7U.html
# Using /var/tmp/cpansmoker-1023/2021112010/BVtBn2fVuH.html
# Using /var/tmp/cpansmoker-1023/2021112010/xWx9QgotnM.html
t/html.t .............. ok
t/manifest.t .......... skipped: Author tests not required for installation
t/memory-cycles.t ..... ok
t/nbsp.t .............. ok
# Infile is /var/tmp/cpansmoker-1023/2021112010/N8u8DWYsaC/input.txt
# Using /var/tmp/cpansmoker-1023/2021112010/f6sJGVYY0O as temporary dir
t/object.t ............ ok
t/pod-coverage.t ...... skipped: Pod coverage not required for installation
t/pod.t ............... skipped: Pod test not required for installation
t/russian.t ........... ok
t/subs.t .............. ok
t/typography.t ........ ok
All tests successful.
Files=19, Tests=441,  1 wallclock secs ( 0.02 usr  0.04 sys +  0.93 cusr  0.18 csys =  1.17 CPU)
Result: PASS

------------------------------
PREREQUISITES
------------------------------

Prerequisite modules loaded:

requires:

    Module              Need Have    
    ------------------- ---- --------
    HTML::PullParser    0    3.57    
    IO::HTML            1    1.001   
    Pod::Simple::Wiki   0.19 0.20    
    Text::Amuse         0.95 1.77    
    Text::Diff          0    1.44    

build_requires:

    Module              Need Have    
    ------------------- ---- --------
    Test::More          0    1.302052

configure_requires:

    Module              Need Have    
    ------------------- ---- --------
    ExtUtils::MakeMaker 0    7.24    


------------------------------
ENVIRONMENT AND OTHER CONTEXT
------------------------------

Environment variables:

    LANG = en_US.UTF-8
    LANGUAGE = en_US:en
    LC_ALL = en_US.UTF-8
    PATH = /usr/local/bin:/usr/bin:/bin:/usr/local/sbin:/usr/sbin:/sbin:/home/cpansand/bin/linux-gnu:/home/cpansand/bin/sh:/home/cpansand/bin:/usr/games:/home/cpansand/devel:/home/eserte/src/srezic-misc/scripts
    PERL5LIB = /home/cpansand/.cpan/build/2021112010/Text-Amuse-1.77-2/blib/arch:/home/cpansand/.cpan/build/2021112010/Text-Amuse-1.77-2/blib/lib
    PERL5OPT = 
    PERL5_CPANPLUS_IS_RUNNING = 14794
    PERL5_CPAN_IS_RUNNING = 14794
    PERL5_CPAN_IS_RUNNING_IN_RECURSION = 14059,14794
    PERLDOC = -MPod::Perldoc::ToTextOverstrike
    PERL_BATCH = yes
    PERL_CANARY_STABILITY_NOPROMPT = 1
    PERL_CPAN_REPORTER_CONFIG = /var/tmp/cpansmoker-1023/2021112010/cpanreporter_000_config.ini
    PERL_EXTUTILS_AUTOINSTALL = --defaultdeps
    PERL_USE_UNSAFE_INC = 1
    SHELL = /bin/zsh
    TERM = screen
    TMPDIR = /var/tmp/cpansmoker-1023/2021112010

Perl special variables (and OS-specific diagnostics, for MSWin32):

    $^X = /opt/perl-5.24.0/bin/perl
    $UID/$EUID = 1023 / 1023
    $GID = 1023 1023
    $EGID = 1023 1023

Perl module toolchain versions installed:

    Module              Have    
    ------------------- --------
    CPAN                2.28    
    CPAN::Meta          2.150010
    Cwd                 3.63    
    ExtUtils::CBuilder  0.280225
    ExtUtils::Command   7.24    
    ExtUtils::Install   2.04    
    ExtUtils::MakeMaker 7.24    
    ExtUtils::Manifest  1.70    
    ExtUtils::ParseXS   3.31    
    File::Spec          3.63    
    JSON                2.90    
    JSON::PP            2.27300 
    Module::Build       0.4220  
    Module::Signature   0.80    
    Parse::CPAN::Meta   2.150010
    Test::Harness       3.36    
    Test::More          1.302052
    YAML                1.17    
    YAML::Syck          1.29    
    version             0.9916  


--

Summary of my perl5 (revision 5 version 24 subversion 0) configuration:
   
  Platform:
    osname=linux, osvers=3.2.0-4-amd64, archname=x86_64-linux
    uname='linux cvrsnica-wheezy 3.2.0-4-amd64 #1 smp debian 3.2.54-2 x86_64 gnulinux '
    config_args='-ds -e -Dprefix=/opt/perl-5.24.0 -Dcf_email=srezic@cpan.org'
    hint=recommended, useposix=true, d_sigaction=define
    useithreads=undef, usemultiplicity=undef
    use64bitint=define, use64bitall=define, uselongdouble=undef
    usemymalloc=n, bincompat5005=undef
  Compiler:
    cc='cc', ccflags ='-fwrapv -fno-strict-aliasing -pipe -fstack-protector -I/usr/local/include -D_LARGEFILE_SOURCE -D_FILE_OFFSET_BITS=64 -D_FORTIFY_SOURCE=2',
    optimize='-O2',
    cppflags='-fwrapv -fno-strict-aliasing -pipe -fstack-protector -I/usr/local/include'
    ccversion='', gccversion='4.7.2', gccosandvers=''
    intsize=4, longsize=8, ptrsize=8, doublesize=8, byteorder=12345678, doublekind=3
    d_longlong=define, longlongsize=8, d_longdbl=define, longdblsize=16, longdblkind=3
    ivtype='long', ivsize=8, nvtype='double', nvsize=8, Off_t='off_t', lseeksize=8
    alignbytes=8, prototype=define
  Linker and Libraries:
    ld='cc', ldflags =' -fstack-protector -L/usr/local/lib'
    libpth=/usr/local/lib /usr/lib/gcc/x86_64-linux-gnu/4.7/include-fixed /usr/include/x86_64-linux-gnu /usr/lib /lib/x86_64-linux-gnu /lib/../lib /usr/lib/x86_64-linux-gnu /usr/lib/../lib /lib
    libs=-lpthread -lnsl -ldb -ldl -lm -lcrypt -lutil -lc
    perllibs=-lpthread -lnsl -ldl -lm -lcrypt -lutil -lc
    libc=libc-2.13.so, so=so, useshrplib=false, libperl=libperl.a
    gnulibc_version='2.13'
  Dynamic Linking:
    dlsrc=dl_dlopen.xs, dlext=so, d_dlsymun=undef, ccdlflags='-Wl,-E'
    cccdlflags='-fPIC', lddlflags='-shared -O2 -L/usr/local/lib -fstack-protector'


Characteristics of this binary (from libperl): 
  Compile-time options: HAS_TIMES PERLIO_LAYERS PERL_COPY_ON_WRITE
                        PERL_DONT_CREATE_GVSV
                        PERL_HASH_FUNC_ONE_AT_A_TIME_HARD PERL_MALLOC_WRAP
                        PERL_PRESERVE_IVUV USE_64_BIT_ALL USE_64_BIT_INT
                        USE_LARGE_FILES USE_LOCALE USE_LOCALE_COLLATE
                        USE_LOCALE_CTYPE USE_LOCALE_NUMERIC USE_LOCALE_TIME
                        USE_PERLIO USE_PERL_ATOF
  Built under linux
  Compiled at May 30 2016 08:43:25
  %ENV:
    PERL5LIB="/home/cpansand/.cpan/build/2021112010/Text-Amuse-1.77-2/blib/arch:/home/cpansand/.cpan/build/2021112010/Text-Amuse-1.77-2/blib/lib"
    PERL5OPT=""
    PERL5_CPANPLUS_IS_RUNNING="14794"
    PERL5_CPAN_IS_RUNNING="14794"
    PERL5_CPAN_IS_RUNNING_IN_RECURSION="14059,14794"
    PERLDOC="-MPod::Perldoc::ToTextOverstrike"
    PERL_BATCH="yes"
    PERL_CANARY_STABILITY_NOPROMPT="1"
    PERL_CPAN_REPORTER_CONFIG="/var/tmp/cpansmoker-1023/2021112010/cpanreporter_000_config.ini"
    PERL_EXTUTILS_AUTOINSTALL="--defaultdeps"
    PERL_USE_UNSAFE_INC="1"
  @INC:
    /home/cpansand/.cpan/build/2021112010/Text-Amuse-1.77-2/blib/arch
    /home/cpansand/.cpan/build/2021112010/Text-Amuse-1.77-2/blib/lib
    /opt/perl-5.24.0/lib/site_perl/5.24.0/x86_64-linux
    /opt/perl-5.24.0/lib/site_perl/5.24.0
    /opt/perl-5.24.0/lib/5.24.0/x86_64-linux
    /opt/perl-5.24.0/lib/5.24.0
    .