Report for HTML-Formatter-2.16

Back
From: metabase:user:314402c4-2aae-11df-837a-5e0a49663a4f
Subject: PASS HTML-Formatter-2.16 v5.25.9 Mac OS X
Date: 2017-02-04T18:00:34Z

This distribution has been tested as part of the CPAN Testers
project, supporting the Perl programming language.  See
http://wiki.cpantesters.org/ for more information or email
questions to cpan-testers-discuss@perl.org


--
Dear Nigel Metheringham,

This is a computer-generated report for HTML-Formatter-2.16
on perl 5.25.9, created by CPAN-Reporter-1.2018.

Thank you for uploading your work to CPAN.  Congratulations!
All tests were successful.

Sections of this report:

    * Tester comments
    * Program output
    * Prerequisites
    * Environment and other context

------------------------------
TESTER COMMENTS
------------------------------

Additional comments from tester:

none provided

------------------------------
PROGRAM OUTPUT
------------------------------

Output from '/usr/bin/make test':

PERL_DL_NONLAZY=1 "/opt/perl-5.25.9/bin/perl5.25.9" "-MExtUtils::Command::MM" "-MTest::Harness" "-e" "undef *Test::Harness::Switches; test_harness(0, 'blib/lib', 'blib/arch')" t/*.t
t/00-compile.t ............... ok
# 
# Versions for all modules listed in MYMETA.json (including optional ones):
# 
# === Configure Requires ===
# 
#     Module              Want Have
#     ------------------- ---- ----
#     ExtUtils::MakeMaker  any 7.24
# 
# === Build Requires ===
# 
#     Module              Want Have
#     ------------------- ---- ----
#     ExtUtils::MakeMaker  any 7.24
# 
# === Test Requires ===
# 
#     Module              Want     Have
#     ------------------- ---- --------
#     ExtUtils::MakeMaker  any     7.24
#     File::Slurper        any    0.009
#     File::Spec           any     3.66
#     FindBin              any     1.51
#     IO::Handle           any     1.36
#     IPC::Open3           any     1.20
#     Test::More          0.96 1.302075
#     Test::Warnings       any    0.026
#     blib                1.01     1.06
#     bytes                any     1.05
#     lib                  any     0.64
# 
# === Test Recommends ===
# 
#     Module         Want     Have
#     ---------- -------- --------
#     CPAN::Meta 2.120900 2.150010
# 
# === Runtime Requires ===
# 
#     Module                              Want  Have
#     ----------------------------------- ---- -----
#     Carp                                 any  1.42
#     Data::Dumper                         any 2.167
#     Encode                               any  2.88
#     Font::Metrics::Courier               any undef
#     Font::Metrics::CourierBold           any undef
#     Font::Metrics::CourierBoldOblique    any undef
#     Font::Metrics::CourierOblique        any undef
#     Font::Metrics::Helvetica             any undef
#     Font::Metrics::HelveticaBold         any undef
#     Font::Metrics::HelveticaBoldOblique  any undef
#     Font::Metrics::HelveticaOblique      any undef
#     Font::Metrics::TimesBold             any undef
#     Font::Metrics::TimesBoldItalic       any undef
#     Font::Metrics::TimesItalic           any undef
#     Font::Metrics::TimesRoman            any undef
#     HTML::Element                       3.15  5.03
#     HTML::TreeBuilder                    any  5.03
#     IO::File                             any  1.16
#     base                                 any  2.24
#     integer                              any  1.01
#     parent                               any 0.236
#     strict                               any  1.11
#     utf8                                 any  1.19
#     warnings                             any  1.37
# 
t/00-report-prereqs.t ........ ok
t/01_ps.t .................... ok
t/02_rtf.t ................... ok
t/03_text.t .................. ok
t/04_md.t .................... ok
t/author-critic.t ............ skipped: these tests are for testing by the author
t/author-eol.t ............... skipped: these tests are for testing by the author
t/author-no-tabs.t ........... skipped: these tests are for testing by the author
t/author-pod-spell.t ......... skipped: these tests are for testing by the author
t/author-pod-syntax.t ........ skipped: these tests are for testing by the author
t/author-portability.t ....... skipped: these tests are for testing by the author
t/author-synopsis.t .......... skipped: these tests are for testing by the author
t/release-dist-manifest.t .... skipped: these tests are for release candidate testing
t/release-distmeta.t ......... skipped: these tests are for release candidate testing
t/release-has-version.t ...... skipped: these tests are for release candidate testing
t/release-minimum-version.t .. skipped: these tests are for release candidate testing
t/release-unused-vars.t ...... skipped: these tests are for release candidate testing
t/rt111783.t ................. ok
t/rt69426.t .................. ok
All tests successful.
Files=20, Tests=94,  1 wallclock secs ( 0.05 usr  0.03 sys +  0.68 cusr  0.12 csys =  0.88 CPU)
Result: PASS

------------------------------
PREREQUISITES
------------------------------

Prerequisite modules loaded:

requires:

    Module                              Need  Have    
    ----------------------------------- ----- --------
    base                                0     2.24    
    Carp                                0     1.42    
    Data::Dumper                        0     2.167   
    Encode                              0     2.88    
    Font::Metrics::Courier              0     0       
    Font::Metrics::CourierBold          0     0       
    Font::Metrics::CourierBoldOblique   0     0       
    Font::Metrics::CourierOblique       0     0       
    Font::Metrics::Helvetica            0     0       
    Font::Metrics::HelveticaBold        0     0       
    Font::Metrics::HelveticaBoldOblique 0     0       
    Font::Metrics::HelveticaOblique     0     0       
    Font::Metrics::TimesBold            0     0       
    Font::Metrics::TimesBoldItalic      0     0       
    Font::Metrics::TimesItalic          0     0       
    Font::Metrics::TimesRoman           0     0       
    HTML::Element                       3.15  5.03    
    HTML::TreeBuilder                   0     5.03    
    integer                             0     1.01    
    IO::File                            0     1.16    
    parent                              0     0.236   
    perl                                5.008 5.025009
    strict                              0     1.11    
    utf8                                0     1.19    
    warnings                            0     1.37    

build_requires:

    Module                              Need  Have    
    ----------------------------------- ----- --------
    blib                                1.01  1.06    
    bytes                               0     1.05    
    ExtUtils::MakeMaker                 0     7.24    
    File::Slurper                       0     0.009   
    File::Spec                          0     3.66    
    FindBin                             0     1.51    
    IO::Handle                          0     1.36    
    IPC::Open3                          0     1.20    
    lib                                 0     0.64    
    Test::More                          0.96  1.302075
    Test::Warnings                      0     0.026   

configure_requires:

    Module                              Need  Have    
    ----------------------------------- ----- --------
    ExtUtils::MakeMaker                 0     7.24    


------------------------------
ENVIRONMENT AND OTHER CONTEXT
------------------------------

Environment variables:

    LANG = en_US.UTF-8
    PATH = /usr/local/bin:/usr/bin:/bin:/usr/local/sbin:/usr/sbin:/sbin:/Users/eserte/bin/darwin15.0:/Users/eserte/bin/sh:/Users/eserte/bin:/Users/eserte/bin/pistachio-perl/bin:/usr/games:/Users/eserte/devel:/Users/eserte/work/drafts-slaven.rezic/misc:/Users/eserte/src/srezic-misc/scripts
    PERL5LIB = 
    PERL5OPT = 
    PERL5_CPANPLUS_IS_RUNNING = 50563
    PERL5_CPAN_IS_RUNNING = 50563
    PERL5_CPAN_IS_RUNNING_IN_RECURSION = 50548,50563
    PERLDOC = -MPod::Perldoc::ToTextOverstrike
    PERL_BATCH = yes
    PERL_CANARY_STABILITY_NOPROMPT = 1
    PERL_CPAN_REPORTER_CONFIG = /var/tmp/cpansmoker-501/2017020415/cpanreporter_000_config.ini
    PERL_EXTUTILS_AUTOINSTALL = --defaultdeps
    PISTACHIO_PERL_MANAGER = 1
    SHELL = /bin/zsh
    TERM = xterm
    TMPDIR = /var/tmp/cpansmoker-501/2017020415
    VERSIONER_PERL_PREFER_32_BIT = no
    VERSIONER_PERL_VERSION = 5.18

Perl special variables (and OS-specific diagnostics, for MSWin32):

    $^X = /opt/perl-5.25.9/bin/perl5.25.9
    $UID/$EUID = 501 / 501
    $GID = 20 20 701 12 61 79 80 81 98 33 100 204 395 398 399
    $EGID = 20 20 701 12 61 79 80 81 98 33 100 204 395 398 399

Perl module toolchain versions installed:

    Module              Have      
    ------------------- ----------
    CPAN                2.16      
    CPAN::Meta          2.150010  
    Cwd                 3.66      
    ExtUtils::CBuilder  0.280225  
    ExtUtils::Command   7.24      
    ExtUtils::Install   2.04      
    ExtUtils::MakeMaker 7.24      
    ExtUtils::Manifest  1.70      
    ExtUtils::ParseXS   3.33      
    File::Spec          3.66      
    JSON                2.90      
    JSON::PP            2.27400_02
    Module::Build       0.4220    
    Module::Signature   n/a       
    Parse::CPAN::Meta   2.150010  
    Test::Harness       3.36_01   
    Test::More          1.302075  
    YAML                1.21      
    YAML::Syck          1.29      
    version             0.9917    


--

Summary of my perl5 (revision 5 version 25 subversion 9) configuration:
   
  Platform:
    osname=darwin
    osvers=15.4.0
    archname=darwin-2level
    uname='darwin macbook.herceg.de 15.4.0 darwin kernel version 15.4.0: fri feb 26 22:08:05 pst 2016; root:xnu-3248.40.184~3release_x86_64 x86_64 '
    config_args='-ds -e -Dprefix=/opt/perl-5.25.9 -Dusedevel -Dusemallocwrap=no -Dcf_email=srezic@cpan.org'
    hint=recommended
    useposix=true
    d_sigaction=define
    useithreads=undef
    usemultiplicity=undef
    use64bitint=define
    use64bitall=define
    uselongdouble=undef
    usemymalloc=n
    bincompat5005=undef
  Compiler:
    cc='cc'
    ccflags ='-fno-common -DPERL_DARWIN -mmacosx-version-min=10.11 -fno-strict-aliasing -pipe -fstack-protector-strong -I/usr/local/include -DPERL_USE_SAFE_PUTENV'
    optimize='-O3'
    cppflags='-fno-common -DPERL_DARWIN -mmacosx-version-min=10.11 -fno-strict-aliasing -pipe -fstack-protector-strong -I/usr/local/include'
    ccversion=''
    gccversion='4.2.1 Compatible Apple LLVM 7.3.0 (clang-703.0.31)'
    gccosandvers=''
    intsize=4
    longsize=8
    ptrsize=8
    doublesize=8
    byteorder=12345678
    doublekind=3
    d_longlong=define
    longlongsize=8
    d_longdbl=define
    longdblsize=16
    longdblkind=3
    ivtype='long'
    ivsize=8
    nvtype='double'
    nvsize=8
    Off_t='off_t'
    lseeksize=8
    alignbytes=8
    prototype=define
  Linker and Libraries:
    ld='cc'
    ldflags =' -mmacosx-version-min=10.11 -fstack-protector-strong -L/usr/local/lib'
    libpth=/usr/local/lib /Library/Developer/CommandLineTools/usr/bin/../lib/clang/7.3.0/lib /Library/Developer/CommandLineTools/usr/lib /usr/lib
    libs=-lpthread -ldbm -ldb -ldl -lm -lutil -lc
    perllibs=-lpthread -ldl -lm -lutil -lc
    libc=
    so=dylib
    useshrplib=false
    libperl=libperl.a
    gnulibc_version=''
  Dynamic Linking:
    dlsrc=dl_dlopen.xs
    dlext=bundle
    d_dlsymun=undef
    ccdlflags=' '
    cccdlflags=' '
    lddlflags=' -mmacosx-version-min=10.11 -bundle -undefined dynamic_lookup -L/usr/local/lib -fstack-protector-strong'


Characteristics of this binary (from libperl): 
  Compile-time options:
    HAS_TIMES
    PERLIO_LAYERS
    PERL_COPY_ON_WRITE
    PERL_DONT_CREATE_GVSV
    PERL_OP_PARENT
    PERL_PRESERVE_IVUV
    PERL_USE_DEVEL
    PERL_USE_SAFE_PUTENV
    USE_64_BIT_ALL
    USE_64_BIT_INT
    USE_LARGE_FILES
    USE_LOCALE
    USE_LOCALE_COLLATE
    USE_LOCALE_CTYPE
    USE_LOCALE_NUMERIC
    USE_LOCALE_TIME
    USE_PERLIO
    USE_PERL_ATOF
  Built under darwin
  Compiled at Feb  4 2017 16:59:25
  %ENV:
    PERL5LIB=""
    PERL5OPT=""
    PERL5_CPANPLUS_IS_RUNNING="50563"
    PERL5_CPAN_IS_RUNNING="50563"
    PERL5_CPAN_IS_RUNNING_IN_RECURSION="50548,50563"
    PERLDOC="-MPod::Perldoc::ToTextOverstrike"
    PERL_BATCH="yes"
    PERL_CANARY_STABILITY_NOPROMPT="1"
    PERL_CPAN_REPORTER_CONFIG="/var/tmp/cpansmoker-501/2017020415/cpanreporter_000_config.ini"
    PERL_EXTUTILS_AUTOINSTALL="--defaultdeps"
  @INC:
    /opt/perl-5.25.9/lib/site_perl/5.25.9/darwin-2level
    /opt/perl-5.25.9/lib/site_perl/5.25.9
    /opt/perl-5.25.9/lib/5.25.9/darwin-2level
    /opt/perl-5.25.9/lib/5.25.9
    .