Report for Reaction-0.002005

Back
From: metabase:user:314402c4-2aae-11df-837a-5e0a49663a4f
Subject: PASS Reaction-0.002005 v5.8.9 FreeBSD
Date: 2016-09-04T01:56:41Z

This distribution has been tested as part of the CPAN Testers
project, supporting the Perl programming language.  See
http://wiki.cpantesters.org/ for more information or email
questions to cpan-testers-discuss@perl.org


--
Dear Justin Hunter,

This is a computer-generated report for Reaction-0.002005
on perl 5.8.9, created by CPAN-Reporter-1.2018.

Thank you for uploading your work to CPAN.  Congratulations!
All tests were successful.

Sections of this report:

    * Tester comments
    * Program output
    * Prerequisites
    * Environment and other context

------------------------------
TESTER COMMENTS
------------------------------

Additional comments from tester:

none provided

------------------------------
PROGRAM OUTPUT
------------------------------

Output from '/usr/bin/make test':

PERL_DL_NONLAZY=1 "/usr/perl5.8.9/bin/perl" "-MExtUtils::Command::MM" "-MTest::Harness" "-e" "undef *Test::Harness::Switches; test_harness(0, 'inc', 'blib/lib', 'blib/arch')" t/00componentui_compiles.t t/01app.t t/04load_all.t t/05reflect_attr_from.t t/im_dbic.t t/ui_focus_stack.t t/ui_view.t t/ui_viewport.t t/uncheck_bool_field.t
Class::MOP::load_class is deprecated at /usr/perl5.8.9/lib/site_perl/5.8.9/amd64-freebsd/Class/MOP.pm line 69.
	Class::MOP::load_class("ComponentUI::TestModel") called at /usr/home/eserte/.cpan/build/2016090403/Reaction-0.002005-9IXGRW/blib/lib/Catalyst/Model/Reaction/InterfaceModel/DBIC.pm line 24
	Catalyst::Model::Reaction::InterfaceModel::DBIC::COMPONENT("ComponentUI::Model::TestModel", "ComponentUI", HASH(0x4c26f170)) called at /usr/perl5.8.9/lib/site_perl/5.8.9/Catalyst.pm line 3206
	eval {...} called at /usr/perl5.8.9/lib/site_perl/5.8.9/Catalyst.pm line 3207
	Catalyst::setup_component("ComponentUI", "ComponentUI::Model::TestModel") called at /usr/perl5.8.9/lib/site_perl/5.8.9/Catalyst.pm line 3184
	Catalyst::__ANON__() called at /usr/perl5.8.9/lib/site_perl/5.8.9/Catalyst.pm line 3030
	Catalyst::setup_components("ComponentUI") called at /usr/perl5.8.9/lib/site_perl/5.8.9/Catalyst.pm line 1426
	Catalyst::setup("ComponentUI") called at /usr/home/eserte/.cpan/build/2016090403/Reaction-0.002005-9IXGRW/blib/lib/ComponentUI.pm line 32
	require ComponentUI.pm called at t/00componentui_compiles.t line 7
	main::BEGIN() called at /usr/home/eserte/.cpan/build/2016090403/Reaction-0.002005-9IXGRW/blib/lib/ComponentUI.pm line 0
	eval {...} called at /usr/home/eserte/.cpan/build/2016090403/Reaction-0.002005-9IXGRW/blib/lib/ComponentUI.pm line 0
	eval 'package main;

#line 7 t/00componentui_compiles.t
use ComponentUI @{$args[0]};
1;

;' called at /usr/perl5.8.9/lib/5.8.9/Test/More.pm line 1023
	Test::More::_eval("package main;\x{a}\x{a}#line 7 t/00componentui_compiles.t\x{a}use Compone"..., ARRAY(0x41c98010)) called at /usr/perl5.8.9/lib/5.8.9/Test/More.pm line 998
	Test::More::use_ok("ComponentUI") called at t/00componentui_compiles.t line 7
Class::MOP::load_class is deprecated at /usr/perl5.8.9/lib/site_perl/5.8.9/amd64-freebsd/Class/MOP.pm line 69.
	Class::MOP::load_class("Reaction::InterfaceModel::Object") called at /usr/home/eserte/.cpan/build/2016090403/Reaction-0.002005-9IXGRW/blib/lib/Reaction/InterfaceModel/Reflector/DBIC.pm line 149
	Reaction::InterfaceModel::Reflector::DBIC::reflect_schema(Reaction::InterfaceModel::Reflector::DBIC=HASH(0x4d536a30), "model_class", "ComponentUI::TestModel", "schema_class", "RTest::TestDB", "sources", ARRAY(0x4d5284a0)) called at /usr/home/eserte/.cpan/build/2016090403/Reaction-0.002005-9IXGRW/blib/lib/ComponentUI/TestModel.pm line 10
	require ComponentUI/TestModel.pm called at /usr/perl5.8.9/lib/site_perl/5.8.9/Module/Runtime.pm line 313
	Module::Runtime::require_module("ComponentUI::TestModel") called at /usr/perl5.8.9/lib/site_perl/5.8.9/Class/Load.pm line 174
	Class::Load::try {...} () called at /usr/perl5.8.9/lib/site_perl/5.8.9/Try/Tiny.pm line 98
	eval {...} called at /usr/perl5.8.9/lib/site_perl/5.8.9/Try/Tiny.pm line 94
	Try::Tiny::try(CODE(0x4d198410), Try::Tiny::Catch=REF(0x4d0dfc30)) called at /usr/perl5.8.9/lib/site_perl/5.8.9/Class/Load.pm line 180
	Class::Load::try_load_class("ComponentUI::TestModel", undef) called at /usr/perl5.8.9/lib/site_perl/5.8.9/Class/Load.pm line 35
	Class::Load::load_class("ComponentUI::TestModel") called at /usr/home/eserte/.cpan/build/2016090403/Reaction-0.002005-9IXGRW/blib/lib/Catalyst/Model/Reaction/InterfaceModel/DBIC.pm line 24
	Catalyst::Model::Reaction::InterfaceModel::DBIC::COMPONENT("ComponentUI::Model::TestModel", "ComponentUI", HASH(0x4c26f170)) called at /usr/perl5.8.9/lib/site_perl/5.8.9/Catalyst.pm line 3206
	eval {...} called at /usr/perl5.8.9/lib/site_perl/5.8.9/Catalyst.pm line 3207
	Catalyst::setup_component("ComponentUI", "ComponentUI::Model::TestModel") called at /usr/perl5.8.9/lib/site_perl/5.8.9/Catalyst.pm line 3184
	Catalyst::__ANON__() called at /usr/perl5.8.9/lib/site_perl/5.8.9/Catalyst.pm line 3030
	Catalyst::setup_components("ComponentUI") called at /usr/perl5.8.9/lib/site_perl/5.8.9/Catalyst.pm line 1426
	Catalyst::setup("ComponentUI") called at /usr/home/eserte/.cpan/build/2016090403/Reaction-0.002005-9IXGRW/blib/lib/ComponentUI.pm line 32
	require ComponentUI.pm called at t/00componentui_compiles.t line 7
	main::BEGIN() called at /usr/home/eserte/.cpan/build/2016090403/Reaction-0.002005-9IXGRW/blib/lib/ComponentUI/TestModel.pm line 0
	eval {...} called at /usr/home/eserte/.cpan/build/2016090403/Reaction-0.002005-9IXGRW/blib/lib/ComponentUI/TestModel.pm line 0
	eval 'package main;

#line 7 t/00componentui_compiles.t
use ComponentUI @{$args[0]};
1;

;' called at /usr/perl5.8.9/lib/5.8.9/Test/More.pm line 1023
	Test::More::_eval("package main;\x{a}\x{a}#line 7 t/00componentui_compiles.t\x{a}use Compone"..., ARRAY(0x41c98010)) called at /usr/perl5.8.9/lib/5.8.9/Test/More.pm line 998
	Test::More::use_ok("ComponentUI") called at t/00componentui_compiles.t line 7
Class::MOP::load_class is deprecated at /usr/perl5.8.9/lib/site_perl/5.8.9/amd64-freebsd/Class/MOP.pm line 69.
	Class::MOP::load_class("Reaction::InterfaceModel::Object") called at /usr/home/eserte/.cpan/build/2016090403/Reaction-0.002005-9IXGRW/blib/lib/Reaction/Class.pm line 123
	Reaction::Class::do_class_sub("Reaction::Class", "ComponentUI::TestModel::Foo", "ComponentUI::TestModel::Foo", "is", "Reaction::InterfaceModel::Object", "which", CODE(0x4d7a7640)) called at /usr/home/eserte/.cpan/build/2016090403/Reaction-0.002005-9IXGRW/blib/lib/Reaction/Class.pm line 86
	Reaction::Class::("ComponentUI::TestModel::Foo", "is", "Reaction::InterfaceModel::Object", "which", CODE(0x4d7a7640)) called at /usr/home/eserte/.cpan/build/2016090403/Reaction-0.002005-9IXGRW/blib/lib/ComponentUI/TestModel/Foo.pm line 8
	require ComponentUI/TestModel/Foo.pm called at /usr/perl5.8.9/lib/site_perl/5.8.9/Module/Runtime.pm line 313
	Module::Runtime::require_module("ComponentUI::TestModel::Foo") called at /usr/perl5.8.9/lib/site_perl/5.8.9/Class/Load.pm line 174
	Class::Load::try {...} () called at /usr/perl5.8.9/lib/site_perl/5.8.9/Try/Tiny.pm line 98
	eval {...} called at /usr/perl5.8.9/lib/site_perl/5.8.9/Try/Tiny.pm line 94
	Try::Tiny::try(CODE(0x4d83f140), Try::Tiny::Catch=REF(0x4d841cb0)) called at /usr/perl5.8.9/lib/site_perl/5.8.9/Class/Load.pm line 180
	Class::Load::try_load_class("ComponentUI::TestModel::Foo", undef) called at /usr/perl5.8.9/lib/site_perl/5.8.9/Class/Load.pm line 35
	Class::Load::load_class("ComponentUI::TestModel::Foo") called at /usr/home/eserte/.cpan/build/2016090403/Reaction-0.002005-9IXGRW/blib/lib/Reaction/InterfaceModel/Reflector/DBIC.pm line 892
	eval {...} called at /usr/home/eserte/.cpan/build/2016090403/Reaction-0.002005-9IXGRW/blib/lib/Reaction/InterfaceModel/Reflector/DBIC.pm line 892
	Reaction::InterfaceModel::Reflector::DBIC::_maybe_load_class(Reaction::InterfaceModel::Reflector::DBIC=HASH(0x4d536a30), "ComponentUI::TestModel::Foo") called at /usr/home/eserte/.cpan/build/2016090403/Reaction-0.002005-9IXGRW/blib/lib/Reaction/InterfaceModel/Reflector/DBIC.pm line 876
	Reaction::InterfaceModel::Reflector::DBIC::_load_or_create(Reaction::InterfaceModel::Reflector::DBIC=HASH(0x4d536a30), "ComponentUI::TestModel::Foo", "superclasses", ARRAY(0x4d799470)) called at /usr/home/eserte/.cpan/build/2016090403/Reaction-0.002005-9IXGRW/blib/lib/Reaction/InterfaceModel/Reflector/DBIC.pm line 448
	Reaction::InterfaceModel::Reflector::DBIC::reflect_source_object(Reaction::InterfaceModel::Reflector::DBIC=HASH(0x4d536a30), "schema_class", "RTest::TestDB", "source_name", "Foo", "source_class", "RTest::TestDB::Foo", "parent_class", ...) called at /usr/home/eserte/.cpan/build/2016090403/Reaction-0.002005-9IXGRW/blib/lib/Reaction/InterfaceModel/Reflector/DBIC.pm line 323
	Reaction::InterfaceModel::Reflector::DBIC::reflect_source(Reaction::InterfaceModel::Reflector::DBIC=HASH(0x4d536a30), "source_name", "Foo", "parent_class", "ComponentUI::TestModel", "schema_class", "RTest::TestDB", "source_class", ...) called at /usr/home/eserte/.cpan/build/2016090403/Reaction-0.002005-9IXGRW/blib/lib/Reaction/InterfaceModel/Reflector/DBIC.pm line 185
	Reaction::InterfaceModel::Reflector::DBIC::reflect_schema(Reaction::InterfaceModel::Reflector::DBIC=HASH(0x4d536a30), "model_class", "ComponentUI::TestModel", "schema_class", "RTest::TestDB", "sources", ARRAY(0x4d5284a0)) called at /usr/home/eserte/.cpan/build/2016090403/Reaction-0.002005-9IXGRW/blib/lib/ComponentUI/TestModel.pm line 10
	require ComponentUI/TestModel.pm called at /usr/perl5.8.9/lib/site_perl/5.8.9/Module/Runtime.pm line 313
	Module::Runtime::require_module("ComponentUI::TestModel") called at /usr/perl5.8.9/lib/site_perl/5.8.9/Class/Load.pm line 174
	Class::Load::try {...} () called at /usr/perl5.8.9/lib/site_perl/5.8.9/Try/Tiny.pm line 98
	eval {...} called at /usr/perl5.8.9/lib/site_perl/5.8.9/Try/Tiny.pm line 94
	Try::Tiny::try(CODE(0x4d198410), Try::Tiny::Catch=REF(0x4d0dfc30)) called at /usr/perl5.8.9/lib/site_perl/5.8.9/Class/Load.pm line 180
	Class::Load::try_load_class("ComponentUI::TestModel", undef) called at /usr/perl5.8.9/lib/site_perl/5.8.9/Class/Load.pm line 35
	Class::Load::load_class("ComponentUI::TestModel") called at /usr/home/eserte/.cpan/build/2016090403/Reaction-0.002005-9IXGRW/blib/lib/Catalyst/Model/Reaction/InterfaceModel/DBIC.pm line 24
	Catalyst::Model::Reaction::InterfaceModel::DBIC::COMPONENT("ComponentUI::Model::TestModel", "ComponentUI", HASH(0x4c26f170)) called at /usr/perl5.8.9/lib/site_perl/5.8.9/Catalyst.pm line 3206
	eval {...} called at /usr/perl5.8.9/lib/site_perl/5.8.9/Catalyst.pm line 3207
	Catalyst::setup_component("ComponentUI", "ComponentUI::Model::TestModel") called at /usr/perl5.8.9/lib/site_perl/5.8.9/Catalyst.pm line 3184
	Catalyst::__ANON__() called at /usr/perl5.8.9/lib/site_perl/5.8.9/Catalyst.pm line 3030
	Catalyst::setup_components("ComponentUI") called at /usr/perl5.8.9/lib/site_perl/5.8.9/Catalyst.pm line 1426
	Catalyst::setup("ComponentUI") called at /usr/home/eserte/.cpan/build/2016090403/Reaction-0.002005-9IXGRW/blib/lib/ComponentUI.pm line 32
	require ComponentUI.pm called at t/00componentui_compiles.t line 7
	main::BEGIN() called at /usr/home/eserte/.cpan/build/2016090403/Reaction-0.002005-9IXGRW/blib/lib/ComponentUI/TestModel/Foo.pm line 0
	eval {...} called at /usr/home/eserte/.cpan/build/2016090403/Reaction-0.002005-9IXGRW/blib/lib/ComponentUI/TestModel/Foo.pm line 0
	eval 'package main;

#line 7 t/00componentui_compiles.t
use ComponentUI @{$args[0]};
1;

;' called at /usr/perl5.8.9/lib/5.8.9/Test/More.pm line 1023
	Test::More::_eval("package main;\x{a}\x{a}#line 7 t/00componentui_compiles.t\x{a}use Compone"..., ARRAY(0x41c98010)) called at /usr/perl5.8.9/lib/5.8.9/Test/More.pm line 998
	Test::More::use_ok("ComponentUI") called at t/00componentui_compiles.t line 7
t/00componentui_compiles.t .. ok
Class::MOP::load_class is deprecated at /usr/perl5.8.9/lib/site_perl/5.8.9/amd64-freebsd/Class/MOP.pm line 69.
	Class::MOP::load_class("ComponentUI::TestModel") called at /usr/home/eserte/.cpan/build/2016090403/Reaction-0.002005-9IXGRW/blib/lib/Catalyst/Model/Reaction/InterfaceModel/DBIC.pm line 24
	Catalyst::Model::Reaction::InterfaceModel::DBIC::COMPONENT("ComponentUI::Model::TestModel", "ComponentUI", HASH(0x4be80ae0)) called at /usr/perl5.8.9/lib/site_perl/5.8.9/Catalyst.pm line 3206
	eval {...} called at /usr/perl5.8.9/lib/site_perl/5.8.9/Catalyst.pm line 3207
	Catalyst::setup_component("ComponentUI", "ComponentUI::Model::TestModel") called at /usr/perl5.8.9/lib/site_perl/5.8.9/Catalyst.pm line 3184
	Catalyst::__ANON__() called at /usr/perl5.8.9/lib/site_perl/5.8.9/Catalyst.pm line 3030
	Catalyst::setup_components("ComponentUI") called at /usr/perl5.8.9/lib/site_perl/5.8.9/Catalyst.pm line 1426
	Catalyst::setup("ComponentUI") called at /usr/home/eserte/.cpan/build/2016090403/Reaction-0.002005-9IXGRW/blib/lib/ComponentUI.pm line 32
	require ComponentUI.pm called at /usr/perl5.8.9/lib/site_perl/5.8.9/Module/Runtime.pm line 313
	Module::Runtime::require_module("ComponentUI") called at /usr/perl5.8.9/lib/site_perl/5.8.9/Class/Load.pm line 174
	Class::Load::try {...} () called at /usr/perl5.8.9/lib/site_perl/5.8.9/Try/Tiny.pm line 98
	eval {...} called at /usr/perl5.8.9/lib/site_perl/5.8.9/Try/Tiny.pm line 94
	Try::Tiny::try(CODE(0x41f3d690), Try::Tiny::Catch=REF(0x41f3db30)) called at /usr/perl5.8.9/lib/site_perl/5.8.9/Class/Load.pm line 180
	Class::Load::try_load_class("ComponentUI", undef) called at /usr/perl5.8.9/lib/site_perl/5.8.9/Class/Load.pm line 35
	Class::Load::load_class("ComponentUI") called at /usr/perl5.8.9/lib/site_perl/5.8.9/Catalyst/Test.pm line 29
	Catalyst::Test::_build_request_export("Catalyst::Test", HASH(0x44d3e7f0)) called at /usr/perl5.8.9/lib/site_perl/5.8.9/Catalyst/Test.pm line 92
	Catalyst::Test::__ANON__("Catalyst::Test", "all", HASH(0x44d3e7c0), HASH(0x44d3ce60)) called at /usr/perl5.8.9/lib/site_perl/5.8.9/Sub/Exporter.pm line 108
	Sub::Exporter::_expand_group("Catalyst::Test", HASH(0x44d3e060), ARRAY(0x44d3e5f0), HASH(0x44d3ce60), HASH(0x44d3e810), HASH(0x44d36d70)) called at /usr/perl5.8.9/lib/site_perl/5.8.9/Sub/Exporter.pm line 39
	Sub::Exporter::_expand_groups("Catalyst::Test", HASH(0x44d3e060), ARRAY(0x44d3e130), HASH(0x44d3ce60)) called at /usr/perl5.8.9/lib/site_perl/5.8.9/Sub/Exporter.pm line 323
	Sub::Exporter::__ANON__("Catalyst::Test", "-all", HASH(0x41ca18a0)) called at /usr/perl5.8.9/lib/site_perl/5.8.9/Catalyst/Test.pm line 155
	Catalyst::Test::import("Catalyst::Test", "ComponentUI") called at t/01app.t line 7
	main::BEGIN() called at /usr/home/eserte/.cpan/build/2016090403/Reaction-0.002005-9IXGRW/blib/lib/ComponentUI.pm line 0
	eval {...} called at /usr/home/eserte/.cpan/build/2016090403/Reaction-0.002005-9IXGRW/blib/lib/ComponentUI.pm line 0
	eval 'package main;

#line 7 t/01app.t
use Catalyst::Test @{$args[0]};
1;

;' called at /usr/perl5.8.9/lib/5.8.9/Test/More.pm line 1023
	Test::More::_eval("package main;\x{a}\x{a}#line 7 t/01app.t\x{a}use Catalyst::Test \@{\$args[0"..., ARRAY(0x41c98010)) called at /usr/perl5.8.9/lib/5.8.9/Test/More.pm line 998
	Test::More::use_ok("Catalyst::Test", "ComponentUI") called at t/01app.t line 7
	main::BEGIN() called at /usr/home/eserte/.cpan/build/2016090403/Reaction-0.002005-9IXGRW/blib/lib/ComponentUI.pm line 0
	eval {...} called at /usr/home/eserte/.cpan/build/2016090403/Reaction-0.002005-9IXGRW/blib/lib/ComponentUI.pm line 0
Class::MOP::load_class is deprecated at /usr/perl5.8.9/lib/site_perl/5.8.9/amd64-freebsd/Class/MOP.pm line 69.
	Class::MOP::load_class("Reaction::InterfaceModel::Object") called at /usr/home/eserte/.cpan/build/2016090403/Reaction-0.002005-9IXGRW/blib/lib/Reaction/InterfaceModel/Reflector/DBIC.pm line 149
	Reaction::InterfaceModel::Reflector::DBIC::reflect_schema(Reaction::InterfaceModel::Reflector::DBIC=HASH(0x4d21be20), "model_class", "ComponentUI::TestModel", "schema_class", "RTest::TestDB", "sources", ARRAY(0x4d1b2890)) called at /usr/home/eserte/.cpan/build/2016090403/Reaction-0.002005-9IXGRW/blib/lib/ComponentUI/TestModel.pm line 10
	require ComponentUI/TestModel.pm called at /usr/perl5.8.9/lib/site_perl/5.8.9/Module/Runtime.pm line 313
	Module::Runtime::require_module("ComponentUI::TestModel") called at /usr/perl5.8.9/lib/site_perl/5.8.9/Class/Load.pm line 174
	Class::Load::try {...} () called at /usr/perl5.8.9/lib/site_perl/5.8.9/Try/Tiny.pm line 98
	eval {...} called at /usr/perl5.8.9/lib/site_perl/5.8.9/Try/Tiny.pm line 94
	Try::Tiny::try(CODE(0x4ce027a0), Try::Tiny::Catch=REF(0x4cd49fb0)) called at /usr/perl5.8.9/lib/site_perl/5.8.9/Class/Load.pm line 180
	Class::Load::try_load_class("ComponentUI::TestModel", undef) called at /usr/perl5.8.9/lib/site_perl/5.8.9/Class/Load.pm line 35
	Class::Load::load_class("ComponentUI::TestModel") called at /usr/home/eserte/.cpan/build/2016090403/Reaction-0.002005-9IXGRW/blib/lib/Catalyst/Model/Reaction/InterfaceModel/DBIC.pm line 24
	Catalyst::Model::Reaction::InterfaceModel::DBIC::COMPONENT("ComponentUI::Model::TestModel", "ComponentUI", HASH(0x4be80ae0)) called at /usr/perl5.8.9/lib/site_perl/5.8.9/Catalyst.pm line 3206
	eval {...} called at /usr/perl5.8.9/lib/site_perl/5.8.9/Catalyst.pm line 3207
	Catalyst::setup_component("ComponentUI", "ComponentUI::Model::TestModel") called at /usr/perl5.8.9/lib/site_perl/5.8.9/Catalyst.pm line 3184
	Catalyst::__ANON__() called at /usr/perl5.8.9/lib/site_perl/5.8.9/Catalyst.pm line 3030
	Catalyst::setup_components("ComponentUI") called at /usr/perl5.8.9/lib/site_perl/5.8.9/Catalyst.pm line 1426
	Catalyst::setup("ComponentUI") called at /usr/home/eserte/.cpan/build/2016090403/Reaction-0.002005-9IXGRW/blib/lib/ComponentUI.pm line 32
	require ComponentUI.pm called at /usr/perl5.8.9/lib/site_perl/5.8.9/Module/Runtime.pm line 313
	Module::Runtime::require_module("ComponentUI") called at /usr/perl5.8.9/lib/site_perl/5.8.9/Class/Load.pm line 174
	Class::Load::try {...} () called at /usr/perl5.8.9/lib/site_perl/5.8.9/Try/Tiny.pm line 98
	eval {...} called at /usr/perl5.8.9/lib/site_perl/5.8.9/Try/Tiny.pm line 94
	Try::Tiny::try(CODE(0x41f3d690), Try::Tiny::Catch=REF(0x41f3db30)) called at /usr/perl5.8.9/lib/site_perl/5.8.9/Class/Load.pm line 180
	Class::Load::try_load_class("ComponentUI", undef) called at /usr/perl5.8.9/lib/site_perl/5.8.9/Class/Load.pm line 35
	Class::Load::load_class("ComponentUI") called at /usr/perl5.8.9/lib/site_perl/5.8.9/Catalyst/Test.pm line 29
	Catalyst::Test::_build_request_export("Catalyst::Test", HASH(0x44d3e7f0)) called at /usr/perl5.8.9/lib/site_perl/5.8.9/Catalyst/Test.pm line 92
	Catalyst::Test::__ANON__("Catalyst::Test", "all", HASH(0x44d3e7c0), HASH(0x44d3ce60)) called at /usr/perl5.8.9/lib/site_perl/5.8.9/Sub/Exporter.pm line 108
	Sub::Exporter::_expand_group("Catalyst::Test", HASH(0x44d3e060), ARRAY(0x44d3e5f0), HASH(0x44d3ce60), HASH(0x44d3e810), HASH(0x44d36d70)) called at /usr/perl5.8.9/lib/site_perl/5.8.9/Sub/Exporter.pm line 39
	Sub::Exporter::_expand_groups("Catalyst::Test", HASH(0x44d3e060), ARRAY(0x44d3e130), HASH(0x44d3ce60)) called at /usr/perl5.8.9/lib/site_perl/5.8.9/Sub/Exporter.pm line 323
	Sub::Exporter::__ANON__("Catalyst::Test", "-all", HASH(0x41ca18a0)) called at /usr/perl5.8.9/lib/site_perl/5.8.9/Catalyst/Test.pm line 155
	Catalyst::Test::import("Catalyst::Test", "ComponentUI") called at t/01app.t line 7
	main::BEGIN() called at /usr/home/eserte/.cpan/build/2016090403/Reaction-0.002005-9IXGRW/blib/lib/ComponentUI/TestModel.pm line 0
	eval {...} called at /usr/home/eserte/.cpan/build/2016090403/Reaction-0.002005-9IXGRW/blib/lib/ComponentUI/TestModel.pm line 0
	eval 'package main;

#line 7 t/01app.t
use Catalyst::Test @{$args[0]};
1;

;' called at /usr/perl5.8.9/lib/5.8.9/Test/More.pm line 1023
	Test::More::_eval("package main;\x{a}\x{a}#line 7 t/01app.t\x{a}use Catalyst::Test \@{\$args[0"..., ARRAY(0x41c98010)) called at /usr/perl5.8.9/lib/5.8.9/Test/More.pm line 998
	Test::More::use_ok("Catalyst::Test", "ComponentUI") called at t/01app.t line 7
	main::BEGIN() called at /usr/home/eserte/.cpan/build/2016090403/Reaction-0.002005-9IXGRW/blib/lib/ComponentUI/TestModel.pm line 0
	eval {...} called at /usr/home/eserte/.cpan/build/2016090403/Reaction-0.002005-9IXGRW/blib/lib/ComponentUI/TestModel.pm line 0
Class::MOP::load_class is deprecated at /usr/perl5.8.9/lib/site_perl/5.8.9/amd64-freebsd/Class/MOP.pm line 69.
	Class::MOP::load_class("Reaction::InterfaceModel::Object") called at /usr/home/eserte/.cpan/build/2016090403/Reaction-0.002005-9IXGRW/blib/lib/Reaction/Class.pm line 123
	Reaction::Class::do_class_sub("Reaction::Class", "ComponentUI::TestModel::Foo", "ComponentUI::TestModel::Foo", "is", "Reaction::InterfaceModel::Object", "which", CODE(0x4d48bdb0)) called at /usr/home/eserte/.cpan/build/2016090403/Reaction-0.002005-9IXGRW/blib/lib/Reaction/Class.pm line 86
	Reaction::Class::("ComponentUI::TestModel::Foo", "is", "Reaction::InterfaceModel::Object", "which", CODE(0x4d48bdb0)) called at /usr/home/eserte/.cpan/build/2016090403/Reaction-0.002005-9IXGRW/blib/lib/ComponentUI/TestModel/Foo.pm line 8
	require ComponentUI/TestModel/Foo.pm called at /usr/perl5.8.9/lib/site_perl/5.8.9/Module/Runtime.pm line 313
	Module::Runtime::require_module("ComponentUI::TestModel::Foo") called at /usr/perl5.8.9/lib/site_perl/5.8.9/Class/Load.pm line 174
	Class::Load::try {...} () called at /usr/perl5.8.9/lib/site_perl/5.8.9/Try/Tiny.pm line 98
	eval {...} called at /usr/perl5.8.9/lib/site_perl/5.8.9/Try/Tiny.pm line 94
	Try::Tiny::try(CODE(0x4d49ec90), Try::Tiny::Catch=REF(0x4d4a3440)) called at /usr/perl5.8.9/lib/site_perl/5.8.9/Class/Load.pm line 180
	Class::Load::try_load_class("ComponentUI::TestModel::Foo", undef) called at /usr/perl5.8.9/lib/site_perl/5.8.9/Class/Load.pm line 35
	Class::Load::load_class("ComponentUI::TestModel::Foo") called at /usr/home/eserte/.cpan/build/2016090403/Reaction-0.002005-9IXGRW/blib/lib/Reaction/InterfaceModel/Reflector/DBIC.pm line 892
	eval {...} called at /usr/home/eserte/.cpan/build/2016090403/Reaction-0.002005-9IXGRW/blib/lib/Reaction/InterfaceModel/Reflector/DBIC.pm line 892
	Reaction::InterfaceModel::Reflector::DBIC::_maybe_load_class(Reaction::InterfaceModel::Reflector::DBIC=HASH(0x4d21be20), "ComponentUI::TestModel::Foo") called at /usr/home/eserte/.cpan/build/2016090403/Reaction-0.002005-9IXGRW/blib/lib/Reaction/InterfaceModel/Reflector/DBIC.pm line 876
	Reaction::InterfaceModel::Reflector::DBIC::_load_or_create(Reaction::InterfaceModel::Reflector::DBIC=HASH(0x4d21be20), "ComponentUI::TestModel::Foo", "superclasses", ARRAY(0x4d3f7be0)) called at /usr/home/eserte/.cpan/build/2016090403/Reaction-0.002005-9IXGRW/blib/lib/Reaction/InterfaceModel/Reflector/DBIC.pm line 448
	Reaction::InterfaceModel::Reflector::DBIC::reflect_source_object(Reaction::InterfaceModel::Reflector::DBIC=HASH(0x4d21be20), "schema_class", "RTest::TestDB", "source_name", "Foo", "source_class", "RTest::TestDB::Foo", "parent_class", ...) called at /usr/home/eserte/.cpan/build/2016090403/Reaction-0.002005-9IXGRW/blib/lib/Reaction/InterfaceModel/Reflector/DBIC.pm line 323
	Reaction::InterfaceModel::Reflector::DBIC::reflect_source(Reaction::InterfaceModel::Reflector::DBIC=HASH(0x4d21be20), "source_name", "Foo", "parent_class", "ComponentUI::TestModel", "schema_class", "RTest::TestDB", "source_class", ...) called at /usr/home/eserte/.cpan/build/2016090403/Reaction-0.002005-9IXGRW/blib/lib/Reaction/InterfaceModel/Reflector/DBIC.pm line 185
	Reaction::InterfaceModel::Reflector::DBIC::reflect_schema(Reaction::InterfaceModel::Reflector::DBIC=HASH(0x4d21be20), "model_class", "ComponentUI::TestModel", "schema_class", "RTest::TestDB", "sources", ARRAY(0x4d1b2890)) called at /usr/home/eserte/.cpan/build/2016090403/Reaction-0.002005-9IXGRW/blib/lib/ComponentUI/TestModel.pm line 10
	require ComponentUI/TestModel.pm called at /usr/perl5.8.9/lib/site_perl/5.8.9/Module/Runtime.pm line 313
	Module::Runtime::require_module("ComponentUI::TestModel") called at /usr/perl5.8.9/lib/site_perl/5.8.9/Class/Load.pm line 174
	Class::Load::try {...} () called at /usr/perl5.8.9/lib/site_perl/5.8.9/Try/Tiny.pm line 98
	eval {...} called at /usr/perl5.8.9/lib/site_perl/5.8.9/Try/Tiny.pm line 94
	Try::Tiny::try(CODE(0x4ce027a0), Try::Tiny::Catch=REF(0x4cd49fb0)) called at /usr/perl5.8.9/lib/site_perl/5.8.9/Class/Load.pm line 180
	Class::Load::try_load_class("ComponentUI::TestModel", undef) called at /usr/perl5.8.9/lib/site_perl/5.8.9/Class/Load.pm line 35
	Class::Load::load_class("ComponentUI::TestModel") called at /usr/home/eserte/.cpan/build/2016090403/Reaction-0.002005-9IXGRW/blib/lib/Catalyst/Model/Reaction/InterfaceModel/DBIC.pm line 24
	Catalyst::Model::Reaction::InterfaceModel::DBIC::COMPONENT("ComponentUI::Model::TestModel", "ComponentUI", HASH(0x4be80ae0)) called at /usr/perl5.8.9/lib/site_perl/5.8.9/Catalyst.pm line 3206
	eval {...} called at /usr/perl5.8.9/lib/site_perl/5.8.9/Catalyst.pm line 3207
	Catalyst::setup_component("ComponentUI", "ComponentUI::Model::TestModel") called at /usr/perl5.8.9/lib/site_perl/5.8.9/Catalyst.pm line 3184
	Catalyst::__ANON__() called at /usr/perl5.8.9/lib/site_perl/5.8.9/Catalyst.pm line 3030
	Catalyst::setup_components("ComponentUI") called at /usr/perl5.8.9/lib/site_perl/5.8.9/Catalyst.pm line 1426
	Catalyst::setup("ComponentUI") called at /usr/home/eserte/.cpan/build/2016090403/Reaction-0.002005-9IXGRW/blib/lib/ComponentUI.pm line 32
	require ComponentUI.pm called at /usr/perl5.8.9/lib/site_perl/5.8.9/Module/Runtime.pm line 313
	Module::Runtime::require_module("ComponentUI") called at /usr/perl5.8.9/lib/site_perl/5.8.9/Class/Load.pm line 174
	Class::Load::try {...} () called at /usr/perl5.8.9/lib/site_perl/5.8.9/Try/Tiny.pm line 98
	eval {...} called at /usr/perl5.8.9/lib/site_perl/5.8.9/Try/Tiny.pm line 94
	Try::Tiny::try(CODE(0x41f3d690), Try::Tiny::Catch=REF(0x41f3db30)) called at /usr/perl5.8.9/lib/site_perl/5.8.9/Class/Load.pm line 180
	Class::Load::try_load_class("ComponentUI", undef) called at /usr/perl5.8.9/lib/site_perl/5.8.9/Class/Load.pm line 35
	Class::Load::load_class("ComponentUI") called at /usr/perl5.8.9/lib/site_perl/5.8.9/Catalyst/Test.pm line 29
	Catalyst::Test::_build_request_export("Catalyst::Test", HASH(0x44d3e7f0)) called at /usr/perl5.8.9/lib/site_perl/5.8.9/Catalyst/Test.pm line 92
	Catalyst::Test::__ANON__("Catalyst::Test", "all", HASH(0x44d3e7c0), HASH(0x44d3ce60)) called at /usr/perl5.8.9/lib/site_perl/5.8.9/Sub/Exporter.pm line 108
	Sub::Exporter::_expand_group("Catalyst::Test", HASH(0x44d3e060), ARRAY(0x44d3e5f0), HASH(0x44d3ce60), HASH(0x44d3e810), HASH(0x44d36d70)) called at /usr/perl5.8.9/lib/site_perl/5.8.9/Sub/Exporter.pm line 39
	Sub::Exporter::_expand_groups("Catalyst::Test", HASH(0x44d3e060), ARRAY(0x44d3e130), HASH(0x44d3ce60)) called at /usr/perl5.8.9/lib/site_perl/5.8.9/Sub/Exporter.pm line 323
	Sub::Exporter::__ANON__("Catalyst::Test", "-all", HASH(0x41ca18a0)) called at /usr/perl5.8.9/lib/site_perl/5.8.9/Catalyst/Test.pm line 155
	Catalyst::Test::import("Catalyst::Test", "ComponentUI") called at t/01app.t line 7
	main::BEGIN() called at /usr/home/eserte/.cpan/build/2016090403/Reaction-0.002005-9IXGRW/blib/lib/ComponentUI/TestModel/Foo.pm line 0
	eval {...} called at /usr/home/eserte/.cpan/build/2016090403/Reaction-0.002005-9IXGRW/blib/lib/ComponentUI/TestModel/Foo.pm line 0
	eval 'package main;

#line 7 t/01app.t
use Catalyst::Test @{$args[0]};
1;

;' called at /usr/perl5.8.9/lib/5.8.9/Test/More.pm line 1023
	Test::More::_eval("package main;\x{a}\x{a}#line 7 t/01app.t\x{a}use Catalyst::Test \@{\$args[0"..., ARRAY(0x41c98010)) called at /usr/perl5.8.9/lib/5.8.9/Test/More.pm line 998
	Test::More::use_ok("Catalyst::Test", "ComponentUI") called at t/01app.t line 7
	main::BEGIN() called at /usr/home/eserte/.cpan/build/2016090403/Reaction-0.002005-9IXGRW/blib/lib/ComponentUI/TestModel/Foo.pm line 0
	eval {...} called at /usr/home/eserte/.cpan/build/2016090403/Reaction-0.002005-9IXGRW/blib/lib/ComponentUI/TestModel/Foo.pm line 0
Class::MOP::load_class is deprecated at /usr/perl5.8.9/lib/site_perl/5.8.9/amd64-freebsd/Class/MOP.pm line 69.
	Class::MOP::load_class("ComponentUI::RenderingContext::Site") called at /usr/home/eserte/.cpan/build/2016090403/Reaction-0.002005-9IXGRW/blib/lib/Reaction/UI/View.pm line 125
	eval {...} called at /usr/home/eserte/.cpan/build/2016090403/Reaction-0.002005-9IXGRW/blib/lib/Reaction/UI/View.pm line 125
	Reaction::UI::View::find_related_class(ComponentUI::View::Site=HASH(0x4be7a050), "RenderingContext") called at /usr/home/eserte/.cpan/build/2016090403/Reaction-0.002005-9IXGRW/blib/lib/Reaction/UI/View.pm line 43
	Reaction::UI::View::_build_rendering_context_class(ComponentUI::View::Site=HASH(0x4be7a050)) called at reader Reaction::UI::View::rendering_context_class (defined at /usr/home/eserte/.cpan/build/2016090403/Reaction-0.002005-9IXGRW/blib/lib/Reaction/UI/View.pm line 29) line 7
	Reaction::UI::View::rendering_context_class(ComponentUI::View::Site=HASH(0x4be7a050)) called at /usr/home/eserte/.cpan/build/2016090403/Reaction-0.002005-9IXGRW/blib/lib/Reaction/UI/View.pm line 134
	Reaction::UI::View::create_rendering_context(ComponentUI::View::Site=HASH(0x4be7a050)) called at /usr/home/eserte/.cpan/build/2016090403/Reaction-0.002005-9IXGRW/blib/lib/Reaction/UI/View.pm line 60
	Reaction::UI::View::render_window(ComponentUI::View::Site=HASH(0x4be7a050), Reaction::UI::Window=HASH(0x4dcfe8e0)) called at /usr/home/eserte/.cpan/build/2016090403/Reaction-0.002005-9IXGRW/blib/lib/Reaction/UI/Window.pm line 74
	Reaction::UI::Window::flush_view(Reaction::UI::Window=HASH(0x4dcfe8e0)) called at /usr/home/eserte/.cpan/build/2016090403/Reaction-0.002005-9IXGRW/blib/lib/Reaction/UI/Window.pm line 36
	Reaction::UI::Window::flush(Reaction::UI::Window=HASH(0x4dcfe8e0)) called at /usr/home/eserte/.cpan/build/2016090403/Reaction-0.002005-9IXGRW/blib/lib/Reaction/UI/Controller/Root.pm line 38
	Reaction::UI::Controller::Root::end(ComponentUI::Controller::Root=HASH(0x4dcfaaa0), ComponentUI=HASH(0x4dcef7a0)) called at /usr/perl5.8.9/lib/site_perl/5.8.9/Catalyst/Action.pm line 358
	Catalyst::Action::execute(Catalyst::Action=HASH(0x4d72de00), ComponentUI::Controller::Root=HASH(0x4dcfaaa0), ComponentUI=HASH(0x4dcef7a0)) called at /usr/perl5.8.9/lib/site_perl/5.8.9/Catalyst.pm line 2056
	eval {...} called at /usr/perl5.8.9/lib/site_perl/5.8.9/Catalyst.pm line 2056
	Catalyst::execute(ComponentUI=HASH(0x4dcef7a0), "ComponentUI::Controller::Root", Catalyst::Action=HASH(0x4d72de00)) called at /usr/perl5.8.9/lib/site_perl/5.8.9/Catalyst/Action.pm line 353
	Catalyst::Action::dispatch(Catalyst::Action=HASH(0x4d72de00), ComponentUI=HASH(0x4dcef7a0)) called at /usr/perl5.8.9/lib/site_perl/5.8.9/Catalyst/Controller.pm line 189
	Catalyst::Controller::_END(ComponentUI::Controller::Root=HASH(0x4dcfaaa0), ComponentUI=HASH(0x4dcef7a0)) called at /usr/perl5.8.9/lib/site_perl/5.8.9/Catalyst/Action.pm line 358
	Catalyst::Action::execute(Catalyst::Action=HASH(0x4d7a75c0), ComponentUI::Controller::Root=HASH(0x4dcfaaa0), ComponentUI=HASH(0x4dcef7a0)) called at /usr/perl5.8.9/lib/site_perl/5.8.9/Catalyst.pm line 2056
	eval {...} called at /usr/perl5.8.9/lib/site_perl/5.8.9/Catalyst.pm line 2056
	Catalyst::execute(ComponentUI=HASH(0x4dcef7a0), "ComponentUI::Controller::Root", Catalyst::Action=HASH(0x4d7a75c0)) called at /usr/perl5.8.9/lib/site_perl/5.8.9/Catalyst/Action.pm line 353
	Catalyst::Action::dispatch(Catalyst::Action=HASH(0x4d7a75c0), ComponentUI=HASH(0x4dcef7a0)) called at /usr/perl5.8.9/lib/site_perl/5.8.9/Catalyst/Dispatcher.pm line 262
	Catalyst::Dispatcher::_do_forward(Catalyst::Dispatcher=HASH(0x465fe230), "forward", ComponentUI=HASH(0x4dcef7a0), "_END") called at /usr/perl5.8.9/lib/site_perl/5.8.9/Catalyst/Dispatcher.pm line 242
	Catalyst::Dispatcher::forward(Catalyst::Dispatcher=HASH(0x465fe230), ComponentUI=HASH(0x4dcef7a0), "_END") called at /usr/perl5.8.9/lib/site_perl/5.8.9/Catalyst.pm line 481
	Catalyst::forward(ComponentUI=HASH(0x4dcef7a0), "_END") called at /usr/perl5.8.9/lib/site_perl/5.8.9/Catalyst/Controller.pm line 138
	Catalyst::Controller::_DISPATCH(ComponentUI::Controller::Root=HASH(0x4dcfaaa0), ComponentUI=HASH(0x4dcef7a0)) called at /usr/perl5.8.9/lib/site_perl/5.8.9/Catalyst/Action.pm line 358
	Catalyst::Action::execute(Catalyst::Action=HASH(0x4d7a47c0), ComponentUI::Controller::Root=HASH(0x4dcfaaa0), ComponentUI=HASH(0x4dcef7a0)) called at /usr/perl5.8.9/lib/site_perl/5.8.9/Catalyst.pm line 2056
	eval {...} called at /usr/perl5.8.9/lib/site_perl/5.8.9/Catalyst.pm line 2056
	Catalyst::execute(ComponentUI=HASH(0x4dcef7a0), "ComponentUI::Controller::Root", Catalyst::Action=HASH(0x4d7a47c0)) called at /usr/perl5.8.9/lib/site_perl/5.8.9/Catalyst/Action.pm line 353
	Catalyst::Action::dispatch(Catalyst::Action=HASH(0x4d7a47c0), ComponentUI=HASH(0x4dcef7a0)) called at /usr/perl5.8.9/lib/site_perl/5.8.9/Catalyst/Dispatcher.pm line 262
	Catalyst::Dispatcher::_do_forward(Catalyst::Dispatcher=HASH(0x465fe230), "forward", ComponentUI=HASH(0x4dcef7a0), "//_DISPATCH") called at /usr/perl5.8.9/lib/site_perl/5.8.9/Catalyst/Dispatcher.pm line 242
	Catalyst::Dispatcher::forward(Catalyst::Dispatcher=HASH(0x465fe230), ComponentUI=HASH(0x4dcef7a0), "//_DISPATCH") called at /usr/perl5.8.9/lib/site_perl/5.8.9/Catalyst.pm line 481
	Catalyst::forward(ComponentUI=HASH(0x4dcef7a0), "//_DISPATCH") called at /usr/perl5.8.9/lib/site_perl/5.8.9/Catalyst/Dispatcher.pm line 107
	Catalyst::Dispatcher::dispatch(Catalyst::Dispatcher=HASH(0x465fe230), ComponentUI=HASH(0x4dcef7a0)) called at /usr/perl5.8.9/lib/site_perl/5.8.9/Catalyst.pm line 2002
	Catalyst::dispatch(ComponentUI=HASH(0x4dcef7a0)) called at /usr/perl5.8.9/lib/site_perl/5.8.9/Catalyst/Plugin/Static/Simple.pm line 86
	Class::MOP::Class:::around(CODE(0x4649a040), ComponentUI=HASH(0x4dcef7a0)) called at /usr/perl5.8.9/lib/site_perl/5.8.9/amd64-freebsd/Class/MOP/Method/Wrapped.pm line 164
	ComponentUI::_wrapped_dispatch(ComponentUI=HASH(0x4dcef7a0)) called at /usr/perl5.8.9/lib/site_perl/5.8.9/amd64-freebsd/Class/MOP/Method/Wrapped.pm line 95
	ComponentUI::dispatch(ComponentUI=HASH(0x4dcef7a0)) called at /usr/perl5.8.9/lib/site_perl/5.8.9/Catalyst.pm line 2393
	Catalyst::try {...} () called at /usr/perl5.8.9/lib/site_perl/5.8.9/Try/Tiny.pm line 103
	eval {...} called at /usr/perl5.8.9/lib/site_perl/5.8.9/Try/Tiny.pm line 94
	Try::Tiny::try(CODE(0x4dcef1a0), Try::Tiny::Catch=REF(0x4dcebfe0)) called at /usr/perl5.8.9/lib/site_perl/5.8.9/Catalyst.pm line 2402
	Catalyst::handle_request("ComponentUI", "env", HASH(0x4dc96150), "response_cb", CODE(0x4dcef050)) called at /usr/perl5.8.9/lib/site_perl/5.8.9/Catalyst/Engine.pm line 800
	Catalyst::Engine::__ANON__(CODE(0x4dcef050)) called at /usr/perl5.8.9/lib/site_perl/5.8.9/Plack/Middleware/HTTPExceptions.pm line 32
	Plack::Middleware::HTTPExceptions::try {...} () called at /usr/perl5.8.9/lib/site_perl/5.8.9/Try/Tiny.pm line 103
	eval {...} called at /usr/perl5.8.9/lib/site_perl/5.8.9/Try/Tiny.pm line 94
	Try::Tiny::try(CODE(0x4dcebe20), Try::Tiny::Catch=REF(0x4dc96990)) called at /usr/perl5.8.9/lib/site_perl/5.8.9/Plack/Middleware/HTTPExceptions.pm line 41
	Plack::Middleware::HTTPExceptions::__ANON__(CODE(0x4dcebc30)) called at /usr/perl5.8.9/lib/site_perl/5.8.9/Plack/Util.pm line 339
	Plack::Util::__ANON__(CODE(0x4dceba40)) called at /usr/perl5.8.9/lib/site_perl/5.8.9/Plack/Util.pm line 339
	Plack::Util::__ANON__(CODE(0x4dceb850)) called at /usr/perl5.8.9/lib/site_perl/5.8.9/Plack/Util.pm line 339
	Plack::Util::__ANON__(CODE(0x4dceb7e0)) called at /usr/perl5.8.9/lib/site_perl/5.8.9/HTTP/Message/PSGI.pm line 100
	HTTP::Message::PSGI::res_from_psgi(CODE(0x4dc96f80)) called at /usr/perl5.8.9/lib/site_perl/5.8.9/HTTP/Message/PSGI.pm line 156
	HTTP::Response::from_psgi("HTTP::Response", CODE(0x4dc96f80)) called at /usr/perl5.8.9/lib/site_perl/5.8.9/Plack/Test/MockHTTP.pm line 24
	Plack::Test::MockHTTP::try {...} () called at /usr/perl5.8.9/lib/site_perl/5.8.9/Try/Tiny.pm line 98
	eval {...} called at /usr/perl5.8.9/lib/site_perl/5.8.9/Try/Tiny.pm line 94
	Try::Tiny::try(CODE(0x4dc93c30), Try::Tiny::Catch=REF(0x4d707540)) called at /usr/perl5.8.9/lib/site_perl/5.8.9/Plack/Test/MockHTTP.pm line 27
	Plack::Test::MockHTTP::request(Plack::Test::MockHTTP=HASH(0x4dc82830), HTTP::Request=HASH(0x4dc82320)) called at /usr/perl5.8.9/lib/site_perl/5.8.9/Plack/Test.pm line 38
	Plack::Test::__ANON__(HTTP::Request=HASH(0x4dc82320)) called at /usr/perl5.8.9/lib/site_perl/5.8.9/Catalyst/Test.pm line 281
	Catalyst::Test::__ANON__(CODE(0x4dc826d0)) called at /usr/perl5.8.9/lib/site_perl/5.8.9/Plack/Test.pm line 38
	Plack::Test::test_psgi("app", CODE(0x4dc7ed30), "mangle_response", CODE(0x44d3c3b0), "app", CODE(0x4dc82560), "client", CODE(0x4dc825f0)) called at /usr/perl5.8.9/lib/site_perl/5.8.9/Catalyst/Test.pm line 284
	Catalyst::Test::_request(HASH(0x4dc7ef20), "/") called at /usr/perl5.8.9/lib/site_perl/5.8.9/Catalyst/Test.pm line 327
	Catalyst::Test::_local_request("ComponentUI", "/") called at /usr/perl5.8.9/lib/site_perl/5.8.9/Catalyst/Test.pm line 32
	Catalyst::Test::__ANON__("/") called at t/01app.t line 10
Class::MOP::is_class_loaded is deprecated at /usr/perl5.8.9/lib/site_perl/5.8.9/amd64-freebsd/Class/MOP.pm line 87.
	Class::MOP::is_class_loaded("ComponentUI::UI::Widget::SiteLayout") called at /usr/home/eserte/.cpan/build/2016090403/Reaction-0.002005-9IXGRW/blib/lib/Reaction/UI/Skin.pm line 178
	Reaction::UI::Skin::widget_class_for(Reaction::UI::Skin=HASH(0x4dd1b4f0), Reaction::UI::LayoutSet::TT=HASH(0x4dd28ad0)) called at /usr/home/eserte/.cpan/build/2016090403/Reaction-0.002005-9IXGRW/blib/lib/Reaction/UI/LayoutSet.pm line 28
	Reaction::UI::LayoutSet::BUILD(Reaction::UI::LayoutSet::TT=HASH(0x4dd28ad0), HASH(0x4dd28a70)) called at constructor Reaction::UI::LayoutSet::TT::new (defined at /usr/home/eserte/.cpan/build/2016090403/Reaction-0.002005-9IXGRW/blib/lib/Reaction/UI/LayoutSet/TT.pm line 43) line 69
	Reaction::UI::LayoutSet::TT::new("Reaction::UI::LayoutSet::TT", "name", "site_layout", "skin", Reaction::UI::Skin=HASH(0x4dd1b4f0), "tt_object", Template=HASH(0x4d5718e0), "source_file", ...) called at /usr/home/eserte/.cpan/build/2016090403/Reaction-0.002005-9IXGRW/blib/lib/Reaction/UI/Skin.pm line 114
	Reaction::UI::Skin::_create_layout_set(Reaction::UI::Skin=HASH(0x4dd1b4f0), "site_layout", ARRAY(0x4dd00bf0), Reaction::UI::Skin=HASH(0x4dd1b4f0)) called at /usr/home/eserte/.cpan/build/2016090403/Reaction-0.002005-9IXGRW/blib/lib/Reaction/UI/Skin.pm line 110
	Reaction::UI::Skin::create_layout_set(Reaction::UI::Skin=HASH(0x4dd1b4f0), "site_layout") called at /usr/home/eserte/.cpan/build/2016090403/Reaction-0.002005-9IXGRW/blib/lib/Reaction/UI/LayoutSet.pm line 83
	Reaction::UI::LayoutSet::_load_file(Reaction::UI::LayoutSet::TT=HASH(0x4dd23170), Path::Class::File=HASH(0x4dd14b50), HASH(0x4dd27530)) called at /usr/home/eserte/.cpan/build/2016090403/Reaction-0.002005-9IXGRW/blib/lib/Reaction/UI/LayoutSet.pm line 27
	Reaction::UI::LayoutSet::BUILD(Reaction::UI::LayoutSet::TT=HASH(0x4dd23170), HASH(0x4dd27530)) called at constructor Reaction::UI::LayoutSet::TT::new (defined at /usr/home/eserte/.cpan/build/2016090403/Reaction-0.002005-9IXGRW/blib/lib/Reaction/UI/LayoutSet/TT.pm line 43) line 69
	Reaction::UI::LayoutSet::TT::new("Reaction::UI::LayoutSet::TT", "name", "site_layout", "skin", Reaction::UI::Skin=HASH(0x4763caa0), "next_skin", Reaction::UI::Skin=HASH(0x4dd1b4f0), "tt_object", ...) called at /usr/home/eserte/.cpan/build/2016090403/Reaction-0.002005-9IXGRW/blib/lib/Reaction/UI/Skin.pm line 114
	Reaction::UI::Skin::_create_layout_set(Reaction::UI::Skin=HASH(0x4763caa0), "site_layout", ARRAY(0x4dd1c3d0), Reaction::UI::Skin=HASH(0x4763caa0)) called at /usr/home/eserte/.cpan/build/2016090403/Reaction-0.002005-9IXGRW/blib/lib/Reaction/UI/Skin.pm line 110
	Reaction::UI::Skin::create_layout_set(Reaction::UI::Skin=HASH(0x4763caa0), "site_layout") called at /usr/home/eserte/.cpan/build/2016090403/Reaction-0.002005-9IXGRW/blib/lib/Reaction/UI/LayoutSet.pm line 83
	Reaction::UI::LayoutSet::_load_file(Reaction::UI::LayoutSet::TT=HASH(0x4d710750), Path::Class::File=HASH(0x4dd005d0), HASH(0x4dd17960)) called at /usr/home/eserte/.cpan/build/2016090403/Reaction-0.002005-9IXGRW/blib/lib/Reaction/UI/LayoutSet.pm line 27
	Reaction::UI::LayoutSet::BUILD(Reaction::UI::LayoutSet::TT=HASH(0x4d710750), HASH(0x4dd17960)) called at constructor Reaction::UI::LayoutSet::TT::new (defined at /usr/home/eserte/.cpan/build/2016090403/Reaction-0.002005-9IXGRW/blib/lib/Reaction/UI/LayoutSet/TT.pm line 43) line 69
	Reaction::UI::LayoutSet::TT::new("Reaction::UI::LayoutSet::TT", "name", "site_layout", "skin", Reaction::UI::Skin=HASH(0x4dd14b70), "next_skin", Reaction::UI::Skin=HASH(0x4763caa0), "tt_object", ...) called at /usr/home/eserte/.cpan/build/2016090403/Reaction-0.002005-9IXGRW/blib/lib/Reaction/UI/Skin.pm line 114
	Reaction::UI::Skin::_create_layout_set(Reaction::UI::Skin=HASH(0x4dd14b70), "site_layout", ARRAY(0x4dd00640), Reaction::UI::Skin=HASH(0x4dd14b70)) called at /usr/home/eserte/.cpan/build/2016090403/Reaction-0.002005-9IXGRW/blib/lib/Reaction/UI/Skin.pm line 110
	Reaction::UI::Skin::create_layout_set(Reaction::UI::Skin=HASH(0x4dd14b70), "site_layout") called at /usr/perl5.8.9/lib/site_perl/5.8.9/amd64-freebsd/Moose/Meta/Method/Delegation.pm line 110
	Reaction::UI::View::create_layout_set(ComponentUI::View::Site=HASH(0x4be7a050), "site_layout") called at /usr/home/eserte/.cpan/build/2016090403/Reaction-0.002005-9IXGRW/blib/lib/Reaction/UI/View.pm line 99
	Reaction::UI::View::layout_set_for(ComponentUI::View::Site=HASH(0x4be7a050), Reaction::UI::ViewPort::SiteLayout=HASH(0x4dcfee60)) called at /usr/home/eserte/.cpan/build/2016090403/Reaction-0.002005-9IXGRW/blib/lib/Reaction/UI/View.pm line 78
	Reaction::UI::View::render_viewport_args(ComponentUI::View::Site=HASH(0x4be7a050), Reaction::UI::ViewPort::SiteLayout=HASH(0x4dcfee60)) called at /usr/home/eserte/.cpan/build/2016090403/Reaction-0.002005-9IXGRW/blib/lib/Reaction/UI/View.pm line 61
	Reaction::UI::View::render_window(ComponentUI::View::Site=HASH(0x4be7a050), Reaction::UI::Window=HASH(0x4dcfe8e0)) called at /usr/home/eserte/.cpan/build/2016090403/Reaction-0.002005-9IXGRW/blib/lib/Reaction/UI/Window.pm line 74
	Reaction::UI::Window::flush_view(Reaction::UI::Window=HASH(0x4dcfe8e0)) called at /usr/home/eserte/.cpan/build/2016090403/Reaction-0.002005-9IXGRW/blib/lib/Reaction/UI/Window.pm line 36
	Reaction::UI::Window::flush(Reaction::UI::Window=HASH(0x4dcfe8e0)) called at /usr/home/eserte/.cpan/build/2016090403/Reaction-0.002005-9IXGRW/blib/lib/Reaction/UI/Controller/Root.pm line 38
	Reaction::UI::Controller::Root::end(ComponentUI::Controller::Root=HASH(0x4dcfaaa0), ComponentUI=HASH(0x4dcef7a0)) called at /usr/perl5.8.9/lib/site_perl/5.8.9/Catalyst/Action.pm line 358
	Catalyst::Action::execute(Catalyst::Action=HASH(0x4d72de00), ComponentUI::Controller::Root=HASH(0x4dcfaaa0), ComponentUI=HASH(0x4dcef7a0)) called at /usr/perl5.8.9/lib/site_perl/5.8.9/Catalyst.pm line 2056
	eval {...} called at /usr/perl5.8.9/lib/site_perl/5.8.9/Catalyst.pm line 2056
	Catalyst::execute(ComponentUI=HASH(0x4dcef7a0), "ComponentUI::Controller::Root", Catalyst::Action=HASH(0x4d72de00)) called at /usr/perl5.8.9/lib/site_perl/5.8.9/Catalyst/Action.pm line 353
	Catalyst::Action::dispatch(Catalyst::Action=HASH(0x4d72de00), ComponentUI=HASH(0x4dcef7a0)) called at /usr/perl5.8.9/lib/site_perl/5.8.9/Catalyst/Controller.pm line 189
	Catalyst::Controller::_END(ComponentUI::Controller::Root=HASH(0x4dcfaaa0), ComponentUI=HASH(0x4dcef7a0)) called at /usr/perl5.8.9/lib/site_perl/5.8.9/Catalyst/Action.pm line 358
	Catalyst::Action::execute(Catalyst::Action=HASH(0x4d7a75c0), ComponentUI::Controller::Root=HASH(0x4dcfaaa0), ComponentUI=HASH(0x4dcef7a0)) called at /usr/perl5.8.9/lib/site_perl/5.8.9/Catalyst.pm line 2056
	eval {...} called at /usr/perl5.8.9/lib/site_perl/5.8.9/Catalyst.pm line 2056
	Catalyst::execute(ComponentUI=HASH(0x4dcef7a0), "ComponentUI::Controller::Root", Catalyst::Action=HASH(0x4d7a75c0)) called at /usr/perl5.8.9/lib/site_perl/5.8.9/Catalyst/Action.pm line 353
	Catalyst::Action::dispatch(Catalyst::Action=HASH(0x4d7a75c0), ComponentUI=HASH(0x4dcef7a0)) called at /usr/perl5.8.9/lib/site_perl/5.8.9/Catalyst/Dispatcher.pm line 262
	Catalyst::Dispatcher::_do_forward(Catalyst::Dispatcher=HASH(0x465fe230), "forward", ComponentUI=HASH(0x4dcef7a0), "_END") called at /usr/perl5.8.9/lib/site_perl/5.8.9/Catalyst/Dispatcher.pm line 242
	Catalyst::Dispatcher::forward(Catalyst::Dispatcher=HASH(0x465fe230), ComponentUI=HASH(0x4dcef7a0), "_END") called at /usr/perl5.8.9/lib/site_perl/5.8.9/Catalyst.pm line 481
	Catalyst::forward(ComponentUI=HASH(0x4dcef7a0), "_END") called at /usr/perl5.8.9/lib/site_perl/5.8.9/Catalyst/Controller.pm line 138
	Catalyst::Controller::_DISPATCH(ComponentUI::Controller::Root=HASH(0x4dcfaaa0), ComponentUI=HASH(0x4dcef7a0)) called at /usr/perl5.8.9/lib/site_perl/5.8.9/Catalyst/Action.pm line 358
	Catalyst::Action::execute(Catalyst::Action=HASH(0x4d7a47c0), ComponentUI::Controller::Root=HASH(0x4dcfaaa0), ComponentUI=HASH(0x4dcef7a0)) called at /usr/perl5.8.9/lib/site_perl/5.8.9/Catalyst.pm line 2056
	eval {...} called at /usr/perl5.8.9/lib/site_perl/5.8.9/Catalyst.pm line 2056
	Catalyst::execute(ComponentUI=HASH(0x4dcef7a0), "ComponentUI::Controller::Root", Catalyst::Action=HASH(0x4d7a47c0)) called at /usr/perl5.8.9/lib/site_perl/5.8.9/Catalyst/Action.pm line 353
	Catalyst::Action::dispatch(Catalyst::Action=HASH(0x4d7a47c0), ComponentUI=HASH(0x4dcef7a0)) called at /usr/perl5.8.9/lib/site_perl/5.8.9/Catalyst/Dispatcher.pm line 262
	Catalyst::Dispatcher::_do_forward(Catalyst::Dispatcher=HASH(0x465fe230), "forward", ComponentUI=HASH(0x4dcef7a0), "//_DISPATCH") called at /usr/perl5.8.9/lib/site_perl/5.8.9/Catalyst/Dispatcher.pm line 242
	Catalyst::Dispatcher::forward(Catalyst::Dispatcher=HASH(0x465fe230), ComponentUI=HASH(0x4dcef7a0), "//_DISPATCH") called at /usr/perl5.8.9/lib/site_perl/5.8.9/Catalyst.pm line 481
	Catalyst::forward(ComponentUI=HASH(0x4dcef7a0), "//_DISPATCH") called at /usr/perl5.8.9/lib/site_perl/5.8.9/Catalyst/Dispatcher.pm line 107
	Catalyst::Dispatcher::dispatch(Catalyst::Dispatcher=HASH(0x465fe230), ComponentUI=HASH(0x4dcef7a0)) called at /usr/perl5.8.9/lib/site_perl/5.8.9/Catalyst.pm line 2002
	Catalyst::dispatch(ComponentUI=HASH(0x4dcef7a0)) called at /usr/perl5.8.9/lib/site_perl/5.8.9/Catalyst/Plugin/Static/Simple.pm line 86
	Class::MOP::Class:::around(CODE(0x4649a040), ComponentUI=HASH(0x4dcef7a0)) called at /usr/perl5.8.9/lib/site_perl/5.8.9/amd64-freebsd/Class/MOP/Method/Wrapped.pm line 164
	ComponentUI::_wrapped_dispatch(ComponentUI=HASH(0x4dcef7a0)) called at /usr/perl5.8.9/lib/site_perl/5.8.9/amd64-freebsd/Class/MOP/Method/Wrapped.pm line 95
	ComponentUI::dispatch(ComponentUI=HASH(0x4dcef7a0)) called at /usr/perl5.8.9/lib/site_perl/5.8.9/Catalyst.pm line 2393
	Catalyst::try {...} () called at /usr/perl5.8.9/lib/site_perl/5.8.9/Try/Tiny.pm line 103
	eval {...} called at /usr/perl5.8.9/lib/site_perl/5.8.9/Try/Tiny.pm line 94
	Try::Tiny::try(CODE(0x4dcef1a0), Try::Tiny::Catch=REF(0x4dcebfe0)) called at /usr/perl5.8.9/lib/site_perl/5.8.9/Catalyst.pm line 2402
	Catalyst::handle_request("ComponentUI", "env", HASH(0x4dc96150), "response_cb", CODE(0x4dcef050)) called at /usr/perl5.8.9/lib/site_perl/5.8.9/Catalyst/Engine.pm line 800
	Catalyst::Engine::__ANON__(CODE(0x4dcef050)) called at /usr/perl5.8.9/lib/site_perl/5.8.9/Plack/Middleware/HTTPExceptions.pm line 32
	Plack::Middleware::HTTPExceptions::try {...} () called at /usr/perl5.8.9/lib/site_perl/5.8.9/Try/Tiny.pm line 103
	eval {...} called at /usr/perl5.8.9/lib/site_perl/5.8.9/Try/Tiny.pm line 94
	Try::Tiny::try(CODE(0x4dcebe20), Try::Tiny::Catch=REF(0x4dc96990)) called at /usr/perl5.8.9/lib/site_perl/5.8.9/Plack/Middleware/HTTPExceptions.pm line 41
	Plack::Middleware::HTTPExceptions::__ANON__(CODE(0x4dcebc30)) called at /usr/perl5.8.9/lib/site_perl/5.8.9/Plack/Util.pm line 339
	Plack::Util::__ANON__(CODE(0x4dceba40)) called at /usr/perl5.8.9/lib/site_perl/5.8.9/Plack/Util.pm line 339
	Plack::Util::__ANON__(CODE(0x4dceb850)) called at /usr/perl5.8.9/lib/site_perl/5.8.9/Plack/Util.pm line 339
	Plack::Util::__ANON__(CODE(0x4dceb7e0)) called at /usr/perl5.8.9/lib/site_perl/5.8.9/HTTP/Message/PSGI.pm line 100
	HTTP::Message::PSGI::res_from_psgi(CODE(0x4dc96f80)) called at /usr/perl5.8.9/lib/site_perl/5.8.9/HTTP/Message/PSGI.pm line 156
	HTTP::Response::from_psgi("HTTP::Response", CODE(0x4dc96f80)) called at /usr/perl5.8.9/lib/site_perl/5.8.9/Plack/Test/MockHTTP.pm line 24
	Plack::Test::MockHTTP::try {...} () called at /usr/perl5.8.9/lib/site_perl/5.8.9/Try/Tiny.pm line 98
	eval {...} called at /usr/perl5.8.9/lib/site_perl/5.8.9/Try/Tiny.pm line 94
	Try::Tiny::try(CODE(0x4dc93c30), Try::Tiny::Catch=REF(0x4d707540)) called at /usr/perl5.8.9/lib/site_perl/5.8.9/Plack/Test/MockHTTP.pm line 27
	Plack::Test::MockHTTP::request(Plack::Test::MockHTTP=HASH(0x4dc82830), HTTP::Request=HASH(0x4dc82320)) called at /usr/perl5.8.9/lib/site_perl/5.8.9/Plack/Test.pm line 38
	Plack::Test::__ANON__(HTTP::Request=HASH(0x4dc82320)) called at /usr/perl5.8.9/lib/site_perl/5.8.9/Catalyst/Test.pm line 281
	Catalyst::Test::__ANON__(CODE(0x4dc826d0)) called at /usr/perl5.8.9/lib/site_perl/5.8.9/Plack/Test.pm line 38
	Plack::Test::test_psgi("app", CODE(0x4dc7ed30), "mangle_response", CODE(0x44d3c3b0), "app", CODE(0x4dc82560), "client", CODE(0x4dc825f0)) called at /usr/perl5.8.9/lib/site_perl/5.8.9/Catalyst/Test.pm line 284
	Catalyst::Test::_request(HASH(0x4dc7ef20), "/") called at /usr/perl5.8.9/lib/site_perl/5.8.9/Catalyst/Test.pm line 327
	Catalyst::Test::_local_request("ComponentUI", "/") called at /usr/perl5.8.9/lib/site_perl/5.8.9/Catalyst/Test.pm line 32
	Catalyst::Test::__ANON__("/") called at t/01app.t line 10
Class::MOP::load_class is deprecated at /usr/perl5.8.9/lib/site_perl/5.8.9/amd64-freebsd/Class/MOP.pm line 69.
	Class::MOP::load_class("Reaction::UI::Widget::SiteLayout") called at /usr/home/eserte/.cpan/build/2016090403/Reaction-0.002005-9IXGRW/blib/lib/Reaction/UI/Skin.pm line 181
	eval {...} called at /usr/home/eserte/.cpan/build/2016090403/Reaction-0.002005-9IXGRW/blib/lib/Reaction/UI/Skin.pm line 181
	Reaction::UI::Skin::widget_class_for(Reaction::UI::Skin=HASH(0x4dd1b4f0), Reaction::UI::LayoutSet::TT=HASH(0x4dd28ad0)) called at /usr/home/eserte/.cpan/build/2016090403/Reaction-0.002005-9IXGRW/blib/lib/Reaction/UI/LayoutSet.pm line 28
	Reaction::UI::LayoutSet::BUILD(Reaction::UI::LayoutSet::TT=HASH(0x4dd28ad0), HASH(0x4dd28a70)) called at constructor Reaction::UI::LayoutSet::TT::new (defined at /usr/home/eserte/.cpan/build/2016090403/Reaction-0.002005-9IXGRW/blib/lib/Reaction/UI/LayoutSet/TT.pm line 43) line 69
	Reaction::UI::LayoutSet::TT::new("Reaction::UI::LayoutSet::TT", "name", "site_layout", "skin", Reaction::UI::Skin=HASH(0x4dd1b4f0), "tt_object", Template=HASH(0x4d5718e0), "source_file", ...) called at /usr/home/eserte/.cpan/build/2016090403/Reaction-0.002005-9IXGRW/blib/lib/Reaction/UI/Skin.pm line 114
	Reaction::UI::Skin::_create_layout_set(Reaction::UI::Skin=HASH(0x4dd1b4f0), "site_layout", ARRAY(0x4dd00bf0), Reaction::UI::Skin=HASH(0x4dd1b4f0)) called at /usr/home/eserte/.cpan/build/2016090403/Reaction-0.002005-9IXGRW/blib/lib/Reaction/UI/Skin.pm line 110
	Reaction::UI::Skin::create_layout_set(Reaction::UI::Skin=HASH(0x4dd1b4f0), "site_layout") called at /usr/home/eserte/.cpan/build/2016090403/Reaction-0.002005-9IXGRW/blib/lib/Reaction/UI/LayoutSet.pm line 83
	Reaction::UI::LayoutSet::_load_file(Reaction::UI::LayoutSet::TT=HASH(0x4dd23170), Path::Class::File=HASH(0x4dd14b50), HASH(0x4dd27530)) called at /usr/home/eserte/.cpan/build/2016090403/Reaction-0.002005-9IXGRW/blib/lib/Reaction/UI/LayoutSet.pm line 27
	Reaction::UI::LayoutSet::BUILD(Reaction::UI::LayoutSet::TT=HASH(0x4dd23170), HASH(0x4dd27530)) called at constructor Reaction::UI::LayoutSet::TT::new (defined at /usr/home/eserte/.cpan/build/2016090403/Reaction-0.002005-9IXGRW/blib/lib/Reaction/UI/LayoutSet/TT.pm line 43) line 69
	Reaction::UI::LayoutSet::TT::new("Reaction::UI::LayoutSet::TT", "name", "site_layout", "skin", Reaction::UI::Skin=HASH(0x4763caa0), "next_skin", Reaction::UI::Skin=HASH(0x4dd1b4f0), "tt_object", ...) called at /usr/home/eserte/.cpan/build/2016090403/Reaction-0.002005-9IXGRW/blib/lib/Reaction/UI/Skin.pm line 114
	Reaction::UI::Skin::_create_layout_set(Reaction::UI::Skin=HASH(0x4763caa0), "site_layout", ARRAY(0x4dd1c3d0), Reaction::UI::Skin=HASH(0x4763caa0)) called at /usr/home/eserte/.cpan/build/2016090403/Reaction-0.002005-9IXGRW/blib/lib/Reaction/UI/Skin.pm line 110
	Reaction::UI::Skin::create_layout_set(Reaction::UI::Skin=HASH(0x4763caa0), "site_layout") called at /usr/home/eserte/.cpan/build/2016090403/Reaction-0.002005-9IXGRW/blib/lib/Reaction/UI/LayoutSet.pm line 83
	Reaction::UI::LayoutSet::_load_file(Reaction::UI::LayoutSet::TT=HASH(0x4d710750), Path::Class::File=HASH(0x4dd005d0), HASH(0x4dd17960)) called at /usr/home/eserte/.cpan/build/2016090403/Reaction-0.002005-9IXGRW/blib/lib/Reaction/UI/LayoutSet.pm line 27
	Reaction::UI::LayoutSet::BUILD(Reaction::UI::LayoutSet::TT=HASH(0x4d710750), HASH(0x4dd17960)) called at constructor Reaction::UI::LayoutSet::TT::new (defined at /usr/home/eserte/.cpan/build/2016090403/Reaction-0.002005-9IXGRW/blib/lib/Reaction/UI/LayoutSet/TT.pm line 43) line 69
	Reaction::UI::LayoutSet::TT::new("Reaction::UI::LayoutSet::TT", "name", "site_layout", "skin", Reaction::UI::Skin=HASH(0x4dd14b70), "next_skin", Reaction::UI::Skin=HASH(0x4763caa0), "tt_object", ...) called at /usr/home/eserte/.cpan/build/2016090403/Reaction-0.002005-9IXGRW/blib/lib/Reaction/UI/Skin.pm line 114
	Reaction::UI::Skin::_create_layout_set(Reaction::UI::Skin=HASH(0x4dd14b70), "site_layout", ARRAY(0x4dd00640), Reaction::UI::Skin=HASH(0x4dd14b70)) called at /usr/home/eserte/.cpan/build/2016090403/Reaction-0.002005-9IXGRW/blib/lib/Reaction/UI/Skin.pm line 110
	Reaction::UI::Skin::create_layout_set(Reaction::UI::Skin=HASH(0x4dd14b70), "site_layout") called at /usr/perl5.8.9/lib/site_perl/5.8.9/amd64-freebsd/Moose/Meta/Method/Delegation.pm line 110
	Reaction::UI::View::create_layout_set(ComponentUI::View::Site=HASH(0x4be7a050), "site_layout") called at /usr/home/eserte/.cpan/build/2016090403/Reaction-0.002005-9IXGRW/blib/lib/Reaction/UI/View.pm line 99
	Reaction::UI::View::layout_set_for(ComponentUI::View::Site=HASH(0x4be7a050), Reaction::UI::ViewPort::SiteLayout=HASH(0x4dcfee60)) called at /usr/home/eserte/.cpan/build/2016090403/Reaction-0.002005-9IXGRW/blib/lib/Reaction/UI/View.pm line 78
	Reaction::UI::View::render_viewport_args(ComponentUI::View::Site=HASH(0x4be7a050), Reaction::UI::ViewPort::SiteLayout=HASH(0x4dcfee60)) called at /usr/home/eserte/.cpan/build/2016090403/Reaction-0.002005-9IXGRW/blib/lib/Reaction/UI/View.pm line 61
	Reaction::UI::View::render_window(ComponentUI::View::Site=HASH(0x4be7a050), Reaction::UI::Window=HASH(0x4dcfe8e0)) called at /usr/home/eserte/.cpan/build/2016090403/Reaction-0.002005-9IXGRW/blib/lib/Reaction/UI/Window.pm line 74
	Reaction::UI::Window::flush_view(Reaction::UI::Window=HASH(0x4dcfe8e0)) called at /usr/home/eserte/.cpan/build/2016090403/Reaction-0.002005-9IXGRW/blib/lib/Reaction/UI/Window.pm line 36
	Reaction::UI::Window::flush(Reaction::UI::Window=HASH(0x4dcfe8e0)) called at /usr/home/eserte/.cpan/build/2016090403/Reaction-0.002005-9IXGRW/blib/lib/Reaction/UI/Controller/Root.pm line 38
	Reaction::UI::Controller::Root::end(ComponentUI::Controller::Root=HASH(0x4dcfaaa0), ComponentUI=HASH(0x4dcef7a0)) called at /usr/perl5.8.9/lib/site_perl/5.8.9/Catalyst/Action.pm line 358
	Catalyst::Action::execute(Catalyst::Action=HASH(0x4d72de00), ComponentUI::Controller::Root=HASH(0x4dcfaaa0), ComponentUI=HASH(0x4dcef7a0)) called at /usr/perl5.8.9/lib/site_perl/5.8.9/Catalyst.pm line 2056
	eval {...} called at /usr/perl5.8.9/lib/site_perl/5.8.9/Catalyst.pm line 2056
	Catalyst::execute(ComponentUI=HASH(0x4dcef7a0), "ComponentUI::Controller::Root", Catalyst::Action=HASH(0x4d72de00)) called at /usr/perl5.8.9/lib/site_perl/5.8.9/Catalyst/Action.pm line 353
	Catalyst::Action::dispatch(Catalyst::Action=HASH(0x4d72de00), ComponentUI=HASH(0x4dcef7a0)) called at /usr/perl5.8.9/lib/site_perl/5.8.9/Catalyst/Controller.pm line 189
	Catalyst::Controller::_END(ComponentUI::Controller::Root=HASH(0x4dcfaaa0), ComponentUI=HASH(0x4dcef7a0)) called at /usr/perl5.8.9/lib/site_perl/5.8.9/Catalyst/Action.pm line 358
	Catalyst::Action::execute(Catalyst::Action=HASH(0x4d7a75c0), ComponentUI::Controller::Root=HASH(0x4dcfaaa0), ComponentUI=HASH(0x4dcef7a0)) called at /usr/perl5.8.9/lib/site_perl/5.8.9/Catalyst.pm line 2056
	eval {...} called at /usr/perl5.8.9/lib/site_perl/5.8.9/Catalyst.pm line 2056
	Catalyst::execute(ComponentUI=HASH(0x4dcef7a0), "ComponentUI::Controller::Root", Catalyst::Action=HASH(0x4d7a75c0)) called at /usr/perl5.8.9/lib/site_perl/5.8.9/Catalyst/Action.pm line 353
	Catalyst::Action::dispatch(Catalyst::Action=HASH(0x4d7a75c0), ComponentUI=HASH(0x4dcef7a0)) called at /usr/perl5.8.9/lib/site_perl/5.8.9/Catalyst/Dispatcher.pm line 262
	Catalyst::Dispatcher::_do_forward(Catalyst::Dispatcher=HASH(0x465fe230), "forward", ComponentUI=HASH(0x4dcef7a0), "_END") called at /usr/perl5.8.9/lib/site_perl/5.8.9/Catalyst/Dispatcher.pm line 242
	Catalyst::Dispatcher::forward(Catalyst::Dispatcher=HASH(0x465fe230), ComponentUI=HASH(0x4dcef7a0), "_END") called at /usr/perl5.8.9/lib/site_perl/5.8.9/Catalyst.pm line 481
	Catalyst::forward(ComponentUI=HASH(0x4dcef7a0), "_END") called at /usr/perl5.8.9/lib/site_perl/5.8.9/Catalyst/Controller.pm line 138
	Catalyst::Controller::_DISPATCH(ComponentUI::Controller::Root=HASH(0x4dcfaaa0), ComponentUI=HASH(0x4dcef7a0)) called at /usr/perl5.8.9/lib/site_perl/5.8.9/Catalyst/Action.pm line 358
	Catalyst::Action::execute(Catalyst::Action=HASH(0x4d7a47c0), ComponentUI::Controller::Root=HASH(0x4dcfaaa0), ComponentUI=HASH(0x4dcef7a0)) called at /usr/perl5.8.9/lib/site_perl/5.8.9/Catalyst.pm line 2056
	eval {...} called at /usr/perl5.8.9/lib/site_perl/5.8.9/Catalyst.pm line 2056
	Catalyst::execute(ComponentUI=HASH(0x4dcef7a0), "ComponentUI::Controller::Root", Catalyst::Action=HASH(0x4d7a47c0)) called at /usr/perl5.8.9/lib/site_perl/5.8.9/Catalyst/Action.pm line 353
	Catalyst::Action::dispatch(Catalyst::Action=HASH(0x4d7a47c0), ComponentUI=HASH(0x4dcef7a0)) called at /usr/perl5.8.9/lib/site_perl/5.8.9/Catalyst/Dispatcher.pm line 262
	Catalyst::Dispatcher::_do_forward(Catalyst::Dispatcher=HASH(0x465fe230), "forward", ComponentUI=HASH(0x4dcef7a0), "//_DISPATCH") called at /usr/perl5.8.9/lib/site_perl/5.8.9/Catalyst/Dispatcher.pm line 242
	Catalyst::Dispatcher::forward(Catalyst::Dispatcher=HASH(0x465fe230), ComponentUI=HASH(0x4dcef7a0), "//_DISPATCH") called at /usr/perl5.8.9/lib/site_perl/5.8.9/Catalyst.pm line 481
	Catalyst::forward(ComponentUI=HASH(0x4dcef7a0), "//_DISPATCH") called at /usr/perl5.8.9/lib/site_perl/5.8.9/Catalyst/Dispatcher.pm line 107
	Catalyst::Dispatcher::dispatch(Catalyst::Dispatcher=HASH(0x465fe230), ComponentUI=HASH(0x4dcef7a0)) called at /usr/perl5.8.9/lib/site_perl/5.8.9/Catalyst.pm line 2002
	Catalyst::dispatch(ComponentUI=HASH(0x4dcef7a0)) called at /usr/perl5.8.9/lib/site_perl/5.8.9/Catalyst/Plugin/Static/Simple.pm line 86
	Class::MOP::Class:::around(CODE(0x4649a040), ComponentUI=HASH(0x4dcef7a0)) called at /usr/perl5.8.9/lib/site_perl/5.8.9/amd64-freebsd/Class/MOP/Method/Wrapped.pm line 164
	ComponentUI::_wrapped_dispatch(ComponentUI=HASH(0x4dcef7a0)) called at /usr/perl5.8.9/lib/site_perl/5.8.9/amd64-freebsd/Class/MOP/Method/Wrapped.pm line 95
	ComponentUI::dispatch(ComponentUI=HASH(0x4dcef7a0)) called at /usr/perl5.8.9/lib/site_perl/5.8.9/Catalyst.pm line 2393
	Catalyst::try {...} () called at /usr/perl5.8.9/lib/site_perl/5.8.9/Try/Tiny.pm line 103
	eval {...} called at /usr/perl5.8.9/lib/site_perl/5.8.9/Try/Tiny.pm line 94
	Try::Tiny::try(CODE(0x4dcef1a0), Try::Tiny::Catch=REF(0x4dcebfe0)) called at /usr/perl5.8.9/lib/site_perl/5.8.9/Catalyst.pm line 2402
	Catalyst::handle_request("ComponentUI", "env", HASH(0x4dc96150), "response_cb", CODE(0x4dcef050)) called at /usr/perl5.8.9/lib/site_perl/5.8.9/Catalyst/Engine.pm line 800
	Catalyst::Engine::__ANON__(CODE(0x4dcef050)) called at /usr/perl5.8.9/lib/site_perl/5.8.9/Plack/Middleware/HTTPExceptions.pm line 32
	Plack::Middleware::HTTPExceptions::try {...} () called at /usr/perl5.8.9/lib/site_perl/5.8.9/Try/Tiny.pm line 103
	eval {...} called at /usr/perl5.8.9/lib/site_perl/5.8.9/Try/Tiny.pm line 94
	Try::Tiny::try(CODE(0x4dcebe20), Try::Tiny::Catch=REF(0x4dc96990)) called at /usr/perl5.8.9/lib/site_perl/5.8.9/Plack/Middleware/HTTPExceptions.pm line 41
	Plack::Middleware::HTTPExceptions::__ANON__(CODE(0x4dcebc30)) called at /usr/perl5.8.9/lib/site_perl/5.8.9/Plack/Util.pm line 339
	Plack::Util::__ANON__(CODE(0x4dceba40)) called at /usr/perl5.8.9/lib/site_perl/5.8.9/Plack/Util.pm line 339
	Plack::Util::__ANON__(CODE(0x4dceb850)) called at /usr/perl5.8.9/lib/site_perl/5.8.9/Plack/Util.pm line 339
	Plack::Util::__ANON__(CODE(0x4dceb7e0)) called at /usr/perl5.8.9/lib/site_perl/5.8.9/HTTP/Message/PSGI.pm line 100
	HTTP::Message::PSGI::res_from_psgi(CODE(0x4dc96f80)) called at /usr/perl5.8.9/lib/site_perl/5.8.9/HTTP/Message/PSGI.pm line 156
	HTTP::Response::from_psgi("HTTP::Response", CODE(0x4dc96f80)) called at /usr/perl5.8.9/lib/site_perl/5.8.9/Plack/Test/MockHTTP.pm line 24
	Plack::Test::MockHTTP::try {...} () called at /usr/perl5.8.9/lib/site_perl/5.8.9/Try/Tiny.pm line 98
	eval {...} called at /usr/perl5.8.9/lib/site_perl/5.8.9/Try/Tiny.pm line 94
	Try::Tiny::try(CODE(0x4dc93c30), Try::Tiny::Catch=REF(0x4d707540)) called at /usr/perl5.8.9/lib/site_perl/5.8.9/Plack/Test/MockHTTP.pm line 27
	Plack::Test::MockHTTP::request(Plack::Test::MockHTTP=HASH(0x4dc82830), HTTP::Request=HASH(0x4dc82320)) called at /usr/perl5.8.9/lib/site_perl/5.8.9/Plack/Test.pm line 38
	Plack::Test::__ANON__(HTTP::Request=HASH(0x4dc82320)) called at /usr/perl5.8.9/lib/site_perl/5.8.9/Catalyst/Test.pm line 281
	Catalyst::Test::__ANON__(CODE(0x4dc826d0)) called at /usr/perl5.8.9/lib/site_perl/5.8.9/Plack/Test.pm line 38
	Plack::Test::test_psgi("app", CODE(0x4dc7ed30), "mangle_response", CODE(0x44d3c3b0), "app", CODE(0x4dc82560), "client", CODE(0x4dc825f0)) called at /usr/perl5.8.9/lib/site_perl/5.8.9/Catalyst/Test.pm line 284
	Catalyst::Test::_request(HASH(0x4dc7ef20), "/") called at /usr/perl5.8.9/lib/site_perl/5.8.9/Catalyst/Test.pm line 327
	Catalyst::Test::_local_request("ComponentUI", "/") called at /usr/perl5.8.9/lib/site_perl/5.8.9/Catalyst/Test.pm line 32
	Catalyst::Test::__ANON__("/") called at t/01app.t line 10
[debug] remote
t/01app.t ................... ok
t/04load_all.t .............. ok
t/05reflect_attr_from.t ..... ok
Class::MOP::load_class is deprecated at /usr/perl5.8.9/lib/site_perl/5.8.9/amd64-freebsd/Class/MOP.pm line 69.
	Class::MOP::load_class("Reaction::InterfaceModel::Object") called at /usr/home/eserte/.cpan/build/2016090403/Reaction-0.002005-9IXGRW/blib/lib/Reaction/InterfaceModel/Reflector/DBIC.pm line 149
	Reaction::InterfaceModel::Reflector::DBIC::reflect_schema(Reaction::InterfaceModel::Reflector::DBIC=HASH(0x453846e0), "model_class", "ComponentUI::TestModel", "schema_class", "RTest::TestDB", "sources", ARRAY(0x456f10d0)) called at /usr/home/eserte/.cpan/build/2016090403/Reaction-0.002005-9IXGRW/blib/lib/ComponentUI/TestModel.pm line 10
	require ComponentUI/TestModel.pm called at t/lib/RTest/InterfaceModel/Reflector/DBIC.pm line 6
	RTest::InterfaceModel::Reflector::DBIC::BEGIN() called at /usr/home/eserte/.cpan/build/2016090403/Reaction-0.002005-9IXGRW/blib/lib/ComponentUI/TestModel.pm line 0
	eval {...} called at /usr/home/eserte/.cpan/build/2016090403/Reaction-0.002005-9IXGRW/blib/lib/ComponentUI/TestModel.pm line 0
	require RTest/InterfaceModel/Reflector/DBIC.pm called at t/im_dbic.t line 7
	main::BEGIN() called at /usr/home/eserte/.cpan/build/2016090403/Reaction-0.002005-9IXGRW/blib/lib/ComponentUI/TestModel.pm line 0
	eval {...} called at /usr/home/eserte/.cpan/build/2016090403/Reaction-0.002005-9IXGRW/blib/lib/ComponentUI/TestModel.pm line 0
Class::MOP::load_class is deprecated at /usr/perl5.8.9/lib/site_perl/5.8.9/amd64-freebsd/Class/MOP.pm line 69, <DATA> line 1.
	Class::MOP::load_class("Reaction::InterfaceModel::Object") called at /usr/home/eserte/.cpan/build/2016090403/Reaction-0.002005-9IXGRW/blib/lib/Reaction/Class.pm line 123
	Reaction::Class::do_class_sub("Reaction::Class", "ComponentUI::TestModel::Foo", "ComponentUI::TestModel::Foo", "is", "Reaction::InterfaceModel::Object", "which", CODE(0x457bdc50)) called at /usr/home/eserte/.cpan/build/2016090403/Reaction-0.002005-9IXGRW/blib/lib/Reaction/Class.pm line 86
	Reaction::Class::("ComponentUI::TestModel::Foo", "is", "Reaction::InterfaceModel::Object", "which", CODE(0x457bdc50)) called at /usr/home/eserte/.cpan/build/2016090403/Reaction-0.002005-9IXGRW/blib/lib/ComponentUI/TestModel/Foo.pm line 8
	require ComponentUI/TestModel/Foo.pm called at /usr/perl5.8.9/lib/site_perl/5.8.9/Module/Runtime.pm line 313
	Module::Runtime::require_module("ComponentUI::TestModel::Foo") called at /usr/perl5.8.9/lib/site_perl/5.8.9/Class/Load.pm line 174
	Class::Load::try {...} () called at /usr/perl5.8.9/lib/site_perl/5.8.9/Try/Tiny.pm line 98
	eval {...} called at /usr/perl5.8.9/lib/site_perl/5.8.9/Try/Tiny.pm line 94
	Try::Tiny::try(CODE(0x47753bf0), Try::Tiny::Catch=REF(0x4775b390)) called at /usr/perl5.8.9/lib/site_perl/5.8.9/Class/Load.pm line 180
	Class::Load::try_load_class("ComponentUI::TestModel::Foo", undef) called at /usr/perl5.8.9/lib/site_perl/5.8.9/Class/Load.pm line 35
	Class::Load::load_class("ComponentUI::TestModel::Foo") called at /usr/home/eserte/.cpan/build/2016090403/Reaction-0.002005-9IXGRW/blib/lib/Reaction/InterfaceModel/Reflector/DBIC.pm line 892
	eval {...} called at /usr/home/eserte/.cpan/build/2016090403/Reaction-0.002005-9IXGRW/blib/lib/Reaction/InterfaceModel/Reflector/DBIC.pm line 892
	Reaction::InterfaceModel::Reflector::DBIC::_maybe_load_class(Reaction::InterfaceModel::Reflector::DBIC=HASH(0x453846e0), "ComponentUI::TestModel::Foo") called at /usr/home/eserte/.cpan/build/2016090403/Reaction-0.002005-9IXGRW/blib/lib/Reaction/InterfaceModel/Reflector/DBIC.pm line 876
	Reaction::InterfaceModel::Reflector::DBIC::_load_or_create(Reaction::InterfaceModel::Reflector::DBIC=HASH(0x453846e0), "ComponentUI::TestModel::Foo", "superclasses", ARRAY(0x476a2850)) called at /usr/home/eserte/.cpan/build/2016090403/Reaction-0.002005-9IXGRW/blib/lib/Reaction/InterfaceModel/Reflector/DBIC.pm line 448
	Reaction::InterfaceModel::Reflector::DBIC::reflect_source_object(Reaction::InterfaceModel::Reflector::DBIC=HASH(0x453846e0), "schema_class", "RTest::TestDB", "source_name", "Foo", "source_class", "RTest::TestDB::Foo", "parent_class", ...) called at /usr/home/eserte/.cpan/build/2016090403/Reaction-0.002005-9IXGRW/blib/lib/Reaction/InterfaceModel/Reflector/DBIC.pm line 323
	Reaction::InterfaceModel::Reflector::DBIC::reflect_source(Reaction::InterfaceModel::Reflector::DBIC=HASH(0x453846e0), "source_name", "Foo", "parent_class", "ComponentUI::TestModel", "schema_class", "RTest::TestDB", "source_class", ...) called at /usr/home/eserte/.cpan/build/2016090403/Reaction-0.002005-9IXGRW/blib/lib/Reaction/InterfaceModel/Reflector/DBIC.pm line 185
	Reaction::InterfaceModel::Reflector::DBIC::reflect_schema(Reaction::InterfaceModel::Reflector::DBIC=HASH(0x453846e0), "model_class", "ComponentUI::TestModel", "schema_class", "RTest::TestDB", "sources", ARRAY(0x456f10d0)) called at /usr/home/eserte/.cpan/build/2016090403/Reaction-0.002005-9IXGRW/blib/lib/ComponentUI/TestModel.pm line 10
	require ComponentUI/TestModel.pm called at t/lib/RTest/InterfaceModel/Reflector/DBIC.pm line 6
	RTest::InterfaceModel::Reflector::DBIC::BEGIN() called at /usr/home/eserte/.cpan/build/2016090403/Reaction-0.002005-9IXGRW/blib/lib/ComponentUI/TestModel/Foo.pm line 0
	eval {...} called at /usr/home/eserte/.cpan/build/2016090403/Reaction-0.002005-9IXGRW/blib/lib/ComponentUI/TestModel/Foo.pm line 0
	require RTest/InterfaceModel/Reflector/DBIC.pm called at t/im_dbic.t line 7
	main::BEGIN() called at /usr/home/eserte/.cpan/build/2016090403/Reaction-0.002005-9IXGRW/blib/lib/ComponentUI/TestModel/Foo.pm line 0
	eval {...} called at /usr/home/eserte/.cpan/build/2016090403/Reaction-0.002005-9IXGRW/blib/lib/ComponentUI/TestModel/Foo.pm line 0
Class::MOP::is_class_loaded is deprecated at /usr/perl5.8.9/lib/site_perl/5.8.9/amd64-freebsd/Class/MOP.pm line 87, <DATA> line 1.
	Class::MOP::is_class_loaded("RTest::TestIM::Foo") called at t/lib/RTest/InterfaceModel/Reflector/DBIC.pm line 74
	RTest::InterfaceModel::Reflector::DBIC::test_reflect_schema(RTest::InterfaceModel::Reflector::DBIC=HASH(0x4791beb0)) called at /usr/perl5.8.9/lib/site_perl/5.8.9/Test/Class.pm line 293
	Test::Class::try {...} () called at /usr/perl5.8.9/lib/site_perl/5.8.9/Try/Tiny.pm line 98
	eval {...} called at /usr/perl5.8.9/lib/site_perl/5.8.9/Try/Tiny.pm line 94
	Try::Tiny::try(CODE(0x4925db40), Try::Tiny::Catch=REF(0x4956afe0)) called at /usr/perl5.8.9/lib/site_perl/5.8.9/Test/Class.pm line 293
	Test::Class::_run_method(RTest::InterfaceModel::Reflector::DBIC=HASH(0x4791beb0), "test_reflect_schema", ARRAY(0x41e42050)) called at /usr/perl5.8.9/lib/site_perl/5.8.9/Test/Class.pm line 395
	Test::Class::runtests("Test::Class", RTest::InterfaceModel::Reflector::DBIC=HASH(0x4791beb0)) called at t/im_dbic.t line 10
t/im_dbic.t ................. ok
t/ui_focus_stack.t .......... ok
t/ui_view.t ................. ok
t/ui_viewport.t ............. ok
Class::MOP::load_class is deprecated at /usr/perl5.8.9/lib/site_perl/5.8.9/amd64-freebsd/Class/MOP.pm line 69.
	Class::MOP::load_class("ComponentUI::TestModel") called at /usr/home/eserte/.cpan/build/2016090403/Reaction-0.002005-9IXGRW/blib/lib/Catalyst/Model/Reaction/InterfaceModel/DBIC.pm line 24
	Catalyst::Model::Reaction::InterfaceModel::DBIC::COMPONENT("ComponentUI::Model::TestModel", "ComponentUI", HASH(0x4d0409d0)) called at /usr/perl5.8.9/lib/site_perl/5.8.9/Catalyst.pm line 3206
	eval {...} called at /usr/perl5.8.9/lib/site_perl/5.8.9/Catalyst.pm line 3207
	Catalyst::setup_component("ComponentUI", "ComponentUI::Model::TestModel") called at /usr/perl5.8.9/lib/site_perl/5.8.9/Catalyst.pm line 3184
	Catalyst::__ANON__() called at /usr/perl5.8.9/lib/site_perl/5.8.9/Catalyst.pm line 3030
	Catalyst::setup_components("ComponentUI") called at /usr/perl5.8.9/lib/site_perl/5.8.9/Catalyst.pm line 1426
	Catalyst::setup("ComponentUI") called at /usr/home/eserte/.cpan/build/2016090403/Reaction-0.002005-9IXGRW/blib/lib/ComponentUI.pm line 32
	require ComponentUI.pm called at /usr/perl5.8.9/lib/site_perl/5.8.9/Module/Runtime.pm line 313
	Module::Runtime::require_module("ComponentUI") called at /usr/perl5.8.9/lib/site_perl/5.8.9/Class/Load.pm line 174
	Class::Load::try {...} () called at /usr/perl5.8.9/lib/site_perl/5.8.9/Try/Tiny.pm line 98
	eval {...} called at /usr/perl5.8.9/lib/site_perl/5.8.9/Try/Tiny.pm line 94
	Try::Tiny::try(CODE(0x45a4b510), Try::Tiny::Catch=REF(0x45a55790)) called at /usr/perl5.8.9/lib/site_perl/5.8.9/Class/Load.pm line 180
	Class::Load::try_load_class("ComponentUI", undef) called at /usr/perl5.8.9/lib/site_perl/5.8.9/Class/Load.pm line 35
	Class::Load::load_class("ComponentUI") called at /usr/perl5.8.9/lib/site_perl/5.8.9/Test/WWW/Mechanize/Catalyst.pm line 245
	Test::WWW::Mechanize::Catalyst::import("Test::WWW::Mechanize::Catalyst", "ComponentUI") called at t/uncheck_bool_field.t line 6
	main::BEGIN() called at /usr/home/eserte/.cpan/build/2016090403/Reaction-0.002005-9IXGRW/blib/lib/ComponentUI.pm line 0
	eval {...} called at /usr/home/eserte/.cpan/build/2016090403/Reaction-0.002005-9IXGRW/blib/lib/ComponentUI.pm line 0
Class::MOP::load_class is deprecated at /usr/perl5.8.9/lib/site_perl/5.8.9/amd64-freebsd/Class/MOP.pm line 69.
	Class::MOP::load_class("Reaction::InterfaceModel::Object") called at /usr/home/eserte/.cpan/build/2016090403/Reaction-0.002005-9IXGRW/blib/lib/Reaction/InterfaceModel/Reflector/DBIC.pm line 149
	Reaction::InterfaceModel::Reflector::DBIC::reflect_schema(Reaction::InterfaceModel::Reflector::DBIC=HASH(0x4db5dd50), "model_class", "ComponentUI::TestModel", "schema_class", "RTest::TestDB", "sources", ARRAY(0x4db4b7c0)) called at /usr/home/eserte/.cpan/build/2016090403/Reaction-0.002005-9IXGRW/blib/lib/ComponentUI/TestModel.pm line 10
	require ComponentUI/TestModel.pm called at /usr/perl5.8.9/lib/site_perl/5.8.9/Module/Runtime.pm line 313
	Module::Runtime::require_module("ComponentUI::TestModel") called at /usr/perl5.8.9/lib/site_perl/5.8.9/Class/Load.pm line 174
	Class::Load::try {...} () called at /usr/perl5.8.9/lib/site_perl/5.8.9/Try/Tiny.pm line 98
	eval {...} called at /usr/perl5.8.9/lib/site_perl/5.8.9/Try/Tiny.pm line 94
	Try::Tiny::try(CODE(0x4d6f98d0), Try::Tiny::Catch=REF(0x4d42a970)) called at /usr/perl5.8.9/lib/site_perl/5.8.9/Class/Load.pm line 180
	Class::Load::try_load_class("ComponentUI::TestModel", undef) called at /usr/perl5.8.9/lib/site_perl/5.8.9/Class/Load.pm line 35
	Class::Load::load_class("ComponentUI::TestModel") called at /usr/home/eserte/.cpan/build/2016090403/Reaction-0.002005-9IXGRW/blib/lib/Catalyst/Model/Reaction/InterfaceModel/DBIC.pm line 24
	Catalyst::Model::Reaction::InterfaceModel::DBIC::COMPONENT("ComponentUI::Model::TestModel", "ComponentUI", HASH(0x4d0409d0)) called at /usr/perl5.8.9/lib/site_perl/5.8.9/Catalyst.pm line 3206
	eval {...} called at /usr/perl5.8.9/lib/site_perl/5.8.9/Catalyst.pm line 3207
	Catalyst::setup_component("ComponentUI", "ComponentUI::Model::TestModel") called at /usr/perl5.8.9/lib/site_perl/5.8.9/Catalyst.pm line 3184
	Catalyst::__ANON__() called at /usr/perl5.8.9/lib/site_perl/5.8.9/Catalyst.pm line 3030
	Catalyst::setup_components("ComponentUI") called at /usr/perl5.8.9/lib/site_perl/5.8.9/Catalyst.pm line 1426
	Catalyst::setup("ComponentUI") called at /usr/home/eserte/.cpan/build/2016090403/Reaction-0.002005-9IXGRW/blib/lib/ComponentUI.pm line 32
	require ComponentUI.pm called at /usr/perl5.8.9/lib/site_perl/5.8.9/Module/Runtime.pm line 313
	Module::Runtime::require_module("ComponentUI") called at /usr/perl5.8.9/lib/site_perl/5.8.9/Class/Load.pm line 174
	Class::Load::try {...} () called at /usr/perl5.8.9/lib/site_perl/5.8.9/Try/Tiny.pm line 98
	eval {...} called at /usr/perl5.8.9/lib/site_perl/5.8.9/Try/Tiny.pm line 94
	Try::Tiny::try(CODE(0x45a4b510), Try::Tiny::Catch=REF(0x45a55790)) called at /usr/perl5.8.9/lib/site_perl/5.8.9/Class/Load.pm line 180
	Class::Load::try_load_class("ComponentUI", undef) called at /usr/perl5.8.9/lib/site_perl/5.8.9/Class/Load.pm line 35
	Class::Load::load_class("ComponentUI") called at /usr/perl5.8.9/lib/site_perl/5.8.9/Test/WWW/Mechanize/Catalyst.pm line 245
	Test::WWW::Mechanize::Catalyst::import("Test::WWW::Mechanize::Catalyst", "ComponentUI") called at t/uncheck_bool_field.t line 6
	main::BEGIN() called at /usr/home/eserte/.cpan/build/2016090403/Reaction-0.002005-9IXGRW/blib/lib/ComponentUI/TestModel.pm line 0
	eval {...} called at /usr/home/eserte/.cpan/build/2016090403/Reaction-0.002005-9IXGRW/blib/lib/ComponentUI/TestModel.pm line 0
Class::MOP::load_class is deprecated at /usr/perl5.8.9/lib/site_perl/5.8.9/amd64-freebsd/Class/MOP.pm line 69.
	Class::MOP::load_class("Reaction::InterfaceModel::Object") called at /usr/home/eserte/.cpan/build/2016090403/Reaction-0.002005-9IXGRW/blib/lib/Reaction/Class.pm line 123
	Reaction::Class::do_class_sub("Reaction::Class", "ComponentUI::TestModel::Foo", "ComponentUI::TestModel::Foo", "is", "Reaction::InterfaceModel::Object", "which", CODE(0x4ddd3d50)) called at /usr/home/eserte/.cpan/build/2016090403/Reaction-0.002005-9IXGRW/blib/lib/Reaction/Class.pm line 86
	Reaction::Class::("ComponentUI::TestModel::Foo", "is", "Reaction::InterfaceModel::Object", "which", CODE(0x4ddd3d50)) called at /usr/home/eserte/.cpan/build/2016090403/Reaction-0.002005-9IXGRW/blib/lib/ComponentUI/TestModel/Foo.pm line 8
	require ComponentUI/TestModel/Foo.pm called at /usr/perl5.8.9/lib/site_perl/5.8.9/Module/Runtime.pm line 313
	Module::Runtime::require_module("ComponentUI::TestModel::Foo") called at /usr/perl5.8.9/lib/site_perl/5.8.9/Class/Load.pm line 174
	Class::Load::try {...} () called at /usr/perl5.8.9/lib/site_perl/5.8.9/Try/Tiny.pm line 98
	eval {...} called at /usr/perl5.8.9/lib/site_perl/5.8.9/Try/Tiny.pm line 94
	Try::Tiny::try(CODE(0x4dde7c30), Try::Tiny::Catch=REF(0x4ddeb3e0)) called at /usr/perl5.8.9/lib/site_perl/5.8.9/Class/Load.pm line 180
	Class::Load::try_load_class("ComponentUI::TestModel::Foo", undef) called at /usr/perl5.8.9/lib/site_perl/5.8.9/Class/Load.pm line 35
	Class::Load::load_class("ComponentUI::TestModel::Foo") called at /usr/home/eserte/.cpan/build/2016090403/Reaction-0.002005-9IXGRW/blib/lib/Reaction/InterfaceModel/Reflector/DBIC.pm line 892
	eval {...} called at /usr/home/eserte/.cpan/build/2016090403/Reaction-0.002005-9IXGRW/blib/lib/Reaction/InterfaceModel/Reflector/DBIC.pm line 892
	Reaction::InterfaceModel::Reflector::DBIC::_maybe_load_class(Reaction::InterfaceModel::Reflector::DBIC=HASH(0x4db5dd50), "ComponentUI::TestModel::Foo") called at /usr/home/eserte/.cpan/build/2016090403/Reaction-0.002005-9IXGRW/blib/lib/Reaction/InterfaceModel/Reflector/DBIC.pm line 876
	Reaction::InterfaceModel::Reflector::DBIC::_load_or_create(Reaction::InterfaceModel::Reflector::DBIC=HASH(0x4db5dd50), "ComponentUI::TestModel::Foo", "superclasses", ARRAY(0x4ddc3b80)) called at /usr/home/eserte/.cpan/build/2016090403/Reaction-0.002005-9IXGRW/blib/lib/Reaction/InterfaceModel/Reflector/DBIC.pm line 448
	Reaction::InterfaceModel::Reflector::DBIC::reflect_source_object(Reaction::InterfaceModel::Reflector::DBIC=HASH(0x4db5dd50), "schema_class", "RTest::TestDB", "source_name", "Foo", "source_class", "RTest::TestDB::Foo", "parent_class", ...) called at /usr/home/eserte/.cpan/build/2016090403/Reaction-0.002005-9IXGRW/blib/lib/Reaction/InterfaceModel/Reflector/DBIC.pm line 323
	Reaction::InterfaceModel::Reflector::DBIC::reflect_source(Reaction::InterfaceModel::Reflector::DBIC=HASH(0x4db5dd50), "source_name", "Foo", "parent_class", "ComponentUI::TestModel", "schema_class", "RTest::TestDB", "source_class", ...) called at /usr/home/eserte/.cpan/build/2016090403/Reaction-0.002005-9IXGRW/blib/lib/Reaction/InterfaceModel/Reflector/DBIC.pm line 185
	Reaction::InterfaceModel::Reflector::DBIC::reflect_schema(Reaction::InterfaceModel::Reflector::DBIC=HASH(0x4db5dd50), "model_class", "ComponentUI::TestModel", "schema_class", "RTest::TestDB", "sources", ARRAY(0x4db4b7c0)) called at /usr/home/eserte/.cpan/build/2016090403/Reaction-0.002005-9IXGRW/blib/lib/ComponentUI/TestModel.pm line 10
	require ComponentUI/TestModel.pm called at /usr/perl5.8.9/lib/site_perl/5.8.9/Module/Runtime.pm line 313
	Module::Runtime::require_module("ComponentUI::TestModel") called at /usr/perl5.8.9/lib/site_perl/5.8.9/Class/Load.pm line 174
	Class::Load::try {...} () called at /usr/perl5.8.9/lib/site_perl/5.8.9/Try/Tiny.pm line 98
	eval {...} called at /usr/perl5.8.9/lib/site_perl/5.8.9/Try/Tiny.pm line 94
	Try::Tiny::try(CODE(0x4d6f98d0), Try::Tiny::Catch=REF(0x4d42a970)) called at /usr/perl5.8.9/lib/site_perl/5.8.9/Class/Load.pm line 180
	Class::Load::try_load_class("ComponentUI::TestModel", undef) called at /usr/perl5.8.9/lib/site_perl/5.8.9/Class/Load.pm line 35
	Class::Load::load_class("ComponentUI::TestModel") called at /usr/home/eserte/.cpan/build/2016090403/Reaction-0.002005-9IXGRW/blib/lib/Catalyst/Model/Reaction/InterfaceModel/DBIC.pm line 24
	Catalyst::Model::Reaction::InterfaceModel::DBIC::COMPONENT("ComponentUI::Model::TestModel", "ComponentUI", HASH(0x4d0409d0)) called at /usr/perl5.8.9/lib/site_perl/5.8.9/Catalyst.pm line 3206
	eval {...} called at /usr/perl5.8.9/lib/site_perl/5.8.9/Catalyst.pm line 3207
	Catalyst::setup_component("ComponentUI", "ComponentUI::Model::TestModel") called at /usr/perl5.8.9/lib/site_perl/5.8.9/Catalyst.pm line 3184
	Catalyst::__ANON__() called at /usr/perl5.8.9/lib/site_perl/5.8.9/Catalyst.pm line 3030
	Catalyst::setup_components("ComponentUI") called at /usr/perl5.8.9/lib/site_perl/5.8.9/Catalyst.pm line 1426
	Catalyst::setup("ComponentUI") called at /usr/home/eserte/.cpan/build/2016090403/Reaction-0.002005-9IXGRW/blib/lib/ComponentUI.pm line 32
	require ComponentUI.pm called at /usr/perl5.8.9/lib/site_perl/5.8.9/Module/Runtime.pm line 313
	Module::Runtime::require_module("ComponentUI") called at /usr/perl5.8.9/lib/site_perl/5.8.9/Class/Load.pm line 174
	Class::Load::try {...} () called at /usr/perl5.8.9/lib/site_perl/5.8.9/Try/Tiny.pm line 98
	eval {...} called at /usr/perl5.8.9/lib/site_perl/5.8.9/Try/Tiny.pm line 94
	Try::Tiny::try(CODE(0x45a4b510), Try::Tiny::Catch=REF(0x45a55790)) called at /usr/perl5.8.9/lib/site_perl/5.8.9/Class/Load.pm line 180
	Class::Load::try_load_class("ComponentUI", undef) called at /usr/perl5.8.9/lib/site_perl/5.8.9/Class/Load.pm line 35
	Class::Load::load_class("ComponentUI") called at /usr/perl5.8.9/lib/site_perl/5.8.9/Test/WWW/Mechanize/Catalyst.pm line 245
	Test::WWW::Mechanize::Catalyst::import("Test::WWW::Mechanize::Catalyst", "ComponentUI") called at t/uncheck_bool_field.t line 6
	main::BEGIN() called at /usr/home/eserte/.cpan/build/2016090403/Reaction-0.002005-9IXGRW/blib/lib/ComponentUI/TestModel/Foo.pm line 0
	eval {...} called at /usr/home/eserte/.cpan/build/2016090403/Reaction-0.002005-9IXGRW/blib/lib/ComponentUI/TestModel/Foo.pm line 0
Class::MOP::load_class is deprecated at /usr/perl5.8.9/lib/site_perl/5.8.9/amd64-freebsd/Class/MOP.pm line 69.
	Class::MOP::load_class("ComponentUI::RenderingContext::Site") called at /usr/home/eserte/.cpan/build/2016090403/Reaction-0.002005-9IXGRW/blib/lib/Reaction/UI/View.pm line 125
	eval {...} called at /usr/home/eserte/.cpan/build/2016090403/Reaction-0.002005-9IXGRW/blib/lib/Reaction/UI/View.pm line 125
	Reaction::UI::View::find_related_class(ComponentUI::View::Site=HASH(0x472b7f30), "RenderingContext") called at /usr/home/eserte/.cpan/build/2016090403/Reaction-0.002005-9IXGRW/blib/lib/Reaction/UI/View.pm line 43
	Reaction::UI::View::_build_rendering_context_class(ComponentUI::View::Site=HASH(0x472b7f30)) called at reader Reaction::UI::View::rendering_context_class (defined at /usr/home/eserte/.cpan/build/2016090403/Reaction-0.002005-9IXGRW/blib/lib/Reaction/UI/View.pm line 29) line 7
	Reaction::UI::View::rendering_context_class(ComponentUI::View::Site=HASH(0x472b7f30)) called at /usr/home/eserte/.cpan/build/2016090403/Reaction-0.002005-9IXGRW/blib/lib/Reaction/UI/View.pm line 134
	Reaction::UI::View::create_rendering_context(ComponentUI::View::Site=HASH(0x472b7f30)) called at /usr/home/eserte/.cpan/build/2016090403/Reaction-0.002005-9IXGRW/blib/lib/Reaction/UI/View.pm line 60
	Reaction::UI::View::render_window(ComponentUI::View::Site=HASH(0x472b7f30), Reaction::UI::Window=HASH(0x4e2edb30)) called at /usr/home/eserte/.cpan/build/2016090403/Reaction-0.002005-9IXGRW/blib/lib/Reaction/UI/Window.pm line 74
	Reaction::UI::Window::flush_view(Reaction::UI::Window=HASH(0x4e2edb30)) called at /usr/home/eserte/.cpan/build/2016090403/Reaction-0.002005-9IXGRW/blib/lib/Reaction/UI/Window.pm line 36
	Reaction::UI::Window::flush(Reaction::UI::Window=HASH(0x4e2edb30)) called at /usr/home/eserte/.cpan/build/2016090403/Reaction-0.002005-9IXGRW/blib/lib/Reaction/UI/Controller/Root.pm line 38
	Reaction::UI::Controller::Root::end(ComponentUI::Controller::Root=HASH(0x4e2edbc0), ComponentUI=HASH(0x4e2b2370)) called at /usr/perl5.8.9/lib/site_perl/5.8.9/Catalyst/Action.pm line 358
	Catalyst::Action::execute(Catalyst::Action=HASH(0x4e177da0), ComponentUI::Controller::Root=HASH(0x4e2edbc0), ComponentUI=HASH(0x4e2b2370)) called at /usr/perl5.8.9/lib/site_perl/5.8.9/Catalyst.pm line 2056
	eval {...} called at /usr/perl5.8.9/lib/site_perl/5.8.9/Catalyst.pm line 2056
	Catalyst::execute(ComponentUI=HASH(0x4e2b2370), "ComponentUI::Controller::Root", Catalyst::Action=HASH(0x4e177da0)) called at /usr/perl5.8.9/lib/site_perl/5.8.9/Catalyst/Action.pm line 353
	Catalyst::Action::dispatch(Catalyst::Action=HASH(0x4e177da0), ComponentUI=HASH(0x4e2b2370)) called at /usr/perl5.8.9/lib/site_perl/5.8.9/Catalyst/Controller.pm line 189
	Catalyst::Controller::_END(ComponentUI::Controller::TestModel::Baz=HASH(0x4e2e7a30), ComponentUI=HASH(0x4e2b2370)) called at /usr/perl5.8.9/lib/site_perl/5.8.9/Catalyst/Action.pm line 358
	Catalyst::Action::execute(Catalyst::Action=HASH(0x4e0f8260), ComponentUI::Controller::TestModel::Baz=HASH(0x4e2e7a30), ComponentUI=HASH(0x4e2b2370)) called at /usr/perl5.8.9/lib/site_perl/5.8.9/Catalyst.pm line 2056
	eval {...} called at /usr/perl5.8.9/lib/site_perl/5.8.9/Catalyst.pm line 2056
	Catalyst::execute(ComponentUI=HASH(0x4e2b2370), "ComponentUI::Controller::TestModel::Baz", Catalyst::Action=HASH(0x4e0f8260)) called at /usr/perl5.8.9/lib/site_perl/5.8.9/Catalyst/Action.pm line 353
	Catalyst::Action::dispatch(Catalyst::Action=HASH(0x4e0f8260), ComponentUI=HASH(0x4e2b2370)) called at /usr/perl5.8.9/lib/site_perl/5.8.9/Catalyst/Dispatcher.pm line 262
	Catalyst::Dispatcher::_do_forward(Catalyst::Dispatcher=HASH(0x473366f0), "forward", ComponentUI=HASH(0x4e2b2370), "_END") called at /usr/perl5.8.9/lib/site_perl/5.8.9/Catalyst/Dispatcher.pm line 242
	Catalyst::Dispatcher::forward(Catalyst::Dispatcher=HASH(0x473366f0), ComponentUI=HASH(0x4e2b2370), "_END") called at /usr/perl5.8.9/lib/site_perl/5.8.9/Catalyst.pm line 481
	Catalyst::forward(ComponentUI=HASH(0x4e2b2370), "_END") called at /usr/perl5.8.9/lib/site_perl/5.8.9/Catalyst/Controller.pm line 138
	Catalyst::Controller::_DISPATCH(ComponentUI::Controller::TestModel::Baz=HASH(0x4e2e7a30), ComponentUI=HASH(0x4e2b2370)) called at /usr/perl5.8.9/lib/site_perl/5.8.9/Catalyst/Action.pm line 358
	Catalyst::Action::execute(Catalyst::Action=HASH(0x4e0f5060), ComponentUI::Controller::TestModel::Baz=HASH(0x4e2e7a30), ComponentUI=HASH(0x4e2b2370)) called at /usr/perl5.8.9/lib/site_perl/5.8.9/Catalyst.pm line 2056
	eval {...} called at /usr/perl5.8.9/lib/site_perl/5.8.9/Catalyst.pm line 2056
	Catalyst::execute(ComponentUI=HASH(0x4e2b2370), "ComponentUI::Controller::TestModel::Baz", Catalyst::Action=HASH(0x4e0f5060)) called at /usr/perl5.8.9/lib/site_perl/5.8.9/Catalyst/Action.pm line 353
	Catalyst::Action::dispatch(Catalyst::Action=HASH(0x4e0f5060), ComponentUI=HASH(0x4e2b2370)) called at /usr/perl5.8.9/lib/site_perl/5.8.9/Catalyst/Dispatcher.pm line 262
	Catalyst::Dispatcher::_do_forward(Catalyst::Dispatcher=HASH(0x473366f0), "forward", ComponentUI=HASH(0x4e2b2370), "/testmodel/baz/_DISPATCH") called at /usr/perl5.8.9/lib/site_perl/5.8.9/Catalyst/Dispatcher.pm line 242
	Catalyst::Dispatcher::forward(Catalyst::Dispatcher=HASH(0x473366f0), ComponentUI=HASH(0x4e2b2370), "/testmodel/baz/_DISPATCH") called at /usr/perl5.8.9/lib/site_perl/5.8.9/Catalyst.pm line 481
	Catalyst::forward(ComponentUI=HASH(0x4e2b2370), "/testmodel/baz/_DISPATCH") called at /usr/perl5.8.9/lib/site_perl/5.8.9/Catalyst/Dispatcher.pm line 107
	Catalyst::Dispatcher::dispatch(Catalyst::Dispatcher=HASH(0x473366f0), ComponentUI=HASH(0x4e2b2370)) called at /usr/perl5.8.9/lib/site_perl/5.8.9/Catalyst.pm line 2002
	Catalyst::dispatch(ComponentUI=HASH(0x4e2b2370)) called at /usr/perl5.8.9/lib/site_perl/5.8.9/Catalyst/Plugin/Static/Simple.pm line 86
	Class::MOP::Class:::around(CODE(0x471b3540), ComponentUI=HASH(0x4e2b2370)) called at /usr/perl5.8.9/lib/site_perl/5.8.9/amd64-freebsd/Class/MOP/Method/Wrapped.pm line 164
	ComponentUI::_wrapped_dispatch(ComponentUI=HASH(0x4e2b2370)) called at /usr/perl5.8.9/lib/site_perl/5.8.9/amd64-freebsd/Class/MOP/Method/Wrapped.pm line 95
	ComponentUI::dispatch(ComponentUI=HASH(0x4e2b2370)) called at /usr/perl5.8.9/lib/site_perl/5.8.9/Catalyst.pm line 2393
	Catalyst::try {...} () called at /usr/perl5.8.9/lib/site_perl/5.8.9/Try/Tiny.pm line 103
	eval {...} called at /usr/perl5.8.9/lib/site_perl/5.8.9/Try/Tiny.pm line 94
	Try::Tiny::try(CODE(0x4e2aed50), Try::Tiny::Catch=REF(0x4e2aebb0)) called at /usr/perl5.8.9/lib/site_perl/5.8.9/Catalyst.pm line 2402
	Catalyst::handle_request("ComponentUI", "env", HASH(0x4e2a5ce0), "response_cb", CODE(0x4e2aec00)) called at /usr/perl5.8.9/lib/site_perl/5.8.9/Catalyst/Engine.pm line 800
	Catalyst::Engine::__ANON__(CODE(0x4e2aec00)) called at /usr/perl5.8.9/lib/site_perl/5.8.9/Plack/Middleware/HTTPExceptions.pm line 32
	Plack::Middleware::HTTPExceptions::try {...} () called at /usr/perl5.8.9/lib/site_perl/5.8.9/Try/Tiny.pm line 103
	eval {...} called at /usr/perl5.8.9/lib/site_perl/5.8.9/Try/Tiny.pm line 94
	Try::Tiny::try(CODE(0x4e2ae9f0), Try::Tiny::Catch=REF(0x4e2aa560)) called at /usr/perl5.8.9/lib/site_perl/5.8.9/Plack/Middleware/HTTPExceptions.pm line 41
	Plack::Middleware::HTTPExceptions::__ANON__(CODE(0x4e2ae800)) called at /usr/perl5.8.9/lib/site_perl/5.8.9/Plack/Util.pm line 339
	Plack::Util::__ANON__(CODE(0x4e2ae610)) called at /usr/perl5.8.9/lib/site_perl/5.8.9/Plack/Util.pm line 339
	Plack::Util::__ANON__(CODE(0x4e2ae420)) called at /usr/perl5.8.9/lib/site_perl/5.8.9/Plack/Util.pm line 339
	Plack::Util::__ANON__(CODE(0x4e2ae3b0)) called at /usr/perl5.8.9/lib/site_perl/5.8.9/HTTP/Message/PSGI.pm line 100
	HTTP::Message::PSGI::res_from_psgi(CODE(0x4e2aab50)) called at /usr/perl5.8.9/lib/site_perl/5.8.9/HTTP/Message/PSGI.pm line 156
	HTTP::Response::from_psgi("HTTP::Response", CODE(0x4e2aab50)) called at /usr/perl5.8.9/lib/site_perl/5.8.9/Plack/Test/MockHTTP.pm line 24
	Plack::Test::MockHTTP::try {...} () called at /usr/perl5.8.9/lib/site_perl/5.8.9/Try/Tiny.pm line 98
	eval {...} called at /usr/perl5.8.9/lib/site_perl/5.8.9/Try/Tiny.pm line 94
	Try::Tiny::try(CODE(0x4e2a5900), Try::Tiny::Catch=REF(0x4e0f84e0)) called at /usr/perl5.8.9/lib/site_perl/5.8.9/Plack/Test/MockHTTP.pm line 27
	Plack::Test::MockHTTP::request(Plack::Test::MockHTTP=HASH(0x4e29aed0), HTTP::Request=HASH(0x4e291d30)) called at /usr/perl5.8.9/lib/site_perl/5.8.9/Plack/Test.pm line 38
	Plack::Test::__ANON__(HTTP::Request=HASH(0x4e291d30)) called at /usr/perl5.8.9/lib/site_perl/5.8.9/Catalyst/Test.pm line 281
	Catalyst::Test::__ANON__(CODE(0x4e29ad70)) called at /usr/perl5.8.9/lib/site_perl/5.8.9/Plack/Test.pm line 38
	Plack::Test::test_psgi("app", CODE(0x4e29a9f0), "mangle_response", CODE(0x45a483a0), "app", CODE(0x4e29ac00), "client", CODE(0x4e29ac90)) called at /usr/perl5.8.9/lib/site_perl/5.8.9/Catalyst/Test.pm line 284
	Catalyst::Test::_request(HASH(0x4e29abe0), HTTP::Request=HASH(0x4e291d30)) called at /usr/perl5.8.9/lib/site_perl/5.8.9/Catalyst/Test.pm line 327
	Catalyst::Test::_local_request("ComponentUI", HTTP::Request=HASH(0x4e291d30)) called at /usr/perl5.8.9/lib/site_perl/5.8.9/Test/WWW/Mechanize/Catalyst.pm line 174
	Test::WWW::Mechanize::Catalyst::_do_catalyst_request(Test::WWW::Mechanize::Catalyst=HASH(0x4e1ed260), HTTP::Request=HASH(0x4e291d30)) called at /usr/perl5.8.9/lib/site_perl/5.8.9/Test/WWW/Mechanize/Catalyst.pm line 78
	Test::WWW::Mechanize::Catalyst::_make_request(Test::WWW::Mechanize::Catalyst=HASH(0x4e1ed260), HTTP::Request=HASH(0x4e291d30)) called at /usr/perl5.8.9/lib/site_perl/5.8.9/WWW/Mechanize.pm line 2312
	WWW::Mechanize::request(Test::WWW::Mechanize::Catalyst=HASH(0x4e1ed260), HTTP::Request=HASH(0x4e291d30)) called at /usr/perl5.8.9/lib/site_perl/5.8.9/LWP/UserAgent.pm line 411
	LWP::UserAgent::get(Test::WWW::Mechanize::Catalyst=HASH(0x4e1ed260), "http://localhost/testmodel/baz/id/1/update") called at /usr/perl5.8.9/lib/site_perl/5.8.9/WWW/Mechanize.pm line 407
	WWW::Mechanize::get(Test::WWW::Mechanize::Catalyst=HASH(0x4e1ed260), "http://localhost/testmodel/baz/id/1/update") called at /usr/perl5.8.9/lib/site_perl/5.8.9/Test/WWW/Mechanize.pm line 160
	Test::WWW::Mechanize::get_ok(Test::WWW::Mechanize::Catalyst=HASH(0x4e1ed260), "http://localhost/testmodel/baz/id/1/update") called at t/uncheck_bool_field.t line 9
Class::MOP::is_class_loaded is deprecated at /usr/perl5.8.9/lib/site_perl/5.8.9/amd64-freebsd/Class/MOP.pm line 87.
	Class::MOP::is_class_loaded("ComponentUI::UI::Widget::SiteLayout") called at /usr/home/eserte/.cpan/build/2016090403/Reaction-0.002005-9IXGRW/blib/lib/Reaction/UI/Skin.pm line 178
	Reaction::UI::Skin::widget_class_for(Reaction::UI::Skin=HASH(0x4ee3bf60), Reaction::UI::LayoutSet::TT=HASH(0x4ee4e560)) called at /usr/home/eserte/.cpan/build/2016090403/Reaction-0.002005-9IXGRW/blib/lib/Reaction/UI/LayoutSet.pm line 28
	Reaction::UI::LayoutSet::BUILD(Reaction::UI::LayoutSet::TT=HASH(0x4ee4e560), HASH(0x4ee4e500)) called at constructor Reaction::UI::LayoutSet::TT::new (defined at /usr/home/eserte/.cpan/build/2016090403/Reaction-0.002005-9IXGRW/blib/lib/Reaction/UI/LayoutSet/TT.pm line 43) line 69
	Reaction::UI::LayoutSet::TT::new("Reaction::UI::LayoutSet::TT", "name", "site_layout", "skin", Reaction::UI::Skin=HASH(0x4ee3bf60), "tt_object", Template=HASH(0x4deb9880), "source_file", ...) called at /usr/home/eserte/.cpan/build/2016090403/Reaction-0.002005-9IXGRW/blib/lib/Reaction/UI/Skin.pm line 114
	Reaction::UI::Skin::_create_layout_set(Reaction::UI::Skin=HASH(0x4ee3bf60), "site_layout", ARRAY(0x4ed944b0), Reaction::UI::Skin=HASH(0x4ee3bf60)) called at /usr/home/eserte/.cpan/build/2016090403/Reaction-0.002005-9IXGRW/blib/lib/Reaction/UI/Skin.pm line 110
	Reaction::UI::Skin::create_layout_set(Reaction::UI::Skin=HASH(0x4ee3bf60), "site_layout") called at /usr/home/eserte/.cpan/build/2016090403/Reaction-0.002005-9IXGRW/blib/lib/Reaction/UI/LayoutSet.pm line 83
	Reaction::UI::LayoutSet::_load_file(Reaction::UI::LayoutSet::TT=HASH(0x4ee45be0), Path::Class::File=HASH(0x4ee36640), HASH(0x4ee47fa0)) called at /usr/home/eserte/.cpan/build/2016090403/Reaction-0.002005-9IXGRW/blib/lib/Reaction/UI/LayoutSet.pm line 27
	Reaction::UI::LayoutSet::BUILD(Reaction::UI::LayoutSet::TT=HASH(0x4ee45be0), HASH(0x4ee47fa0)) called at constructor Reaction::UI::LayoutSet::TT::new (defined at /usr/home/eserte/.cpan/build/2016090403/Reaction-0.002005-9IXGRW/blib/lib/Reaction/UI/LayoutSet/TT.pm line 43) line 69
	Reaction::UI::LayoutSet::TT::new("Reaction::UI::LayoutSet::TT", "name", "site_layout", "skin", Reaction::UI::Skin=HASH(0x48362210), "next_skin", Reaction::UI::Skin=HASH(0x4ee3bf60), "tt_object", ...) called at /usr/home/eserte/.cpan/build/2016090403/Reaction-0.002005-9IXGRW/blib/lib/Reaction/UI/Skin.pm line 114
	Reaction::UI::Skin::_create_layout_set(Reaction::UI::Skin=HASH(0x48362210), "site_layout", ARRAY(0x4ee3ee40), Reaction::UI::Skin=HASH(0x48362210)) called at /usr/home/eserte/.cpan/build/2016090403/Reaction-0.002005-9IXGRW/blib/lib/Reaction/UI/Skin.pm line 110
	Reaction::UI::Skin::create_layout_set(Reaction::UI::Skin=HASH(0x48362210), "site_layout") called at /usr/home/eserte/.cpan/build/2016090403/Reaction-0.002005-9IXGRW/blib/lib/Reaction/UI/LayoutSet.pm line 83
	Reaction::UI::LayoutSet::_load_file(Reaction::UI::LayoutSet::TT=HASH(0x4ee2b830), Path::Class::File=HASH(0x4e170e60), HASH(0x4ee2b880)) called at /usr/home/eserte/.cpan/build/2016090403/Reaction-0.002005-9IXGRW/blib/lib/Reaction/UI/LayoutSet.pm line 27
	Reaction::UI::LayoutSet::BUILD(Reaction::UI::LayoutSet::TT=HASH(0x4ee2b830), HASH(0x4ee2b880)) called at constructor Reaction::UI::LayoutSet::TT::new (defined at /usr/home/eserte/.cpan/build/2016090403/Reaction-0.002005-9IXGRW/blib/lib/Reaction/UI/LayoutSet/TT.pm line 43) line 69
	Reaction::UI::LayoutSet::TT::new("Reaction::UI::LayoutSet::TT", "name", "site_layout", "skin", Reaction::UI::Skin=HASH(0x4ee366c0), "next_skin", Reaction::UI::Skin=HASH(0x48362210), "tt_object", ...) called at /usr/home/eserte/.cpan/build/2016090403/Reaction-0.002005-9IXGRW/blib/lib/Reaction/UI/Skin.pm line 114
	Reaction::UI::Skin::_create_layout_set(Reaction::UI::Skin=HASH(0x4ee366c0), "site_layout", ARRAY(0x4ed94220), Reaction::UI::Skin=HASH(0x4ee366c0)) called at /usr/home/eserte/.cpan/build/2016090403/Reaction-0.002005-9IXGRW/blib/lib/Reaction/UI/Skin.pm line 110
	Reaction::UI::Skin::create_layout_set(Reaction::UI::Skin=HASH(0x4ee366c0), "site_layout") called at /usr/perl5.8.9/lib/site_perl/5.8.9/amd64-freebsd/Moose/Meta/Method/Delegation.pm line 110
	Reaction::UI::View::create_layout_set(ComponentUI::View::Site=HASH(0x472b7f30), "site_layout") called at /usr/home/eserte/.cpan/build/2016090403/Reaction-0.002005-9IXGRW/blib/lib/Reaction/UI/View.pm line 99
	Reaction::UI::View::layout_set_for(ComponentUI::View::Site=HASH(0x472b7f30), Reaction::UI::ViewPort::SiteLayout=HASH(0x4e2f1200)) called at /usr/home/eserte/.cpan/build/2016090403/Reaction-0.002005-9IXGRW/blib/lib/Reaction/UI/View.pm line 78
	Reaction::UI::View::render_viewport_args(ComponentUI::View::Site=HASH(0x472b7f30), Reaction::UI::ViewPort::SiteLayout=HASH(0x4e2f1200)) called at /usr/home/eserte/.cpan/build/2016090403/Reaction-0.002005-9IXGRW/blib/lib/Reaction/UI/View.pm line 61
	Reaction::UI::View::render_window(ComponentUI::View::Site=HASH(0x472b7f30), Reaction::UI::Window=HASH(0x4e2edb30)) called at /usr/home/eserte/.cpan/build/2016090403/Reaction-0.002005-9IXGRW/blib/lib/Reaction/UI/Window.pm line 74
	Reaction::UI::Window::flush_view(Reaction::UI::Window=HASH(0x4e2edb30)) called at /usr/home/eserte/.cpan/build/2016090403/Reaction-0.002005-9IXGRW/blib/lib/Reaction/UI/Window.pm line 36
	Reaction::UI::Window::flush(Reaction::UI::Window=HASH(0x4e2edb30)) called at /usr/home/eserte/.cpan/build/2016090403/Reaction-0.002005-9IXGRW/blib/lib/Reaction/UI/Controller/Root.pm line 38
	Reaction::UI::Controller::Root::end(ComponentUI::Controller::Root=HASH(0x4e2edbc0), ComponentUI=HASH(0x4e2b2370)) called at /usr/perl5.8.9/lib/site_perl/5.8.9/Catalyst/Action.pm line 358
	Catalyst::Action::execute(Catalyst::Action=HASH(0x4e177da0), ComponentUI::Controller::Root=HASH(0x4e2edbc0), ComponentUI=HASH(0x4e2b2370)) called at /usr/perl5.8.9/lib/site_perl/5.8.9/Catalyst.pm line 2056
	eval {...} called at /usr/perl5.8.9/lib/site_perl/5.8.9/Catalyst.pm line 2056
	Catalyst::execute(ComponentUI=HASH(0x4e2b2370), "ComponentUI::Controller::Root", Catalyst::Action=HASH(0x4e177da0)) called at /usr/perl5.8.9/lib/site_perl/5.8.9/Catalyst/Action.pm line 353
	Catalyst::Action::dispatch(Catalyst::Action=HASH(0x4e177da0), ComponentUI=HASH(0x4e2b2370)) called at /usr/perl5.8.9/lib/site_perl/5.8.9/Catalyst/Controller.pm line 189
	Catalyst::Controller::_END(ComponentUI::Controller::TestModel::Baz=HASH(0x4e2e7a30), ComponentUI=HASH(0x4e2b2370)) called at /usr/perl5.8.9/lib/site_perl/5.8.9/Catalyst/Action.pm line 358
	Catalyst::Action::execute(Catalyst::Action=HASH(0x4e0f8260), ComponentUI::Controller::TestModel::Baz=HASH(0x4e2e7a30), ComponentUI=HASH(0x4e2b2370)) called at /usr/perl5.8.9/lib/site_perl/5.8.9/Catalyst.pm line 2056
	eval {...} called at /usr/perl5.8.9/lib/site_perl/5.8.9/Catalyst.pm line 2056
	Catalyst::execute(ComponentUI=HASH(0x4e2b2370), "ComponentUI::Controller::TestModel::Baz", Catalyst::Action=HASH(0x4e0f8260)) called at /usr/perl5.8.9/lib/site_perl/5.8.9/Catalyst/Action.pm line 353
	Catalyst::Action::dispatch(Catalyst::Action=HASH(0x4e0f8260), ComponentUI=HASH(0x4e2b2370)) called at /usr/perl5.8.9/lib/site_perl/5.8.9/Catalyst/Dispatcher.pm line 262
	Catalyst::Dispatcher::_do_forward(Catalyst::Dispatcher=HASH(0x473366f0), "forward", ComponentUI=HASH(0x4e2b2370), "_END") called at /usr/perl5.8.9/lib/site_perl/5.8.9/Catalyst/Dispatcher.pm line 242
	Catalyst::Dispatcher::forward(Catalyst::Dispatcher=HASH(0x473366f0), ComponentUI=HASH(0x4e2b2370), "_END") called at /usr/perl5.8.9/lib/site_perl/5.8.9/Catalyst.pm line 481
	Catalyst::forward(ComponentUI=HASH(0x4e2b2370), "_END") called at /usr/perl5.8.9/lib/site_perl/5.8.9/Catalyst/Controller.pm line 138
	Catalyst::Controller::_DISPATCH(ComponentUI::Controller::TestModel::Baz=HASH(0x4e2e7a30), ComponentUI=HASH(0x4e2b2370)) called at /usr/perl5.8.9/lib/site_perl/5.8.9/Catalyst/Action.pm line 358
	Catalyst::Action::execute(Catalyst::Action=HASH(0x4e0f5060), ComponentUI::Controller::TestModel::Baz=HASH(0x4e2e7a30), ComponentUI=HASH(0x4e2b2370)) called at /usr/perl5.8.9/lib/site_perl/5.8.9/Catalyst.pm line 2056
	eval {...} called at /usr/perl5.8.9/lib/site_perl/5.8.9/Catalyst.pm line 2056
	Catalyst::execute(ComponentUI=HASH(0x4e2b2370), "ComponentUI::Controller::TestModel::Baz", Catalyst::Action=HASH(0x4e0f5060)) called at /usr/perl5.8.9/lib/site_perl/5.8.9/Catalyst/Action.pm line 353
	Catalyst::Action::dispatch(Catalyst::Action=HASH(0x4e0f5060), ComponentUI=HASH(0x4e2b2370)) called at /usr/perl5.8.9/lib/site_perl/5.8.9/Catalyst/Dispatcher.pm line 262
	Catalyst::Dispatcher::_do_forward(Catalyst::Dispatcher=HASH(0x473366f0), "forward", ComponentUI=HASH(0x4e2b2370), "/testmodel/baz/_DISPATCH") called at /usr/perl5.8.9/lib/site_perl/5.8.9/Catalyst/Dispatcher.pm line 242
	Catalyst::Dispatcher::forward(Catalyst::Dispatcher=HASH(0x473366f0), ComponentUI=HASH(0x4e2b2370), "/testmodel/baz/_DISPATCH") called at /usr/perl5.8.9/lib/site_perl/5.8.9/Catalyst.pm line 481
	Catalyst::forward(ComponentUI=HASH(0x4e2b2370), "/testmodel/baz/_DISPATCH") called at /usr/perl5.8.9/lib/site_perl/5.8.9/Catalyst/Dispatcher.pm line 107
	Catalyst::Dispatcher::dispatch(Catalyst::Dispatcher=HASH(0x473366f0), ComponentUI=HASH(0x4e2b2370)) called at /usr/perl5.8.9/lib/site_perl/5.8.9/Catalyst.pm line 2002
	Catalyst::dispatch(ComponentUI=HASH(0x4e2b2370)) called at /usr/perl5.8.9/lib/site_perl/5.8.9/Catalyst/Plugin/Static/Simple.pm line 86
	Class::MOP::Class:::around(CODE(0x471b3540), ComponentUI=HASH(0x4e2b2370)) called at /usr/perl5.8.9/lib/site_perl/5.8.9/amd64-freebsd/Class/MOP/Method/Wrapped.pm line 164
	ComponentUI::_wrapped_dispatch(ComponentUI=HASH(0x4e2b2370)) called at /usr/perl5.8.9/lib/site_perl/5.8.9/amd64-freebsd/Class/MOP/Method/Wrapped.pm line 95
	ComponentUI::dispatch(ComponentUI=HASH(0x4e2b2370)) called at /usr/perl5.8.9/lib/site_perl/5.8.9/Catalyst.pm line 2393
	Catalyst::try {...} () called at /usr/perl5.8.9/lib/site_perl/5.8.9/Try/Tiny.pm line 103
	eval {...} called at /usr/perl5.8.9/lib/site_perl/5.8.9/Try/Tiny.pm line 94
	Try::Tiny::try(CODE(0x4e2aed50), Try::Tiny::Catch=REF(0x4e2aebb0)) called at /usr/perl5.8.9/lib/site_perl/5.8.9/Catalyst.pm line 2402
	Catalyst::handle_request("ComponentUI", "env", HASH(0x4e2a5ce0), "response_cb", CODE(0x4e2aec00)) called at /usr/perl5.8.9/lib/site_perl/5.8.9/Catalyst/Engine.pm line 800
	Catalyst::Engine::__ANON__(CODE(0x4e2aec00)) called at /usr/perl5.8.9/lib/site_perl/5.8.9/Plack/Middleware/HTTPExceptions.pm line 32
	Plack::Middleware::HTTPExceptions::try {...} () called at /usr/perl5.8.9/lib/site_perl/5.8.9/Try/Tiny.pm line 103
	eval {...} called at /usr/perl5.8.9/lib/site_perl/5.8.9/Try/Tiny.pm line 94
	Try::Tiny::try(CODE(0x4e2ae9f0), Try::Tiny::Catch=REF(0x4e2aa560)) called at /usr/perl5.8.9/lib/site_perl/5.8.9/Plack/Middleware/HTTPExceptions.pm line 41
	Plack::Middleware::HTTPExceptions::__ANON__(CODE(0x4e2ae800)) called at /usr/perl5.8.9/lib/site_perl/5.8.9/Plack/Util.pm line 339
	Plack::Util::__ANON__(CODE(0x4e2ae610)) called at /usr/perl5.8.9/lib/site_perl/5.8.9/Plack/Util.pm line 339
	Plack::Util::__ANON__(CODE(0x4e2ae420)) called at /usr/perl5.8.9/lib/site_perl/5.8.9/Plack/Util.pm line 339
	Plack::Util::__ANON__(CODE(0x4e2ae3b0)) called at /usr/perl5.8.9/lib/site_perl/5.8.9/HTTP/Message/PSGI.pm line 100
	HTTP::Message::PSGI::res_from_psgi(CODE(0x4e2aab50)) called at /usr/perl5.8.9/lib/site_perl/5.8.9/HTTP/Message/PSGI.pm line 156
	HTTP::Response::from_psgi("HTTP::Response", CODE(0x4e2aab50)) called at /usr/perl5.8.9/lib/site_perl/5.8.9/Plack/Test/MockHTTP.pm line 24
	Plack::Test::MockHTTP::try {...} () called at /usr/perl5.8.9/lib/site_perl/5.8.9/Try/Tiny.pm line 98
	eval {...} called at /usr/perl5.8.9/lib/site_perl/5.8.9/Try/Tiny.pm line 94
	Try::Tiny::try(CODE(0x4e2a5900), Try::Tiny::Catch=REF(0x4e0f84e0)) called at /usr/perl5.8.9/lib/site_perl/5.8.9/Plack/Test/MockHTTP.pm line 27
	Plack::Test::MockHTTP::request(Plack::Test::MockHTTP=HASH(0x4e29aed0), HTTP::Request=HASH(0x4e291d30)) called at /usr/perl5.8.9/lib/site_perl/5.8.9/Plack/Test.pm line 38
	Plack::Test::__ANON__(HTTP::Request=HASH(0x4e291d30)) called at /usr/perl5.8.9/lib/site_perl/5.8.9/Catalyst/Test.pm line 281
	Catalyst::Test::__ANON__(CODE(0x4e29ad70)) called at /usr/perl5.8.9/lib/site_perl/5.8.9/Plack/Test.pm line 38
	Plack::Test::test_psgi("app", CODE(0x4e29a9f0), "mangle_response", CODE(0x45a483a0), "app", CODE(0x4e29ac00), "client", CODE(0x4e29ac90)) called at /usr/perl5.8.9/lib/site_perl/5.8.9/Catalyst/Test.pm line 284
	Catalyst::Test::_request(HASH(0x4e29abe0), HTTP::Request=HASH(0x4e291d30)) called at /usr/perl5.8.9/lib/site_perl/5.8.9/Catalyst/Test.pm line 327
	Catalyst::Test::_local_request("ComponentUI", HTTP::Request=HASH(0x4e291d30)) called at /usr/perl5.8.9/lib/site_perl/5.8.9/Test/WWW/Mechanize/Catalyst.pm line 174
	Test::WWW::Mechanize::Catalyst::_do_catalyst_request(Test::WWW::Mechanize::Catalyst=HASH(0x4e1ed260), HTTP::Request=HASH(0x4e291d30)) called at /usr/perl5.8.9/lib/site_perl/5.8.9/Test/WWW/Mechanize/Catalyst.pm line 78
	Test::WWW::Mechanize::Catalyst::_make_request(Test::WWW::Mechanize::Catalyst=HASH(0x4e1ed260), HTTP::Request=HASH(0x4e291d30)) called at /usr/perl5.8.9/lib/site_perl/5.8.9/WWW/Mechanize.pm line 2312
	WWW::Mechanize::request(Test::WWW::Mechanize::Catalyst=HASH(0x4e1ed260), HTTP::Request=HASH(0x4e291d30)) called at /usr/perl5.8.9/lib/site_perl/5.8.9/LWP/UserAgent.pm line 411
	LWP::UserAgent::get(Test::WWW::Mechanize::Catalyst=HASH(0x4e1ed260), "http://localhost/testmodel/baz/id/1/update") called at /usr/perl5.8.9/lib/site_perl/5.8.9/WWW/Mechanize.pm line 407
	WWW::Mechanize::get(Test::WWW::Mechanize::Catalyst=HASH(0x4e1ed260), "http://localhost/testmodel/baz/id/1/update") called at /usr/perl5.8.9/lib/site_perl/5.8.9/Test/WWW/Mechanize.pm line 160
	Test::WWW::Mechanize::get_ok(Test::WWW::Mechanize::Catalyst=HASH(0x4e1ed260), "http://localhost/testmodel/baz/id/1/update") called at t/uncheck_bool_field.t line 9
Class::MOP::load_class is deprecated at /usr/perl5.8.9/lib/site_perl/5.8.9/amd64-freebsd/Class/MOP.pm line 69.
	Class::MOP::load_class("Reaction::UI::Widget::SiteLayout") called at /usr/home/eserte/.cpan/build/2016090403/Reaction-0.002005-9IXGRW/blib/lib/Reaction/UI/Skin.pm line 181
	eval {...} called at /usr/home/eserte/.cpan/build/2016090403/Reaction-0.002005-9IXGRW/blib/lib/Reaction/UI/Skin.pm line 181
	Reaction::UI::Skin::widget_class_for(Reaction::UI::Skin=HASH(0x4ee3bf60), Reaction::UI::LayoutSet::TT=HASH(0x4ee4e560)) called at /usr/home/eserte/.cpan/build/2016090403/Reaction-0.002005-9IXGRW/blib/lib/Reaction/UI/LayoutSet.pm line 28
	Reaction::UI::LayoutSet::BUILD(Reaction::UI::LayoutSet::TT=HASH(0x4ee4e560), HASH(0x4ee4e500)) called at constructor Reaction::UI::LayoutSet::TT::new (defined at /usr/home/eserte/.cpan/build/2016090403/Reaction-0.002005-9IXGRW/blib/lib/Reaction/UI/LayoutSet/TT.pm line 43) line 69
	Reaction::UI::LayoutSet::TT::new("Reaction::UI::LayoutSet::TT", "name", "site_layout", "skin", Reaction::UI::Skin=HASH(0x4ee3bf60), "tt_object", Template=HASH(0x4deb9880), "source_file", ...) called at /usr/home/eserte/.cpan/build/2016090403/Reaction-0.002005-9IXGRW/blib/lib/Reaction/UI/Skin.pm line 114
	Reaction::UI::Skin::_create_layout_set(Reaction::UI::Skin=HASH(0x4ee3bf60), "site_layout", ARRAY(0x4ed944b0), Reaction::UI::Skin=HASH(0x4ee3bf60)) called at /usr/home/eserte/.cpan/build/2016090403/Reaction-0.002005-9IXGRW/blib/lib/Reaction/UI/Skin.pm line 110
	Reaction::UI::Skin::create_layout_set(Reaction::UI::Skin=HASH(0x4ee3bf60), "site_layout") called at /usr/home/eserte/.cpan/build/2016090403/Reaction-0.002005-9IXGRW/blib/lib/Reaction/UI/LayoutSet.pm line 83
	Reaction::UI::LayoutSet::_load_file(Reaction::UI::LayoutSet::TT=HASH(0x4ee45be0), Path::Class::File=HASH(0x4ee36640), HASH(0x4ee47fa0)) called at /usr/home/eserte/.cpan/build/2016090403/Reaction-0.002005-9IXGRW/blib/lib/Reaction/UI/LayoutSet.pm line 27
	Reaction::UI::LayoutSet::BUILD(Reaction::UI::LayoutSet::TT=HASH(0x4ee45be0), HASH(0x4ee47fa0)) called at constructor Reaction::UI::LayoutSet::TT::new (defined at /usr/home/eserte/.cpan/build/2016090403/Reaction-0.002005-9IXGRW/blib/lib/Reaction/UI/LayoutSet/TT.pm line 43) line 69
	Reaction::UI::LayoutSet::TT::new("Reaction::UI::LayoutSet::TT", "name", "site_layout", "skin", Reaction::UI::Skin=HASH(0x48362210), "next_skin", Reaction::UI::Skin=HASH(0x4ee3bf60), "tt_object", ...) called at /usr/home/eserte/.cpan/build/2016090403/Reaction-0.002005-9IXGRW/blib/lib/Reaction/UI/Skin.pm line 114
	Reaction::UI::Skin::_create_layout_set(Reaction::UI::Skin=HASH(0x48362210), "site_layout", ARRAY(0x4ee3ee40), Reaction::UI::Skin=HASH(0x48362210)) called at /usr/home/eserte/.cpan/build/2016090403/Reaction-0.002005-9IXGRW/blib/lib/Reaction/UI/Skin.pm line 110
	Reaction::UI::Skin::create_layout_set(Reaction::UI::Skin=HASH(0x48362210), "site_layout") called at /usr/home/eserte/.cpan/build/2016090403/Reaction-0.002005-9IXGRW/blib/lib/Reaction/UI/LayoutSet.pm line 83
	Reaction::UI::LayoutSet::_load_file(Reaction::UI::LayoutSet::TT=HASH(0x4ee2b830), Path::Class::File=HASH(0x4e170e60), HASH(0x4ee2b880)) called at /usr/home/eserte/.cpan/build/2016090403/Reaction-0.002005-9IXGRW/blib/lib/Reaction/UI/LayoutSet.pm line 27
	Reaction::UI::LayoutSet::BUILD(Reaction::UI::LayoutSet::TT=HASH(0x4ee2b830), HASH(0x4ee2b880)) called at constructor Reaction::UI::LayoutSet::TT::new (defined at /usr/home/eserte/.cpan/build/2016090403/Reaction-0.002005-9IXGRW/blib/lib/Reaction/UI/LayoutSet/TT.pm line 43) line 69
	Reaction::UI::LayoutSet::TT::new("Reaction::UI::LayoutSet::TT", "name", "site_layout", "skin", Reaction::UI::Skin=HASH(0x4ee366c0), "next_skin", Reaction::UI::Skin=HASH(0x48362210), "tt_object", ...) called at /usr/home/eserte/.cpan/build/2016090403/Reaction-0.002005-9IXGRW/blib/lib/Reaction/UI/Skin.pm line 114
	Reaction::UI::Skin::_create_layout_set(Reaction::UI::Skin=HASH(0x4ee366c0), "site_layout", ARRAY(0x4ed94220), Reaction::UI::Skin=HASH(0x4ee366c0)) called at /usr/home/eserte/.cpan/build/2016090403/Reaction-0.002005-9IXGRW/blib/lib/Reaction/UI/Skin.pm line 110
	Reaction::UI::Skin::create_layout_set(Reaction::UI::Skin=HASH(0x4ee366c0), "site_layout") called at /usr/perl5.8.9/lib/site_perl/5.8.9/amd64-freebsd/Moose/Meta/Method/Delegation.pm line 110
	Reaction::UI::View::create_layout_set(ComponentUI::View::Site=HASH(0x472b7f30), "site_layout") called at /usr/home/eserte/.cpan/build/2016090403/Reaction-0.002005-9IXGRW/blib/lib/Reaction/UI/View.pm line 99
	Reaction::UI::View::layout_set_for(ComponentUI::View::Site=HASH(0x472b7f30), Reaction::UI::ViewPort::SiteLayout=HASH(0x4e2f1200)) called at /usr/home/eserte/.cpan/build/2016090403/Reaction-0.002005-9IXGRW/blib/lib/Reaction/UI/View.pm line 78
	Reaction::UI::View::render_viewport_args(ComponentUI::View::Site=HASH(0x472b7f30), Reaction::UI::ViewPort::SiteLayout=HASH(0x4e2f1200)) called at /usr/home/eserte/.cpan/build/2016090403/Reaction-0.002005-9IXGRW/blib/lib/Reaction/UI/View.pm line 61
	Reaction::UI::View::render_window(ComponentUI::View::Site=HASH(0x472b7f30), Reaction::UI::Window=HASH(0x4e2edb30)) called at /usr/home/eserte/.cpan/build/2016090403/Reaction-0.002005-9IXGRW/blib/lib/Reaction/UI/Window.pm line 74
	Reaction::UI::Window::flush_view(Reaction::UI::Window=HASH(0x4e2edb30)) called at /usr/home/eserte/.cpan/build/2016090403/Reaction-0.002005-9IXGRW/blib/lib/Reaction/UI/Window.pm line 36
	Reaction::UI::Window::flush(Reaction::UI::Window=HASH(0x4e2edb30)) called at /usr/home/eserte/.cpan/build/2016090403/Reaction-0.002005-9IXGRW/blib/lib/Reaction/UI/Controller/Root.pm line 38
	Reaction::UI::Controller::Root::end(ComponentUI::Controller::Root=HASH(0x4e2edbc0), ComponentUI=HASH(0x4e2b2370)) called at /usr/perl5.8.9/lib/site_perl/5.8.9/Catalyst/Action.pm line 358
	Catalyst::Action::execute(Catalyst::Action=HASH(0x4e177da0), ComponentUI::Controller::Root=HASH(0x4e2edbc0), ComponentUI=HASH(0x4e2b2370)) called at /usr/perl5.8.9/lib/site_perl/5.8.9/Catalyst.pm line 2056
	eval {...} called at /usr/perl5.8.9/lib/site_perl/5.8.9/Catalyst.pm line 2056
	Catalyst::execute(ComponentUI=HASH(0x4e2b2370), "ComponentUI::Controller::Root", Catalyst::Action=HASH(0x4e177da0)) called at /usr/perl5.8.9/lib/site_perl/5.8.9/Catalyst/Action.pm line 353
	Catalyst::Action::dispatch(Catalyst::Action=HASH(0x4e177da0), ComponentUI=HASH(0x4e2b2370)) called at /usr/perl5.8.9/lib/site_perl/5.8.9/Catalyst/Controller.pm line 189
	Catalyst::Controller::_END(ComponentUI::Controller::TestModel::Baz=HASH(0x4e2e7a30), ComponentUI=HASH(0x4e2b2370)) called at /usr/perl5.8.9/lib/site_perl/5.8.9/Catalyst/Action.pm line 358
	Catalyst::Action::execute(Catalyst::Action=HASH(0x4e0f8260), ComponentUI::Controller::TestModel::Baz=HASH(0x4e2e7a30), ComponentUI=HASH(0x4e2b2370)) called at /usr/perl5.8.9/lib/site_perl/5.8.9/Catalyst.pm line 2056
	eval {...} called at /usr/perl5.8.9/lib/site_perl/5.8.9/Catalyst.pm line 2056
	Catalyst::execute(ComponentUI=HASH(0x4e2b2370), "ComponentUI::Controller::TestModel::Baz", Catalyst::Action=HASH(0x4e0f8260)) called at /usr/perl5.8.9/lib/site_perl/5.8.9/Catalyst/Action.pm line 353
	Catalyst::Action::dispatch(Catalyst::Action=HASH(0x4e0f8260), ComponentUI=HASH(0x4e2b2370)) called at /usr/perl5.8.9/lib/site_perl/5.8.9/Catalyst/Dispatcher.pm line 262
	Catalyst::Dispatcher::_do_forward(Catalyst::Dispatcher=HASH(0x473366f0), "forward", ComponentUI=HASH(0x4e2b2370), "_END") called at /usr/perl5.8.9/lib/site_perl/5.8.9/Catalyst/Dispatcher.pm line 242
	Catalyst::Dispatcher::forward(Catalyst::Dispatcher=HASH(0x473366f0), ComponentUI=HASH(0x4e2b2370), "_END") called at /usr/perl5.8.9/lib/site_perl/5.8.9/Catalyst.pm line 481
	Catalyst::forward(ComponentUI=HASH(0x4e2b2370), "_END") called at /usr/perl5.8.9/lib/site_perl/5.8.9/Catalyst/Controller.pm line 138
	Catalyst::Controller::_DISPATCH(ComponentUI::Controller::TestModel::Baz=HASH(0x4e2e7a30), ComponentUI=HASH(0x4e2b2370)) called at /usr/perl5.8.9/lib/site_perl/5.8.9/Catalyst/Action.pm line 358
	Catalyst::Action::execute(Catalyst::Action=HASH(0x4e0f5060), ComponentUI::Controller::TestModel::Baz=HASH(0x4e2e7a30), ComponentUI=HASH(0x4e2b2370)) called at /usr/perl5.8.9/lib/site_perl/5.8.9/Catalyst.pm line 2056
	eval {...} called at /usr/perl5.8.9/lib/site_perl/5.8.9/Catalyst.pm line 2056
	Catalyst::execute(ComponentUI=HASH(0x4e2b2370), "ComponentUI::Controller::TestModel::Baz", Catalyst::Action=HASH(0x4e0f5060)) called at /usr/perl5.8.9/lib/site_perl/5.8.9/Catalyst/Action.pm line 353
	Catalyst::Action::dispatch(Catalyst::Action=HASH(0x4e0f5060), ComponentUI=HASH(0x4e2b2370)) called at /usr/perl5.8.9/lib/site_perl/5.8.9/Catalyst/Dispatcher.pm line 262
	Catalyst::Dispatcher::_do_forward(Catalyst::Dispatcher=HASH(0x473366f0), "forward", ComponentUI=HASH(0x4e2b2370), "/testmodel/baz/_DISPATCH") called at /usr/perl5.8.9/lib/site_perl/5.8.9/Catalyst/Dispatcher.pm line 242
	Catalyst::Dispatcher::forward(Catalyst::Dispatcher=HASH(0x473366f0), ComponentUI=HASH(0x4e2b2370), "/testmodel/baz/_DISPATCH") called at /usr/perl5.8.9/lib/site_perl/5.8.9/Catalyst.pm line 481
	Catalyst::forward(ComponentUI=HASH(0x4e2b2370), "/testmodel/baz/_DISPATCH") called at /usr/perl5.8.9/lib/site_perl/5.8.9/Catalyst/Dispatcher.pm line 107
	Catalyst::Dispatcher::dispatch(Catalyst::Dispatcher=HASH(0x473366f0), ComponentUI=HASH(0x4e2b2370)) called at /usr/perl5.8.9/lib/site_perl/5.8.9/Catalyst.pm line 2002
	Catalyst::dispatch(ComponentUI=HASH(0x4e2b2370)) called at /usr/perl5.8.9/lib/site_perl/5.8.9/Catalyst/Plugin/Static/Simple.pm line 86
	Class::MOP::Class:::around(CODE(0x471b3540), ComponentUI=HASH(0x4e2b2370)) called at /usr/perl5.8.9/lib/site_perl/5.8.9/amd64-freebsd/Class/MOP/Method/Wrapped.pm line 164
	ComponentUI::_wrapped_dispatch(ComponentUI=HASH(0x4e2b2370)) called at /usr/perl5.8.9/lib/site_perl/5.8.9/amd64-freebsd/Class/MOP/Method/Wrapped.pm line 95
	ComponentUI::dispatch(ComponentUI=HASH(0x4e2b2370)) called at /usr/perl5.8.9/lib/site_perl/5.8.9/Catalyst.pm line 2393
	Catalyst::try {...} () called at /usr/perl5.8.9/lib/site_perl/5.8.9/Try/Tiny.pm line 103
	eval {...} called at /usr/perl5.8.9/lib/site_perl/5.8.9/Try/Tiny.pm line 94
	Try::Tiny::try(CODE(0x4e2aed50), Try::Tiny::Catch=REF(0x4e2aebb0)) called at /usr/perl5.8.9/lib/site_perl/5.8.9/Catalyst.pm line 2402
	Catalyst::handle_request("ComponentUI", "env", HASH(0x4e2a5ce0), "response_cb", CODE(0x4e2aec00)) called at /usr/perl5.8.9/lib/site_perl/5.8.9/Catalyst/Engine.pm line 800
	Catalyst::Engine::__ANON__(CODE(0x4e2aec00)) called at /usr/perl5.8.9/lib/site_perl/5.8.9/Plack/Middleware/HTTPExceptions.pm line 32
	Plack::Middleware::HTTPExceptions::try {...} () called at /usr/perl5.8.9/lib/site_perl/5.8.9/Try/Tiny.pm line 103
	eval {...} called at /usr/perl5.8.9/lib/site_perl/5.8.9/Try/Tiny.pm line 94
	Try::Tiny::try(CODE(0x4e2ae9f0), Try::Tiny::Catch=REF(0x4e2aa560)) called at /usr/perl5.8.9/lib/site_perl/5.8.9/Plack/Middleware/HTTPExceptions.pm line 41
	Plack::Middleware::HTTPExceptions::__ANON__(CODE(0x4e2ae800)) called at /usr/perl5.8.9/lib/site_perl/5.8.9/Plack/Util.pm line 339
	Plack::Util::__ANON__(CODE(0x4e2ae610)) called at /usr/perl5.8.9/lib/site_perl/5.8.9/Plack/Util.pm line 339
	Plack::Util::__ANON__(CODE(0x4e2ae420)) called at /usr/perl5.8.9/lib/site_perl/5.8.9/Plack/Util.pm line 339
	Plack::Util::__ANON__(CODE(0x4e2ae3b0)) called at /usr/perl5.8.9/lib/site_perl/5.8.9/HTTP/Message/PSGI.pm line 100
	HTTP::Message::PSGI::res_from_psgi(CODE(0x4e2aab50)) called at /usr/perl5.8.9/lib/site_perl/5.8.9/HTTP/Message/PSGI.pm line 156
	HTTP::Response::from_psgi("HTTP::Response", CODE(0x4e2aab50)) called at /usr/perl5.8.9/lib/site_perl/5.8.9/Plack/Test/MockHTTP.pm line 24
	Plack::Test::MockHTTP::try {...} () called at /usr/perl5.8.9/lib/site_perl/5.8.9/Try/Tiny.pm line 98
	eval {...} called at /usr/perl5.8.9/lib/site_perl/5.8.9/Try/Tiny.pm line 94
	Try::Tiny::try(CODE(0x4e2a5900), Try::Tiny::Catch=REF(0x4e0f84e0)) called at /usr/perl5.8.9/lib/site_perl/5.8.9/Plack/Test/MockHTTP.pm line 27
	Plack::Test::MockHTTP::request(Plack::Test::MockHTTP=HASH(0x4e29aed0), HTTP::Request=HASH(0x4e291d30)) called at /usr/perl5.8.9/lib/site_perl/5.8.9/Plack/Test.pm line 38
	Plack::Test::__ANON__(HTTP::Request=HASH(0x4e291d30)) called at /usr/perl5.8.9/lib/site_perl/5.8.9/Catalyst/Test.pm line 281
	Catalyst::Test::__ANON__(CODE(0x4e29ad70)) called at /usr/perl5.8.9/lib/site_perl/5.8.9/Plack/Test.pm line 38
	Plack::Test::test_psgi("app", CODE(0x4e29a9f0), "mangle_response", CODE(0x45a483a0), "app", CODE(0x4e29ac00), "client", CODE(0x4e29ac90)) called at /usr/perl5.8.9/lib/site_perl/5.8.9/Catalyst/Test.pm line 284
	Catalyst::Test::_request(HASH(0x4e29abe0), HTTP::Request=HASH(0x4e291d30)) called at /usr/perl5.8.9/lib/site_perl/5.8.9/Catalyst/Test.pm line 327
	Catalyst::Test::_local_request("ComponentUI", HTTP::Request=HASH(0x4e291d30)) called at /usr/perl5.8.9/lib/site_perl/5.8.9/Test/WWW/Mechanize/Catalyst.pm line 174
	Test::WWW::Mechanize::Catalyst::_do_catalyst_request(Test::WWW::Mechanize::Catalyst=HASH(0x4e1ed260), HTTP::Request=HASH(0x4e291d30)) called at /usr/perl5.8.9/lib/site_perl/5.8.9/Test/WWW/Mechanize/Catalyst.pm line 78
	Test::WWW::Mechanize::Catalyst::_make_request(Test::WWW::Mechanize::Catalyst=HASH(0x4e1ed260), HTTP::Request=HASH(0x4e291d30)) called at /usr/perl5.8.9/lib/site_perl/5.8.9/WWW/Mechanize.pm line 2312
	WWW::Mechanize::request(Test::WWW::Mechanize::Catalyst=HASH(0x4e1ed260), HTTP::Request=HASH(0x4e291d30)) called at /usr/perl5.8.9/lib/site_perl/5.8.9/LWP/UserAgent.pm line 411
	LWP::UserAgent::get(Test::WWW::Mechanize::Catalyst=HASH(0x4e1ed260), "http://localhost/testmodel/baz/id/1/update") called at /usr/perl5.8.9/lib/site_perl/5.8.9/WWW/Mechanize.pm line 407
	WWW::Mechanize::get(Test::WWW::Mechanize::Catalyst=HASH(0x4e1ed260), "http://localhost/testmodel/baz/id/1/update") called at /usr/perl5.8.9/lib/site_perl/5.8.9/Test/WWW/Mechanize.pm line 160
	Test::WWW::Mechanize::get_ok(Test::WWW::Mechanize::Catalyst=HASH(0x4e1ed260), "http://localhost/testmodel/baz/id/1/update") called at t/uncheck_bool_field.t line 9
t/uncheck_bool_field.t ...... ok
All tests successful.
Files=9, Tests=604, 199 wallclock secs ( 0.18 usr  0.17 sys + 97.71 cusr  3.34 csys = 101.40 CPU)
Result: PASS

------------------------------
PREREQUISITES
------------------------------

Prerequisite modules loaded:

requires:

    Module                                  Need      Have     
    --------------------------------------- --------- ---------
    aliased                                 0.22      0.34     
    Catalyst                                5.80002   5.90112  
    Catalyst::Component::ACCEPT_CONTEXT     0.05      0.07     
    Catalyst::Component::InstancePerContext 0.001001  0.001001 
    Catalyst::Model::DBIC::Schema           0.23      0.65     
    Catalyst::Plugin::ConfigLoader          0.23      0.34     
    Catalyst::Plugin::I18N                  0.09      0.10     
    Catalyst::Plugin::Static::Simple        0.21      0.33     
    Catalyst::View::TT                      0.29      0.44     
    Class::MOP                              0.81      2.1805   
    Config::General                         2.42      2.62     
    Crypt::Eksblowfish::Bcrypt              0.005     0.009    
    DateTime                                0.47      1.36     
    DateTime::Event::Recurrence             0.16      0.16     
    DateTime::Span                          0         0.3700   
    DBIx::Class                             0.08100   0.082840 
    DBIx::Class::IntrospectableM2M          0.001001  0.001002 
    Devel::Declare                          0.005000  0.006018 
    Email::Valid                            0.181     1.200    
    ExtUtils::MakeMaker                     6.11      7.24     
    File::ShareDir                          1.00      1.102    
    File::Spec                              3.29      3.62     
    JSON                                    0         2.90     
    metaclass                               0.81      2.1805   
    Method::Signatures::Simple              0.03      1.07     
    Moose                                   0.74      2.1805   
    MooseX::MethodAttributes                0.18      0.31     
    MooseX::Role::Parameterized             0.24      1.08     
    MooseX::Types                           0.10      0.45     
    MooseX::Types::Common                   0.001000  0.001013 
    MooseX::Types::DateTime                 0.03      0.13     
    MooseX::Types::URI                      0.02      0.08     
    namespace::clean                        0.11      0.27     
    Path::Class::Dir                        0         0.37     
    Path::Class::File                       0         0.37     
    perl                                    5.008001  5.008009 
    Scalar::Util                            1.19      1.45     
    signatures                              0.05      0.13     
    SQL::Translator                         0.11002   0.11021  
    Sub::Exporter                           0.982     0.987    
    Sub::Name                               0.04      0.19     
    Template                                2.20      2.26     
    Test::Class                             0.31      0.50     
    Test::Memory::Cycle                     1.04      1.06     
    Test::WWW::Mechanize::Catalyst          0.51      0.60     
    Time::ParseDate                         2006.0814 2013.1113
    URI                                     1.37      1.71     

build_requires:

    Module                                  Need      Have     
    --------------------------------------- --------- ---------
    ExtUtils::MakeMaker                     6.42      7.24     
    SQL::Translator                         0.11002   0.11021  
    Test::Class                             0.31      0.50     
    Test::Memory::Cycle                     1.04      1.06     
    Test::WWW::Mechanize::Catalyst          0.51      0.60     

configure_requires:

    Module                                  Need      Have     
    --------------------------------------- --------- ---------
    ExtUtils::MakeMaker                     6.42      7.24     


------------------------------
ENVIRONMENT AND OTHER CONTEXT
------------------------------

Environment variables:

    LC_ALL = de_DE.ISO8859-1
    PATH = /usr/local/bin:/usr/bin:/bin:/usr/local/sbin:/usr/sbin:/sbin:/home/cpansand/bin/freebsd9.3:/home/cpansand/bin/sh:/home/cpansand/bin:/usr/games:/home/cpansand/devel:/usr/home/eserte/src/srezic-misc/scripts
    PERL5LIB = 
    PERL5OPT = 
    PERL5_CPANPLUS_IS_RUNNING = 79542
    PERL5_CPAN_IS_RUNNING = 79542
    PERL5_CPAN_IS_RUNNING_IN_RECURSION = 19547,79542
    PERLDOC = -MPod::Perldoc::ToTextOverstrike
    PERL_BATCH = yes
    PERL_CANARY_STABILITY_NOPROMPT = 1
    PERL_CPAN_REPORTER_CONFIG = /var/tmp/cpansmoker-1023/2016090321/cpanreporter_000_config.ini
    PERL_EXTUTILS_AUTOINSTALL = --defaultdeps
    SHELL = /usr/local/bin/zsh
    TERM = screen
    TMPDIR = /var/tmp/cpansmoker-1023/2016090321

Perl special variables (and OS-specific diagnostics, for MSWin32):

    $^X = /usr/perl5.8.9/bin/perl
    $UID/$EUID = 1023 / 1023
    $GID = 1023 1023
    $EGID = 1023 1023

Perl module toolchain versions installed:

    Module              Have    
    ------------------- --------
    CPAN                2.10    
    CPAN::Meta          2.150010
    Cwd                 3.62    
    ExtUtils::CBuilder  0.280224
    ExtUtils::Command   7.24    
    ExtUtils::Install   2.04    
    ExtUtils::MakeMaker 7.24    
    ExtUtils::Manifest  1.70    
    ExtUtils::ParseXS   3.30    
    File::Spec          3.62    
    JSON                2.90    
    JSON::PP            2.27400 
    Module::Build       0.4220  
    Module::Signature   0.79    
    Parse::CPAN::Meta   2.150010
    Test::Harness       3.36    
    Test::More          1.302052
    YAML                1.15    
    YAML::Syck          1.29    
    version             0.9914  


--

Summary of my perl5 (revision 5 version 8 subversion 9) configuration:
  Platform:
    osname=freebsd, osvers=9.2-release-p4, archname=amd64-freebsd
    uname='freebsd cvrsnica-freebsd-92 9.2-release-p4 freebsd 9.2-release-p4 #0: tue apr 8 18:08:22 utc 2014 root@amd64-builder.daemonology.net:usrobjusrsrcsysgeneric amd64 '
    config_args='-ds -e -Dprefix=/usr/perl5.8.9'
    hint=recommended, useposix=true, d_sigaction=define
    usethreads=undef use5005threads=undef useithreads=undef usemultiplicity=undef
    useperlio=define d_sfio=undef uselargefiles=define usesocks=undef
    use64bitint=define use64bitall=define uselongdouble=undef
    usemymalloc=n, bincompat5005=undef
  Compiler:
    cc='cc', ccflags ='-DHAS_FPSETMASK -DHAS_FLOATINGPOINT_H -fno-strict-aliasing -pipe -I/usr/local/include',
    optimize='-O',
    cppflags='-DHAS_FPSETMASK -DHAS_FLOATINGPOINT_H -fno-strict-aliasing -pipe -I/usr/local/include'
    ccversion='', gccversion='4.2.1 20070831 patched [FreeBSD]', gccosandvers=''
    intsize=4, longsize=8, ptrsize=8, doublesize=8, byteorder=12345678
    d_longlong=define, longlongsize=8, d_longdbl=define, longdblsize=16
    ivtype='long', ivsize=8, nvtype='double', nvsize=8, Off_t='off_t', lseeksize=8
    alignbytes=8, prototype=define
  Linker and Libraries:
    ld='cc', ldflags ='-Wl,-E  -L/usr/local/lib'
    libpth=/usr/lib /usr/local/lib
    libs=-lgdbm -lm -lcrypt -lutil -lc
    perllibs=-lm -lcrypt -lutil -lc
    libc=, so=so, useshrplib=false, libperl=libperl.a
    gnulibc_version=''
  Dynamic Linking:
    dlsrc=dl_dlopen.xs, dlext=so, d_dlsymun=undef, ccdlflags=' '
    cccdlflags='-DPIC -fPIC', lddlflags='-shared  -L/usr/local/lib'


Characteristics of this binary (from libperl): 
  Compile-time options: PERL_MALLOC_WRAP USE_64_BIT_ALL USE_64_BIT_INT
                        USE_FAST_STDIO USE_LARGE_FILES USE_PERLIO
  Built under freebsd
  Compiled at May 15 2014 22:27:57
  %ENV:
    PERL5LIB=""
    PERL5OPT=""
    PERL5_CPANPLUS_IS_RUNNING="79542"
    PERL5_CPAN_IS_RUNNING="79542"
    PERL5_CPAN_IS_RUNNING_IN_RECURSION="19547,79542"
    PERLDOC="-MPod::Perldoc::ToTextOverstrike"
    PERL_BATCH="yes"
    PERL_CANARY_STABILITY_NOPROMPT="1"
    PERL_CPAN_REPORTER_CONFIG="/var/tmp/cpansmoker-1023/2016090321/cpanreporter_000_config.ini"
    PERL_EXTUTILS_AUTOINSTALL="--defaultdeps"
  @INC:
    /usr/perl5.8.9/lib/5.8.9/amd64-freebsd
    /usr/perl5.8.9/lib/5.8.9
    /usr/perl5.8.9/lib/site_perl/5.8.9/amd64-freebsd
    /usr/perl5.8.9/lib/site_perl/5.8.9
    .