HTML-Formatter v2.16 Perl 5 v5.27.3 x86_64-linux-thread-multi-ld

Status
Pass
From
Andreas J. König (ANDK)
Dist
HTML-Formatter v2.16
Platform
Perl 5 v5.27.3 x86_64-linux-thread-multi-ld
Date
2017-10-17 04:08:25
ID
d2faaa3c-b2f0-11e7-a7d9-5b6ab3c1378e
This distribution has been tested as part of the CPAN Testers
project, supporting the Perl programming language.  See
http://wiki.cpantesters.org/ for more information or email
questions to cpan-testers-discuss@perl.org


--
Dear Nigel Metheringham,

This is a computer-generated report for HTML-Formatter-2.16
on perl 5.27.3, created by CPAN-Reporter-1.2018.

Thank you for uploading your work to CPAN.  Congratulations!
All tests were successful.

Sections of this report:

    * Tester comments
    * Program output
    * Prerequisites
    * Environment and other context

------------------------------
TESTER COMMENTS
------------------------------

Additional comments from tester:

this report is from an automated smoke testing program
and was not reviewed by a human for accuracy

------------------------------
PROGRAM OUTPUT
------------------------------

Output from '/usr/bin/make test':

PERL_DL_NONLAZY=1 "/home/sand/src/perl/repoperls/installed-perls/host/k93msid/v5.27.3/5ea4/bin/perl" "-MExtUtils::Command::MM" "-MTest::Harness" "-e" "undef *Test::Harness::Switches; test_harness(0, 'blib/lib', 'blib/arch')" t/*.t
t/00-compile.t ............... ok
# 
# Versions for all modules listed in MYMETA.json (including optional ones):
# 
# === Configure Requires ===
# 
#     Module              Want    Have
#     ------------------- ---- -------
#     ExtUtils::MakeMaker  any 7.31_04
# 
# === Build Requires ===
# 
#     Module              Want    Have
#     ------------------- ---- -------
#     ExtUtils::MakeMaker  any 7.31_04
# 
# === Test Requires ===
# 
#     Module              Want     Have
#     ------------------- ---- --------
#     ExtUtils::MakeMaker  any  7.31_04
#     File::Slurper        any    0.010
#     File::Spec           any     3.68
#     FindBin              any     1.51
#     IO::Handle           any     1.36
#     IPC::Open3           any     1.20
#     Test::More          0.96 1.302103
#     Test::Warnings       any    0.026
#     blib                1.01     1.06
#     bytes                any     1.05
#     lib                  any     0.64
# 
# === Test Recommends ===
# 
#     Module         Want     Have
#     ---------- -------- --------
#     CPAN::Meta 2.120900 2.150010
# 
# === Runtime Requires ===
# 
#     Module                              Want     Have
#     ----------------------------------- ---- --------
#     Carp                                 any     1.43
#     Data::Dumper                         any 2.167_02
#     Encode                               any     2.92
#     Font::Metrics::Courier               any    undef
#     Font::Metrics::CourierBold           any    undef
#     Font::Metrics::CourierBoldOblique    any    undef
#     Font::Metrics::CourierOblique        any    undef
#     Font::Metrics::Helvetica             any    undef
#     Font::Metrics::HelveticaBold         any    undef
#     Font::Metrics::HelveticaBoldOblique  any    undef
#     Font::Metrics::HelveticaOblique      any    undef
#     Font::Metrics::TimesBold             any    undef
#     Font::Metrics::TimesBoldItalic       any    undef
#     Font::Metrics::TimesItalic           any    undef
#     Font::Metrics::TimesRoman            any    undef
#     HTML::Element                       3.15     5.07
#     HTML::TreeBuilder                    any     5.07
#     IO::File                             any     1.16
#     base                                 any     2.26
#     integer                              any     1.01
#     parent                               any    0.236
#     strict                               any     1.11
#     utf8                                 any     1.20
#     warnings                             any     1.37
# 
t/00-report-prereqs.t ........ ok
t/01_ps.t .................... ok
t/02_rtf.t ................... ok
t/03_text.t .................. ok
t/04_md.t .................... ok
t/author-critic.t ............ skipped: these tests are for testing by the author
t/author-eol.t ............... skipped: these tests are for testing by the author
t/author-no-tabs.t ........... skipped: these tests are for testing by the author
t/author-pod-spell.t ......... skipped: these tests are for testing by the author
t/author-pod-syntax.t ........ skipped: these tests are for testing by the author
t/author-portability.t ....... skipped: these tests are for testing by the author
t/author-synopsis.t .......... skipped: these tests are for testing by the author
t/release-dist-manifest.t .... skipped: these tests are for release candidate testing
t/release-distmeta.t ......... skipped: these tests are for release candidate testing
t/release-has-version.t ...... skipped: these tests are for release candidate testing
t/release-minimum-version.t .. skipped: these tests are for release candidate testing
t/release-unused-vars.t ...... skipped: these tests are for release candidate testing
t/rt111783.t ................. ok
t/rt69426.t .................. ok
All tests successful.
Files=20, Tests=94,  8 wallclock secs ( 0.07 usr  0.11 sys +  1.22 cusr  0.55 csys =  1.95 CPU)
Result: PASS

------------------------------
PREREQUISITES
------------------------------

Prerequisite modules loaded:

requires:

    Module                              Need  Have    
    ----------------------------------- ----- --------
    base                                0     2.26    
    Carp                                0     1.43    
    Data::Dumper                        0     2.167_02
    Encode                              0     2.92    
    Font::Metrics::Courier              0     0       
    Font::Metrics::CourierBold          0     0       
    Font::Metrics::CourierBoldOblique   0     0       
    Font::Metrics::CourierOblique       0     0       
    Font::Metrics::Helvetica            0     0       
    Font::Metrics::HelveticaBold        0     0       
    Font::Metrics::HelveticaBoldOblique 0     0       
    Font::Metrics::HelveticaOblique     0     0       
    Font::Metrics::TimesBold            0     0       
    Font::Metrics::TimesBoldItalic      0     0       
    Font::Metrics::TimesItalic          0     0       
    Font::Metrics::TimesRoman           0     0       
    HTML::Element                       3.15  5.07    
    HTML::TreeBuilder                   0     5.07    
    integer                             0     1.01    
    IO::File                            0     1.16    
    parent                              0     0.236   
    perl                                5.008 5.027003
    strict                              0     1.11    
    utf8                                0     1.20    
    warnings                            0     1.37    

build_requires:

    Module                              Need  Have    
    ----------------------------------- ----- --------
    blib                                1.01  1.06    
    bytes                               0     1.05    
    ExtUtils::MakeMaker                 0     7.31_04 
    File::Slurper                       0     0.010   
    File::Spec                          0     3.68    
    FindBin                             0     1.51    
    IO::Handle                          0     1.36    
    IPC::Open3                          0     1.20    
    lib                                 0     0.64    
    Test::More                          0.96  1.302103
    Test::Warnings                      0     0.026   

configure_requires:

    Module                              Need  Have    
    ----------------------------------- ----- --------
    ExtUtils::MakeMaker                 0     7.31_04 


------------------------------
ENVIRONMENT AND OTHER CONTEXT
------------------------------

Environment variables:

    AUTOMATED_TESTING = 1
    LANG = en_US.UTF-8
    PATH = /home/sand/bin:/usr/local/bin:/usr/bin:/bin:/usr/games:/usr/local/perl/bin:/usr/X11/bin:/sbin:/usr/sbin
    PERL5LIB = /tmp/loop_over_bdir-19674-EEbMVH/Font-AFM-1.20-0/blib/arch:/tmp/loop_over_bdir-19674-EEbMVH/Font-AFM-1.20-0/blib/lib:/tmp/loop_over_bdir-19674-EEbMVH/Data-Printer-0.40-0/blib/arch:/tmp/loop_over_bdir-19674-EEbMVH/Data-Printer-0.40-0/blib/lib:/tmp/loop_over_bdir-19674-EEbMVH/Find-Lib-1.04-0/blib/arch:/tmp/loop_over_bdir-19674-EEbMVH/Find-Lib-1.04-0/blib/lib:/tmp/loop_over_bdir-19674-EEbMVH/Cache-Cache-1.08-0/blib/arch:/tmp/loop_over_bdir-19674-EEbMVH/Cache-Cache-1.08-0/blib/lib:/tmp/loop_over_bdir-19674-EEbMVH/MetaCPAN-API-0.51-0/blib/arch:/tmp/loop_over_bdir-19674-EEbMVH/MetaCPAN-API-0.51-0/blib/lib:/tmp/loop_over_bdir-19674-EEbMVH/Test-TinyMocker-0.05-0/blib/arch:/tmp/loop_over_bdir-19674-EEbMVH/Test-TinyMocker-0.05-0/blib/lib:/tmp/loop_over_bdir-19674-EEbMVH/HTTP-Tiny-Mech-1.001002-0/blib/arch:/tmp/loop_over_bdir-19674-EEbMVH/HTTP-Tiny-Mech-1.001002-0/blib/lib:/tmp/loop_over_bdir-19674-EEbMVH/CHI-0.60-0/blib/arch:/tmp/loop_over_bdir-19674-EEbMVH/CHI-0.60-0/blib/lib:/tmp/loop_over_bdir-19674-EEbMVH/MooX-Types-MooseLike-Numeric-1.03-0/blib/arch:/tmp/loop_over_bdir-19674-EEbMVH/MooX-Types-MooseLike-Numeric-1.03-0/blib/lib:/tmp/loop_over_bdir-19674-EEbMVH/Hash-MoreUtils-0.05-0/blib/arch:/tmp/loop_over_bdir-19674-EEbMVH/Hash-MoreUtils-0.05-0/blib/lib:/tmp/loop_over_bdir-19674-EEbMVH/Digest-JHash-0.10-0/blib/arch:/tmp/loop_over_bdir-19674-EEbMVH/Digest-JHash-0.10-0/blib/lib:/tmp/loop_over_bdir-19674-EEbMVH/Dist-Zilla-Plugin-MinimumPerl-1.006-0/blib/arch:/tmp/loop_over_bdir-19674-EEbMVH/Dist-Zilla-Plugin-MinimumPerl-1.006-0/blib/lib
    PERL5OPT = 
    PERL5_CPANPLUS_IS_RUNNING = 19690
    PERL5_CPAN_IS_RUNNING = 19690
    PERL5_CPAN_IS_RUNNING_IN_RECURSION = 1256,19690
    PERL_CANARY_STABILITY_NOPROMPT = 1
    PERL_MM_USE_DEFAULT = 1
    PERL_USE_UNSAFE_INC = 1
    SHELL = /usr/bin/zsh
    TERM = screen

Perl special variables (and OS-specific diagnostics, for MSWin32):

    $^X = /home/sand/src/perl/repoperls/installed-perls/host/k93msid/v5.27.3/5ea4/bin/perl
    $UID/$EUID = 1005 / 1005
    $GID = 1005 1005
    $EGID = 1005 1005

Perl module toolchain versions installed:

    Module              Have    
    ------------------- --------
    CPAN                2.18    
    CPAN::Meta          2.150010
    Cwd                 3.68    
    ExtUtils::CBuilder  0.280228
    ExtUtils::Command   7.31_04 
    ExtUtils::Install   2.14    
    ExtUtils::MakeMaker 7.31_04 
    ExtUtils::Manifest  1.70    
    ExtUtils::ParseXS   3.35    
    File::Spec          3.68    
    JSON                2.94    
    JSON::PP            2.94    
    Module::Build       0.4224  
    Module::Signature   0.81    
    Parse::CPAN::Meta   2.150010
    Test::Harness       3.39    
    Test::More          1.302103
    YAML                1.23    
    YAML::Syck          1.30    
    version             0.9918  


--

Summary of my perl5 (revision 5 version 27 subversion 3) configuration:
  Commit id: 7c9c5138c6a704d1caf5908650193f777b81ad23
  Platform:
    osname=linux
    osvers=4.12.0-2-amd64
    archname=x86_64-linux-thread-multi-ld
    uname='linux k93msid 4.12.0-2-amd64 #1 smp debian 4.12.13-1 (2017-09-19) x86_64 gnulinux '
    config_args='-Dprefix=/home/sand/src/perl/repoperls/installed-perls/host/k93msid/v5.27.3/5ea4 -Dmyhostname=k93msid -Dinstallusrbinperl=n -Uversiononly -Dusedevel -des -Ui_db -Dlibswanted=cl pthread socket inet nsl gdbm dbm malloc dl ld sun m crypt sec util c cposix posix ucb BSD gdbm_compat -Duseithreads -Duselongdouble -DDEBUGGING=-g'
    hint=recommended
    useposix=true
    d_sigaction=define
    useithreads=define
    usemultiplicity=define
    use64bitint=define
    use64bitall=define
    uselongdouble=define
    usemymalloc=n
    default_inc_excludes_dot=define
    bincompat5005=undef
  Compiler:
    cc='cc'
    ccflags ='-D_REENTRANT -D_GNU_SOURCE -fwrapv -fno-strict-aliasing -pipe -fstack-protector-strong -I/usr/local/include -D_LARGEFILE_SOURCE -D_FILE_OFFSET_BITS=64 -D_FORTIFY_SOURCE=2'
    optimize='-O2 -g'
    cppflags='-D_REENTRANT -D_GNU_SOURCE -fwrapv -fno-strict-aliasing -pipe -fstack-protector-strong -I/usr/local/include'
    ccversion=''
    gccversion='7.2.0'
    gccosandvers=''
    intsize=4
    longsize=8
    ptrsize=8
    doublesize=8
    byteorder=12345678
    doublekind=3
    d_longlong=define
    longlongsize=8
    d_longdbl=define
    longdblsize=16
    longdblkind=3
    ivtype='long'
    ivsize=8
    nvtype='long double'
    nvsize=16
    Off_t='off_t'
    lseeksize=8
    alignbytes=16
    prototype=define
  Linker and Libraries:
    ld='cc'
    ldflags =' -fstack-protector-strong -L/usr/local/lib'
    libpth=/usr/local/lib /usr/lib/gcc/x86_64-linux-gnu/7/include-fixed /usr/include/x86_64-linux-gnu /usr/lib /lib/x86_64-linux-gnu /lib/../lib /usr/lib/x86_64-linux-gnu /usr/lib/../lib /lib
    libs=-lpthread -lnsl -ldl -lm -lcrypt -lutil -lc
    perllibs=-lpthread -lnsl -ldl -lm -lcrypt -lutil -lc
    libc=libc-2.24.so
    so=so
    useshrplib=false
    libperl=libperl.a
    gnulibc_version='2.24'
  Dynamic Linking:
    dlsrc=dl_dlopen.xs
    dlext=so
    d_dlsymun=undef
    ccdlflags='-Wl,-E'
    cccdlflags='-fPIC'
    lddlflags='-shared -O2 -g -L/usr/local/lib -fstack-protector-strong'


Characteristics of this binary (from libperl): 
  Compile-time options:
    HAS_TIMES
    MULTIPLICITY
    PERLIO_LAYERS
    PERL_COPY_ON_WRITE
    PERL_DONT_CREATE_GVSV
    PERL_IMPLICIT_CONTEXT
    PERL_MALLOC_WRAP
    PERL_OP_PARENT
    PERL_PRESERVE_IVUV
    PERL_USE_DEVEL
    USE_64_BIT_ALL
    USE_64_BIT_INT
    USE_ITHREADS
    USE_LARGE_FILES
    USE_LOCALE
    USE_LOCALE_COLLATE
    USE_LOCALE_CTYPE
    USE_LOCALE_NUMERIC
    USE_LOCALE_TIME
    USE_LONG_DOUBLE
    USE_PERLIO
    USE_PERL_ATOF
    USE_REENTRANT_API
  Built under linux
  Compiled at Oct  1 2017 22:28:49
  %ENV:
    PERL5LIB="/tmp/loop_over_bdir-19674-EEbMVH/Font-AFM-1.20-0/blib/arch:/tmp/loop_over_bdir-19674-EEbMVH/Font-AFM-1.20-0/blib/lib:/tmp/loop_over_bdir-19674-EEbMVH/Data-Printer-0.40-0/blib/arch:/tmp/loop_over_bdir-19674-EEbMVH/Data-Printer-0.40-0/blib/lib:/tmp/loop_over_bdir-19674-EEbMVH/Find-Lib-1.04-0/blib/arch:/tmp/loop_over_bdir-19674-EEbMVH/Find-Lib-1.04-0/blib/lib:/tmp/loop_over_bdir-19674-EEbMVH/Cache-Cache-1.08-0/blib/arch:/tmp/loop_over_bdir-19674-EEbMVH/Cache-Cache-1.08-0/blib/lib:/tmp/loop_over_bdir-19674-EEbMVH/MetaCPAN-API-0.51-0/blib/arch:/tmp/loop_over_bdir-19674-EEbMVH/MetaCPAN-API-0.51-0/blib/lib:/tmp/loop_over_bdir-19674-EEbMVH/Test-TinyMocker-0.05-0/blib/arch:/tmp/loop_over_bdir-19674-EEbMVH/Test-TinyMocker-0.05-0/blib/lib:/tmp/loop_over_bdir-19674-EEbMVH/HTTP-Tiny-Mech-1.001002-0/blib/arch:/tmp/loop_over_bdir-19674-EEbMVH/HTTP-Tiny-Mech-1.001002-0/blib/lib:/tmp/loop_over_bdir-19674-EEbMVH/CHI-0.60-0/blib/arch:/tmp/loop_over_bdir-19674-EEbMVH/CHI-0.60-0/blib/lib:/tmp/loop_over_bdir-19674-EEbMVH/MooX-Types-MooseLike-Numeric-1.03-0/blib/arch:/tmp/loop_over_bdir-19674-EEbMVH/MooX-Types-MooseLike-Numeric-1.03-0/blib/lib:/tmp/loop_over_bdir-19674-EEbMVH/Hash-MoreUtils-0.05-0/blib/arch:/tmp/loop_over_bdir-19674-EEbMVH/Hash-MoreUtils-0.05-0/blib/lib:/tmp/loop_over_bdir-19674-EEbMVH/Digest-JHash-0.10-0/blib/arch:/tmp/loop_over_bdir-19674-EEbMVH/Digest-JHash-0.10-0/blib/lib:/tmp/loop_over_bdir-19674-EEbMVH/Dist-Zilla-Plugin-MinimumPerl-1.006-0/blib/arch:/tmp/loop_over_bdir-19674-EEbMVH/Dist-Zilla-Plugin-MinimumPerl-1.006-0/blib/lib"
    PERL5OPT=""
    PERL5_CPANPLUS_IS_RUNNING="19690"
    PERL5_CPAN_IS_RUNNING="19690"
    PERL5_CPAN_IS_RUNNING_IN_RECURSION="1256,19690"
    PERL_CANARY_STABILITY_NOPROMPT="1"
    PERL_MM_USE_DEFAULT="1"
    PERL_USE_UNSAFE_INC="1"
  @INC:
    /tmp/loop_over_bdir-19674-EEbMVH/Font-AFM-1.20-0/blib/arch
    /tmp/loop_over_bdir-19674-EEbMVH/Font-AFM-1.20-0/blib/lib
    /tmp/loop_over_bdir-19674-EEbMVH/Data-Printer-0.40-0/blib/arch
    /tmp/loop_over_bdir-19674-EEbMVH/Data-Printer-0.40-0/blib/lib
    /tmp/loop_over_bdir-19674-EEbMVH/Find-Lib-1.04-0/blib/arch
    /tmp/loop_over_bdir-19674-EEbMVH/Find-Lib-1.04-0/blib/lib
    /tmp/loop_over_bdir-19674-EEbMVH/Cache-Cache-1.08-0/blib/arch
    /tmp/loop_over_bdir-19674-EEbMVH/Cache-Cache-1.08-0/blib/lib
    /tmp/loop_over_bdir-19674-EEbMVH/MetaCPAN-API-0.51-0/blib/arch
    /tmp/loop_over_bdir-19674-EEbMVH/MetaCPAN-API-0.51-0/blib/lib
    /tmp/loop_over_bdir-19674-EEbMVH/Test-TinyMocker-0.05-0/blib/arch
    /tmp/loop_over_bdir-19674-EEbMVH/Test-TinyMocker-0.05-0/blib/lib
    /tmp/loop_over_bdir-19674-EEbMVH/HTTP-Tiny-Mech-1.001002-0/blib/arch
    /tmp/loop_over_bdir-19674-EEbMVH/HTTP-Tiny-Mech-1.001002-0/blib/lib
    /tmp/loop_over_bdir-19674-EEbMVH/CHI-0.60-0/blib/arch
    /tmp/loop_over_bdir-19674-EEbMVH/CHI-0.60-0/blib/lib
    /tmp/loop_over_bdir-19674-EEbMVH/MooX-Types-MooseLike-Numeric-1.03-0/blib/arch
    /tmp/loop_over_bdir-19674-EEbMVH/MooX-Types-MooseLike-Numeric-1.03-0/blib/lib
    /tmp/loop_over_bdir-19674-EEbMVH/Hash-MoreUtils-0.05-0/blib/arch
    /tmp/loop_over_bdir-19674-EEbMVH/Hash-MoreUtils-0.05-0/blib/lib
    /tmp/loop_over_bdir-19674-EEbMVH/Digest-JHash-0.10-0/blib/arch
    /tmp/loop_over_bdir-19674-EEbMVH/Digest-JHash-0.10-0/blib/lib
    /tmp/loop_over_bdir-19674-EEbMVH/Dist-Zilla-Plugin-MinimumPerl-1.006-0/blib/arch
    /tmp/loop_over_bdir-19674-EEbMVH/Dist-Zilla-Plugin-MinimumPerl-1.006-0/blib/lib
    /home/sand/src/perl/repoperls/installed-perls/host/k93msid/v5.27.3/5ea4/lib/site_perl/5.27.3/x86_64-linux-thread-multi-ld
    /home/sand/src/perl/repoperls/installed-perls/host/k93msid/v5.27.3/5ea4/lib/site_perl/5.27.3
    /home/sand/src/perl/repoperls/installed-perls/host/k93msid/v5.27.3/5ea4/lib/5.27.3/x86_64-linux-thread-multi-ld
    /home/sand/src/perl/repoperls/installed-perls/host/k93msid/v5.27.3/5ea4/lib/5.27.3
    .