Dancer v1.3514-TRIAL Perl 5 v5.22.1 x86_64-linux-gnu-thread-multi

Status
Pass
From
Slaven Rezić (SREZIC)
Dist
Dancer v1.3514-TRIAL
Platform
Perl 5 v5.22.1 x86_64-linux-gnu-thread-multi
Date
2020-06-29 20:05:05
ID
d2f8dba0-ba43-11ea-8dce-871c1f24ea8f
This distribution has been tested as part of the CPAN Testers
project, supporting the Perl programming language.  See
http://wiki.cpantesters.org/ for more information or email
questions to cpan-testers-discuss@perl.org


--
Dear David Precious,

This is a computer-generated report for Dancer-1.3514-TRIAL
on perl 5.22.1, created by CPAN-Reporter-1.2015.

Thank you for uploading your work to CPAN.  Congratulations!
All tests were successful.

Sections of this report:

    * Tester comments
    * Program output
    * Prerequisites
    * Environment and other context

------------------------------
TESTER COMMENTS
------------------------------

Additional comments from tester:

none provided

------------------------------
PROGRAM OUTPUT
------------------------------

Output from '/usr/bin/make test':

PERL_DL_NONLAZY=1 "/usr/bin/perl" "-MExtUtils::Command::MM" "-MTest::Harness" "-e" "undef *Test::Harness::Switches; test_harness(0, 'blib/lib', 'blib/arch')" t/*.t t/00_base/*.t t/01_config/*.t t/02_request/*.t t/03_route_handler/*.t t/04_static_file/*.t t/05_views/*.t t/06_helpers/*.t t/07_apphandlers/*.t t/08_session/*.t t/09_cookies/*.t t/10_template/*.t t/11_logger/*.t t/12_response/*.t t/13_engines/*.t t/14_serializer/*.t t/15_plugins/*.t t/16_timer/*.t t/17_apps/*.t t/19_dancer/*.t t/20_deprecation/*.t t/21_dependents/*.t t/22_hooks/*.t t/23_dancer_tests/*.t t/24_deployment/*.t t/25_exceptions/*.t
t/00-compile.t ...................................... ok
# 
# Versions for all modules listed in MYMETA.json (including optional ones):
# 
# === Configure Requires ===
# 
#     Module              Want    Have
#     ------------------- ---- -------
#     ExtUtils::MakeMaker  any 7.04_01
# 
# === Configure Suggests ===
# 
#     Module      Want    Have
#     -------- ------- -------
#     JSON::PP 2.27300 2.27300
# 
# === Build Requires ===
# 
#     Module              Want    Have
#     ------------------- ---- -------
#     ExtUtils::MakeMaker  any 7.04_01
# 
# === Test Requires ===
# 
#     Module               Want     Have
#     ------------------- ----- --------
#     Data::Dump            any     1.23
#     Devel::Hide           any   0.0013
#     Digest::MD5           any     2.54
#     ExtUtils::MakeMaker   any  7.04_01
#     File::Spec            any     3.56
#     HTTP::CookieJar     0.008    0.008
#     HTTP::Request         any     6.11
#     HTTP::Tiny          0.014    0.054
#     IO::Handle            any     1.35
#     IO::Socket::INET      any     1.35
#     IPC::Open3            any     1.18
#     JSON                 2.90     2.90
#     Plack::Builder        any    undef
#     Test::More            any 1.001014
#     Test::NoWarnings      any     1.04
#     utf8                  any     1.17
# 
# === Test Recommends ===
# 
#     Module         Want     Have
#     ---------- -------- --------
#     CPAN::Meta 2.120900 2.150001
# 
# === Runtime Requires ===
# 
#     Module                      Want     Have
#     -------------------------- ----- --------
#     Carp                         any     1.36
#     Cwd                          any     3.56
#     Data::Dumper                 any    2.158
#     Encode                       any     2.72
#     Exporter                     any     5.72
#     Fcntl                        any     1.13
#     File::Basename               any     2.85
#     File::Copy                   any     2.30
#     File::Path                   any     2.09
#     File::Spec                   any     3.56
#     File::Spec::Functions        any     3.56
#     File::Temp                   any   0.2304
#     File::stat                   any     1.07
#     FindBin                      any     1.51
#     Getopt::Long                 any     2.45
#     HTTP::Body                   any     1.22
#     HTTP::Date                   any     6.02
#     HTTP::Headers                any     6.11
#     HTTP::Server::Simple::PSGI   any     0.16
#     HTTP::Tiny                 0.014    0.054
#     Hash::Merge::Simple          any    0.051
#     IO::File                     any     1.16
#     MIME::Types                  any     2.12
#     Module::Runtime              any    0.014
#     POSIX                        any  1.53_01
#     Pod::Usage                   any     1.64
#     Scalar::Util                 any     1.41
#     Test::Builder                any 1.001014
#     Test::More                   any 1.001014
#     Time::HiRes                  any   1.9726
#     Try::Tiny                    any     0.24
#     URI                          any     1.71
#     URI::Escape                  any     3.31
#     base                         any     2.22
#     bytes                        any     1.04
#     constant                     any     1.33
#     lib                          any     0.63
#     overload                     any     1.26
#     parent                       any    0.232
#     strict                       any     1.09
#     vars                         any     1.03
#     warnings                     any     1.34
# 
# === Runtime Recommends ===
# 
#     Module      Want Have
#     ----------- ---- ----
#     MIME::Types 2.17 2.12
#     YAML         any 1.15
#     YAML::XS     any 0.41
# 
t/00-report-prereqs.t ............................... ok
t/00_base/000_create_fake_env.t ..................... ok
# Testing Dancer 1.3514, Perl 5.022001, /usr/bin/perl
t/00_base/001_load.t ................................ ok
t/00_base/002_strict_and_warnings.t ................. ok
t/00_base/003_syntax.t .............................. ok
t/00_base/004_args.t ................................ ok
t/00_base/005_module_loader.t ....................... ok
t/00_base/007_load_syntax.t ......................... ok
t/00_base/008_export.t .............................. ok
t/00_base/009_syntax_export.t ....................... ok
t/00_base/010_export_script.t ....................... ok
t/00_base/06_dancer_object.t ........................ ok
t/00_base/08_pod_coverage_dancer.t .................. skipped: Test::Pod::Coverage 1.08 required for testing POD coverage
t/00_base/09_load_app.t ............................. ok
t/00_base/11_file_utils.t ........................... ok
t/00_base/12_utf8_charset.t ......................... ok
t/00_base/13_dancer_singleton.t ..................... ok
t/00_base/15_dependent_modules.t .................... skipped: Author tests not required for installation
t/00_base/17_globalwarnings_config_on.t ............. ok
t/00_base/config.t .................................. ok
t/00_base/easymocker.t .............................. ok
t/00_base/normalize_path.t .......................... ok
# Test::TCP 2.14 loaded successfully
# Test::More 1.001014 loaded successfully
# JSON 2.90 loaded successfully
# YAML 1.15 loaded successfully
# Clone 0.38 loaded successfully
# Plack 1.0039 loaded successfully
# XML::Simple 2.22 loaded successfully
# HTTP::Parser::XS is not available
t/00_base/optional-module-versions.t ................ ok
t/00_base/uri_for.t ................................. ok
t/01_config/01_settings.t ........................... ok
t/01_config/02_mime_type.t .......................... ok
t/01_config/03_logger.t ............................. ok
t/01_config/04_config_file.t ........................ ok
t/01_config/05_serializers.t ........................ ok
# Testing YAML parsing with YAML::XS version 0.41
# Testing YAML parsing with YAML version 1.15
t/01_config/06_config_api.t ......................... ok
t/01_config/06_stack_trace.t ........................ ok
t/01_config/07_strict_config.t ...................... ok
t/01_config/08_environments.t ....................... ok
t/01_config/yaml_dependency.t ....................... ok
t/02_request/000_create_fake_env.t .................. ok
t/02_request/01_load.t .............................. ok
t/02_request/04_custom.t ............................ ok
t/02_request/04_forward.t ........................... ok
t/02_request/05_cgi_pm_compat.t ..................... ok
t/02_request/06_init_env.t .......................... ok
# OK
t/02_request/07_raw_data.t .......................... ok
t/02_request/08_param_array.t ....................... ok
t/02_request/08_params.t ............................ ok
t/02_request/10_mixed_params.t ...................... ok
t/02_request/11_accessors.t ......................... ok
t/02_request/12_base.t .............................. ok
t/02_request/13_ajax.t .............................. ok
t/02_request/14_uploads.t ........................... ok
t/02_request/15_headers.t ........................... ok
t/02_request/16_delete.t ............................ ok
t/02_request/17_uri_base.t .......................... ok
t/02_request/18_param_accessor.t .................... ok
t/02_request/19_json_body.t ......................... ok
t/02_request/20_body.t .............................. ok
t/02_request/21_dancer_response_multiple_params.t ... ok
t/03_route_handler/01_http_methods.t ................ ok
t/03_route_handler/02_params.t ...................... ok
t/03_route_handler/03_routes_api.t .................. ok
t/03_route_handler/04_routes_matching.t ............. ok
t/03_route_handler/04_wildcards_megasplat.t ......... ok
t/03_route_handler/05_filter.t ...................... ok
t/03_route_handler/05_unicode.t ..................... ok
t/03_route_handler/06_redirect.t .................... ok
t/03_route_handler/07_compilation_warning.t ......... ok
t/03_route_handler/08_errors.t ...................... ok
t/03_route_handler/12_response.t .................... ok
t/03_route_handler/12_response_halt.t ............... ok
t/03_route_handler/14_options.t ..................... ok
t/03_route_handler/15_prefix.t ...................... ok
t/03_route_handler/16_caching.t ..................... ok
t/03_route_handler/16_embedded_prefixes.t ........... ok
t/03_route_handler/18_auto_page.t ................... ok
t/03_route_handler/21_ajax.t ........................ ok
t/03_route_handler/23_filter_error_catching.t ....... ok
t/03_route_handler/24_multiple_params.t ............. ok
t/03_route_handler/24_named_captures.t .............. ok
t/03_route_handler/28_plack_mount.t ................. ok
t/03_route_handler/29_forward.t ..................... ok
t/03_route_handler/29_redirect_immediately.t ........ ok
t/03_route_handler/30_forward_session.t ............. ok
t/03_route_handler/31_infinite_loop.t ............... ok
t/03_route_handler/33_vars.t ........................ ok
t/03_route_handler/34_forward_body_post.t ........... ok
t/03_route_handler/35_no_further_routes.t ........... ok
t/03_route_handler/36_false_routes.t ................ ok
t/03_route_handler/99_bugs.t ........................ ok
t/04_static_file/001_base.t ......................... ok
t/04_static_file/003_mime_types_reinit.t ............ ok
t/04_static_file/01_mime_types.t .................... ok
t/04_static_file/02_dir_traversal.t ................. ok
t/05_views/002_view_rendering.t ..................... ok
t/05_views/03_layout.t .............................. ok
t/06_helpers/000_create_fake_env.t .................. ok
t/06_helpers/01_send_file.t ......................... ok
t/06_helpers/02_http_status.t ....................... ok
t/06_helpers/03_content_type.t ...................... ok
t/06_helpers/04_status.t ............................ ok
t/06_helpers/05_send_error.t ........................ ok
t/06_helpers/06_load.t .............................. ok
t/07_apphandlers/000_create_fake_env.t .............. ok
t/07_apphandlers/01_base.t .......................... ok
t/07_apphandlers/02_apache2_plack.t ................. ok
t/07_apphandlers/03_psgi_app.t ...................... ok
t/07_apphandlers/04_standalone_app.t ................ ok
t/07_apphandlers/05_middlewares.t ................... ok
t/07_apphandlers/05_psgi_api.t ...................... ok
t/07_apphandlers/06_debug.t ......................... skipped: Test::Output is needed for this test
t/07_apphandlers/07_middleware_map.t ................ ok
t/07_apphandlers/08_is_text.t ....................... ok
t/08_session/000_create_fake_env.t .................. ok
t/08_session/01_load.t .............................. ok
Use of uninitialized value in subroutine entry at /home/cpansand/.cpan/build/2020062918/Dancer-1.3514-SHX8KH/blib/lib/Dancer/FileUtils.pm line 32.
t/08_session/02_dependency_check.t .................. ok
t/08_session/03_http_requests.t ..................... ok
t/08_session/04_api.t ............................... ok
t/08_session/05_yaml.t .............................. ok
t/08_session/06_abstract.t .......................... ok
t/08_session/07_session_expires.t ................... ok
t/08_session/08_simple.t ............................ ok
t/08_session/09_session.t ........................... ok
t/08_session/10_filter.t ............................ ok
t/08_session/11_session_secure.t .................... ok
t/08_session/12_session_name.t ...................... ok
t/08_session/13_session_httponly.t .................. ok
t/08_session/14_session_domain.t .................... ok
t/09_cookies/000_create_fake_env.t .................. ok
t/09_cookies/01_use.t ............................... ok
t/09_cookies/02_cookie_object.t ..................... ok
t/09_cookies/03_persistence.t ....................... ok
t/09_cookies/04_secure.t ............................ ok
t/09_cookies/05_api.t ............................... ok
t/09_cookies/06_expires.t ........................... ok
t/10_template/000_create_fake_env.t ................. ok
t/10_template/01_factory.t .......................... ok
t/10_template/02_abstract_class.t ................... ok
t/10_template/03_simple.t ........................... ok
t/10_template/05_template_toolkit.t ................. ok
t/10_template/05_template_toolkit_fromdata.t ........ skipped: module Template::Provider::FromDATA required
t/10_template/extension.t ........................... ok
t/10_template/template.t ............................ ok
t/11_logger/000_create_fake_env.t ................... ok
t/11_logger/01_abstract.t ........................... ok
t/11_logger/02_factory.t ............................ ok
t/11_logger/03_file.t ............................... ok
t/11_logger/04_console.t ............................ skipped: Test::Output is needed for this test
t/11_logger/05_format.t ............................. ok
t/11_logger/06_null.t ............................... ok
t/11_logger/07_diag.t ............................... ok
t/11_logger/08_serialize.t .......................... skipped: Test::Output is needed for this test
t/11_logger/09_capture.t ............................ ok
t/11_logger/10_note.t ............................... ok
t/11_logger/11_runtime_file.t ....................... ok
t/11_logger/unicode.t ............................... ok
t/12_response/000_create_fake_env.t ................. ok
t/12_response/01_CRLF_injection.t ................... ok
t/12_response/02_headers.t .......................... ok
t/12_response/03_charset.t .......................... ok
Wide character in print at /home/cpansand/.cpan/build/2020062918/HTTP-Server-Simple-PSGI-0.16-t4ZTf9/blib/lib/HTTP/Server/Simple/PSGI.pm line 132, <DATA> line 16.
Wide character in print at /home/cpansand/.cpan/build/2020062918/HTTP-Server-Simple-PSGI-0.16-t4ZTf9/blib/lib/HTTP/Server/Simple/PSGI.pm line 132, <DATA> line 16.
t/12_response/04_charset_server.t ................... ok
t/12_response/05_api.t .............................. ok
t/12_response/06_filter_halt_status.t ............... ok
t/12_response/07_cookies.t .......................... ok
t/12_response/08_drop_content.t ..................... ok
t/12_response/09_headers_to_array.t ................. ok
Data exceeding 100 levels, truncating
t/12_response/10_error_dumper.t ..................... ok
Devel::Hide hides Clone.pm
t/12_response/10_error_dumper_without_clone.t ....... ok
t/12_response/11_CVE-2012-5572.t .................... ok
t/13_engines/00_load.t .............................. ok
t/13_engines/02_template_init.t ..................... ok
t/14_serializer/01_helpers.t ........................ ok
t/14_serializer/02_request_json.t ................... ok
t/14_serializer/03_request_yaml.t ................... ok
t/14_serializer/04_request_xml.t .................... ok
t/14_serializer/05_request_mutable.t ................ ok
t/14_serializer/06_api.t ............................ ok
t/14_serializer/07_request_jsonp.t .................. ok
t/14_serializer/17_clear_serializer.t ............... ok
t/14_serializer/18_mutable_template_or_serialize.t .. ok
t/14_serializer/99_bugs.t ........................... ok
t/15_plugins/000_create_fake_env.t .................. ok
t/15_plugins/01_register.t .......................... ok
t/15_plugins/02_config.t ............................ ok
t/15_plugins/03_namespace.t ......................... ok
t/15_plugins/04_apps_and_plugins.t .................. ok
t/15_plugins/05_keywords.t .......................... ok
t/15_plugins/05_plugins_and_OO.t .................... ok
t/15_plugins/05b_plugins_and_c3.t ................... ok
t/15_plugins/06_hook.t .............................. ok
t/15_plugins/07_ajax_plack_builder.t ................ ok
t/16_timer/00_base.t ................................ ok
t/17_apps/000_create_fake_env.t ..................... ok
t/17_apps/00_base.t ................................. ok
t/17_apps/01_settings.t ............................. ok
t/17_apps/02_load_app.t ............................. ok
t/17_apps/03_prefix.t ............................... ok
t/17_apps/05_api.t .................................. ok
t/19_dancer/01_script.t ............................. ok
t/19_dancer/02_script_version_from.t ................ ok
t/20_deprecation/01_api.t ........................... ok
t/21_dependents/Dancer-Session-Cookie.t ............. skipped: Dancer::Session::Cookie 0.14 required
t/22_hooks/00_syntax.t .............................. ok
t/22_hooks/01_api.t ................................. ok
t/22_hooks/02_before.t .............................. ok
t/22_hooks/03_after.t ............................... ok
t/22_hooks/04_template.t ............................ ok
t/22_hooks/05_layout.t .............................. ok
t/22_hooks/06_serializer.t .......................... ok
t/22_hooks/07_file.t ................................ ok
t/22_hooks/08_error.t ............................... ok
t/22_hooks/09_before_error_init.t ................... ok
t/22_hooks/10_error_in_hook.t ....................... ok
t/22_hooks/11_error_in_hook.t ....................... ok
t/23_dancer_tests/01_basic.t ........................ ok
t/23_dancer_tests/02_tests_functions.t .............. ok
t/23_dancer_tests/03_uris.t ......................... ok
t/24_deployment/01_multi_webapp.t ................... ok
t/25_exceptions/01_exceptions.t ..................... ok
t/25_exceptions/02_exceptions.t ..................... ok
t/25_exceptions/03_exceptions.t ..................... ok
t/25_exceptions/04_exceptions_warn.t ................ ok
t/author-pod-syntax.t ............................... skipped: these tests are for testing by the author
t/pod.t ............................................. skipped: Author tests not required for installation
t/release-distmeta.t ................................ skipped: these tests are for release candidate testing
All tests successful.
Files=222, Tests=2149, 37 wallclock secs ( 0.53 usr  1.40 sys + 25.89 cusr  8.36 csys = 36.18 CPU)
Result: PASS

------------------------------
PREREQUISITES
------------------------------

Prerequisite modules loaded:

requires:

    Module                     Need  Have    
    -------------------------- ----- --------
    base                       0     2.22    
    bytes                      0     1.04    
    Carp                       0     1.36    
    constant                   0     1.33    
    Cwd                        0     3.56    
    Data::Dumper               0     2.158   
    Encode                     0     2.72    
    Exporter                   0     5.72    
    Fcntl                      0     1.13    
    File::Basename             0     2.85    
    File::Copy                 0     2.30    
    File::Path                 0     2.09    
    File::Spec                 0     3.56    
    File::Spec::Functions      0     3.56    
    File::stat                 0     1.07    
    File::Temp                 0     0.2304  
    FindBin                    0     1.51    
    Getopt::Long               0     2.45    
    Hash::Merge::Simple        0     0.051   
    HTTP::Body                 0     1.22    
    HTTP::Date                 0     6.02    
    HTTP::Headers              0     6.11    
    HTTP::Server::Simple::PSGI 0     0.16    
    HTTP::Tiny                 0.014 0.054   
    IO::File                   0     1.16    
    lib                        0     0.63    
    MIME::Types                0     2.12    
    Module::Runtime            0     0.014   
    overload                   0     1.26    
    parent                     0     0.232   
    perl                       5.006 5.022001
    Pod::Usage                 0     1.64    
    POSIX                      0     1.53_01 
    Scalar::Util               0     1.41    
    strict                     0     1.09    
    Test::Builder              0     1.001014
    Test::More                 0     1.001014
    Time::HiRes                0     1.9726  
    Try::Tiny                  0     0.24    
    URI                        0     1.71    
    URI::Escape                0     3.31    
    vars                       0     1.03    
    warnings                   0     1.34    

build_requires:

    Module                     Need  Have    
    -------------------------- ----- --------
    Data::Dump                 0     1.23    
    Devel::Hide                0     0.0013  
    Digest::MD5                0     2.54    
    ExtUtils::MakeMaker        0     7.04_01 
    File::Spec                 0     3.56    
    HTTP::CookieJar            0.008 0.008   
    HTTP::Request              0     6.11    
    HTTP::Tiny                 0.014 0.054   
    IO::Handle                 0     1.35    
    IO::Socket::INET           0     1.35    
    IPC::Open3                 0     1.18    
    JSON                       2.90  2.90    
    Plack::Builder             0     0       
    Test::More                 0     1.001014
    Test::NoWarnings           0     1.04    
    utf8                       0     1.17    

configure_requires:

    Module                     Need  Have    
    -------------------------- ----- --------
    ExtUtils::MakeMaker        0     7.04_01 


------------------------------
ENVIRONMENT AND OTHER CONTEXT
------------------------------

Environment variables:

    LANG = en_US.UTF-8
    PATH = /usr/local/bin:/usr/bin:/bin:/usr/local/sbin:/usr/sbin:/sbin:/home/cpansand/bin/linux-gnu:/home/cpansand/bin/sh:/home/cpansand/bin:/usr/games:/home/cpansand/devel:/home/eserte/src/srezic-misc/scripts
    PERL5LIB = /home/cpansand/.cpan/build/2020062918/Devel-Hide-0.0013-b50H2F/blib/arch:/home/cpansand/.cpan/build/2020062918/Devel-Hide-0.0013-b50H2F/blib/lib:/home/cpansand/.cpan/build/2020062918/HTTP-CookieJar-0.008-2eNF4c/blib/arch:/home/cpansand/.cpan/build/2020062918/HTTP-CookieJar-0.008-2eNF4c/blib/lib:/home/cpansand/.cpan/build/2020062918/Test-Requires-0.11-5c1fFl/blib/arch:/home/cpansand/.cpan/build/2020062918/Test-Requires-0.11-5c1fFl/blib/lib:/home/cpansand/.cpan/build/2020062918/Data-Dump-1.23-IB1D4V/blib/arch:/home/cpansand/.cpan/build/2020062918/Data-Dump-1.23-IB1D4V/blib/lib:/home/cpansand/.cpan/build/2020062918/Hash-Merge-Simple-0.051-vRndox/blib/arch:/home/cpansand/.cpan/build/2020062918/Hash-Merge-Simple-0.051-vRndox/blib/lib:/home/cpansand/.cpan/build/2020062918/HTTP-Server-Simple-PSGI-0.16-t4ZTf9/blib/arch:/home/cpansand/.cpan/build/2020062918/HTTP-Server-Simple-PSGI-0.16-t4ZTf9/blib/lib:/home/cpansand/.cpan/build/2020062918/Test-NoWarnings-1.04-YwYrWL/blib/arch:/home/cpansand/.cpan/build/2020062918/Test-NoWarnings-1.04-YwYrWL/blib/lib
    PERL5OPT = 
    PERL5_CPANPLUS_IS_RUNNING = 28903
    PERL5_CPAN_IS_RUNNING = 28903
    PERL5_CPAN_IS_RUNNING_IN_RECURSION = 29760,28903
    PERLDOC = -MPod::Perldoc::ToTextOverstrike
    PERL_BATCH = yes
    PERL_CANARY_STABILITY_NOPROMPT = 1
    PERL_CPAN_REPORTER_CONFIG = /var/tmp/cpansmoker-1023/2020062917/cpanreporter_000_config.ini
    PERL_EXTUTILS_AUTOINSTALL = --defaultdeps
    SHELL = /usr/bin/zsh
    TERM = screen
    TMPDIR = /var/tmp/cpansmoker-1023/2020062917

Perl special variables (and OS-specific diagnostics, for MSWin32):

    $^X = /usr/bin/perl
    $UID/$EUID = 1023 / 1023
    $GID = 1023 1023
    $EGID = 1023 1023

Perl module toolchain versions installed:

    Module              Have    
    ------------------- --------
    CPAN                2.11    
    CPAN::Meta          2.150001
    Cwd                 3.56    
    ExtUtils::CBuilder  0.280221
    ExtUtils::Command   1.20    
    ExtUtils::Install   2.04    
    ExtUtils::MakeMaker 7.04_01 
    ExtUtils::Manifest  1.70    
    ExtUtils::ParseXS   3.28    
    File::Spec          3.56    
    JSON                2.90    
    JSON::PP            2.27300 
    Module::Build       0.4216  
    Module::Signature   0.79    
    Parse::CPAN::Meta   1.4414  
    Test::Harness       3.35    
    Test::More          1.001014
    YAML                1.15    
    YAML::Syck          1.29    
    version             0.9909  


--

Summary of my perl5 (revision 5 version 22 subversion 1) configuration:
   
  Platform:
    osname=linux, osvers=3.16.0, archname=x86_64-linux-gnu-thread-multi
    uname='linux localhost 3.16.0 #1 smp debian 3.16.0 x86_64 gnulinux '
    config_args='-Dusethreads -Duselargefiles -Dcc=x86_64-linux-gnu-gcc -Dcpp=x86_64-linux-gnu-cpp -Dld=x86_64-linux-gnu-gcc -Dccflags=-DDEBIAN -Wdate-time -D_FORTIFY_SOURCE=2 -g -O2 -fstack-protector-strong -Wformat -Werror=format-security -Dldflags= -Wl,-Bsymbolic-functions -Wl,-z,relro -Dlddlflags=-shared -Wl,-Bsymbolic-functions -Wl,-z,relro -Dcccdlflags=-fPIC -Darchname=x86_64-linux-gnu -Dprefix=/usr -Dprivlib=/usr/share/perl/5.22 -Darchlib=/usr/lib/x86_64-linux-gnu/perl/5.22 -Dvendorprefix=/usr -Dvendorlib=/usr/share/perl5 -Dvendorarch=/usr/lib/x86_64-linux-gnu/perl5/5.22 -Dsiteprefix=/usr/local -Dsitelib=/usr/local/share/perl/5.22.1 -Dsitearch=/usr/local/lib/x86_64-linux-gnu/perl/5.22.1 -Dman1dir=/usr/share/man/man1 -Dman3dir=/usr/share/man/man3 -Dsiteman1dir=/usr/local/man/man1 -Dsiteman3dir=/usr/local/man/man3 -Duse64bitint -Dman1ext=1 -Dman3ext=3perl -Dpager=/usr/bin/sensible-pager -Uafs -Ud_csh -Ud_ualarm -Uusesfio -Uusenm -Ui_libutil -Uversiononly -DDEBUGGING=-g -Doptimize=-O2 -dEs -Duseshrplib -Dlibperl=libperl.so.5.22.1'
    hint=recommended, useposix=true, d_sigaction=define
    useithreads=define, usemultiplicity=define
    use64bitint=define, use64bitall=define, uselongdouble=undef
    usemymalloc=n, bincompat5005=undef
  Compiler:
    cc='x86_64-linux-gnu-gcc', ccflags ='-D_REENTRANT -D_GNU_SOURCE -DDEBIAN -fwrapv -fno-strict-aliasing -pipe -I/usr/local/include -D_LARGEFILE_SOURCE -D_FILE_OFFSET_BITS=64',
    optimize='-O2 -g',
    cppflags='-D_REENTRANT -D_GNU_SOURCE -DDEBIAN -fwrapv -fno-strict-aliasing -pipe -I/usr/local/include'
    ccversion='', gccversion='5.4.0 20160609', gccosandvers=''
    intsize=4, longsize=8, ptrsize=8, doublesize=8, byteorder=12345678, doublekind=3
    d_longlong=define, longlongsize=8, d_longdbl=define, longdblsize=16, longdblkind=3
    ivtype='long', ivsize=8, nvtype='double', nvsize=8, Off_t='off_t', lseeksize=8
    alignbytes=8, prototype=define
  Linker and Libraries:
    ld='x86_64-linux-gnu-gcc', ldflags =' -fstack-protector-strong -L/usr/local/lib'
    libpth=/usr/local/lib /usr/lib/gcc/x86_64-linux-gnu/5/include-fixed /usr/include/x86_64-linux-gnu /usr/lib /lib/x86_64-linux-gnu /lib/../lib /usr/lib/x86_64-linux-gnu /usr/lib/../lib /lib
    libs=-lgdbm -lgdbm_compat -ldb -ldl -lm -lpthread -lc -lcrypt
    perllibs=-ldl -lm -lpthread -lc -lcrypt
    libc=libc-2.23.so, so=so, useshrplib=true, libperl=libperl.so.5.22
    gnulibc_version='2.23'
  Dynamic Linking:
    dlsrc=dl_dlopen.xs, dlext=so, d_dlsymun=undef, ccdlflags='-Wl,-E'
    cccdlflags='-fPIC', lddlflags='-shared -L/usr/local/lib -fstack-protector-strong'


Characteristics of this binary (from libperl): 
  Compile-time options: HAS_TIMES MULTIPLICITY PERLIO_LAYERS
                        PERL_DONT_CREATE_GVSV
                        PERL_HASH_FUNC_ONE_AT_A_TIME_HARD
                        PERL_IMPLICIT_CONTEXT PERL_MALLOC_WRAP
                        PERL_NEW_COPY_ON_WRITE PERL_PRESERVE_IVUV
                        USE_64_BIT_ALL USE_64_BIT_INT USE_ITHREADS
                        USE_LARGE_FILES USE_LOCALE USE_LOCALE_COLLATE
                        USE_LOCALE_CTYPE USE_LOCALE_NUMERIC USE_LOCALE_TIME
                        USE_PERLIO USE_PERL_ATOF USE_REENTRANT_API
  Locally applied patches:
	DEBPKG:debian/cpan_definstalldirs - Provide a sensible INSTALLDIRS default for modules installed from CPAN.
	DEBPKG:debian/db_file_ver - http://bugs.debian.org/340047 Remove overly restrictive DB_File version check.
	DEBPKG:debian/doc_info - Replace generic man(1) instructions with Debian-specific information.
	DEBPKG:debian/enc2xs_inc - http://bugs.debian.org/290336 Tweak enc2xs to follow symlinks and ignore missing @INC directories.
	DEBPKG:debian/errno_ver - http://bugs.debian.org/343351 Remove Errno version check due to upgrade problems with long-running processes.
	DEBPKG:debian/libperl_embed_doc - http://bugs.debian.org/186778 Note that libperl-dev package is required for embedded linking
	DEBPKG:fixes/respect_umask - Respect umask during installation
	DEBPKG:debian/writable_site_dirs - Set umask approproately for site install directories
	DEBPKG:debian/extutils_set_libperl_path - EU:MM: set location of libperl.a under /usr/lib
	DEBPKG:debian/no_packlist_perllocal - Don't install .packlist or perllocal.pod for perl or vendor
	DEBPKG:debian/fakeroot - Postpone LD_LIBRARY_PATH evaluation to the binary targets.
	DEBPKG:debian/instmodsh_doc - Debian policy doesn't install .packlist files for core or vendor.
	DEBPKG:debian/ld_run_path - Remove standard libs from LD_RUN_PATH as per Debian policy.
	DEBPKG:debian/libnet_config_path - Set location of libnet.cfg to /etc/perl/Net as /usr may not be writable.
	DEBPKG:debian/mod_paths - Tweak @INC ordering for Debian
	DEBPKG:debian/prune_libs - http://bugs.debian.org/128355 Prune the list of libraries wanted to what we actually need.
	DEBPKG:fixes/net_smtp_docs - [rt.cpan.org #36038] http://bugs.debian.org/100195 Document the Net::SMTP 'Port' option
	DEBPKG:debian/perlivp - http://bugs.debian.org/510895 Make perlivp skip include directories in /usr/local
	DEBPKG:debian/deprecate-with-apt - http://bugs.debian.org/747628 Point users to Debian packages of deprecated core modules
	DEBPKG:debian/squelch-locale-warnings - http://bugs.debian.org/508764 Squelch locale warnings in Debian package maintainer scripts
	DEBPKG:debian/skip-upstream-git-tests - Skip tests specific to the upstream Git repository
	DEBPKG:debian/patchlevel - http://bugs.debian.org/567489 List packaged patches for 5.22.1-9ubuntu0.6 in patchlevel.h
	DEBPKG:debian/skip-kfreebsd-crash - http://bugs.debian.org/628493 [perl #96272] Skip a crashing test case in t/op/threads.t on GNU/kFreeBSD
	DEBPKG:fixes/document_makemaker_ccflags - http://bugs.debian.org/628522 [rt.cpan.org #68613] Document that CCFLAGS should include $Config{ccflags}
	DEBPKG:debian/find_html2text - http://bugs.debian.org/640479 Configure CPAN::Distribution with correct name of html2text
	DEBPKG:debian/perl5db-x-terminal-emulator.patch - http://bugs.debian.org/668490 Invoke x-terminal-emulator rather than xterm in perl5db.pl
	DEBPKG:debian/cpan-missing-site-dirs - http://bugs.debian.org/688842 Fix CPAN::FirstTime defaults with nonexisting site dirs if a parent is writable
	DEBPKG:fixes/memoize_storable_nstore - [rt.cpan.org #77790] http://bugs.debian.org/587650 Memoize::Storable: respect 'nstore' option not respected
	DEBPKG:debian/regen-skip - Skip a regeneration check in unrelated git repositories
	DEBPKG:debian/makemaker-pasthru - http://bugs.debian.org/758471 Pass LD settings through to subdirectories
	DEBPKG:fixes/pod_man_reproducible_date - http://bugs.debian.org/759405 Support POD_MAN_DATE in Pod::Man for the left-hand footer
	DEBPKG:debian/locale-robustness - http://bugs.debian.org/782068 [perl #124310] Make t/run/locale.t survive missing locales masked by LC_ALL
	DEBPKG:fixes/podman-utc - http://bugs.debian.org/780259 Make the embedded date from Pod::Man reproducible
	DEBPKG:fixes/podman-utc-docs - http://bugs.debian.org/780259 Documentation and test suite updates for UTC fix
	DEBPKG:fixes/podman-empty-date - http://bugs.debian.org/780259 Support an empty POD_MAN_DATE environment variable
	DEBPKG:fixes/podman-pipe - http://bugs.debian.org/777405 Better errors for man pages from standard input
	DEBPKG:debian/pod2man-customized - Update porting/customized.dat for pod2man modifications
	DEBPKG:debian/makemaker-manext - http://bugs.debian.org/247370 Make EU::MakeMaker honour MANnEXT settings in generated manpage headers
	DEBPKG:debian/makemaker_customized - Update t/porting/customized.dat for files patched in Debian
	DEBPKG:debian/do-not-record-build-date - [6baa8db] http://bugs.debian.org/774422 [perl #125830] Allow overriding the compile time in "perl -V" output
	DEBPKG:fixes/podman-source-date-epoch - http://bugs.debian.org/801621 Make Pod::Man honor the SOURCE_DATE_EPOCH environment variable
	DEBPKG:fixes/podman-source-date-epoch-cleanups - http://bugs.debian.org/801621 Coding style and documentation for SOURCE_EPOCH_DATE
	DEBPKG:fixes/podman-source-date-epoch-testfix - http://bugs.debian.org/807086 Guard for building with SOURCE_DATE_EPOCH or POD_MAN_DATE set
	DEBPKG:debian/devel-ppport-reproducibility - http://bugs.debian.org/801523 Sort the list of XS code files when generating RealPPPort.xs
	DEBPKG:fixes/encode-unicode-bom - http://bugs.debian.org/798727 [rt.cpan.org #107043] Address https://rt.cpan.org/Public/Bug/Display.html?id=107043
	DEBPKG:debian/encode-unicode-bom-doc - http://bugs.debian.org/798727 Document Debian backport of Encode::Unicode fix
	DEBPKG:debian/kfreebsd-softupdates - http://bugs.debian.org/796798 Work around Debian Bug#796798
	DEBPKG:fixes/autodie-scope - http://bugs.debian.org/798096 Fix a scoping issue with "no autodie" and the "system" sub
	DEBPKG:debian/debugperl-compat-fix - [perl #127212] http://bugs.debian.org/810326 Disable PERL_TRACK_MEMPOOL for debugging builds
	DEBPKG:fixes/CVE-2015-8607_file_spec_taint_fix - http://bugs.debian.org/810719 [perl #126862] ensure File::Spec::canonpath() preserves taint
	DEBPKG:fixes/mkstemp-umask - http://bugs.debian.org/810924 [perl #127322] [e57270b] Fix umask for mkstemp(3) calls
	DEBPKG:fixes/crosscompile-no-targethost - [perl #127234] Fix the Configure escape with usecrosscompile but no targethost
	DEBPKG:fixes/podlators-no-encode - [rt.cpan.org #111156] Degrade gracefully if utf8 is requested but Encode is not available
	DEBPKG:debian/cross-time-hires - [rt.cpan.org #111391] Add an environment variable to skip running configuration probes
	DEBPKG:fixes/encode-unicode-pod - Unicode.pm: Fix POD error
	DEBPKG:fixes/memoize-pod - [rt.cpan.org #89441] Fix POD errors in Memoize
	DEBPKG:fixes/ok-pod - Added encoding for pod.
	DEBPKG:fixes/CVE-2016-2381_duplicate_env - remove duplicate environment variables from environ
	DEBPKG:fixes/CVE-2017-12837.patch - [PATCH] regcomp [perl #131582]
	DEBPKG:fixes/CVE-2017-12883.patch - [PATCH] PATCH: [perl #131598]
	DEBPKG:fixes/CVE-2016-6185.patch - [PATCH] =?utf8?q?Don=E2=80=99t=20let=20XSLoader=20load=20relative?= =?utf8?q?=20paths?=
	DEBPKG:fixes/CVE-2017-6512-pre.patch - [PATCH] Correct the order of tests of chmod(). (#294)
	DEBPKG:fixes/CVE-2017-6512.patch - http://bugs.debian.org/863870 [rt.cpan.org #121951] Prevent directory chmod race attack.
	DEBPKG:fixes/CVE-2018-6797.patch - (perl #132227) restart a node if we change to uni rules within the node and encounter a sharp S
	DEBPKG:fixes/CVE-2018-6798-1.patch - [perl #132063]: Heap buffer overflow
	DEBPKG:fixes/CVE-2018-6798-2.patch - v5.24.3: fix TRIE_READ_CHAR and DECL_TRIE_TYPE to account for non-utf8 target
	DEBPKG:fixes/CVE-2018-6798-3.patch - (perl #132063) we should no longer warn for this code
	DEBPKG:fixes/CVE-2018-6913.patch - (perl #131844) fix various space calculation issues in pp_pack.c
	DEBPKG:fixes/CVE-2018-12015.patch - [PATCH] [PATCH] Remove existing files before overwriting them
	DEBPKG:fixes/CVE-2018-18311.patch - [PATCH] Perl_my_setenv(); handle integer wrap
	DEBPKG:fixes/CVE-2018-18312.patch - [PATCH 242/242] PATCH: [perl #133423] for 5.26 maint
	DEBPKG:fixes/CVE-2018-18313.patch - [PATCH] regcomp.c: Convert some strchr to memchr
	DEBPKG:fixes/CVE-2018-18314.patch - [PATCH] fix #131649 - extended charclass can trigger assert
  Built under linux
  Compiled at Nov 19 2018 18:29:35
  %ENV:
    PERL5LIB="/home/cpansand/.cpan/build/2020062918/Devel-Hide-0.0013-b50H2F/blib/arch:/home/cpansand/.cpan/build/2020062918/Devel-Hide-0.0013-b50H2F/blib/lib:/home/cpansand/.cpan/build/2020062918/HTTP-CookieJar-0.008-2eNF4c/blib/arch:/home/cpansand/.cpan/build/2020062918/HTTP-CookieJar-0.008-2eNF4c/blib/lib:/home/cpansand/.cpan/build/2020062918/Test-Requires-0.11-5c1fFl/blib/arch:/home/cpansand/.cpan/build/2020062918/Test-Requires-0.11-5c1fFl/blib/lib:/home/cpansand/.cpan/build/2020062918/Data-Dump-1.23-IB1D4V/blib/arch:/home/cpansand/.cpan/build/2020062918/Data-Dump-1.23-IB1D4V/blib/lib:/home/cpansand/.cpan/build/2020062918/Hash-Merge-Simple-0.051-vRndox/blib/arch:/home/cpansand/.cpan/build/2020062918/Hash-Merge-Simple-0.051-vRndox/blib/lib:/home/cpansand/.cpan/build/2020062918/HTTP-Server-Simple-PSGI-0.16-t4ZTf9/blib/arch:/home/cpansand/.cpan/build/2020062918/HTTP-Server-Simple-PSGI-0.16-t4ZTf9/blib/lib:/home/cpansand/.cpan/build/2020062918/Test-NoWarnings-1.04-YwYrWL/blib/arch:/home/cpansand/.cpan/build/2020062918/Test-NoWarnings-1.04-YwYrWL/blib/lib"
    PERL5OPT=""
    PERL5_CPANPLUS_IS_RUNNING="28903"
    PERL5_CPAN_IS_RUNNING="28903"
    PERL5_CPAN_IS_RUNNING_IN_RECURSION="29760,28903"
    PERLDOC="-MPod::Perldoc::ToTextOverstrike"
    PERL_BATCH="yes"
    PERL_CANARY_STABILITY_NOPROMPT="1"
    PERL_CPAN_REPORTER_CONFIG="/var/tmp/cpansmoker-1023/2020062917/cpanreporter_000_config.ini"
    PERL_EXTUTILS_AUTOINSTALL="--defaultdeps"
  @INC:
    /home/cpansand/.cpan/build/2020062918/Devel-Hide-0.0013-b50H2F/blib/arch
    /home/cpansand/.cpan/build/2020062918/Devel-Hide-0.0013-b50H2F/blib/lib
    /home/cpansand/.cpan/build/2020062918/HTTP-CookieJar-0.008-2eNF4c/blib/arch
    /home/cpansand/.cpan/build/2020062918/HTTP-CookieJar-0.008-2eNF4c/blib/lib
    /home/cpansand/.cpan/build/2020062918/Test-Requires-0.11-5c1fFl/blib/arch
    /home/cpansand/.cpan/build/2020062918/Test-Requires-0.11-5c1fFl/blib/lib
    /home/cpansand/.cpan/build/2020062918/Data-Dump-1.23-IB1D4V/blib/arch
    /home/cpansand/.cpan/build/2020062918/Data-Dump-1.23-IB1D4V/blib/lib
    /home/cpansand/.cpan/build/2020062918/Hash-Merge-Simple-0.051-vRndox/blib/arch
    /home/cpansand/.cpan/build/2020062918/Hash-Merge-Simple-0.051-vRndox/blib/lib
    /home/cpansand/.cpan/build/2020062918/HTTP-Server-Simple-PSGI-0.16-t4ZTf9/blib/arch
    /home/cpansand/.cpan/build/2020062918/HTTP-Server-Simple-PSGI-0.16-t4ZTf9/blib/lib
    /home/cpansand/.cpan/build/2020062918/Test-NoWarnings-1.04-YwYrWL/blib/arch
    /home/cpansand/.cpan/build/2020062918/Test-NoWarnings-1.04-YwYrWL/blib/lib
    /etc/perl
    /usr/local/lib/x86_64-linux-gnu/perl/5.22.1
    /usr/local/share/perl/5.22.1
    /usr/lib/x86_64-linux-gnu/perl5/5.22
    /usr/share/perl5
    /usr/lib/x86_64-linux-gnu/perl/5.22
    /usr/share/perl/5.22
    /usr/local/lib/site_perl
    /usr/lib/x86_64-linux-gnu/perl-base
    .