HTML-DOM v0.058 Perl 5 v5.28.0 darwin-2level

Status
Pass
From
Roland van Ipenburg (IPENBURG)
Dist
HTML-DOM v0.058
Platform
Perl 5 v5.28.0 darwin-2level
Date
2018-11-29 19:41:53
ID
d2d027ca-f40e-11e8-afa8-f8a8a6d771f8
This distribution has been tested as part of the CPAN Testers
project, supporting the Perl programming language.  See
http://wiki.cpantesters.org/ for more information or email
questions to cpan-testers-discuss@perl.org


--
Dear Father Chrysostomos,

This is a computer-generated report for HTML-DOM-0.058
on perl 5.28.0, created by CPAN-Reporter-1.2018.

Thank you for uploading your work to CPAN.  Congratulations!
All tests were successful.

Sections of this report:

    * Tester comments
    * Program output
    * Prerequisites
    * Environment and other context

------------------------------
TESTER COMMENTS
------------------------------

Additional comments from tester:

none provided

------------------------------
PROGRAM OUTPUT
------------------------------

Output from '/usr/bin/make test':

PERL_DL_NONLAZY=1 "/usr/local/bin/perl" "-MExtUtils::Command::MM" "-MTest::Harness" "-e" "undef *Test::Harness::Switches; test_harness(0, 'blib/lib', 'blib/arch')" t/*.t
t/attr.t ...................... ok
t/char-data.t ................. ok
t/collection.t ................ ok
t/comment.t ................... ok
t/css.t ....................... ok
t/document.t .................. ok
t/dustbin-man.t ............... ok
t/element.t ................... ok
t/event-basics.t .............. ok
t/event-target.t .............. ok
t/exception.t ................. ok
t/form-charset.t .............. ok
t/form-element.t .............. ok
t/fragment.t .................. ok
t/html-document.t ............. ok
t/html-dom-element-require.t .. ok
t/html-dom-interface.t ........ ok
t/html-dom.t .................. ok
t/html-element.t .............. ok
t/html-form.t ................. ok
t/implementation.t ............ ok
t/mouse-events.t .............. ok
t/mutation-events.t ........... ok
t/named-node-map.t ............ ok
t/node-list.t ................. ok
t/node.t ...................... ok
t/tables.t .................... ok
t/text.t ...................... ok
t/tree-builder.t .............. ok
t/uievents.t .................. ok
t/views.t ..................... ok
All tests successful.
Files=31, Tests=3310,  6 wallclock secs ( 0.38 usr  0.10 sys +  5.39 cusr  0.63 csys =  6.50 CPU)
Result: PASS

------------------------------
PREREQUISITES
------------------------------

Prerequisite modules loaded:

requires:

    Module                   Need Have    
    ------------------------ ---- --------
    Carp                     0    1.50    
    constant                 1.03 1.33    
    CSS::DOM                 0.07 0.17    
    CSS::DOM::Style          0.05 0.17    
    CSS::DOM::StyleSheetList 0    0.17    
    Date::Format             0    2.24    
    Exporter                 5.57 5.73    
    HTML::Encoding           0    0.61    
    HTML::Parser             3    3.72    
    HTML::Tagset             0    3.20    
    HTTP::Headers            1.59 6.18    
    HTTP::Headers::Util      0    6.18    
    HTTP::Message            1.34 6.18    
    HTTP::Request            0    6.18    
    HTTP::Request::Common    0    6.18    
    HTTP::Response           0    6.18    
    overload                 0    1.30    
    Scalar::Util             1.14 1.50    
    strict                   0    1.11    
    Test::More               0    1.302140
    URI                      0    1.74    
    utf8                     0    1.21    
    warnings                 0    1.42    

build_requires:

    Module                   Need Have    
    ------------------------ ---- --------
    ExtUtils::MakeMaker      0    7.34    

configure_requires:

    Module                   Need Have    
    ------------------------ ---- --------
    ExtUtils::MakeMaker      0    7.34    


------------------------------
ENVIRONMENT AND OTHER CONTEXT
------------------------------

Environment variables:

    LANG = en_US.UTF-8
    LC_ALL = en_US.UTF-8
    LC_CTYPE = UTF-8
    PATH = /usr/local/bin:/usr/bin:/bin
    PERL5LIB = 
    PERL5OPT = 
    PERL5_CPANPLUS_IS_RUNNING = 44867
    PERL5_CPAN_IS_RUNNING = 44867
    PERL_USE_UNSAFE_INC = 1
    SHELL = /bin/sh
    TERM = xterm-256color

Perl special variables (and OS-specific diagnostics, for MSWin32):

    $^X = /usr/local/bin/perl
    $UID/$EUID = 0 / 0
    $GID = 0 0 1 2 3 4 5 8 9 12 20 29 61 80 33 98 100
    $EGID = 0 0 1 2 3 4 5 8 9 12 20 29 61 80 33 98 100

Perl module toolchain versions installed:

    Module              Have    
    ------------------- --------
    CPAN                2.20    
    CPAN::Meta          2.150010
    Cwd                 3.75    
    ExtUtils::CBuilder  0.280230
    ExtUtils::Command   7.34    
    ExtUtils::Install   2.14    
    ExtUtils::MakeMaker 7.34    
    ExtUtils::Manifest  1.71    
    ExtUtils::ParseXS   3.39    
    File::Spec          3.75    
    JSON                2.97001 
    JSON::PP            2.97001 
    Module::Build       0.4224  
    Module::Signature   0.83    
    Parse::CPAN::Meta   2.150010
    Test::Harness       3.42    
    Test::More          1.302140
    YAML                1.25    
    YAML::Syck          n/a     
    version             0.9924  


--

Summary of my perl5 (revision 5 version 28 subversion 0) configuration:
   
  Platform:
    osname=darwin
    osvers=18.2.0
    archname=darwin-2level
    uname='darwin brooklyn.fritz.box 18.2.0 darwin kernel version 18.2.0: fri oct 5 19:41:49 pdt 2018; root:xnu-4903.221.2~2release_x86_64 x86_64 '
    config_args='-des Dinc_version_list=none'
    hint=recommended
    useposix=true
    d_sigaction=define
    useithreads=undef
    usemultiplicity=undef
    use64bitint=define
    use64bitall=define
    uselongdouble=undef
    usemymalloc=n
    default_inc_excludes_dot=define
    bincompat5005=undef
  Compiler:
    cc='cc'
    ccflags ='-fno-common -DPERL_DARWIN -mmacosx-version-min=10.14 -fno-strict-aliasing -pipe -fstack-protector-strong -I/usr/local/include -I/opt/local/include -DPERL_USE_SAFE_PUTENV'
    optimize='-O3'
    cppflags='-fno-common -DPERL_DARWIN -mmacosx-version-min=10.14 -fno-strict-aliasing -pipe -fstack-protector-strong -I/usr/local/include -I/opt/local/include'
    ccversion=''
    gccversion='4.2.1 Compatible Apple LLVM 10.0.0 (clang-1000.11.45.5)'
    gccosandvers=''
    intsize=4
    longsize=8
    ptrsize=8
    doublesize=8
    byteorder=12345678
    doublekind=3
    d_longlong=define
    longlongsize=8
    d_longdbl=define
    longdblsize=16
    longdblkind=3
    ivtype='long'
    ivsize=8
    nvtype='double'
    nvsize=8
    Off_t='off_t'
    lseeksize=8
    alignbytes=8
    prototype=define
  Linker and Libraries:
    ld='cc'
    ldflags =' -mmacosx-version-min=10.14 -fstack-protector-strong -L/usr/local/lib -L/opt/local/lib'
    libpth=/Applications/Xcode.app/Contents/Developer/Toolchains/XcodeDefault.xctoolchain/usr/lib/clang/10.0.0/lib /Applications/Xcode.app/Contents/Developer/Toolchains/XcodeDefault.xctoolchain/usr/lib /Applications/Xcode.app/Contents/Developer/Platforms/MacOSX.platform/Developer/SDKs/MacOSX.sdk/usr/lib /usr/local/lib /opt/local/lib /usr/lib
    libs=-lpthread -lgdbm -ldbm -ldl -lm -lutil -lc
    perllibs=-lpthread -ldl -lm -lutil -lc
    libc=
    so=dylib
    useshrplib=false
    libperl=libperl.a
    gnulibc_version=''
  Dynamic Linking:
    dlsrc=dl_dlopen.xs
    dlext=bundle
    d_dlsymun=undef
    ccdlflags=' '
    cccdlflags=' '
    lddlflags=' -mmacosx-version-min=10.14 -bundle -undefined dynamic_lookup -L/usr/local/lib -L/opt/local/lib -fstack-protector-strong'


Characteristics of this binary (from libperl): 
  Compile-time options:
    HAS_TIMES
    PERLIO_LAYERS
    PERL_COPY_ON_WRITE
    PERL_DONT_CREATE_GVSV
    PERL_MALLOC_WRAP
    PERL_OP_PARENT
    PERL_PRESERVE_IVUV
    PERL_USE_SAFE_PUTENV
    USE_64_BIT_ALL
    USE_64_BIT_INT
    USE_LARGE_FILES
    USE_LOCALE
    USE_LOCALE_COLLATE
    USE_LOCALE_CTYPE
    USE_LOCALE_NUMERIC
    USE_LOCALE_TIME
    USE_PERLIO
    USE_PERL_ATOF
  Built under darwin
  Compiled at Nov 28 2018 21:57:25
  %ENV:
    PERL5LIB=""
    PERL5OPT=""
    PERL5_CPANPLUS_IS_RUNNING="44867"
    PERL5_CPAN_IS_RUNNING="44867"
    PERL_USE_UNSAFE_INC="1"
  @INC:
    /usr/local/lib/perl5/site_perl/5.28.0/darwin-2level
    /usr/local/lib/perl5/site_perl/5.28.0
    /usr/local/lib/perl5/5.28.0/darwin-2level
    /usr/local/lib/perl5/5.28.0
    /usr/local/lib/perl5/site_perl/5.26.0
    /usr/local/lib/perl5/site_perl/5.24.1
    /usr/local/lib/perl5/site_perl/5.24.0
    /usr/local/lib/perl5/site_perl/5.22.0
    /usr/local/lib/perl5/site_perl/5.21.6
    /usr/local/lib/perl5/site_perl/5.20.2
    /usr/local/lib/perl5/site_perl/5.20.1
    /usr/local/lib/perl5/site_perl/5.20.0
    /usr/local/lib/perl5/site_perl/5.18.1
    /usr/local/lib/perl5/site_perl/5.18.0
    /usr/local/lib/perl5/site_perl/5.16.3
    /usr/local/lib/perl5/site_perl/5.16.1
    /usr/local/lib/perl5/site_perl/5.16.0
    /usr/local/lib/perl5/site_perl
    .