Report for POE-1.367

Back
From: metabase:user:fcf99560-6bf4-1014-86b3-1cf189224fdf
Subject: PASS POE-1.367 v5.24.0 Mac OS X
Date: 2016-06-02T11:19:08Z

This distribution has been tested as part of the CPAN Testers
project, supporting the Perl programming language.  See
http://wiki.cpantesters.org/ for more information or email
questions to cpan-testers-discuss@perl.org


--
Dear Rocco Caputo,

This is a computer-generated report for POE-1.367
on perl 5.24.0, created by CPAN-Reporter-1.2017.

Thank you for uploading your work to CPAN.  Congratulations!
All tests were successful.

Sections of this report:

    * Tester comments
    * Program output
    * Prerequisites
    * Environment and other context

------------------------------
TESTER COMMENTS
------------------------------

Additional comments from tester:

this report is from an automated smoke testing program
and was not reviewed by a human for accuracy

------------------------------
PROGRAM OUTPUT
------------------------------

Output from '/usr/bin/make test':

"/Users/michiel/.plenv/versions/5.24.0/bin/perl5.24.0" mylib/gen-tests.perl lib/POE.pm
PERL_DL_NONLAZY=1 "/Users/michiel/.plenv/versions/5.24.0/bin/perl5.24.0" "-MExtUtils::Command::MM" "-MTest::Harness" "-e" "undef *Test::Harness::Switches; test_harness(0, 'blib/lib', 'blib/arch')" t/*.t t/*/*.t t/*/*/*.t
# Testing POE 1.367, POE::Test::Loops 1.360, Perl 5.024000, /Users/michiel/.plenv/versions/5.24.0/bin/perl5.24.0 on darwin
# pogomips: 30885584
t/00_info.t ........................................ ok
t/10_units/01_pod/01_pod.t ......................... skipped: enable by setting RELEASE_TESTING
t/10_units/01_pod/02_pod_coverage.t ................ skipped: enable by setting RELEASE_TESTING
t/10_units/01_pod/03_pod_no404s.t .................. skipped: enable by setting RELEASE_TESTING
t/10_units/01_pod/04_pod_linkcheck.t ............... skipped: enable by setting RELEASE_TESTING
t/10_units/02_pipes/01_base.t ...................... skipped: not implemented yet
t/10_units/02_pipes/02_oneway.t .................... ok
t/10_units/02_pipes/03_twoway.t .................... ok
t/10_units/03_base/01_poe.t ........................ ok
t/10_units/03_base/03_component.t .................. ok
t/10_units/03_base/04_driver.t ..................... ok
t/10_units/03_base/05_filter.t ..................... ok
t/10_units/03_base/06_loop.t ....................... ok
t/10_units/03_base/07_queue.t ...................... ok
t/10_units/03_base/08_resource.t ................... ok
t/10_units/03_base/09_resources.t .................. ok
t/10_units/03_base/10_wheel.t ...................... ok
t/10_units/03_base/11_assert_usage.t ............... ok
t/10_units/03_base/12_assert_retval.t .............. ok
t/10_units/03_base/13_assert_data.t ................ ok
t/10_units/03_base/14_kernel.t ..................... ok
t/10_units/03_base/15_kernel_internal.t ............ ok
t/10_units/03_base/16_nfa_usage.t .................. ok
t/10_units/03_base/17_detach_start.t ............... ok
t/10_units/04_drivers/01_sysrw.t ................... ok
t/10_units/05_filters/01_block.t ................... ok
t/10_units/05_filters/02_grep.t .................... ok
Downgrading wide characters in HTTP header. Consider installing Email::MIME::RFC2047::Encoder at /Users/michiel/.cpan/build/POE-1.367-JPGJiE/blib/lib/POE/Filter/HTTPD.pm line 73.
	POE::Filter::HTTPD::__ANON__("En \x{e9}t\x{e9}") called at /Users/michiel/.cpan/build/POE-1.367-JPGJiE/blib/lib/POE/Filter/HTTPD.pm line 449
	POE::Filter::HTTPD::headers_as_strings(POE::Filter::HTTPD=ARRAY(0x7fb082920a78), HTTP::Headers=HASH(0x7fb08291fa90), "\x{d}\x{a}") called at /Users/michiel/.cpan/build/POE-1.367-JPGJiE/blib/lib/POE/Filter/HTTPD.pm line 411
	POE::Filter::HTTPD::put(POE::Filter::HTTPD=ARRAY(0x7fb082920a78), ARRAY(0x7fb082920dd8)) called at t/10_units/05_filters/03_http.t line 426
t/10_units/05_filters/03_http.t .................... ok
t/10_units/05_filters/04_line.t .................... ok
t/10_units/05_filters/05_map.t ..................... ok
t/10_units/05_filters/06_recordblock.t ............. ok
t/10_units/05_filters/07_reference.t ............... ok
t/10_units/05_filters/08_stream.t .................. ok
t/10_units/05_filters/50_stackable.t ............... ok
t/10_units/05_filters/51_reference_die.t ........... skipped: YAML module not available
t/10_units/05_filters/99_filterchange.t ............ ok
t/10_units/06_queues/01_array.t .................... ok
t/10_units/07_exceptions/01_normal.t ............... ok
t/10_units/07_exceptions/02_turn_off.t ............. ok
t/10_units/07_exceptions/03_not_handled.t .......... ok
t/10_units/08_loops/01_explicit_loop.t ............. ok
t/10_units/08_loops/02_explicit_loop_fail.t ........ ok
t/10_units/08_loops/03_explicit_loop_poll.t ........ ok
t/10_units/08_loops/04_explicit_loop_envvar.t ...... ok
t/10_units/08_loops/05_kernel_loop.t ............... ok
t/10_units/08_loops/06_kernel_loop_poll.t .......... ok
t/10_units/08_loops/07_kernel_loop_fail.t .......... ok
t/10_units/08_loops/08_kernel_loop_search_poll.t ... ok
t/10_units/08_loops/09_naive_loop_load.t ........... ok
t/10_units/08_loops/10_naive_loop_load_poll.t ...... ok
t/10_units/08_loops/11_double_loop.t ............... ok
t/20_resources/10_perl/aliases.t ................... ok
t/20_resources/10_perl/caller_state.t .............. ok
t/20_resources/10_perl/events.t .................... ok
t/20_resources/10_perl/extrefs.t ................... ok
t/20_resources/10_perl/extrefs_gc.t ................ ok
t/20_resources/10_perl/filehandles.t ............... ok
t/20_resources/10_perl/sessions.t .................. ok
t/20_resources/10_perl/sids.t ...................... ok
t/20_resources/10_perl/signals.t ................... ok
# Testing POE 1.367, POE::Test::Loops 1.360, Using Loop(POE::Loop::IO_Poll), Perl 5.024000, /Users/michiel/.plenv/versions/5.24.0/bin/perl5.24.0 on darwin
t/30_loops/io_poll/00_info.t ....................... ok
t/30_loops/io_poll/all_errors.t .................... skipped: most of these should move into other test files
t/30_loops/io_poll/comp_tcp.t ...................... ok
# You might see a 'disconnect' error during this test.
# It may be ignored.
t/30_loops/io_poll/comp_tcp_concurrent.t ........... ok
t/30_loops/io_poll/connect_errors.t ................ ok
t/30_loops/io_poll/k_alarms.t ...................... ok
t/30_loops/io_poll/k_aliases.t ..................... ok
t/30_loops/io_poll/k_detach.t ...................... ok
t/30_loops/io_poll/k_run_returns.t ................. ok
t/30_loops/io_poll/k_selects.t ..................... ok
t/30_loops/io_poll/k_sig_child.t ................... ok
t/30_loops/io_poll/k_signals.t ..................... ok
t/30_loops/io_poll/k_signals_rerun.t ............... ok
t/30_loops/io_poll/sbk_signal_init.t ............... ok
t/30_loops/io_poll/ses_nfa.t ....................... ok
# This test generates some STDERR during trace testing.
=== 10477 === 23 -> _start (from /Users/michiel/.cpan/build/POE-1.367-JPGJiE/blib/lib/POE/Kernel.pm at 1497)
=== 10477 === 23 -> woot (from /Users/michiel/.cpan/build/POE-Test-Loops-1.360-dh9KLd/blib/lib/POE/Test/Loops/ses_session.pm at 691)
=== 10477 === 23 -> narf (from /Users/michiel/.cpan/build/POE-Test-Loops-1.360-dh9KLd/blib/lib/POE/Test/Loops/ses_session.pm at 692)
=== 10477 === 23 -> _stop (from /Users/michiel/.cpan/build/POE-1.367-JPGJiE/blib/lib/POE/Resource/Sessions.pm at 571)
t/30_loops/io_poll/ses_session.t ................... ok
t/30_loops/io_poll/wheel_accept.t .................. ok
t/30_loops/io_poll/wheel_curses.t .................. skipped: Curses not available
t/30_loops/io_poll/wheel_readline.t ................ ok
t/30_loops/io_poll/wheel_readwrite.t ............... ok
t/30_loops/io_poll/wheel_run.t ..................... ok
t/30_loops/io_poll/wheel_run_size.t ................ skipped: This test requires Term::Size
t/30_loops/io_poll/wheel_sf_ipv6.t ................. skipped: Socket::GetAddrInfo is needed for IPv6 tests
t/30_loops/io_poll/wheel_sf_tcp.t .................. ok
t/30_loops/io_poll/wheel_sf_udp.t .................. ok
t/30_loops/io_poll/wheel_sf_unix.t ................. ok
t/30_loops/io_poll/wheel_tail.t .................... ok
t/30_loops/io_poll/z_kogman_sig_order.t ............ ok
t/30_loops/io_poll/z_leolo_wheel_run.t ............. ok
# Using '/usr/bin/true' as our thing to run under system()
t/30_loops/io_poll/z_merijn_sigchld_system.t ....... ok
t/30_loops/io_poll/z_rt39872_sigchld.t ............. ok
# Parent 10580 waiting 3sec for slow systems to settle.
# sending sigusr1
# sent sigusr1
t/30_loops/io_poll/z_rt39872_sigchld_stop.t ........ ok
t/30_loops/io_poll/z_rt53302_fh_watchers.t ......... ok
t/30_loops/io_poll/z_rt54319_bazerka_followtail.t .. ok
t/30_loops/io_poll/z_steinert_signal_integrity.t ... ok
# Testing POE 1.367, POE::Test::Loops 1.360, Using Loop(POE::Loop::Select), Perl 5.024000, /Users/michiel/.plenv/versions/5.24.0/bin/perl5.24.0 on darwin
t/30_loops/select/00_info.t ........................ ok
t/30_loops/select/all_errors.t ..................... skipped: most of these should move into other test files
t/30_loops/select/comp_tcp.t ....................... ok
# You might see a 'disconnect' error during this test.
# It may be ignored.
t/30_loops/select/comp_tcp_concurrent.t ............ ok
t/30_loops/select/connect_errors.t ................. ok
t/30_loops/select/k_alarms.t ....................... ok
t/30_loops/select/k_aliases.t ...................... ok
t/30_loops/select/k_detach.t ....................... ok
t/30_loops/select/k_run_returns.t .................. ok
t/30_loops/select/k_selects.t ...................... ok
t/30_loops/select/k_sig_child.t .................... ok
t/30_loops/select/k_signals.t ...................... ok
t/30_loops/select/k_signals_rerun.t ................ ok
t/30_loops/select/sbk_signal_init.t ................ ok
t/30_loops/select/ses_nfa.t ........................ ok
# This test generates some STDERR during trace testing.
=== 10694 === 23 -> _start (from /Users/michiel/.cpan/build/POE-1.367-JPGJiE/blib/lib/POE/Kernel.pm at 1497)
=== 10694 === 23 -> woot (from /Users/michiel/.cpan/build/POE-Test-Loops-1.360-dh9KLd/blib/lib/POE/Test/Loops/ses_session.pm at 691)
=== 10694 === 23 -> narf (from /Users/michiel/.cpan/build/POE-Test-Loops-1.360-dh9KLd/blib/lib/POE/Test/Loops/ses_session.pm at 692)
=== 10694 === 23 -> _stop (from /Users/michiel/.cpan/build/POE-1.367-JPGJiE/blib/lib/POE/Resource/Sessions.pm at 571)
t/30_loops/select/ses_session.t .................... ok
t/30_loops/select/wheel_accept.t ................... ok
t/30_loops/select/wheel_curses.t ................... skipped: Curses not available
t/30_loops/select/wheel_readline.t ................. ok
t/30_loops/select/wheel_readwrite.t ................ ok
t/30_loops/select/wheel_run.t ...................... ok
t/30_loops/select/wheel_run_size.t ................. skipped: This test requires Term::Size
t/30_loops/select/wheel_sf_ipv6.t .................. skipped: Socket::GetAddrInfo is needed for IPv6 tests
t/30_loops/select/wheel_sf_tcp.t ................... ok
t/30_loops/select/wheel_sf_udp.t ................... ok
t/30_loops/select/wheel_sf_unix.t .................. ok
t/30_loops/select/wheel_tail.t ..................... ok
t/30_loops/select/z_kogman_sig_order.t ............. ok
t/30_loops/select/z_leolo_wheel_run.t .............. ok
# Using '/usr/bin/true' as our thing to run under system()
t/30_loops/select/z_merijn_sigchld_system.t ........ ok
t/30_loops/select/z_rt39872_sigchld.t .............. ok
# Parent 10800 waiting 3sec for slow systems to settle.
# sending sigusr1
# sent sigusr1
t/30_loops/select/z_rt39872_sigchld_stop.t ......... ok
t/30_loops/select/z_rt53302_fh_watchers.t .......... ok
t/30_loops/select/z_rt54319_bazerka_followtail.t ... ok
t/30_loops/select/z_steinert_signal_integrity.t .... ok
t/90_regression/agaran-filter-httpd.t .............. ok
t/90_regression/averell-callback-ret.t ............. ok
t/90_regression/bingos-followtail.t ................ ok
t/90_regression/broeren-win32-nbio.t ............... skipped: This test examines ActiveState Perl behavior.
t/90_regression/cfedde-filter-httpd.t .............. ok
t/90_regression/ferrari-server-unix.t .............. ok
t/90_regression/grinnz-die-in-die.t ................ ok
Died at t/90_regression/hinrik-wheel-run-die.t line 21.
t/90_regression/hinrik-wheel-run-die.t ............. ok
# This test can take up to 10 seconds
t/90_regression/kjeldahl-stop-start-polling.t ...... ok
# This test can take up to 10 seconds
t/90_regression/kjeldahl-stop-start-sig-nopipe.t ... ok
# This test can take up to 10 seconds
t/90_regression/kjeldahl-stop-start-sig-pipe.t ..... ok
t/90_regression/leolo-sig-die.t .................... ok
t/90_regression/meh-startstop-return.t ............. ok
t/90_regression/neyuki_detach.t .................... ok
t/90_regression/pipe-followtail.t .................. ok
t/90_regression/prumike-win32-stat.t ............... skipped: This test examines Strawberry/ActiveState Perl behavior.
t/90_regression/rt14444-arg1.t ..................... ok
t/90_regression/rt1648-tied-stderr.t ............... ok
t/90_regression/rt19908-merlyn-stop.t .............. ok
t/90_regression/rt23181-sigchld-rc.t ............... ok
t/90_regression/rt47966-sigchld.t .................. skipped: enable by setting RELEASE_TESTING
t/90_regression/rt56417-wheel-run.t ................ ok
t/90_regression/rt65460-forking.t .................. ok
t/90_regression/socketfactory-timeout.t ............ ok
t/90_regression/somni-poco-server-tcp.t ............ ok
t/90_regression/steinert-passed-wheel.t ............ ok
t/90_regression/suzman_windows.t ................... ok
t/90_regression/ton-stop-corruption.t .............. ok
t/90_regression/tracing-sane-exit.t ................ ok
t/90_regression/whelan-dieprop.t ................... ok
t/90_regression/whjackson-followtail.t ............. ok
All tests successful.
Files=161, Tests=4228, 110 wallclock secs ( 1.08 usr  0.43 sys + 20.85 cusr  5.10 csys = 27.46 CPU)
Result: PASS

------------------------------
PREREQUISITES
------------------------------

Prerequisite modules loaded:

requires:

    Module           Need  Have    
    ---------------- ----- --------
    Carp             0     1.40    
    Errno            1.09  1.25    
    Exporter         0     5.72    
    File::Spec       0.87  3.63    
    IO               1.24  1.36    
    IO::Handle       1.27  1.36    
    IO::Pipely       0.005 0.005   
    IO::Tty          1.08  1.12    
    POE::Test::Loops 1.360 1.360   
    POSIX            1.02  1.65    
    Socket           1.7   2.020_03
    Storable         2.16  2.56    
    Test::Harness    2.26  3.36    
    Time::HiRes      1.59  1.9733  

build_requires:

    Module           Need  Have    
    ---------------- ----- --------
    POE::Test::Loops 1.360 1.360   

configure_requires:

    Module           Need  Have    
    ---------------- ----- --------
    POE::Test::Loops 1.360 1.360   


------------------------------
ENVIRONMENT AND OTHER CONTEXT
------------------------------

Environment variables:

    AUTOMATED_TESTING = 1
    LANG = en_US.UTF-8
    PATH = /Users/michiel/.plenv/versions/5.24.0/bin:/usr/local/Cellar/plenv/2.1.1/libexec:/Users/michiel/Library/Android/sdk/tools/:/Users/michiel/.plenv/shims:/usr/local/bin:/usr/bin:/bin:/usr/sbin:/sbin
    PERL5LIB = /Users/michiel/.cpan/build/IO-Pipely-0.005-i3u5Sr/blib/arch:/Users/michiel/.cpan/build/IO-Pipely-0.005-i3u5Sr/blib/lib:/Users/michiel/.cpan/build/POE-Test-Loops-1.360-dh9KLd/blib/arch:/Users/michiel/.cpan/build/POE-Test-Loops-1.360-dh9KLd/blib/lib:/Users/michiel/.cpan/build/String-ShellQuote-1.04-mKJ4UL/blib/arch:/Users/michiel/.cpan/build/String-ShellQuote-1.04-mKJ4UL/blib/lib:/Users/michiel/.cpan/build/Test-Script-Run-0.08-c4kOr3/blib/arch:/Users/michiel/.cpan/build/Test-Script-Run-0.08-c4kOr3/blib/lib:/Users/michiel/.cpan/build/HTML-Formatter-2.14-R6lhog/blib/arch:/Users/michiel/.cpan/build/HTML-Formatter-2.14-R6lhog/blib/lib:/Users/michiel/.cpan/build/Test-Pod-Coverage-1.10-ySC9jH/blib/arch:/Users/michiel/.cpan/build/Test-Pod-Coverage-1.10-ySC9jH/blib/lib:/Users/michiel/.cpan/build/Pod-Coverage-0.23-ZP0dNQ/blib/arch:/Users/michiel/.cpan/build/Pod-Coverage-0.23-ZP0dNQ/blib/lib:/Users/michiel/.cpan/build/Devel-Symdump-2.17-uFyyBi/blib/arch:/Users/michiel/.cpan/build/Devel-Symdump-2.17-uFyyBi/blib/lib:/Users/michiel/.cpan/build/Test-Pod-1.51-soYMez/blib/arch:/Users/michiel/.cpan/build/Test-Pod-1.51-soYMez/blib/lib:/Users/michiel/.cpan/build/Test-CPAN-Meta-JSON-0.16-KOCIds/blib/arch:/Users/michiel/.cpan/build/Test-CPAN-Meta-JSON-0.16-KOCIds/blib/lib:/Users/michiel/.cpan/build/Test-CPAN-Meta-0.25-6W88ng/blib/arch:/Users/michiel/.cpan/build/Test-CPAN-Meta-0.25-6W88ng/blib/lib:/Users/michiel/.cpan/build/Test-NoTabs-1.4-ddBGu1/blib/arch:/Users/michiel/.cpan/build/Test-NoTabs-1.4-ddBGu1/blib/lib:/Users/michiel/.cpan/build/Test-EOL-1.6-vRgRRH/blib/arch:/Users/michiel/.cpan/build/Test-EOL-1.6-vRgRRH/blib/lib:/Users/michiel/.cpan/build/File-Slurper-0.008-UOWLBI/blib/arch:/Users/michiel/.cpan/build/File-Slurper-0.008-UOWLBI/blib/lib:/Users/michiel/.cpan/build/Font-AFM-1.20-qrRTgX/blib/arch:/Users/michiel/.cpan/build/Font-AFM-1.20-qrRTgX/blib/lib:/Users/michiel/.cpan/build/HTML-Tree-5.03-mvlaHe/blib/arch:/Users/michiel/.cpan/build/HTML-Tree-5.03-mvlaHe/blib/lib:/Users/michiel/.cpan/build/MooX-0.101-MItQSg/blib/arch:/Users/michiel/.cpan/build/MooX-0.101-MItQSg/blib/lib:/Users/michiel/.cpan/build/Import-Into-1.002005-yFShXd/blib/arch:/Users/michiel/.cpan/build/Import-Into-1.002005-yFShXd/blib/lib
    PERL5OPT = 
    PERL5_CPANPLUS_IS_RUNNING = 4046
    PERL5_CPAN_IS_RUNNING = 4046
    PERL5_CPAN_IS_RUNNING_IN_RECURSION = 60105,4046
    PERL_CR_SMOKER_CURRENT = App-DuckPAN-1004
    PERL_EXTUTILS_AUTOINSTALL = --defaultdeps
    PERL_MM_USE_DEFAULT = 1
    SHELL = /bin/bash
    TERM = xterm-256color
    TMPDIR = /var/folders/l4/dnj6yzj16ks3l3h6_pmwd2240000gn/T/

Perl special variables (and OS-specific diagnostics, for MSWin32):

    $^X = /Users/michiel/.plenv/versions/5.24.0/bin/perl5.24.0
    $UID/$EUID = 501 / 501
    $GID = 20 20 12 61 79 80 81 98 701 33 100 204 395 398 399
    $EGID = 20 20 12 61 79 80 81 98 701 33 100 204 395 398 399

Perl module toolchain versions installed:

    Module              Have    
    ------------------- --------
    CPAN                2.11    
    CPAN::Meta          2.150005
    Cwd                 3.63    
    ExtUtils::CBuilder  0.280225
    ExtUtils::Command   7.10    
    ExtUtils::Install   2.04    
    ExtUtils::MakeMaker 7.10_01 
    ExtUtils::Manifest  1.70    
    ExtUtils::ParseXS   3.31    
    File::Spec          3.63    
    JSON                2.90    
    JSON::PP            2.27300 
    Module::Build       0.4218  
    Module::Signature   n/a     
    Parse::CPAN::Meta   1.4417  
    Test::Harness       3.36    
    Test::More          1.001014
    YAML                n/a     
    YAML::Syck          n/a     
    version             0.9916  


--

Summary of my perl5 (revision 5 version 24 subversion 0) configuration:
   
  Platform:
    osname=darwin, osvers=15.5.0, archname=darwin-2level
    uname='darwin macbook-pro-van-michiel.local 15.5.0 darwin kernel version 15.5.0: tue apr 19 18:36:36 pdt 2016; root:xnu-3248.50.21~8release_x86_64 x86_64 '
    config_args='-Dprefix=/Users/michiel/.plenv/versions/5.24.0 -de -Dusedevel -A'eval:scriptdir=/Users/michiel/.plenv/versions/5.24.0/bin''
    hint=recommended, useposix=true, d_sigaction=define
    useithreads=undef, usemultiplicity=undef
    use64bitint=define, use64bitall=define, uselongdouble=undef
    usemymalloc=n, bincompat5005=undef
  Compiler:
    cc='cc', ccflags ='-fno-common -DPERL_DARWIN -fno-strict-aliasing -pipe -fstack-protector-strong -I/usr/local/include',
    optimize='-O3',
    cppflags='-fno-common -DPERL_DARWIN -fno-strict-aliasing -pipe -fstack-protector-strong -I/usr/local/include'
    ccversion='', gccversion='4.2.1 Compatible Apple LLVM 7.3.0 (clang-703.0.29)', gccosandvers=''
    intsize=4, longsize=8, ptrsize=8, doublesize=8, byteorder=12345678, doublekind=3
    d_longlong=define, longlongsize=8, d_longdbl=define, longdblsize=16, longdblkind=3
    ivtype='long', ivsize=8, nvtype='double', nvsize=8, Off_t='off_t', lseeksize=8
    alignbytes=8, prototype=define
  Linker and Libraries:
    ld='env MACOSX_DEPLOYMENT_TARGET=10.3 cc', ldflags =' -fstack-protector-strong -L/usr/local/lib'
    libpth=/usr/local/lib /Applications/Xcode.app/Contents/Developer/Toolchains/XcodeDefault.xctoolchain/usr/bin/../lib/clang/7.3.0/lib /Applications/Xcode.app/Contents/Developer/Toolchains/XcodeDefault.xctoolchain/usr/lib /usr/lib
    libs=-lpthread -lgdbm -ldbm -ldl -lm -lutil -lc
    perllibs=-lpthread -ldl -lm -lutil -lc
    libc=, so=dylib, useshrplib=false, libperl=libperl.a
    gnulibc_version=''
  Dynamic Linking:
    dlsrc=dl_dlopen.xs, dlext=bundle, d_dlsymun=undef, ccdlflags=' '
    cccdlflags=' ', lddlflags=' -bundle -undefined dynamic_lookup -L/usr/local/lib -fstack-protector-strong'


Characteristics of this binary (from libperl): 
  Compile-time options: HAS_TIMES PERLIO_LAYERS PERL_COPY_ON_WRITE
                        PERL_DONT_CREATE_GVSV
                        PERL_HASH_FUNC_ONE_AT_A_TIME_HARD PERL_MALLOC_WRAP
                        PERL_PRESERVE_IVUV PERL_USE_DEVEL USE_64_BIT_ALL
                        USE_64_BIT_INT USE_LARGE_FILES USE_LOCALE
                        USE_LOCALE_COLLATE USE_LOCALE_CTYPE
                        USE_LOCALE_NUMERIC USE_LOCALE_TIME USE_PERLIO
                        USE_PERL_ATOF
  Locally applied patches:
	Devel::PatchPerl 1.38
  Built under darwin
  Compiled at Jun  2 2016 11:19:27
  %ENV:
    PERL5LIB="/Users/michiel/.cpan/build/IO-Pipely-0.005-i3u5Sr/blib/arch:/Users/michiel/.cpan/build/IO-Pipely-0.005-i3u5Sr/blib/lib:/Users/michiel/.cpan/build/POE-Test-Loops-1.360-dh9KLd/blib/arch:/Users/michiel/.cpan/build/POE-Test-Loops-1.360-dh9KLd/blib/lib:/Users/michiel/.cpan/build/String-ShellQuote-1.04-mKJ4UL/blib/arch:/Users/michiel/.cpan/build/String-ShellQuote-1.04-mKJ4UL/blib/lib:/Users/michiel/.cpan/build/Test-Script-Run-0.08-c4kOr3/blib/arch:/Users/michiel/.cpan/build/Test-Script-Run-0.08-c4kOr3/blib/lib:/Users/michiel/.cpan/build/HTML-Formatter-2.14-R6lhog/blib/arch:/Users/michiel/.cpan/build/HTML-Formatter-2.14-R6lhog/blib/lib:/Users/michiel/.cpan/build/Test-Pod-Coverage-1.10-ySC9jH/blib/arch:/Users/michiel/.cpan/build/Test-Pod-Coverage-1.10-ySC9jH/blib/lib:/Users/michiel/.cpan/build/Pod-Coverage-0.23-ZP0dNQ/blib/arch:/Users/michiel/.cpan/build/Pod-Coverage-0.23-ZP0dNQ/blib/lib:/Users/michiel/.cpan/build/Devel-Symdump-2.17-uFyyBi/blib/arch:/Users/michiel/.cpan/build/Devel-Symdump-2.17-uFyyBi/blib/lib:/Users/michiel/.cpan/build/Test-Pod-1.51-soYMez/blib/arch:/Users/michiel/.cpan/build/Test-Pod-1.51-soYMez/blib/lib:/Users/michiel/.cpan/build/Test-CPAN-Meta-JSON-0.16-KOCIds/blib/arch:/Users/michiel/.cpan/build/Test-CPAN-Meta-JSON-0.16-KOCIds/blib/lib:/Users/michiel/.cpan/build/Test-CPAN-Meta-0.25-6W88ng/blib/arch:/Users/michiel/.cpan/build/Test-CPAN-Meta-0.25-6W88ng/blib/lib:/Users/michiel/.cpan/build/Test-NoTabs-1.4-ddBGu1/blib/arch:/Users/michiel/.cpan/build/Test-NoTabs-1.4-ddBGu1/blib/lib:/Users/michiel/.cpan/build/Test-EOL-1.6-vRgRRH/blib/arch:/Users/michiel/.cpan/build/Test-EOL-1.6-vRgRRH/blib/lib:/Users/michiel/.cpan/build/File-Slurper-0.008-UOWLBI/blib/arch:/Users/michiel/.cpan/build/File-Slurper-0.008-UOWLBI/blib/lib:/Users/michiel/.cpan/build/Font-AFM-1.20-qrRTgX/blib/arch:/Users/michiel/.cpan/build/Font-AFM-1.20-qrRTgX/blib/lib:/Users/michiel/.cpan/build/HTML-Tree-5.03-mvlaHe/blib/arch:/Users/michiel/.cpan/build/HTML-Tree-5.03-mvlaHe/blib/lib:/Users/michiel/.cpan/build/MooX-0.101-MItQSg/blib/arch:/Users/michiel/.cpan/build/MooX-0.101-MItQSg/blib/lib:/Users/michiel/.cpan/build/Import-Into-1.002005-yFShXd/blib/arch:/Users/michiel/.cpan/build/Import-Into-1.002005-yFShXd/blib/lib"
    PERL5OPT=""
    PERL5_CPANPLUS_IS_RUNNING="4046"
    PERL5_CPAN_IS_RUNNING="4046"
    PERL5_CPAN_IS_RUNNING_IN_RECURSION="60105,4046"
    PERL_CR_SMOKER_CURRENT="App-DuckPAN-1004"
    PERL_EXTUTILS_AUTOINSTALL="--defaultdeps"
    PERL_MM_USE_DEFAULT="1"
  @INC:
    /Users/michiel/.cpan/build/IO-Pipely-0.005-i3u5Sr/blib/arch
    /Users/michiel/.cpan/build/IO-Pipely-0.005-i3u5Sr/blib/lib
    /Users/michiel/.cpan/build/POE-Test-Loops-1.360-dh9KLd/blib/arch
    /Users/michiel/.cpan/build/POE-Test-Loops-1.360-dh9KLd/blib/lib
    /Users/michiel/.cpan/build/String-ShellQuote-1.04-mKJ4UL/blib/arch
    /Users/michiel/.cpan/build/String-ShellQuote-1.04-mKJ4UL/blib/lib
    /Users/michiel/.cpan/build/Test-Script-Run-0.08-c4kOr3/blib/arch
    /Users/michiel/.cpan/build/Test-Script-Run-0.08-c4kOr3/blib/lib
    /Users/michiel/.cpan/build/HTML-Formatter-2.14-R6lhog/blib/arch
    /Users/michiel/.cpan/build/HTML-Formatter-2.14-R6lhog/blib/lib
    /Users/michiel/.cpan/build/Test-Pod-Coverage-1.10-ySC9jH/blib/arch
    /Users/michiel/.cpan/build/Test-Pod-Coverage-1.10-ySC9jH/blib/lib
    /Users/michiel/.cpan/build/Pod-Coverage-0.23-ZP0dNQ/blib/arch
    /Users/michiel/.cpan/build/Pod-Coverage-0.23-ZP0dNQ/blib/lib
    /Users/michiel/.cpan/build/Devel-Symdump-2.17-uFyyBi/blib/arch
    /Users/michiel/.cpan/build/Devel-Symdump-2.17-uFyyBi/blib/lib
    /Users/michiel/.cpan/build/Test-Pod-1.51-soYMez/blib/arch
    /Users/michiel/.cpan/build/Test-Pod-1.51-soYMez/blib/lib
    /Users/michiel/.cpan/build/Test-CPAN-Meta-JSON-0.16-KOCIds/blib/arch
    /Users/michiel/.cpan/build/Test-CPAN-Meta-JSON-0.16-KOCIds/blib/lib
    /Users/michiel/.cpan/build/Test-CPAN-Meta-0.25-6W88ng/blib/arch
    /Users/michiel/.cpan/build/Test-CPAN-Meta-0.25-6W88ng/blib/lib
    /Users/michiel/.cpan/build/Test-NoTabs-1.4-ddBGu1/blib/arch
    /Users/michiel/.cpan/build/Test-NoTabs-1.4-ddBGu1/blib/lib
    /Users/michiel/.cpan/build/Test-EOL-1.6-vRgRRH/blib/arch
    /Users/michiel/.cpan/build/Test-EOL-1.6-vRgRRH/blib/lib
    /Users/michiel/.cpan/build/File-Slurper-0.008-UOWLBI/blib/arch
    /Users/michiel/.cpan/build/File-Slurper-0.008-UOWLBI/blib/lib
    /Users/michiel/.cpan/build/Font-AFM-1.20-qrRTgX/blib/arch
    /Users/michiel/.cpan/build/Font-AFM-1.20-qrRTgX/blib/lib
    /Users/michiel/.cpan/build/HTML-Tree-5.03-mvlaHe/blib/arch
    /Users/michiel/.cpan/build/HTML-Tree-5.03-mvlaHe/blib/lib
    /Users/michiel/.cpan/build/MooX-0.101-MItQSg/blib/arch
    /Users/michiel/.cpan/build/MooX-0.101-MItQSg/blib/lib
    /Users/michiel/.cpan/build/Import-Into-1.002005-yFShXd/blib/arch
    /Users/michiel/.cpan/build/Import-Into-1.002005-yFShXd/blib/lib
    /Users/michiel/.plenv/versions/5.24.0/lib/perl5/site_perl/5.24.0/darwin-2level
    /Users/michiel/.plenv/versions/5.24.0/lib/perl5/site_perl/5.24.0
    /Users/michiel/.plenv/versions/5.24.0/lib/perl5/5.24.0/darwin-2level
    /Users/michiel/.plenv/versions/5.24.0/lib/perl5/5.24.0
    .