HTTP-Session2 v1.10 Perl 5 v5.39.3 x86_64-linux-thread-multi

Status
Pass
From
Andreas J. König (ANDK)
Dist
HTTP-Session2 v1.10
Platform
Perl 5 v5.39.3 x86_64-linux-thread-multi
Date
2023-10-23 06:10:10
ID
d2a1b51e-716a-11ee-ac7f-41c0e5fc0ad4
This distribution has been tested as part of the CPAN Testers
project, supporting the Perl programming language.  See
http://wiki.cpantesters.org/ for more information or email
questions to cpan-testers-discuss@perl.org


--
Dear Author,

This is a computer-generated report for HTTP-Session2-1.10
on perl 5.39.3, created by CPAN-Reporter-1.2019.

Thank you for uploading your work to CPAN.  Congratulations!
All tests were successful.

Sections of this report:

    * Tester comments
    * Program output
    * Prerequisites
    * Environment and other context

------------------------------
TESTER COMMENTS
------------------------------

Additional comments from tester:

this report is from an automated smoke testing program
and was not reviewed by a human for accuracy

------------------------------
PROGRAM OUTPUT
------------------------------

Output from './Build test':

t/00_compile.t .............. ok
Secret string too short at /tmp/loop_over_bdir-1255584-m4BHmZ/HTTP-Session2-1.10-0/blib/lib/HTTP/Session2/Base.pm line 79.
	HTTP::Session2::Base::__ANON__(HTTP::Session2::ServerStore=HASH(0x563069a535c8), "s3cret") called at t/01_server_side.t line 23
	main::__ANON__("client -> server: request without cookie", CODE(0x56306904f8a8)) called at t/01_server_side.t line 25
	main::__ANON__() called at /home/sand/src/perl/repoperls/installed-perls/host/k93jammy/v5.39.3/b4f3/lib/5.39.3/Test/Builder.pm line 374
	eval {...} called at /home/sand/src/perl/repoperls/installed-perls/host/k93jammy/v5.39.3/b4f3/lib/5.39.3/Test/Builder.pm line 374
	Test::Builder::subtest(Test::Builder=HASH(0x563069071dd8), "First request", CODE(0x563069781e30)) called at /home/sand/src/perl/repoperls/installed-perls/host/k93jammy/v5.39.3/b4f3/lib/5.39.3/Test/More.pm line 831
	Test::More::subtest("First request", CODE(0x563069781e30)) called at t/01_server_side.t line 11
	main::scenario("First request", CODE(0x563069781e30)) called at t/01_server_side.t line 31
Secret string too short at /tmp/loop_over_bdir-1255584-m4BHmZ/HTTP-Session2-1.10-0/blib/lib/HTTP/Session2/Base.pm line 79.
	HTTP::Session2::Base::__ANON__(HTTP::Session2::ServerStore=HASH(0x56306904f140), "s3cret") called at t/01_server_side.t line 40
	main::__ANON__("client -> server: request without cookie", CODE(0x563069a59820)) called at t/01_server_side.t line 42
	main::__ANON__() called at /home/sand/src/perl/repoperls/installed-perls/host/k93jammy/v5.39.3/b4f3/lib/5.39.3/Test/Builder.pm line 374
	eval {...} called at /home/sand/src/perl/repoperls/installed-perls/host/k93jammy/v5.39.3/b4f3/lib/5.39.3/Test/Builder.pm line 374
	Test::Builder::subtest(Test::Builder=HASH(0x563069071dd8), "Store something without login", CODE(0x563069781ef0)) called at /home/sand/src/perl/repoperls/installed-perls/host/k93jammy/v5.39.3/b4f3/lib/5.39.3/Test/More.pm line 831
	Test::More::subtest("Store something without login", CODE(0x563069781ef0)) called at t/01_server_side.t line 11
	main::scenario("Store something without login", CODE(0x563069781ef0)) called at t/01_server_side.t line 58
Secret string too short at /tmp/loop_over_bdir-1255584-m4BHmZ/HTTP-Session2-1.10-0/blib/lib/HTTP/Session2/Base.pm line 79.
	HTTP::Session2::Base::__ANON__(HTTP::Session2::ServerStore=HASH(0x563069a59fb8), "s3cret") called at t/01_server_side.t line 70
	main::__ANON__("client -> server: request without cookie", CODE(0x563069a59c58)) called at t/01_server_side.t line 72
	main::__ANON__() called at /home/sand/src/perl/repoperls/installed-perls/host/k93jammy/v5.39.3/b4f3/lib/5.39.3/Test/Builder.pm line 374
	eval {...} called at /home/sand/src/perl/repoperls/installed-perls/host/k93jammy/v5.39.3/b4f3/lib/5.39.3/Test/Builder.pm line 374
	Test::Builder::subtest(Test::Builder=HASH(0x563069071dd8), "Login", CODE(0x563069022658)) called at /home/sand/src/perl/repoperls/installed-perls/host/k93jammy/v5.39.3/b4f3/lib/5.39.3/Test/More.pm line 831
	Test::More::subtest("Login", CODE(0x563069022658)) called at t/01_server_side.t line 11
	main::scenario("Login", CODE(0x563069022658)) called at t/01_server_side.t line 96
Secret string too short at /tmp/loop_over_bdir-1255584-m4BHmZ/HTTP-Session2-1.10-0/blib/lib/HTTP/Session2/Base.pm line 79.
	HTTP::Session2::Base::__ANON__(HTTP::Session2::ServerStore=HASH(0x563069a53298), "s3cret") called at t/01_server_side.t line 108
	main::__ANON__("client -> server: request without cookie", CODE(0x563069a60180)) called at t/01_server_side.t line 110
	main::__ANON__() called at /home/sand/src/perl/repoperls/installed-perls/host/k93jammy/v5.39.3/b4f3/lib/5.39.3/Test/Builder.pm line 374
	eval {...} called at /home/sand/src/perl/repoperls/installed-perls/host/k93jammy/v5.39.3/b4f3/lib/5.39.3/Test/Builder.pm line 374
	Test::Builder::subtest(Test::Builder=HASH(0x563069071dd8), "In a login session", CODE(0x563069022d18)) called at /home/sand/src/perl/repoperls/installed-perls/host/k93jammy/v5.39.3/b4f3/lib/5.39.3/Test/More.pm line 831
	Test::More::subtest("In a login session", CODE(0x563069022d18)) called at t/01_server_side.t line 11
	main::scenario("In a login session", CODE(0x563069022d18)) called at t/01_server_side.t line 124
Secret string too short at /tmp/loop_over_bdir-1255584-m4BHmZ/HTTP-Session2-1.10-0/blib/lib/HTTP/Session2/Base.pm line 79.
	HTTP::Session2::Base::__ANON__(HTTP::Session2::ServerStore=HASH(0x563069a66358), "s3cret") called at t/01_server_side.t line 136
	main::__ANON__("client -> server: request without cookie", CODE(0x563069a66310)) called at t/01_server_side.t line 138
	main::__ANON__() called at /home/sand/src/perl/repoperls/installed-perls/host/k93jammy/v5.39.3/b4f3/lib/5.39.3/Test/Builder.pm line 374
	eval {...} called at /home/sand/src/perl/repoperls/installed-perls/host/k93jammy/v5.39.3/b4f3/lib/5.39.3/Test/Builder.pm line 374
	Test::Builder::subtest(Test::Builder=HASH(0x563069071dd8), "Invalid session id", CODE(0x563069a42a28)) called at /home/sand/src/perl/repoperls/installed-perls/host/k93jammy/v5.39.3/b4f3/lib/5.39.3/Test/More.pm line 831
	Test::More::subtest("Invalid session id", CODE(0x563069a42a28)) called at t/01_server_side.t line 11
	main::scenario("Invalid session id", CODE(0x563069a42a28)) called at t/01_server_side.t line 153
Secret string too short at /tmp/loop_over_bdir-1255584-m4BHmZ/HTTP-Session2-1.10-0/blib/lib/HTTP/Session2/Base.pm line 79.
	HTTP::Session2::Base::__ANON__(HTTP::Session2::ServerStore=HASH(0x563069a5f700), "s3cret") called at t/01_server_side.t line 160
	main::__ANON__("client -> server: request without cookie", CODE(0x563069a65b90)) called at t/01_server_side.t line 167
	main::__ANON__() called at /home/sand/src/perl/repoperls/installed-perls/host/k93jammy/v5.39.3/b4f3/lib/5.39.3/Test/Builder.pm line 374
	eval {...} called at /home/sand/src/perl/repoperls/installed-perls/host/k93jammy/v5.39.3/b4f3/lib/5.39.3/Test/Builder.pm line 374
	Test::Builder::subtest(Test::Builder=HASH(0x563069071dd8), "Logout", CODE(0x563069a42ec0)) called at /home/sand/src/perl/repoperls/installed-perls/host/k93jammy/v5.39.3/b4f3/lib/5.39.3/Test/More.pm line 831
	Test::More::subtest("Logout", CODE(0x563069a42ec0)) called at t/01_server_side.t line 11
	main::scenario("Logout", CODE(0x563069a42ec0)) called at t/01_server_side.t line 182
t/01_server_side.t .......... ok
Secret string too short at /tmp/loop_over_bdir-1255584-m4BHmZ/HTTP-Session2-1.10-0/blib/lib/HTTP/Session2/Base.pm line 79.
	HTTP::Session2::Base::__ANON__(HTTP::Session2::ClientStore=HASH(0x5565844ecf50), "s3cret") called at t/02_client_side.t line 17
	main::__ANON__("client -> server: request without cookie", CODE(0x5565844ec710)) called at t/02_client_side.t line 22
	main::__ANON__() called at /home/sand/src/perl/repoperls/installed-perls/host/k93jammy/v5.39.3/b4f3/lib/5.39.3/Test/Builder.pm line 374
	eval {...} called at /home/sand/src/perl/repoperls/installed-perls/host/k93jammy/v5.39.3/b4f3/lib/5.39.3/Test/Builder.pm line 374
	Test::Builder::subtest(Test::Builder=HASH(0x556583a89bb8), "First request", CODE(0x556583a63e38)) called at /home/sand/src/perl/repoperls/installed-perls/host/k93jammy/v5.39.3/b4f3/lib/5.39.3/Test/More.pm line 831
	Test::More::subtest("First request", CODE(0x556583a63e38)) called at t/02_client_side.t line 9
	main::scenario("First request", CODE(0x556583a63e38)) called at t/02_client_side.t line 28
Secret string too short at /tmp/loop_over_bdir-1255584-m4BHmZ/HTTP-Session2-1.10-0/blib/lib/HTTP/Session2/Base.pm line 79.
	HTTP::Session2::Base::__ANON__(HTTP::Session2::ClientStore=HASH(0x5565844e6b98), "s3cret") called at t/02_client_side.t line 33
	main::__ANON__("client -> server: request without cookie", CODE(0x5565844f0280)) called at t/02_client_side.t line 38
	main::__ANON__() called at /home/sand/src/perl/repoperls/installed-perls/host/k93jammy/v5.39.3/b4f3/lib/5.39.3/Test/Builder.pm line 374
	eval {...} called at /home/sand/src/perl/repoperls/installed-perls/host/k93jammy/v5.39.3/b4f3/lib/5.39.3/Test/Builder.pm line 374
	Test::Builder::subtest(Test::Builder=HASH(0x556583a89bb8), "Store something without login", CODE(0x5565844d4180)) called at /home/sand/src/perl/repoperls/installed-perls/host/k93jammy/v5.39.3/b4f3/lib/5.39.3/Test/More.pm line 831
	Test::More::subtest("Store something without login", CODE(0x5565844d4180)) called at t/02_client_side.t line 9
	main::scenario("Store something without login", CODE(0x5565844d4180)) called at t/02_client_side.t line 54
Do not use HTTP::Session2::ClientStore. Use HTTP::Session2::ServerStore or HTTP::Session2::ClientStore2 instead. at /tmp/loop_over_bdir-1255584-m4BHmZ/HTTP-Session2-1.10-0/blib/lib/HTTP/Session2/ClientStore.pm line 25.
Secret string too short at /tmp/loop_over_bdir-1255584-m4BHmZ/HTTP-Session2-1.10-0/blib/lib/HTTP/Session2/Base.pm line 79.
	HTTP::Session2::Base::__ANON__(HTTP::Session2::ClientStore=HASH(0x5565844f7b00), "s3cret") called at t/02_client_side.t line 60
	main::__ANON__("client -> server: request without cookie", CODE(0x556583a5a160)) called at t/02_client_side.t line 66
	main::__ANON__() called at /home/sand/src/perl/repoperls/installed-perls/host/k93jammy/v5.39.3/b4f3/lib/5.39.3/Test/Builder.pm line 374
	eval {...} called at /home/sand/src/perl/repoperls/installed-perls/host/k93jammy/v5.39.3/b4f3/lib/5.39.3/Test/Builder.pm line 374
	Test::Builder::subtest(Test::Builder=HASH(0x556583a89bb8), "Login", CODE(0x5565844d43a8)) called at /home/sand/src/perl/repoperls/installed-perls/host/k93jammy/v5.39.3/b4f3/lib/5.39.3/Test/More.pm line 831
	Test::More::subtest("Login", CODE(0x5565844d43a8)) called at t/02_client_side.t line 9
	main::scenario("Login", CODE(0x5565844d43a8)) called at t/02_client_side.t line 86
Do not use HTTP::Session2::ClientStore. Use HTTP::Session2::ServerStore or HTTP::Session2::ClientStore2 instead. at /tmp/loop_over_bdir-1255584-m4BHmZ/HTTP-Session2-1.10-0/blib/lib/HTTP/Session2/ClientStore.pm line 35.
Do not use HTTP::Session2::ClientStore. Use HTTP::Session2::ServerStore or HTTP::Session2::ClientStore2 instead. at /tmp/loop_over_bdir-1255584-m4BHmZ/HTTP-Session2-1.10-0/blib/lib/HTTP/Session2/ClientStore.pm line 25.
Secret string too short at /tmp/loop_over_bdir-1255584-m4BHmZ/HTTP-Session2-1.10-0/blib/lib/HTTP/Session2/Base.pm line 79.
	HTTP::Session2::Base::__ANON__(HTTP::Session2::ClientStore=HASH(0x5565844ecc50), "s3cret") called at t/02_client_side.t line 92
	main::__ANON__("client -> server: request without cookie", CODE(0x5565844f7f68)) called at t/02_client_side.t line 98
	main::__ANON__() called at /home/sand/src/perl/repoperls/installed-perls/host/k93jammy/v5.39.3/b4f3/lib/5.39.3/Test/Builder.pm line 374
	eval {...} called at /home/sand/src/perl/repoperls/installed-perls/host/k93jammy/v5.39.3/b4f3/lib/5.39.3/Test/Builder.pm line 374
	Test::Builder::subtest(Test::Builder=HASH(0x556583a89bb8), "In a login session", CODE(0x5565844d4870)) called at /home/sand/src/perl/repoperls/installed-perls/host/k93jammy/v5.39.3/b4f3/lib/5.39.3/Test/More.pm line 831
	Test::More::subtest("In a login session", CODE(0x5565844d4870)) called at t/02_client_side.t line 9
	main::scenario("In a login session", CODE(0x5565844d4870)) called at t/02_client_side.t line 107
Do not use HTTP::Session2::ClientStore. Use HTTP::Session2::ServerStore or HTTP::Session2::ClientStore2 instead. at /tmp/loop_over_bdir-1255584-m4BHmZ/HTTP-Session2-1.10-0/blib/lib/HTTP/Session2/ClientStore.pm line 35.
Do not use HTTP::Session2::ClientStore. Use HTTP::Session2::ServerStore or HTTP::Session2::ClientStore2 instead. at /tmp/loop_over_bdir-1255584-m4BHmZ/HTTP-Session2-1.10-0/blib/lib/HTTP/Session2/ClientStore.pm line 25.
Secret string too short at /tmp/loop_over_bdir-1255584-m4BHmZ/HTTP-Session2-1.10-0/blib/lib/HTTP/Session2/Base.pm line 79.
	HTTP::Session2::Base::__ANON__(HTTP::Session2::ClientStore=HASH(0x5565844f0760), "s3cret") called at t/02_client_side.t line 112
	main::__ANON__("client -> server: request without cookie", CODE(0x5565844ec6f8)) called at t/02_client_side.t line 118
	main::__ANON__() called at /home/sand/src/perl/repoperls/installed-perls/host/k93jammy/v5.39.3/b4f3/lib/5.39.3/Test/Builder.pm line 374
	eval {...} called at /home/sand/src/perl/repoperls/installed-perls/host/k93jammy/v5.39.3/b4f3/lib/5.39.3/Test/Builder.pm line 374
	Test::Builder::subtest(Test::Builder=HASH(0x556583a89bb8), "Logout", CODE(0x5565844d4d38)) called at /home/sand/src/perl/repoperls/installed-perls/host/k93jammy/v5.39.3/b4f3/lib/5.39.3/Test/More.pm line 831
	Test::More::subtest("Logout", CODE(0x5565844d4d38)) called at t/02_client_side.t line 9
	main::scenario("Logout", CODE(0x5565844d4d38)) called at t/02_client_side.t line 131
t/02_client_side.t .......... ok
Secret string too short at /tmp/loop_over_bdir-1255584-m4BHmZ/HTTP-Session2-1.10-0/blib/lib/HTTP/Session2/Base.pm line 79.
	HTTP::Session2::Base::__ANON__(HTTP::Session2::ServerStore=HASH(0x55e5c20b13e8), "s3cret") called at t/03_mech.t line 121
	main::server_session(HASH(0x55e5c09ef038)) called at t/03_mech.t line 17
	main::__ANON__(HASH(0x55e5c09ef038)) called at /home/sand/src/perl/repoperls/installed-perls/host/k93jammy/v5.39.3/b4f3/lib/site_perl/5.39.3/Test/WWW/Mechanize/PSGI.pm line 46
	Test::WWW::Mechanize::PSGI::try {...} () called at /home/sand/src/perl/repoperls/installed-perls/host/k93jammy/v5.39.3/b4f3/lib/site_perl/5.39.3/Try/Tiny.pm line 102
	eval {...} called at /home/sand/src/perl/repoperls/installed-perls/host/k93jammy/v5.39.3/b4f3/lib/site_perl/5.39.3/Try/Tiny.pm line 93
	Try::Tiny::try(CODE(0x55e5c20b0d58), Try::Tiny::Catch=REF(0x55e5c09fbf10)) called at /home/sand/src/perl/repoperls/installed-perls/host/k93jammy/v5.39.3/b4f3/lib/site_perl/5.39.3/Test/WWW/Mechanize/PSGI.pm line 53
	Test::WWW::Mechanize::PSGI::simple_request(Test::WWW::Mechanize::PSGI=HASH(0x55e5c1fc1678), HTTP::Request=HASH(0x55e5c1dc6628), undef, undef) called at /home/sand/src/perl/repoperls/installed-perls/host/k93jammy/v5.39.3/b4f3/lib/site_perl/5.39.3/LWP/UserAgent.pm line 308
	LWP::UserAgent::request(Test::WWW::Mechanize::PSGI=HASH(0x55e5c1fc1678), HTTP::Request=HASH(0x55e5c1dc6628)) called at /home/sand/src/perl/repoperls/installed-perls/host/k93jammy/v5.39.3/b4f3/lib/site_perl/5.39.3/WWW/Mechanize.pm line 1697
	WWW::Mechanize::_make_request(Test::WWW::Mechanize::PSGI=HASH(0x55e5c1fc1678), HTTP::Request=HASH(0x55e5c1dc6628)) called at /home/sand/src/perl/repoperls/installed-perls/host/k93jammy/v5.39.3/b4f3/lib/site_perl/5.39.3/WWW/Mechanize.pm line 1532
	WWW::Mechanize::request(Test::WWW::Mechanize::PSGI=HASH(0x55e5c1fc1678), HTTP::Request=HASH(0x55e5c1dc6628)) called at /home/sand/src/perl/repoperls/installed-perls/host/k93jammy/v5.39.3/b4f3/lib/site_perl/5.39.3/LWP/UserAgent.pm line 452
	LWP::UserAgent::get(Test::WWW::Mechanize::PSGI=HASH(0x55e5c1fc1678), "/") called at /home/sand/src/perl/repoperls/installed-perls/host/k93jammy/v5.39.3/b4f3/lib/site_perl/5.39.3/WWW/Mechanize.pm line 124
	WWW::Mechanize::get(Test::WWW::Mechanize::PSGI=HASH(0x55e5c1fc1678), "/") called at /home/sand/src/perl/repoperls/installed-perls/host/k93jammy/v5.39.3/b4f3/lib/site_perl/5.39.3/Test/WWW/Mechanize.pm line 192
	Test::WWW::Mechanize::get_ok(Test::WWW::Mechanize::PSGI=HASH(0x55e5c1fc1678), "/") called at t/03_mech.t line 74
Secret string too short at /tmp/loop_over_bdir-1255584-m4BHmZ/HTTP-Session2-1.10-0/blib/lib/HTTP/Session2/Base.pm line 79.
	HTTP::Session2::Base::__ANON__(HTTP::Session2::ServerStore=HASH(0x55e5c2151900), "s3cret") called at t/03_mech.t line 121
	main::server_session(HASH(0x55e5c20b0e48)) called at t/03_mech.t line 17
	main::__ANON__(HASH(0x55e5c20b0e48)) called at /home/sand/src/perl/repoperls/installed-perls/host/k93jammy/v5.39.3/b4f3/lib/site_perl/5.39.3/Test/WWW/Mechanize/PSGI.pm line 46
	Test::WWW::Mechanize::PSGI::try {...} () called at /home/sand/src/perl/repoperls/installed-perls/host/k93jammy/v5.39.3/b4f3/lib/site_perl/5.39.3/Try/Tiny.pm line 102
	eval {...} called at /home/sand/src/perl/repoperls/installed-perls/host/k93jammy/v5.39.3/b4f3/lib/site_perl/5.39.3/Try/Tiny.pm line 93
	Try::Tiny::try(CODE(0x55e5c21516d8), Try::Tiny::Catch=REF(0x55e5c20b0da0)) called at /home/sand/src/perl/repoperls/installed-perls/host/k93jammy/v5.39.3/b4f3/lib/site_perl/5.39.3/Test/WWW/Mechanize/PSGI.pm line 53
	Test::WWW::Mechanize::PSGI::simple_request(Test::WWW::Mechanize::PSGI=HASH(0x55e5c1fc1678), HTTP::Request=HASH(0x55e5c21449f8), undef, undef) called at /home/sand/src/perl/repoperls/installed-perls/host/k93jammy/v5.39.3/b4f3/lib/site_perl/5.39.3/LWP/UserAgent.pm line 308
	LWP::UserAgent::request(Test::WWW::Mechanize::PSGI=HASH(0x55e5c1fc1678), HTTP::Request=HASH(0x55e5c21449f8)) called at /home/sand/src/perl/repoperls/installed-perls/host/k93jammy/v5.39.3/b4f3/lib/site_perl/5.39.3/WWW/Mechanize.pm line 1697
	WWW::Mechanize::_make_request(Test::WWW::Mechanize::PSGI=HASH(0x55e5c1fc1678), HTTP::Request=HASH(0x55e5c21449f8)) called at /home/sand/src/perl/repoperls/installed-perls/host/k93jammy/v5.39.3/b4f3/lib/site_perl/5.39.3/WWW/Mechanize.pm line 1532
	WWW::Mechanize::request(Test::WWW::Mechanize::PSGI=HASH(0x55e5c1fc1678), HTTP::Request=HASH(0x55e5c21449f8)) called at /home/sand/src/perl/repoperls/installed-perls/host/k93jammy/v5.39.3/b4f3/lib/site_perl/5.39.3/LWP/UserAgent.pm line 498
	LWP::UserAgent::post(Test::WWW::Mechanize::PSGI=HASH(0x55e5c1fc1678), "http://localhost/wishlist?foo", HASH(0x55e5c1c9c9a8)) called at /home/sand/src/perl/repoperls/installed-perls/host/k93jammy/v5.39.3/b4f3/lib/site_perl/5.39.3/WWW/Mechanize.pm line 136
	WWW::Mechanize::post(Test::WWW::Mechanize::PSGI=HASH(0x55e5c1fc1678), "/wishlist?foo", HASH(0x55e5c1c9c9a8)) called at /home/sand/src/perl/repoperls/installed-perls/host/k93jammy/v5.39.3/b4f3/lib/site_perl/5.39.3/Test/WWW/Mechanize.pm line 321
	Test::WWW::Mechanize::post_ok(Test::WWW::Mechanize::PSGI=HASH(0x55e5c1fc1678), "/wishlist?foo") called at t/03_mech.t line 75
Secret string too short at /tmp/loop_over_bdir-1255584-m4BHmZ/HTTP-Session2-1.10-0/blib/lib/HTTP/Session2/Base.pm line 79.
	HTTP::Session2::Base::__ANON__(HTTP::Session2::ServerStore=HASH(0x55e5c2152320), "s3cret") called at t/03_mech.t line 121
	main::server_session(HASH(0x55e5c2151618)) called at t/03_mech.t line 17
	main::__ANON__(HASH(0x55e5c2151618)) called at /home/sand/src/perl/repoperls/installed-perls/host/k93jammy/v5.39.3/b4f3/lib/site_perl/5.39.3/Test/WWW/Mechanize/PSGI.pm line 46
	Test::WWW::Mechanize::PSGI::try {...} () called at /home/sand/src/perl/repoperls/installed-perls/host/k93jammy/v5.39.3/b4f3/lib/site_perl/5.39.3/Try/Tiny.pm line 102
	eval {...} called at /home/sand/src/perl/repoperls/installed-perls/host/k93jammy/v5.39.3/b4f3/lib/site_perl/5.39.3/Try/Tiny.pm line 93
	Try::Tiny::try(CODE(0x55e5c2151a20), Try::Tiny::Catch=REF(0x55e5c21517c8)) called at /home/sand/src/perl/repoperls/installed-perls/host/k93jammy/v5.39.3/b4f3/lib/site_perl/5.39.3/Test/WWW/Mechanize/PSGI.pm line 53
	Test::WWW::Mechanize::PSGI::simple_request(Test::WWW::Mechanize::PSGI=HASH(0x55e5c1fc1678), HTTP::Request=HASH(0x55e5c2151588), undef, undef) called at /home/sand/src/perl/repoperls/installed-perls/host/k93jammy/v5.39.3/b4f3/lib/site_perl/5.39.3/LWP/UserAgent.pm line 308
	LWP::UserAgent::request(Test::WWW::Mechanize::PSGI=HASH(0x55e5c1fc1678), HTTP::Request=HASH(0x55e5c2151588)) called at /home/sand/src/perl/repoperls/installed-perls/host/k93jammy/v5.39.3/b4f3/lib/site_perl/5.39.3/WWW/Mechanize.pm line 1697
	WWW::Mechanize::_make_request(Test::WWW::Mechanize::PSGI=HASH(0x55e5c1fc1678), HTTP::Request=HASH(0x55e5c2151588)) called at /home/sand/src/perl/repoperls/installed-perls/host/k93jammy/v5.39.3/b4f3/lib/site_perl/5.39.3/WWW/Mechanize.pm line 1532
	WWW::Mechanize::request(Test::WWW::Mechanize::PSGI=HASH(0x55e5c1fc1678), HTTP::Request=HASH(0x55e5c2151588)) called at /home/sand/src/perl/repoperls/installed-perls/host/k93jammy/v5.39.3/b4f3/lib/site_perl/5.39.3/LWP/UserAgent.pm line 452
	LWP::UserAgent::get(Test::WWW::Mechanize::PSGI=HASH(0x55e5c1fc1678), "http://localhost/wishlist") called at /home/sand/src/perl/repoperls/installed-perls/host/k93jammy/v5.39.3/b4f3/lib/site_perl/5.39.3/WWW/Mechanize.pm line 124
	WWW::Mechanize::get(Test::WWW::Mechanize::PSGI=HASH(0x55e5c1fc1678), "/wishlist") called at /home/sand/src/perl/repoperls/installed-perls/host/k93jammy/v5.39.3/b4f3/lib/site_perl/5.39.3/Test/WWW/Mechanize.pm line 192
	Test::WWW::Mechanize::get_ok(Test::WWW::Mechanize::PSGI=HASH(0x55e5c1fc1678), "/wishlist") called at t/03_mech.t line 76
Secret string too short at /tmp/loop_over_bdir-1255584-m4BHmZ/HTTP-Session2-1.10-0/blib/lib/HTTP/Session2/Base.pm line 79.
	HTTP::Session2::Base::__ANON__(HTTP::Session2::ServerStore=HASH(0x55e5c21546a8), "s3cret") called at t/03_mech.t line 121
	main::server_session(HASH(0x55e5c2151f18)) called at t/03_mech.t line 17
	main::__ANON__(HASH(0x55e5c2151f18)) called at /home/sand/src/perl/repoperls/installed-perls/host/k93jammy/v5.39.3/b4f3/lib/site_perl/5.39.3/Test/WWW/Mechanize/PSGI.pm line 46
	Test::WWW::Mechanize::PSGI::try {...} () called at /home/sand/src/perl/repoperls/installed-perls/host/k93jammy/v5.39.3/b4f3/lib/site_perl/5.39.3/Try/Tiny.pm line 102
	eval {...} called at /home/sand/src/perl/repoperls/installed-perls/host/k93jammy/v5.39.3/b4f3/lib/site_perl/5.39.3/Try/Tiny.pm line 93
	Try::Tiny::try(CODE(0x55e5c21546d8), Try::Tiny::Catch=REF(0x55e5c21521b8)) called at /home/sand/src/perl/repoperls/installed-perls/host/k93jammy/v5.39.3/b4f3/lib/site_perl/5.39.3/Test/WWW/Mechanize/PSGI.pm line 53
	Test::WWW::Mechanize::PSGI::simple_request(Test::WWW::Mechanize::PSGI=HASH(0x55e5c1fc1678), HTTP::Request=HASH(0x55e5c2154648), undef, undef) called at /home/sand/src/perl/repoperls/installed-perls/host/k93jammy/v5.39.3/b4f3/lib/site_perl/5.39.3/LWP/UserAgent.pm line 308
	LWP::UserAgent::request(Test::WWW::Mechanize::PSGI=HASH(0x55e5c1fc1678), HTTP::Request=HASH(0x55e5c2154648)) called at /home/sand/src/perl/repoperls/installed-perls/host/k93jammy/v5.39.3/b4f3/lib/site_perl/5.39.3/WWW/Mechanize.pm line 1697
	WWW::Mechanize::_make_request(Test::WWW::Mechanize::PSGI=HASH(0x55e5c1fc1678), HTTP::Request=HASH(0x55e5c2154648)) called at /home/sand/src/perl/repoperls/installed-perls/host/k93jammy/v5.39.3/b4f3/lib/site_perl/5.39.3/WWW/Mechanize.pm line 1532
	WWW::Mechanize::request(Test::WWW::Mechanize::PSGI=HASH(0x55e5c1fc1678), HTTP::Request=HASH(0x55e5c2154648)) called at /home/sand/src/perl/repoperls/installed-perls/host/k93jammy/v5.39.3/b4f3/lib/site_perl/5.39.3/LWP/UserAgent.pm line 498
	LWP::UserAgent::post(Test::WWW::Mechanize::PSGI=HASH(0x55e5c1fc1678), "http://localhost/wishlist?bar") called at /home/sand/src/perl/repoperls/installed-perls/host/k93jammy/v5.39.3/b4f3/lib/site_perl/5.39.3/WWW/Mechanize.pm line 136
	WWW::Mechanize::post(Test::WWW::Mechanize::PSGI=HASH(0x55e5c1fc1678), "/wishlist?bar") called at t/03_mech.t line 78
Secret string too short at /tmp/loop_over_bdir-1255584-m4BHmZ/HTTP-Session2-1.10-0/blib/lib/HTTP/Session2/Base.pm line 79.
	HTTP::Session2::Base::__ANON__(HTTP::Session2::ServerStore=HASH(0x55e5c2154a20), "s3cret") called at t/03_mech.t line 121
	main::server_session(HASH(0x55e5c2154ae0)) called at t/03_mech.t line 17
	main::__ANON__(HASH(0x55e5c2154ae0)) called at /home/sand/src/perl/repoperls/installed-perls/host/k93jammy/v5.39.3/b4f3/lib/site_perl/5.39.3/Test/WWW/Mechanize/PSGI.pm line 46
	Test::WWW::Mechanize::PSGI::try {...} () called at /home/sand/src/perl/repoperls/installed-perls/host/k93jammy/v5.39.3/b4f3/lib/site_perl/5.39.3/Try/Tiny.pm line 102
	eval {...} called at /home/sand/src/perl/repoperls/installed-perls/host/k93jammy/v5.39.3/b4f3/lib/site_perl/5.39.3/Try/Tiny.pm line 93
	Try::Tiny::try(CODE(0x55e5c2154b10), Try::Tiny::Catch=REF(0x55e5c2143c78)) called at /home/sand/src/perl/repoperls/installed-perls/host/k93jammy/v5.39.3/b4f3/lib/site_perl/5.39.3/Test/WWW/Mechanize/PSGI.pm line 53
	Test::WWW::Mechanize::PSGI::simple_request(Test::WWW::Mechanize::PSGI=HASH(0x55e5c1fc1678), HTTP::Request=HASH(0x55e5c2154768), undef, undef) called at /home/sand/src/perl/repoperls/installed-perls/host/k93jammy/v5.39.3/b4f3/lib/site_perl/5.39.3/LWP/UserAgent.pm line 308
	LWP::UserAgent::request(Test::WWW::Mechanize::PSGI=HASH(0x55e5c1fc1678), HTTP::Request=HASH(0x55e5c2154768)) called at /home/sand/src/perl/repoperls/installed-perls/host/k93jammy/v5.39.3/b4f3/lib/site_perl/5.39.3/WWW/Mechanize.pm line 1697
	WWW::Mechanize::_make_request(Test::WWW::Mechanize::PSGI=HASH(0x55e5c1fc1678), HTTP::Request=HASH(0x55e5c2154768)) called at /home/sand/src/perl/repoperls/installed-perls/host/k93jammy/v5.39.3/b4f3/lib/site_perl/5.39.3/WWW/Mechanize.pm line 1532
	WWW::Mechanize::request(Test::WWW::Mechanize::PSGI=HASH(0x55e5c1fc1678), HTTP::Request=HASH(0x55e5c2154768)) called at /home/sand/src/perl/repoperls/installed-perls/host/k93jammy/v5.39.3/b4f3/lib/site_perl/5.39.3/LWP/UserAgent.pm line 498
	LWP::UserAgent::post(Test::WWW::Mechanize::PSGI=HASH(0x55e5c1fc1678), "http://localhost/wishlist?bar", HASH(0x55e5c1c9c9a8)) called at /home/sand/src/perl/repoperls/installed-perls/host/k93jammy/v5.39.3/b4f3/lib/site_perl/5.39.3/WWW/Mechanize.pm line 136
	WWW::Mechanize::post(Test::WWW::Mechanize::PSGI=HASH(0x55e5c1fc1678), "/wishlist?bar", HASH(0x55e5c1c9c9a8)) called at /home/sand/src/perl/repoperls/installed-perls/host/k93jammy/v5.39.3/b4f3/lib/site_perl/5.39.3/Test/WWW/Mechanize.pm line 321
	Test::WWW::Mechanize::post_ok(Test::WWW::Mechanize::PSGI=HASH(0x55e5c1fc1678), "/wishlist?bar") called at t/03_mech.t line 81
Secret string too short at /tmp/loop_over_bdir-1255584-m4BHmZ/HTTP-Session2-1.10-0/blib/lib/HTTP/Session2/Base.pm line 79.
	HTTP::Session2::Base::__ANON__(HTTP::Session2::ServerStore=HASH(0x55e5c2155188), "s3cret") called at t/03_mech.t line 121
	main::server_session(HASH(0x55e5c2154a20)) called at t/03_mech.t line 17
	main::__ANON__(HASH(0x55e5c2154a20)) called at /home/sand/src/perl/repoperls/installed-perls/host/k93jammy/v5.39.3/b4f3/lib/site_perl/5.39.3/Test/WWW/Mechanize/PSGI.pm line 46
	Test::WWW::Mechanize::PSGI::try {...} () called at /home/sand/src/perl/repoperls/installed-perls/host/k93jammy/v5.39.3/b4f3/lib/site_perl/5.39.3/Try/Tiny.pm line 102
	eval {...} called at /home/sand/src/perl/repoperls/installed-perls/host/k93jammy/v5.39.3/b4f3/lib/site_perl/5.39.3/Try/Tiny.pm line 93
	Try::Tiny::try(CODE(0x55e5c2154dc8), Try::Tiny::Catch=REF(0x55e5c21522d8)) called at /home/sand/src/perl/repoperls/installed-perls/host/k93jammy/v5.39.3/b4f3/lib/site_perl/5.39.3/Test/WWW/Mechanize/PSGI.pm line 53
	Test::WWW::Mechanize::PSGI::simple_request(Test::WWW::Mechanize::PSGI=HASH(0x55e5c1fc1678), HTTP::Request=HASH(0x55e5c2154570), undef, undef) called at /home/sand/src/perl/repoperls/installed-perls/host/k93jammy/v5.39.3/b4f3/lib/site_perl/5.39.3/LWP/UserAgent.pm line 308
	LWP::UserAgent::request(Test::WWW::Mechanize::PSGI=HASH(0x55e5c1fc1678), HTTP::Request=HASH(0x55e5c2154570)) called at /home/sand/src/perl/repoperls/installed-perls/host/k93jammy/v5.39.3/b4f3/lib/site_perl/5.39.3/WWW/Mechanize.pm line 1697
	WWW::Mechanize::_make_request(Test::WWW::Mechanize::PSGI=HASH(0x55e5c1fc1678), HTTP::Request=HASH(0x55e5c2154570)) called at /home/sand/src/perl/repoperls/installed-perls/host/k93jammy/v5.39.3/b4f3/lib/site_perl/5.39.3/WWW/Mechanize.pm line 1532
	WWW::Mechanize::request(Test::WWW::Mechanize::PSGI=HASH(0x55e5c1fc1678), HTTP::Request=HASH(0x55e5c2154570)) called at /home/sand/src/perl/repoperls/installed-perls/host/k93jammy/v5.39.3/b4f3/lib/site_perl/5.39.3/LWP/UserAgent.pm line 452
	LWP::UserAgent::get(Test::WWW::Mechanize::PSGI=HASH(0x55e5c1fc1678), "http://localhost/wishlist") called at /home/sand/src/perl/repoperls/installed-perls/host/k93jammy/v5.39.3/b4f3/lib/site_perl/5.39.3/WWW/Mechanize.pm line 124
	WWW::Mechanize::get(Test::WWW::Mechanize::PSGI=HASH(0x55e5c1fc1678), "/wishlist") called at /home/sand/src/perl/repoperls/installed-perls/host/k93jammy/v5.39.3/b4f3/lib/site_perl/5.39.3/Test/WWW/Mechanize.pm line 192
	Test::WWW::Mechanize::get_ok(Test::WWW::Mechanize::PSGI=HASH(0x55e5c1fc1678), "/wishlist") called at t/03_mech.t line 82
Secret string too short at /tmp/loop_over_bdir-1255584-m4BHmZ/HTTP-Session2-1.10-0/blib/lib/HTTP/Session2/Base.pm line 79.
	HTTP::Session2::Base::__ANON__(HTTP::Session2::ServerStore=HASH(0x55e5c2155068), "s3cret") called at t/03_mech.t line 121
	main::server_session(HASH(0x55e5c2154bb8)) called at t/03_mech.t line 17
	main::__ANON__(HASH(0x55e5c2154bb8)) called at /home/sand/src/perl/repoperls/installed-perls/host/k93jammy/v5.39.3/b4f3/lib/site_perl/5.39.3/Test/WWW/Mechanize/PSGI.pm line 46
	Test::WWW::Mechanize::PSGI::try {...} () called at /home/sand/src/perl/repoperls/installed-perls/host/k93jammy/v5.39.3/b4f3/lib/site_perl/5.39.3/Try/Tiny.pm line 102
	eval {...} called at /home/sand/src/perl/repoperls/installed-perls/host/k93jammy/v5.39.3/b4f3/lib/site_perl/5.39.3/Try/Tiny.pm line 93
	Try::Tiny::try(CODE(0x55e5c2155230), Try::Tiny::Catch=REF(0x55e5c2155038)) called at /home/sand/src/perl/repoperls/installed-perls/host/k93jammy/v5.39.3/b4f3/lib/site_perl/5.39.3/Test/WWW/Mechanize/PSGI.pm line 53
	Test::WWW::Mechanize::PSGI::simple_request(Test::WWW::Mechanize::PSGI=HASH(0x55e5c1fc1678), HTTP::Request=HASH(0x55e5c2154b28), undef, undef) called at /home/sand/src/perl/repoperls/installed-perls/host/k93jammy/v5.39.3/b4f3/lib/site_perl/5.39.3/LWP/UserAgent.pm line 308
	LWP::UserAgent::request(Test::WWW::Mechanize::PSGI=HASH(0x55e5c1fc1678), HTTP::Request=HASH(0x55e5c2154b28)) called at /home/sand/src/perl/repoperls/installed-perls/host/k93jammy/v5.39.3/b4f3/lib/site_perl/5.39.3/WWW/Mechanize.pm line 1697
	WWW::Mechanize::_make_request(Test::WWW::Mechanize::PSGI=HASH(0x55e5c1fc1678), HTTP::Request=HASH(0x55e5c2154b28)) called at /home/sand/src/perl/repoperls/installed-perls/host/k93jammy/v5.39.3/b4f3/lib/site_perl/5.39.3/WWW/Mechanize.pm line 1532
	WWW::Mechanize::request(Test::WWW::Mechanize::PSGI=HASH(0x55e5c1fc1678), HTTP::Request=HASH(0x55e5c2154b28)) called at /home/sand/src/perl/repoperls/installed-perls/host/k93jammy/v5.39.3/b4f3/lib/site_perl/5.39.3/LWP/UserAgent.pm line 498
	LWP::UserAgent::post(Test::WWW::Mechanize::PSGI=HASH(0x55e5c1fc1678), "http://localhost/account/login?john", HASH(0x55e5c1c9c9a8)) called at /home/sand/src/perl/repoperls/installed-perls/host/k93jammy/v5.39.3/b4f3/lib/site_perl/5.39.3/WWW/Mechanize.pm line 136
	WWW::Mechanize::post(Test::WWW::Mechanize::PSGI=HASH(0x55e5c1fc1678), "/account/login?john", HASH(0x55e5c1c9c9a8)) called at /home/sand/src/perl/repoperls/installed-perls/host/k93jammy/v5.39.3/b4f3/lib/site_perl/5.39.3/Test/WWW/Mechanize.pm line 321
	Test::WWW::Mechanize::post_ok(Test::WWW::Mechanize::PSGI=HASH(0x55e5c1fc1678), "/account/login?john") called at t/03_mech.t line 84
Secret string too short at /tmp/loop_over_bdir-1255584-m4BHmZ/HTTP-Session2-1.10-0/blib/lib/HTTP/Session2/Base.pm line 79.
	HTTP::Session2::Base::__ANON__(HTTP::Session2::ServerStore=HASH(0x55e5c2169a00), "s3cret") called at t/03_mech.t line 121
	main::server_session(HASH(0x55e5c2155068)) called at t/03_mech.t line 17
	main::__ANON__(HASH(0x55e5c2155068)) called at /home/sand/src/perl/repoperls/installed-perls/host/k93jammy/v5.39.3/b4f3/lib/site_perl/5.39.3/Test/WWW/Mechanize/PSGI.pm line 46
	Test::WWW::Mechanize::PSGI::try {...} () called at /home/sand/src/perl/repoperls/installed-perls/host/k93jammy/v5.39.3/b4f3/lib/site_perl/5.39.3/Try/Tiny.pm line 102
	eval {...} called at /home/sand/src/perl/repoperls/installed-perls/host/k93jammy/v5.39.3/b4f3/lib/site_perl/5.39.3/Try/Tiny.pm line 93
	Try::Tiny::try(CODE(0x55e5c2151d98), Try::Tiny::Catch=REF(0x55e5c21694f0)) called at /home/sand/src/perl/repoperls/installed-perls/host/k93jammy/v5.39.3/b4f3/lib/site_perl/5.39.3/Test/WWW/Mechanize/PSGI.pm line 53
	Test::WWW::Mechanize::PSGI::simple_request(Test::WWW::Mechanize::PSGI=HASH(0x55e5c1fc1678), HTTP::Request=HASH(0x55e5c21699a0), undef, undef) called at /home/sand/src/perl/repoperls/installed-perls/host/k93jammy/v5.39.3/b4f3/lib/site_perl/5.39.3/LWP/UserAgent.pm line 308
	LWP::UserAgent::request(Test::WWW::Mechanize::PSGI=HASH(0x55e5c1fc1678), HTTP::Request=HASH(0x55e5c21699a0)) called at /home/sand/src/perl/repoperls/installed-perls/host/k93jammy/v5.39.3/b4f3/lib/site_perl/5.39.3/WWW/Mechanize.pm line 1697
	WWW::Mechanize::_make_request(Test::WWW::Mechanize::PSGI=HASH(0x55e5c1fc1678), HTTP::Request=HASH(0x55e5c21699a0)) called at /home/sand/src/perl/repoperls/installed-perls/host/k93jammy/v5.39.3/b4f3/lib/site_perl/5.39.3/WWW/Mechanize.pm line 1532
	WWW::Mechanize::request(Test::WWW::Mechanize::PSGI=HASH(0x55e5c1fc1678), HTTP::Request=HASH(0x55e5c21699a0)) called at /home/sand/src/perl/repoperls/installed-perls/host/k93jammy/v5.39.3/b4f3/lib/site_perl/5.39.3/LWP/UserAgent.pm line 452
	LWP::UserAgent::get(Test::WWW::Mechanize::PSGI=HASH(0x55e5c1fc1678), "http://localhost/wishlist") called at /home/sand/src/perl/repoperls/installed-perls/host/k93jammy/v5.39.3/b4f3/lib/site_perl/5.39.3/WWW/Mechanize.pm line 124
	WWW::Mechanize::get(Test::WWW::Mechanize::PSGI=HASH(0x55e5c1fc1678), "/wishlist") called at /home/sand/src/perl/repoperls/installed-perls/host/k93jammy/v5.39.3/b4f3/lib/site_perl/5.39.3/Test/WWW/Mechanize.pm line 192
	Test::WWW::Mechanize::get_ok(Test::WWW::Mechanize::PSGI=HASH(0x55e5c1fc1678), "/wishlist", "Wishlist is still available") called at t/03_mech.t line 85
Secret string too short at /tmp/loop_over_bdir-1255584-m4BHmZ/HTTP-Session2-1.10-0/blib/lib/HTTP/Session2/Base.pm line 79.
	HTTP::Session2::Base::__ANON__(HTTP::Session2::ServerStore=HASH(0x55e5c2169e50), "s3cret") called at t/03_mech.t line 121
	main::server_session(HASH(0x55e5c20b12f8)) called at t/03_mech.t line 17
	main::__ANON__(HASH(0x55e5c20b12f8)) called at /home/sand/src/perl/repoperls/installed-perls/host/k93jammy/v5.39.3/b4f3/lib/site_perl/5.39.3/Test/WWW/Mechanize/PSGI.pm line 46
	Test::WWW::Mechanize::PSGI::try {...} () called at /home/sand/src/perl/repoperls/installed-perls/host/k93jammy/v5.39.3/b4f3/lib/site_perl/5.39.3/Try/Tiny.pm line 102
	eval {...} called at /home/sand/src/perl/repoperls/installed-perls/host/k93jammy/v5.39.3/b4f3/lib/site_perl/5.39.3/Try/Tiny.pm line 93
	Try::Tiny::try(CODE(0x55e5c2169358), Try::Tiny::Catch=REF(0x55e5c21521e8)) called at /home/sand/src/perl/repoperls/installed-perls/host/k93jammy/v5.39.3/b4f3/lib/site_perl/5.39.3/Test/WWW/Mechanize/PSGI.pm line 53
	Test::WWW::Mechanize::PSGI::simple_request(Test::WWW::Mechanize::PSGI=HASH(0x55e5c1fc1678), HTTP::Request=HASH(0x55e5c2169be0), undef, undef) called at /home/sand/src/perl/repoperls/installed-perls/host/k93jammy/v5.39.3/b4f3/lib/site_perl/5.39.3/LWP/UserAgent.pm line 308
	LWP::UserAgent::request(Test::WWW::Mechanize::PSGI=HASH(0x55e5c1fc1678), HTTP::Request=HASH(0x55e5c2169be0)) called at /home/sand/src/perl/repoperls/installed-perls/host/k93jammy/v5.39.3/b4f3/lib/site_perl/5.39.3/WWW/Mechanize.pm line 1697
	WWW::Mechanize::_make_request(Test::WWW::Mechanize::PSGI=HASH(0x55e5c1fc1678), HTTP::Request=HASH(0x55e5c2169be0)) called at /home/sand/src/perl/repoperls/installed-perls/host/k93jammy/v5.39.3/b4f3/lib/site_perl/5.39.3/WWW/Mechanize.pm line 1532
	WWW::Mechanize::request(Test::WWW::Mechanize::PSGI=HASH(0x55e5c1fc1678), HTTP::Request=HASH(0x55e5c2169be0)) called at /home/sand/src/perl/repoperls/installed-perls/host/k93jammy/v5.39.3/b4f3/lib/site_perl/5.39.3/LWP/UserAgent.pm line 498
	LWP::UserAgent::post(Test::WWW::Mechanize::PSGI=HASH(0x55e5c1fc1678), "http://localhost/wishlist?baz") called at /home/sand/src/perl/repoperls/installed-perls/host/k93jammy/v5.39.3/b4f3/lib/site_perl/5.39.3/WWW/Mechanize.pm line 136
	WWW::Mechanize::post(Test::WWW::Mechanize::PSGI=HASH(0x55e5c1fc1678), "/wishlist?baz") called at t/03_mech.t line 87
Secret string too short at /tmp/loop_over_bdir-1255584-m4BHmZ/HTTP-Session2-1.10-0/blib/lib/HTTP/Session2/Base.pm line 79.
	HTTP::Session2::Base::__ANON__(HTTP::Session2::ServerStore=HASH(0x55e5c216ca98), "s3cret") called at t/03_mech.t line 121
	main::server_session(HASH(0x55e5c2169778)) called at t/03_mech.t line 17
	main::__ANON__(HASH(0x55e5c2169778)) called at /home/sand/src/perl/repoperls/installed-perls/host/k93jammy/v5.39.3/b4f3/lib/site_perl/5.39.3/Test/WWW/Mechanize/PSGI.pm line 46
	Test::WWW::Mechanize::PSGI::try {...} () called at /home/sand/src/perl/repoperls/installed-perls/host/k93jammy/v5.39.3/b4f3/lib/site_perl/5.39.3/Try/Tiny.pm line 102
	eval {...} called at /home/sand/src/perl/repoperls/installed-perls/host/k93jammy/v5.39.3/b4f3/lib/site_perl/5.39.3/Try/Tiny.pm line 93
	Try::Tiny::try(CODE(0x55e5c216a000), Try::Tiny::Catch=REF(0x55e5c2169e98)) called at /home/sand/src/perl/repoperls/installed-perls/host/k93jammy/v5.39.3/b4f3/lib/site_perl/5.39.3/Test/WWW/Mechanize/PSGI.pm line 53
	Test::WWW::Mechanize::PSGI::simple_request(Test::WWW::Mechanize::PSGI=HASH(0x55e5c1fc1678), HTTP::Request=HASH(0x55e5c21514e0), undef, undef) called at /home/sand/src/perl/repoperls/installed-perls/host/k93jammy/v5.39.3/b4f3/lib/site_perl/5.39.3/LWP/UserAgent.pm line 308
	LWP::UserAgent::request(Test::WWW::Mechanize::PSGI=HASH(0x55e5c1fc1678), HTTP::Request=HASH(0x55e5c21514e0)) called at /home/sand/src/perl/repoperls/installed-perls/host/k93jammy/v5.39.3/b4f3/lib/site_perl/5.39.3/WWW/Mechanize.pm line 1697
	WWW::Mechanize::_make_request(Test::WWW::Mechanize::PSGI=HASH(0x55e5c1fc1678), HTTP::Request=HASH(0x55e5c21514e0)) called at /home/sand/src/perl/repoperls/installed-perls/host/k93jammy/v5.39.3/b4f3/lib/site_perl/5.39.3/WWW/Mechanize.pm line 1532
	WWW::Mechanize::request(Test::WWW::Mechanize::PSGI=HASH(0x55e5c1fc1678), HTTP::Request=HASH(0x55e5c21514e0)) called at /home/sand/src/perl/repoperls/installed-perls/host/k93jammy/v5.39.3/b4f3/lib/site_perl/5.39.3/LWP/UserAgent.pm line 498
	LWP::UserAgent::post(Test::WWW::Mechanize::PSGI=HASH(0x55e5c1fc1678), "http://localhost/wishlist?baz", HASH(0x55e5c1c9c9a8)) called at /home/sand/src/perl/repoperls/installed-perls/host/k93jammy/v5.39.3/b4f3/lib/site_perl/5.39.3/WWW/Mechanize.pm line 136
	WWW::Mechanize::post(Test::WWW::Mechanize::PSGI=HASH(0x55e5c1fc1678), "/wishlist?baz", HASH(0x55e5c1c9c9a8)) called at /home/sand/src/perl/repoperls/installed-perls/host/k93jammy/v5.39.3/b4f3/lib/site_perl/5.39.3/Test/WWW/Mechanize.pm line 321
	Test::WWW::Mechanize::post_ok(Test::WWW::Mechanize::PSGI=HASH(0x55e5c1fc1678), "/wishlist?baz") called at t/03_mech.t line 90
Secret string too short at /tmp/loop_over_bdir-1255584-m4BHmZ/HTTP-Session2-1.10-0/blib/lib/HTTP/Session2/Base.pm line 79.
	HTTP::Session2::Base::__ANON__(HTTP::Session2::ServerStore=HASH(0x55e5c216cc48), "s3cret") called at t/03_mech.t line 121
	main::server_session(HASH(0x55e5c216ca98)) called at t/03_mech.t line 17
	main::__ANON__(HASH(0x55e5c216ca98)) called at /home/sand/src/perl/repoperls/installed-perls/host/k93jammy/v5.39.3/b4f3/lib/site_perl/5.39.3/Test/WWW/Mechanize/PSGI.pm line 46
	Test::WWW::Mechanize::PSGI::try {...} () called at /home/sand/src/perl/repoperls/installed-perls/host/k93jammy/v5.39.3/b4f3/lib/site_perl/5.39.3/Try/Tiny.pm line 102
	eval {...} called at /home/sand/src/perl/repoperls/installed-perls/host/k93jammy/v5.39.3/b4f3/lib/site_perl/5.39.3/Try/Tiny.pm line 93
	Try::Tiny::try(CODE(0x55e5c216cbb8), Try::Tiny::Catch=REF(0x55e5c2144938)) called at /home/sand/src/perl/repoperls/installed-perls/host/k93jammy/v5.39.3/b4f3/lib/site_perl/5.39.3/Test/WWW/Mechanize/PSGI.pm line 53
	Test::WWW::Mechanize::PSGI::simple_request(Test::WWW::Mechanize::PSGI=HASH(0x55e5c1fc1678), HTTP::Request=HASH(0x55e5c216a120), undef, undef) called at /home/sand/src/perl/repoperls/installed-perls/host/k93jammy/v5.39.3/b4f3/lib/site_perl/5.39.3/LWP/UserAgent.pm line 308
	LWP::UserAgent::request(Test::WWW::Mechanize::PSGI=HASH(0x55e5c1fc1678), HTTP::Request=HASH(0x55e5c216a120)) called at /home/sand/src/perl/repoperls/installed-perls/host/k93jammy/v5.39.3/b4f3/lib/site_perl/5.39.3/WWW/Mechanize.pm line 1697
	WWW::Mechanize::_make_request(Test::WWW::Mechanize::PSGI=HASH(0x55e5c1fc1678), HTTP::Request=HASH(0x55e5c216a120)) called at /home/sand/src/perl/repoperls/installed-perls/host/k93jammy/v5.39.3/b4f3/lib/site_perl/5.39.3/WWW/Mechanize.pm line 1532
	WWW::Mechanize::request(Test::WWW::Mechanize::PSGI=HASH(0x55e5c1fc1678), HTTP::Request=HASH(0x55e5c216a120)) called at /home/sand/src/perl/repoperls/installed-perls/host/k93jammy/v5.39.3/b4f3/lib/site_perl/5.39.3/LWP/UserAgent.pm line 452
	LWP::UserAgent::get(Test::WWW::Mechanize::PSGI=HASH(0x55e5c1fc1678), "http://localhost/wishlist") called at /home/sand/src/perl/repoperls/installed-perls/host/k93jammy/v5.39.3/b4f3/lib/site_perl/5.39.3/WWW/Mechanize.pm line 124
	WWW::Mechanize::get(Test::WWW::Mechanize::PSGI=HASH(0x55e5c1fc1678), "/wishlist") called at /home/sand/src/perl/repoperls/installed-perls/host/k93jammy/v5.39.3/b4f3/lib/site_perl/5.39.3/Test/WWW/Mechanize.pm line 192
	Test::WWW::Mechanize::get_ok(Test::WWW::Mechanize::PSGI=HASH(0x55e5c1fc1678), "/wishlist", "Wishlist is still available") called at t/03_mech.t line 91
Secret string too short at /tmp/loop_over_bdir-1255584-m4BHmZ/HTTP-Session2-1.10-0/blib/lib/HTTP/Session2/Base.pm line 79.
	HTTP::Session2::Base::__ANON__(HTTP::Session2::ServerStore=HASH(0x55e5c216caf8), "s3cret") called at t/03_mech.t line 121
	main::server_session(HASH(0x55e5c216cc48)) called at t/03_mech.t line 17
	main::__ANON__(HASH(0x55e5c216cc48)) called at /home/sand/src/perl/repoperls/installed-perls/host/k93jammy/v5.39.3/b4f3/lib/site_perl/5.39.3/Test/WWW/Mechanize/PSGI.pm line 46
	Test::WWW::Mechanize::PSGI::try {...} () called at /home/sand/src/perl/repoperls/installed-perls/host/k93jammy/v5.39.3/b4f3/lib/site_perl/5.39.3/Try/Tiny.pm line 102
	eval {...} called at /home/sand/src/perl/repoperls/installed-perls/host/k93jammy/v5.39.3/b4f3/lib/site_perl/5.39.3/Try/Tiny.pm line 93
	Try::Tiny::try(CODE(0x55e5c216a0c0), Try::Tiny::Catch=REF(0x55e5c216a048)) called at /home/sand/src/perl/repoperls/installed-perls/host/k93jammy/v5.39.3/b4f3/lib/site_perl/5.39.3/Test/WWW/Mechanize/PSGI.pm line 53
	Test::WWW::Mechanize::PSGI::simple_request(Test::WWW::Mechanize::PSGI=HASH(0x55e5c1fc1678), HTTP::Request=HASH(0x55e5c216cb58), undef, undef) called at /home/sand/src/perl/repoperls/installed-perls/host/k93jammy/v5.39.3/b4f3/lib/site_perl/5.39.3/LWP/UserAgent.pm line 308
	LWP::UserAgent::request(Test::WWW::Mechanize::PSGI=HASH(0x55e5c1fc1678), HTTP::Request=HASH(0x55e5c216cb58)) called at /home/sand/src/perl/repoperls/installed-perls/host/k93jammy/v5.39.3/b4f3/lib/site_perl/5.39.3/WWW/Mechanize.pm line 1697
	WWW::Mechanize::_make_request(Test::WWW::Mechanize::PSGI=HASH(0x55e5c1fc1678), HTTP::Request=HASH(0x55e5c216cb58)) called at /home/sand/src/perl/repoperls/installed-perls/host/k93jammy/v5.39.3/b4f3/lib/site_perl/5.39.3/WWW/Mechanize.pm line 1532
	WWW::Mechanize::request(Test::WWW::Mechanize::PSGI=HASH(0x55e5c1fc1678), HTTP::Request=HASH(0x55e5c216cb58)) called at /home/sand/src/perl/repoperls/installed-perls/host/k93jammy/v5.39.3/b4f3/lib/site_perl/5.39.3/LWP/UserAgent.pm line 452
	LWP::UserAgent::get(Test::WWW::Mechanize::PSGI=HASH(0x55e5c1fc1678), "http://localhost/my/name") called at /home/sand/src/perl/repoperls/installed-perls/host/k93jammy/v5.39.3/b4f3/lib/site_perl/5.39.3/WWW/Mechanize.pm line 124
	WWW::Mechanize::get(Test::WWW::Mechanize::PSGI=HASH(0x55e5c1fc1678), "/my/name") called at /home/sand/src/perl/repoperls/installed-perls/host/k93jammy/v5.39.3/b4f3/lib/site_perl/5.39.3/Test/WWW/Mechanize.pm line 192
	Test::WWW::Mechanize::get_ok(Test::WWW::Mechanize::PSGI=HASH(0x55e5c1fc1678), "/my/name") called at t/03_mech.t line 93
Secret string too short at /tmp/loop_over_bdir-1255584-m4BHmZ/HTTP-Session2-1.10-0/blib/lib/HTTP/Session2/Base.pm line 79.
	HTTP::Session2::Base::__ANON__(HTTP::Session2::ServerStore=HASH(0x55e5c216cf60), "s3cret") called at t/03_mech.t line 121
	main::server_session(HASH(0x55e5c2169910)) called at t/03_mech.t line 17
	main::__ANON__(HASH(0x55e5c2169910)) called at /home/sand/src/perl/repoperls/installed-perls/host/k93jammy/v5.39.3/b4f3/lib/site_perl/5.39.3/Test/WWW/Mechanize/PSGI.pm line 46
	Test::WWW::Mechanize::PSGI::try {...} () called at /home/sand/src/perl/repoperls/installed-perls/host/k93jammy/v5.39.3/b4f3/lib/site_perl/5.39.3/Try/Tiny.pm line 102
	eval {...} called at /home/sand/src/perl/repoperls/installed-perls/host/k93jammy/v5.39.3/b4f3/lib/site_perl/5.39.3/Try/Tiny.pm line 93
	Try::Tiny::try(CODE(0x55e5c2169e20), Try::Tiny::Catch=REF(0x55e5c216cf78)) called at /home/sand/src/perl/repoperls/installed-perls/host/k93jammy/v5.39.3/b4f3/lib/site_perl/5.39.3/Test/WWW/Mechanize/PSGI.pm line 53
	Test::WWW::Mechanize::PSGI::simple_request(Test::WWW::Mechanize::PSGI=HASH(0x55e5c1fc1678), HTTP::Request=HASH(0x55e5c216d590), undef, undef) called at /home/sand/src/perl/repoperls/installed-perls/host/k93jammy/v5.39.3/b4f3/lib/site_perl/5.39.3/LWP/UserAgent.pm line 308
	LWP::UserAgent::request(Test::WWW::Mechanize::PSGI=HASH(0x55e5c1fc1678), HTTP::Request=HASH(0x55e5c216d590)) called at /home/sand/src/perl/repoperls/installed-perls/host/k93jammy/v5.39.3/b4f3/lib/site_perl/5.39.3/WWW/Mechanize.pm line 1697
	WWW::Mechanize::_make_request(Test::WWW::Mechanize::PSGI=HASH(0x55e5c1fc1678), HTTP::Request=HASH(0x55e5c216d590)) called at /home/sand/src/perl/repoperls/installed-perls/host/k93jammy/v5.39.3/b4f3/lib/site_perl/5.39.3/WWW/Mechanize.pm line 1532
	WWW::Mechanize::request(Test::WWW::Mechanize::PSGI=HASH(0x55e5c1fc1678), HTTP::Request=HASH(0x55e5c216d590)) called at /home/sand/src/perl/repoperls/installed-perls/host/k93jammy/v5.39.3/b4f3/lib/site_perl/5.39.3/LWP/UserAgent.pm line 498
	LWP::UserAgent::post(Test::WWW::Mechanize::PSGI=HASH(0x55e5c1fc1678), "http://localhost/account/logout?john") called at /home/sand/src/perl/repoperls/installed-perls/host/k93jammy/v5.39.3/b4f3/lib/site_perl/5.39.3/WWW/Mechanize.pm line 136
	WWW::Mechanize::post(Test::WWW::Mechanize::PSGI=HASH(0x55e5c1fc1678), "/account/logout?john") called at t/03_mech.t line 97
Secret string too short at /tmp/loop_over_bdir-1255584-m4BHmZ/HTTP-Session2-1.10-0/blib/lib/HTTP/Session2/Base.pm line 79.
	HTTP::Session2::Base::__ANON__(HTTP::Session2::ClientStore=HASH(0x55e5c2154648), "s3cret") called at t/03_mech.t line 127
	main::client_session(HASH(0x55e5c09fc258)) called at t/03_mech.t line 17
	main::__ANON__(HASH(0x55e5c09fc258)) called at /home/sand/src/perl/repoperls/installed-perls/host/k93jammy/v5.39.3/b4f3/lib/site_perl/5.39.3/Test/WWW/Mechanize/PSGI.pm line 46
	Test::WWW::Mechanize::PSGI::try {...} () called at /home/sand/src/perl/repoperls/installed-perls/host/k93jammy/v5.39.3/b4f3/lib/site_perl/5.39.3/Try/Tiny.pm line 102
	eval {...} called at /home/sand/src/perl/repoperls/installed-perls/host/k93jammy/v5.39.3/b4f3/lib/site_perl/5.39.3/Try/Tiny.pm line 93
	Try::Tiny::try(CODE(0x55e5c2154708), Try::Tiny::Catch=REF(0x55e5c2172bd0)) called at /home/sand/src/perl/repoperls/installed-perls/host/k93jammy/v5.39.3/b4f3/lib/site_perl/5.39.3/Test/WWW/Mechanize/PSGI.pm line 53
	Test::WWW::Mechanize::PSGI::simple_request(Test::WWW::Mechanize::PSGI=HASH(0x55e5c09fc168), HTTP::Request=HASH(0x55e5c09fbd60), undef, undef) called at /home/sand/src/perl/repoperls/installed-perls/host/k93jammy/v5.39.3/b4f3/lib/site_perl/5.39.3/LWP/UserAgent.pm line 308
	LWP::UserAgent::request(Test::WWW::Mechanize::PSGI=HASH(0x55e5c09fc168), HTTP::Request=HASH(0x55e5c09fbd60)) called at /home/sand/src/perl/repoperls/installed-perls/host/k93jammy/v5.39.3/b4f3/lib/site_perl/5.39.3/WWW/Mechanize.pm line 1697
	WWW::Mechanize::_make_request(Test::WWW::Mechanize::PSGI=HASH(0x55e5c09fc168), HTTP::Request=HASH(0x55e5c09fbd60)) called at /home/sand/src/perl/repoperls/installed-perls/host/k93jammy/v5.39.3/b4f3/lib/site_perl/5.39.3/WWW/Mechanize.pm line 1532
	WWW::Mechanize::request(Test::WWW::Mechanize::PSGI=HASH(0x55e5c09fc168), HTTP::Request=HASH(0x55e5c09fbd60)) called at /home/sand/src/perl/repoperls/installed-perls/host/k93jammy/v5.39.3/b4f3/lib/site_perl/5.39.3/LWP/UserAgent.pm line 452
	LWP::UserAgent::get(Test::WWW::Mechanize::PSGI=HASH(0x55e5c09fc168), "/") called at /home/sand/src/perl/repoperls/installed-perls/host/k93jammy/v5.39.3/b4f3/lib/site_perl/5.39.3/WWW/Mechanize.pm line 124
	WWW::Mechanize::get(Test::WWW::Mechanize::PSGI=HASH(0x55e5c09fc168), "/") called at /home/sand/src/perl/repoperls/installed-perls/host/k93jammy/v5.39.3/b4f3/lib/site_perl/5.39.3/Test/WWW/Mechanize.pm line 192
	Test::WWW::Mechanize::get_ok(Test::WWW::Mechanize::PSGI=HASH(0x55e5c09fc168), "/") called at t/03_mech.t line 74
Secret string too short at /tmp/loop_over_bdir-1255584-m4BHmZ/HTTP-Session2-1.10-0/blib/lib/HTTP/Session2/Base.pm line 79.
	HTTP::Session2::Base::__ANON__(HTTP::Session2::ClientStore=HASH(0x55e5c20b1340), "s3cret") called at t/03_mech.t line 127
	main::client_session(HASH(0x55e5c2154438)) called at t/03_mech.t line 17
	main::__ANON__(HASH(0x55e5c2154438)) called at /home/sand/src/perl/repoperls/installed-perls/host/k93jammy/v5.39.3/b4f3/lib/site_perl/5.39.3/Test/WWW/Mechanize/PSGI.pm line 46
	Test::WWW::Mechanize::PSGI::try {...} () called at /home/sand/src/perl/repoperls/installed-perls/host/k93jammy/v5.39.3/b4f3/lib/site_perl/5.39.3/Try/Tiny.pm line 102
	eval {...} called at /home/sand/src/perl/repoperls/installed-perls/host/k93jammy/v5.39.3/b4f3/lib/site_perl/5.39.3/Try/Tiny.pm line 93
	Try::Tiny::try(CODE(0x55e5c2151750), Try::Tiny::Catch=REF(0x55e5c2152248)) called at /home/sand/src/perl/repoperls/installed-perls/host/k93jammy/v5.39.3/b4f3/lib/site_perl/5.39.3/Test/WWW/Mechanize/PSGI.pm line 53
	Test::WWW::Mechanize::PSGI::simple_request(Test::WWW::Mechanize::PSGI=HASH(0x55e5c09fc168), HTTP::Request=HASH(0x55e5c216cba0), undef, undef) called at /home/sand/src/perl/repoperls/installed-perls/host/k93jammy/v5.39.3/b4f3/lib/site_perl/5.39.3/LWP/UserAgent.pm line 308
	LWP::UserAgent::request(Test::WWW::Mechanize::PSGI=HASH(0x55e5c09fc168), HTTP::Request=HASH(0x55e5c216cba0)) called at /home/sand/src/perl/repoperls/installed-perls/host/k93jammy/v5.39.3/b4f3/lib/site_perl/5.39.3/WWW/Mechanize.pm line 1697
	WWW::Mechanize::_make_request(Test::WWW::Mechanize::PSGI=HASH(0x55e5c09fc168), HTTP::Request=HASH(0x55e5c216cba0)) called at /home/sand/src/perl/repoperls/installed-perls/host/k93jammy/v5.39.3/b4f3/lib/site_perl/5.39.3/WWW/Mechanize.pm line 1532
	WWW::Mechanize::request(Test::WWW::Mechanize::PSGI=HASH(0x55e5c09fc168), HTTP::Request=HASH(0x55e5c216cba0)) called at /home/sand/src/perl/repoperls/installed-perls/host/k93jammy/v5.39.3/b4f3/lib/site_perl/5.39.3/LWP/UserAgent.pm line 498
	LWP::UserAgent::post(Test::WWW::Mechanize::PSGI=HASH(0x55e5c09fc168), "http://localhost/wishlist?foo", HASH(0x55e5c1c9c9a8)) called at /home/sand/src/perl/repoperls/installed-perls/host/k93jammy/v5.39.3/b4f3/lib/site_perl/5.39.3/WWW/Mechanize.pm line 136
	WWW::Mechanize::post(Test::WWW::Mechanize::PSGI=HASH(0x55e5c09fc168), "/wishlist?foo", HASH(0x55e5c1c9c9a8)) called at /home/sand/src/perl/repoperls/installed-perls/host/k93jammy/v5.39.3/b4f3/lib/site_perl/5.39.3/Test/WWW/Mechanize.pm line 321
	Test::WWW::Mechanize::post_ok(Test::WWW::Mechanize::PSGI=HASH(0x55e5c09fc168), "/wishlist?foo") called at t/03_mech.t line 75
Do not use HTTP::Session2::ClientStore. Use HTTP::Session2::ServerStore or HTTP::Session2::ClientStore2 instead. at /tmp/loop_over_bdir-1255584-m4BHmZ/HTTP-Session2-1.10-0/blib/lib/HTTP/Session2/ClientStore.pm line 25.
Secret string too short at /tmp/loop_over_bdir-1255584-m4BHmZ/HTTP-Session2-1.10-0/blib/lib/HTTP/Session2/Base.pm line 79.
	HTTP::Session2::Base::__ANON__(HTTP::Session2::ClientStore=HASH(0x55e5c2154fc0), "s3cret") called at t/03_mech.t line 127
	main::client_session(HASH(0x55e5c2152398)) called at t/03_mech.t line 17
	main::__ANON__(HASH(0x55e5c2152398)) called at /home/sand/src/perl/repoperls/installed-perls/host/k93jammy/v5.39.3/b4f3/lib/site_perl/5.39.3/Test/WWW/Mechanize/PSGI.pm line 46
	Test::WWW::Mechanize::PSGI::try {...} () called at /home/sand/src/perl/repoperls/installed-perls/host/k93jammy/v5.39.3/b4f3/lib/site_perl/5.39.3/Try/Tiny.pm line 102
	eval {...} called at /home/sand/src/perl/repoperls/installed-perls/host/k93jammy/v5.39.3/b4f3/lib/site_perl/5.39.3/Try/Tiny.pm line 93
	Try::Tiny::try(CODE(0x55e5c2155140), Try::Tiny::Catch=REF(0x55e5c2155158)) called at /home/sand/src/perl/repoperls/installed-perls/host/k93jammy/v5.39.3/b4f3/lib/site_perl/5.39.3/Test/WWW/Mechanize/PSGI.pm line 53
	Test::WWW::Mechanize::PSGI::simple_request(Test::WWW::Mechanize::PSGI=HASH(0x55e5c09fc168), HTTP::Request=HASH(0x55e5c2154b10), undef, undef) called at /home/sand/src/perl/repoperls/installed-perls/host/k93jammy/v5.39.3/b4f3/lib/site_perl/5.39.3/LWP/UserAgent.pm line 308
	LWP::UserAgent::request(Test::WWW::Mechanize::PSGI=HASH(0x55e5c09fc168), HTTP::Request=HASH(0x55e5c2154b10)) called at /home/sand/src/perl/repoperls/installed-perls/host/k93jammy/v5.39.3/b4f3/lib/site_perl/5.39.3/WWW/Mechanize.pm line 1697
	WWW::Mechanize::_make_request(Test::WWW::Mechanize::PSGI=HASH(0x55e5c09fc168), HTTP::Request=HASH(0x55e5c2154b10)) called at /home/sand/src/perl/repoperls/installed-perls/host/k93jammy/v5.39.3/b4f3/lib/site_perl/5.39.3/WWW/Mechanize.pm line 1532
	WWW::Mechanize::request(Test::WWW::Mechanize::PSGI=HASH(0x55e5c09fc168), HTTP::Request=HASH(0x55e5c2154b10)) called at /home/sand/src/perl/repoperls/installed-perls/host/k93jammy/v5.39.3/b4f3/lib/site_perl/5.39.3/LWP/UserAgent.pm line 452
	LWP::UserAgent::get(Test::WWW::Mechanize::PSGI=HASH(0x55e5c09fc168), "http://localhost/wishlist") called at /home/sand/src/perl/repoperls/installed-perls/host/k93jammy/v5.39.3/b4f3/lib/site_perl/5.39.3/WWW/Mechanize.pm line 124
	WWW::Mechanize::get(Test::WWW::Mechanize::PSGI=HASH(0x55e5c09fc168), "/wishlist") called at /home/sand/src/perl/repoperls/installed-perls/host/k93jammy/v5.39.3/b4f3/lib/site_perl/5.39.3/Test/WWW/Mechanize.pm line 192
	Test::WWW::Mechanize::get_ok(Test::WWW::Mechanize::PSGI=HASH(0x55e5c09fc168), "/wishlist") called at t/03_mech.t line 76
Do not use HTTP::Session2::ClientStore. Use HTTP::Session2::ServerStore or HTTP::Session2::ClientStore2 instead. at /tmp/loop_over_bdir-1255584-m4BHmZ/HTTP-Session2-1.10-0/blib/lib/HTTP/Session2/ClientStore.pm line 35.
Secret string too short at /tmp/loop_over_bdir-1255584-m4BHmZ/HTTP-Session2-1.10-0/blib/lib/HTTP/Session2/Base.pm line 79.
	HTTP::Session2::Base::__ANON__(HTTP::Session2::ClientStore=HASH(0x55e5c2169d00), "s3cret") called at t/03_mech.t line 127
	main::client_session(HASH(0x55e5c2154c30)) called at t/03_mech.t line 17
	main::__ANON__(HASH(0x55e5c2154c30)) called at /home/sand/src/perl/repoperls/installed-perls/host/k93jammy/v5.39.3/b4f3/lib/site_perl/5.39.3/Test/WWW/Mechanize/PSGI.pm line 46
	Test::WWW::Mechanize::PSGI::try {...} () called at /home/sand/src/perl/repoperls/installed-perls/host/k93jammy/v5.39.3/b4f3/lib/site_perl/5.39.3/Try/Tiny.pm line 102
	eval {...} called at /home/sand/src/perl/repoperls/installed-perls/host/k93jammy/v5.39.3/b4f3/lib/site_perl/5.39.3/Try/Tiny.pm line 93
	Try::Tiny::try(CODE(0x55e5c2154e70), Try::Tiny::Catch=REF(0x55e5c2151c30)) called at /home/sand/src/perl/repoperls/installed-perls/host/k93jammy/v5.39.3/b4f3/lib/site_perl/5.39.3/Test/WWW/Mechanize/PSGI.pm line 53
	Test::WWW::Mechanize::PSGI::simple_request(Test::WWW::Mechanize::PSGI=HASH(0x55e5c09fc168), HTTP::Request=HASH(0x55e5c2151b10), undef, undef) called at /home/sand/src/perl/repoperls/installed-perls/host/k93jammy/v5.39.3/b4f3/lib/site_perl/5.39.3/LWP/UserAgent.pm line 308
	LWP::UserAgent::request(Test::WWW::Mechanize::PSGI=HASH(0x55e5c09fc168), HTTP::Request=HASH(0x55e5c2151b10)) called at /home/sand/src/perl/repoperls/installed-perls/host/k93jammy/v5.39.3/b4f3/lib/site_perl/5.39.3/WWW/Mechanize.pm line 1697
	WWW::Mechanize::_make_request(Test::WWW::Mechanize::PSGI=HASH(0x55e5c09fc168), HTTP::Request=HASH(0x55e5c2151b10)) called at /home/sand/src/perl/repoperls/installed-perls/host/k93jammy/v5.39.3/b4f3/lib/site_perl/5.39.3/WWW/Mechanize.pm line 1532
	WWW::Mechanize::request(Test::WWW::Mechanize::PSGI=HASH(0x55e5c09fc168), HTTP::Request=HASH(0x55e5c2151b10)) called at /home/sand/src/perl/repoperls/installed-perls/host/k93jammy/v5.39.3/b4f3/lib/site_perl/5.39.3/LWP/UserAgent.pm line 498
	LWP::UserAgent::post(Test::WWW::Mechanize::PSGI=HASH(0x55e5c09fc168), "http://localhost/wishlist?bar") called at /home/sand/src/perl/repoperls/installed-perls/host/k93jammy/v5.39.3/b4f3/lib/site_perl/5.39.3/WWW/Mechanize.pm line 136
	WWW::Mechanize::post(Test::WWW::Mechanize::PSGI=HASH(0x55e5c09fc168), "/wishlist?bar") called at t/03_mech.t line 78
Do not use HTTP::Session2::ClientStore. Use HTTP::Session2::ServerStore or HTTP::Session2::ClientStore2 instead. at /tmp/loop_over_bdir-1255584-m4BHmZ/HTTP-Session2-1.10-0/blib/lib/HTTP/Session2/ClientStore.pm line 35.
Secret string too short at /tmp/loop_over_bdir-1255584-m4BHmZ/HTTP-Session2-1.10-0/blib/lib/HTTP/Session2/Base.pm line 79.
	HTTP::Session2::Base::__ANON__(HTTP::Session2::ClientStore=HASH(0x55e5c2151900), "s3cret") called at t/03_mech.t line 127
	main::client_session(HASH(0x55e5c2169d00)) called at t/03_mech.t line 17
	main::__ANON__(HASH(0x55e5c2169d00)) called at /home/sand/src/perl/repoperls/installed-perls/host/k93jammy/v5.39.3/b4f3/lib/site_perl/5.39.3/Test/WWW/Mechanize/PSGI.pm line 46
	Test::WWW::Mechanize::PSGI::try {...} () called at /home/sand/src/perl/repoperls/installed-perls/host/k93jammy/v5.39.3/b4f3/lib/site_perl/5.39.3/Try/Tiny.pm line 102
	eval {...} called at /home/sand/src/perl/repoperls/installed-perls/host/k93jammy/v5.39.3/b4f3/lib/site_perl/5.39.3/Try/Tiny.pm line 93
	Try::Tiny::try(CODE(0x55e5c09fc210), Try::Tiny::Catch=REF(0x55e5c2169c58)) called at /home/sand/src/perl/repoperls/installed-perls/host/k93jammy/v5.39.3/b4f3/lib/site_perl/5.39.3/Test/WWW/Mechanize/PSGI.pm line 53
	Test::WWW::Mechanize::PSGI::simple_request(Test::WWW::Mechanize::PSGI=HASH(0x55e5c09fc168), HTTP::Request=HASH(0x55e5c2169aa8), undef, undef) called at /home/sand/src/perl/repoperls/installed-perls/host/k93jammy/v5.39.3/b4f3/lib/site_perl/5.39.3/LWP/UserAgent.pm line 308
	LWP::UserAgent::request(Test::WWW::Mechanize::PSGI=HASH(0x55e5c09fc168), HTTP::Request=HASH(0x55e5c2169aa8)) called at /home/sand/src/perl/repoperls/installed-perls/host/k93jammy/v5.39.3/b4f3/lib/site_perl/5.39.3/WWW/Mechanize.pm line 1697
	WWW::Mechanize::_make_request(Test::WWW::Mechanize::PSGI=HASH(0x55e5c09fc168), HTTP::Request=HASH(0x55e5c2169aa8)) called at /home/sand/src/perl/repoperls/installed-perls/host/k93jammy/v5.39.3/b4f3/lib/site_perl/5.39.3/WWW/Mechanize.pm line 1532
	WWW::Mechanize::request(Test::WWW::Mechanize::PSGI=HASH(0x55e5c09fc168), HTTP::Request=HASH(0x55e5c2169aa8)) called at /home/sand/src/perl/repoperls/installed-perls/host/k93jammy/v5.39.3/b4f3/lib/site_perl/5.39.3/LWP/UserAgent.pm line 498
	LWP::UserAgent::post(Test::WWW::Mechanize::PSGI=HASH(0x55e5c09fc168), "http://localhost/wishlist?bar", HASH(0x55e5c1c9c9a8)) called at /home/sand/src/perl/repoperls/installed-perls/host/k93jammy/v5.39.3/b4f3/lib/site_perl/5.39.3/WWW/Mechanize.pm line 136
	WWW::Mechanize::post(Test::WWW::Mechanize::PSGI=HASH(0x55e5c09fc168), "/wishlist?bar", HASH(0x55e5c1c9c9a8)) called at /home/sand/src/perl/repoperls/installed-perls/host/k93jammy/v5.39.3/b4f3/lib/site_perl/5.39.3/Test/WWW/Mechanize.pm line 321
	Test::WWW::Mechanize::post_ok(Test::WWW::Mechanize::PSGI=HASH(0x55e5c09fc168), "/wishlist?bar") called at t/03_mech.t line 81
Do not use HTTP::Session2::ClientStore. Use HTTP::Session2::ServerStore or HTTP::Session2::ClientStore2 instead. at /tmp/loop_over_bdir-1255584-m4BHmZ/HTTP-Session2-1.10-0/blib/lib/HTTP/Session2/ClientStore.pm line 35.
Do not use HTTP::Session2::ClientStore. Use HTTP::Session2::ServerStore or HTTP::Session2::ClientStore2 instead. at /tmp/loop_over_bdir-1255584-m4BHmZ/HTTP-Session2-1.10-0/blib/lib/HTTP/Session2/ClientStore.pm line 25.
Secret string too short at /tmp/loop_over_bdir-1255584-m4BHmZ/HTTP-Session2-1.10-0/blib/lib/HTTP/Session2/Base.pm line 79.
	HTTP::Session2::Base::__ANON__(HTTP::Session2::ClientStore=HASH(0x55e5c21517f8), "s3cret") called at t/03_mech.t line 127
	main::client_session(HASH(0x55e5c2169b80)) called at t/03_mech.t line 17
	main::__ANON__(HASH(0x55e5c2169b80)) called at /home/sand/src/perl/repoperls/installed-perls/host/k93jammy/v5.39.3/b4f3/lib/site_perl/5.39.3/Test/WWW/Mechanize/PSGI.pm line 46
	Test::WWW::Mechanize::PSGI::try {...} () called at /home/sand/src/perl/repoperls/installed-perls/host/k93jammy/v5.39.3/b4f3/lib/site_perl/5.39.3/Try/Tiny.pm line 102
	eval {...} called at /home/sand/src/perl/repoperls/installed-perls/host/k93jammy/v5.39.3/b4f3/lib/site_perl/5.39.3/Try/Tiny.pm line 93
	Try::Tiny::try(CODE(0x55e5c2154948), Try::Tiny::Catch=REF(0x55e5c2169b68)) called at /home/sand/src/perl/repoperls/installed-perls/host/k93jammy/v5.39.3/b4f3/lib/site_perl/5.39.3/Test/WWW/Mechanize/PSGI.pm line 53
	Test::WWW::Mechanize::PSGI::simple_request(Test::WWW::Mechanize::PSGI=HASH(0x55e5c09fc168), HTTP::Request=HASH(0x55e5c2169dc0), undef, undef) called at /home/sand/src/perl/repoperls/installed-perls/host/k93jammy/v5.39.3/b4f3/lib/site_perl/5.39.3/LWP/UserAgent.pm line 308
	LWP::UserAgent::request(Test::WWW::Mechanize::PSGI=HASH(0x55e5c09fc168), HTTP::Request=HASH(0x55e5c2169dc0)) called at /home/sand/src/perl/repoperls/installed-perls/host/k93jammy/v5.39.3/b4f3/lib/site_perl/5.39.3/WWW/Mechanize.pm line 1697
	WWW::Mechanize::_make_request(Test::WWW::Mechanize::PSGI=HASH(0x55e5c09fc168), HTTP::Request=HASH(0x55e5c2169dc0)) called at /home/sand/src/perl/repoperls/installed-perls/host/k93jammy/v5.39.3/b4f3/lib/site_perl/5.39.3/WWW/Mechanize.pm line 1532
	WWW::Mechanize::request(Test::WWW::Mechanize::PSGI=HASH(0x55e5c09fc168), HTTP::Request=HASH(0x55e5c2169dc0)) called at /home/sand/src/perl/repoperls/installed-perls/host/k93jammy/v5.39.3/b4f3/lib/site_perl/5.39.3/LWP/UserAgent.pm line 452
	LWP::UserAgent::get(Test::WWW::Mechanize::PSGI=HASH(0x55e5c09fc168), "http://localhost/wishlist") called at /home/sand/src/perl/repoperls/installed-perls/host/k93jammy/v5.39.3/b4f3/lib/site_perl/5.39.3/WWW/Mechanize.pm line 124
	WWW::Mechanize::get(Test::WWW::Mechanize::PSGI=HASH(0x55e5c09fc168), "/wishlist") called at /home/sand/src/perl/repoperls/installed-perls/host/k93jammy/v5.39.3/b4f3/lib/site_perl/5.39.3/Test/WWW/Mechanize.pm line 192
	Test::WWW::Mechanize::get_ok(Test::WWW::Mechanize::PSGI=HASH(0x55e5c09fc168), "/wishlist") called at t/03_mech.t line 82
Do not use HTTP::Session2::ClientStore. Use HTTP::Session2::ServerStore or HTTP::Session2::ClientStore2 instead. at /tmp/loop_over_bdir-1255584-m4BHmZ/HTTP-Session2-1.10-0/blib/lib/HTTP/Session2/ClientStore.pm line 35.
Secret string too short at /tmp/loop_over_bdir-1255584-m4BHmZ/HTTP-Session2-1.10-0/blib/lib/HTTP/Session2/Base.pm line 79.
	HTTP::Session2::Base::__ANON__(HTTP::Session2::ClientStore=HASH(0x55e5c2169bc8), "s3cret") called at t/03_mech.t line 127
	main::client_session(HASH(0x55e5c2169400)) called at t/03_mech.t line 17
	main::__ANON__(HASH(0x55e5c2169400)) called at /home/sand/src/perl/repoperls/installed-perls/host/k93jammy/v5.39.3/b4f3/lib/site_perl/5.39.3/Test/WWW/Mechanize/PSGI.pm line 46
	Test::WWW::Mechanize::PSGI::try {...} () called at /home/sand/src/perl/repoperls/installed-perls/host/k93jammy/v5.39.3/b4f3/lib/site_perl/5.39.3/Try/Tiny.pm line 102
	eval {...} called at /home/sand/src/perl/repoperls/installed-perls/host/k93jammy/v5.39.3/b4f3/lib/site_perl/5.39.3/Try/Tiny.pm line 93
	Try::Tiny::try(CODE(0x55e5c2169568), Try::Tiny::Catch=REF(0x55e5c2169fa0)) called at /home/sand/src/perl/repoperls/installed-perls/host/k93jammy/v5.39.3/b4f3/lib/site_perl/5.39.3/Test/WWW/Mechanize/PSGI.pm line 53
	Test::WWW::Mechanize::PSGI::simple_request(Test::WWW::Mechanize::PSGI=HASH(0x55e5c09fc168), HTTP::Request=HASH(0x55e5c21520f8), undef, undef) called at /home/sand/src/perl/repoperls/installed-perls/host/k93jammy/v5.39.3/b4f3/lib/site_perl/5.39.3/LWP/UserAgent.pm line 308
	LWP::UserAgent::request(Test::WWW::Mechanize::PSGI=HASH(0x55e5c09fc168), HTTP::Request=HASH(0x55e5c21520f8)) called at /home/sand/src/perl/repoperls/installed-perls/host/k93jammy/v5.39.3/b4f3/lib/site_perl/5.39.3/WWW/Mechanize.pm line 1697
	WWW::Mechanize::_make_request(Test::WWW::Mechanize::PSGI=HASH(0x55e5c09fc168), HTTP::Request=HASH(0x55e5c21520f8)) called at /home/sand/src/perl/repoperls/installed-perls/host/k93jammy/v5.39.3/b4f3/lib/site_perl/5.39.3/WWW/Mechanize.pm line 1532
	WWW::Mechanize::request(Test::WWW::Mechanize::PSGI=HASH(0x55e5c09fc168), HTTP::Request=HASH(0x55e5c21520f8)) called at /home/sand/src/perl/repoperls/installed-perls/host/k93jammy/v5.39.3/b4f3/lib/site_perl/5.39.3/LWP/UserAgent.pm line 498
	LWP::UserAgent::post(Test::WWW::Mechanize::PSGI=HASH(0x55e5c09fc168), "http://localhost/account/login?john", HASH(0x55e5c1c9c9a8)) called at /home/sand/src/perl/repoperls/installed-perls/host/k93jammy/v5.39.3/b4f3/lib/site_perl/5.39.3/WWW/Mechanize.pm line 136
	WWW::Mechanize::post(Test::WWW::Mechanize::PSGI=HASH(0x55e5c09fc168), "/account/login?john", HASH(0x55e5c1c9c9a8)) called at /home/sand/src/perl/repoperls/installed-perls/host/k93jammy/v5.39.3/b4f3/lib/site_perl/5.39.3/Test/WWW/Mechanize.pm line 321
	Test::WWW::Mechanize::post_ok(Test::WWW::Mechanize::PSGI=HASH(0x55e5c09fc168), "/account/login?john") called at t/03_mech.t line 84
Do not use HTTP::Session2::ClientStore. Use HTTP::Session2::ServerStore or HTTP::Session2::ClientStore2 instead. at /tmp/loop_over_bdir-1255584-m4BHmZ/HTTP-Session2-1.10-0/blib/lib/HTTP/Session2/ClientStore.pm line 35.
Do not use HTTP::Session2::ClientStore. Use HTTP::Session2::ServerStore or HTTP::Session2::ClientStore2 instead. at /tmp/loop_over_bdir-1255584-m4BHmZ/HTTP-Session2-1.10-0/blib/lib/HTTP/Session2/ClientStore.pm line 35.
Do not use HTTP::Session2::ClientStore. Use HTTP::Session2::ServerStore or HTTP::Session2::ClientStore2 instead. at /tmp/loop_over_bdir-1255584-m4BHmZ/HTTP-Session2-1.10-0/blib/lib/HTTP/Session2/ClientStore.pm line 25.
Secret string too short at /tmp/loop_over_bdir-1255584-m4BHmZ/HTTP-Session2-1.10-0/blib/lib/HTTP/Session2/Base.pm line 79.
	HTTP::Session2::Base::__ANON__(HTTP::Session2::ClientStore=HASH(0x55e5c21549d8), "s3cret") called at t/03_mech.t line 127
	main::client_session(HASH(0x55e5c1fcccc8)) called at t/03_mech.t line 17
	main::__ANON__(HASH(0x55e5c1fcccc8)) called at /home/sand/src/perl/repoperls/installed-perls/host/k93jammy/v5.39.3/b4f3/lib/site_perl/5.39.3/Test/WWW/Mechanize/PSGI.pm line 46
	Test::WWW::Mechanize::PSGI::try {...} () called at /home/sand/src/perl/repoperls/installed-perls/host/k93jammy/v5.39.3/b4f3/lib/site_perl/5.39.3/Try/Tiny.pm line 102
	eval {...} called at /home/sand/src/perl/repoperls/installed-perls/host/k93jammy/v5.39.3/b4f3/lib/site_perl/5.39.3/Try/Tiny.pm line 93
	Try::Tiny::try(CODE(0x55e5c216a180), Try::Tiny::Catch=REF(0x55e5c216cf18)) called at /home/sand/src/perl/repoperls/installed-perls/host/k93jammy/v5.39.3/b4f3/lib/site_perl/5.39.3/Test/WWW/Mechanize/PSGI.pm line 53
	Test::WWW::Mechanize::PSGI::simple_request(Test::WWW::Mechanize::PSGI=HASH(0x55e5c09fc168), HTTP::Request=HASH(0x55e5c216a1f8), undef, undef) called at /home/sand/src/perl/repoperls/installed-perls/host/k93jammy/v5.39.3/b4f3/lib/site_perl/5.39.3/LWP/UserAgent.pm line 308
	LWP::UserAgent::request(Test::WWW::Mechanize::PSGI=HASH(0x55e5c09fc168), HTTP::Request=HASH(0x55e5c216a1f8)) called at /home/sand/src/perl/repoperls/installed-perls/host/k93jammy/v5.39.3/b4f3/lib/site_perl/5.39.3/WWW/Mechanize.pm line 1697
	WWW::Mechanize::_make_request(Test::WWW::Mechanize::PSGI=HASH(0x55e5c09fc168), HTTP::Request=HASH(0x55e5c216a1f8)) called at /home/sand/src/perl/repoperls/installed-perls/host/k93jammy/v5.39.3/b4f3/lib/site_perl/5.39.3/WWW/Mechanize.pm line 1532
	WWW::Mechanize::request(Test::WWW::Mechanize::PSGI=HASH(0x55e5c09fc168), HTTP::Request=HASH(0x55e5c216a1f8)) called at /home/sand/src/perl/repoperls/installed-perls/host/k93jammy/v5.39.3/b4f3/lib/site_perl/5.39.3/LWP/UserAgent.pm line 452
	LWP::UserAgent::get(Test::WWW::Mechanize::PSGI=HASH(0x55e5c09fc168), "http://localhost/wishlist") called at /home/sand/src/perl/repoperls/installed-perls/host/k93jammy/v5.39.3/b4f3/lib/site_perl/5.39.3/WWW/Mechanize.pm line 124
	WWW::Mechanize::get(Test::WWW::Mechanize::PSGI=HASH(0x55e5c09fc168), "/wishlist") called at /home/sand/src/perl/repoperls/installed-perls/host/k93jammy/v5.39.3/b4f3/lib/site_perl/5.39.3/Test/WWW/Mechanize.pm line 192
	Test::WWW::Mechanize::get_ok(Test::WWW::Mechanize::PSGI=HASH(0x55e5c09fc168), "/wishlist", "Wishlist is still available") called at t/03_mech.t line 85
Do not use HTTP::Session2::ClientStore. Use HTTP::Session2::ServerStore or HTTP::Session2::ClientStore2 instead. at /tmp/loop_over_bdir-1255584-m4BHmZ/HTTP-Session2-1.10-0/blib/lib/HTTP/Session2/ClientStore.pm line 35.
Secret string too short at /tmp/loop_over_bdir-1255584-m4BHmZ/HTTP-Session2-1.10-0/blib/lib/HTTP/Session2/Base.pm line 79.
	HTTP::Session2::Base::__ANON__(HTTP::Session2::ClientStore=HASH(0x55e5c20b13a0), "s3cret") called at t/03_mech.t line 127
	main::client_session(HASH(0x55e5c2169ce8)) called at t/03_mech.t line 17
	main::__ANON__(HASH(0x55e5c2169ce8)) called at /home/sand/src/perl/repoperls/installed-perls/host/k93jammy/v5.39.3/b4f3/lib/site_perl/5.39.3/Test/WWW/Mechanize/PSGI.pm line 46
	Test::WWW::Mechanize::PSGI::try {...} () called at /home/sand/src/perl/repoperls/installed-perls/host/k93jammy/v5.39.3/b4f3/lib/site_perl/5.39.3/Try/Tiny.pm line 102
	eval {...} called at /home/sand/src/perl/repoperls/installed-perls/host/k93jammy/v5.39.3/b4f3/lib/site_perl/5.39.3/Try/Tiny.pm line 93
	Try::Tiny::try(CODE(0x55e5c20b1808), Try::Tiny::Catch=REF(0x55e5c216cee8)) called at /home/sand/src/perl/repoperls/installed-perls/host/k93jammy/v5.39.3/b4f3/lib/site_perl/5.39.3/Test/WWW/Mechanize/PSGI.pm line 53
	Test::WWW::Mechanize::PSGI::simple_request(Test::WWW::Mechanize::PSGI=HASH(0x55e5c09fc168), HTTP::Request=HASH(0x55e5c216d500), undef, undef) called at /home/sand/src/perl/repoperls/installed-perls/host/k93jammy/v5.39.3/b4f3/lib/site_perl/5.39.3/LWP/UserAgent.pm line 308
	LWP::UserAgent::request(Test::WWW::Mechanize::PSGI=HASH(0x55e5c09fc168), HTTP::Request=HASH(0x55e5c216d500)) called at /home/sand/src/perl/repoperls/installed-perls/host/k93jammy/v5.39.3/b4f3/lib/site_perl/5.39.3/WWW/Mechanize.pm line 1697
	WWW::Mechanize::_make_request(Test::WWW::Mechanize::PSGI=HASH(0x55e5c09fc168), HTTP::Request=HASH(0x55e5c216d500)) called at /home/sand/src/perl/repoperls/installed-perls/host/k93jammy/v5.39.3/b4f3/lib/site_perl/5.39.3/WWW/Mechanize.pm line 1532
	WWW::Mechanize::request(Test::WWW::Mechanize::PSGI=HASH(0x55e5c09fc168), HTTP::Request=HASH(0x55e5c216d500)) called at /home/sand/src/perl/repoperls/installed-perls/host/k93jammy/v5.39.3/b4f3/lib/site_perl/5.39.3/LWP/UserAgent.pm line 498
	LWP::UserAgent::post(Test::WWW::Mechanize::PSGI=HASH(0x55e5c09fc168), "http://localhost/wishlist?baz") called at /home/sand/src/perl/repoperls/installed-perls/host/k93jammy/v5.39.3/b4f3/lib/site_perl/5.39.3/WWW/Mechanize.pm line 136
	WWW::Mechanize::post(Test::WWW::Mechanize::PSGI=HASH(0x55e5c09fc168), "/wishlist?baz") called at t/03_mech.t line 87
Do not use HTTP::Session2::ClientStore. Use HTTP::Session2::ServerStore or HTTP::Session2::ClientStore2 instead. at /tmp/loop_over_bdir-1255584-m4BHmZ/HTTP-Session2-1.10-0/blib/lib/HTTP/Session2/ClientStore.pm line 35.
Secret string too short at /tmp/loop_over_bdir-1255584-m4BHmZ/HTTP-Session2-1.10-0/blib/lib/HTTP/Session2/Base.pm line 79.
	HTTP::Session2::Base::__ANON__(HTTP::Session2::ClientStore=HASH(0x55e5c2151de0), "s3cret") called at t/03_mech.t line 127
	main::client_session(HASH(0x55e5c20b13a0)) called at t/03_mech.t line 17
	main::__ANON__(HASH(0x55e5c20b13a0)) called at /home/sand/src/perl/repoperls/installed-perls/host/k93jammy/v5.39.3/b4f3/lib/site_perl/5.39.3/Test/WWW/Mechanize/PSGI.pm line 46
	Test::WWW::Mechanize::PSGI::try {...} () called at /home/sand/src/perl/repoperls/installed-perls/host/k93jammy/v5.39.3/b4f3/lib/site_perl/5.39.3/Try/Tiny.pm line 102
	eval {...} called at /home/sand/src/perl/repoperls/installed-perls/host/k93jammy/v5.39.3/b4f3/lib/site_perl/5.39.3/Try/Tiny.pm line 93
	Try::Tiny::try(CODE(0x55e5c2151cd8), Try::Tiny::Catch=REF(0x55e5c216a0c0)) called at /home/sand/src/perl/repoperls/installed-perls/host/k93jammy/v5.39.3/b4f3/lib/site_perl/5.39.3/Test/WWW/Mechanize/PSGI.pm line 53
	Test::WWW::Mechanize::PSGI::simple_request(Test::WWW::Mechanize::PSGI=HASH(0x55e5c09fc168), HTTP::Request=HASH(0x55e5c216d008), undef, undef) called at /home/sand/src/perl/repoperls/installed-perls/host/k93jammy/v5.39.3/b4f3/lib/site_perl/5.39.3/LWP/UserAgent.pm line 308
	LWP::UserAgent::request(Test::WWW::Mechanize::PSGI=HASH(0x55e5c09fc168), HTTP::Request=HASH(0x55e5c216d008)) called at /home/sand/src/perl/repoperls/installed-perls/host/k93jammy/v5.39.3/b4f3/lib/site_perl/5.39.3/WWW/Mechanize.pm line 1697
	WWW::Mechanize::_make_request(Test::WWW::Mechanize::PSGI=HASH(0x55e5c09fc168), HTTP::Request=HASH(0x55e5c216d008)) called at /home/sand/src/perl/repoperls/installed-perls/host/k93jammy/v5.39.3/b4f3/lib/site_perl/5.39.3/WWW/Mechanize.pm line 1532
	WWW::Mechanize::request(Test::WWW::Mechanize::PSGI=HASH(0x55e5c09fc168), HTTP::Request=HASH(0x55e5c216d008)) called at /home/sand/src/perl/repoperls/installed-perls/host/k93jammy/v5.39.3/b4f3/lib/site_perl/5.39.3/LWP/UserAgent.pm line 498
	LWP::UserAgent::post(Test::WWW::Mechanize::PSGI=HASH(0x55e5c09fc168), "http://localhost/wishlist?baz", HASH(0x55e5c1c9c9a8)) called at /home/sand/src/perl/repoperls/installed-perls/host/k93jammy/v5.39.3/b4f3/lib/site_perl/5.39.3/WWW/Mechanize.pm line 136
	WWW::Mechanize::post(Test::WWW::Mechanize::PSGI=HASH(0x55e5c09fc168), "/wishlist?baz", HASH(0x55e5c1c9c9a8)) called at /home/sand/src/perl/repoperls/installed-perls/host/k93jammy/v5.39.3/b4f3/lib/site_perl/5.39.3/Test/WWW/Mechanize.pm line 321
	Test::WWW::Mechanize::post_ok(Test::WWW::Mechanize::PSGI=HASH(0x55e5c09fc168), "/wishlist?baz") called at t/03_mech.t line 90
Do not use HTTP::Session2::ClientStore. Use HTTP::Session2::ServerStore or HTTP::Session2::ClientStore2 instead. at /tmp/loop_over_bdir-1255584-m4BHmZ/HTTP-Session2-1.10-0/blib/lib/HTTP/Session2/ClientStore.pm line 35.
Do not use HTTP::Session2::ClientStore. Use HTTP::Session2::ServerStore or HTTP::Session2::ClientStore2 instead. at /tmp/loop_over_bdir-1255584-m4BHmZ/HTTP-Session2-1.10-0/blib/lib/HTTP/Session2/ClientStore.pm line 25.
Secret string too short at /tmp/loop_over_bdir-1255584-m4BHmZ/HTTP-Session2-1.10-0/blib/lib/HTTP/Session2/Base.pm line 79.
	HTTP::Session2::Base::__ANON__(HTTP::Session2::ClientStore=HASH(0x55e5c216c6f0), "s3cret") called at t/03_mech.t line 127
	main::client_session(HASH(0x55e5c216cc48)) called at t/03_mech.t line 17
	main::__ANON__(HASH(0x55e5c216cc48)) called at /home/sand/src/perl/repoperls/installed-perls/host/k93jammy/v5.39.3/b4f3/lib/site_perl/5.39.3/Test/WWW/Mechanize/PSGI.pm line 46
	Test::WWW::Mechanize::PSGI::try {...} () called at /home/sand/src/perl/repoperls/installed-perls/host/k93jammy/v5.39.3/b4f3/lib/site_perl/5.39.3/Try/Tiny.pm line 102
	eval {...} called at /home/sand/src/perl/repoperls/installed-perls/host/k93jammy/v5.39.3/b4f3/lib/site_perl/5.39.3/Try/Tiny.pm line 93
	Try::Tiny::try(CODE(0x55e5c216d248), Try::Tiny::Catch=REF(0x55e5c216d020)) called at /home/sand/src/perl/repoperls/installed-perls/host/k93jammy/v5.39.3/b4f3/lib/site_perl/5.39.3/Test/WWW/Mechanize/PSGI.pm line 53
	Test::WWW::Mechanize::PSGI::simple_request(Test::WWW::Mechanize::PSGI=HASH(0x55e5c09fc168), HTTP::Request=HASH(0x55e5c216cc00), undef, undef) called at /home/sand/src/perl/repoperls/installed-perls/host/k93jammy/v5.39.3/b4f3/lib/site_perl/5.39.3/LWP/UserAgent.pm line 308
	LWP::UserAgent::request(Test::WWW::Mechanize::PSGI=HASH(0x55e5c09fc168), HTTP::Request=HASH(0x55e5c216cc00)) called at /home/sand/src/perl/repoperls/installed-perls/host/k93jammy/v5.39.3/b4f3/lib/site_perl/5.39.3/WWW/Mechanize.pm line 1697
	WWW::Mechanize::_make_request(Test::WWW::Mechanize::PSGI=HASH(0x55e5c09fc168), HTTP::Request=HASH(0x55e5c216cc00)) called at /home/sand/src/perl/repoperls/installed-perls/host/k93jammy/v5.39.3/b4f3/lib/site_perl/5.39.3/WWW/Mechanize.pm line 1532
	WWW::Mechanize::request(Test::WWW::Mechanize::PSGI=HASH(0x55e5c09fc168), HTTP::Request=HASH(0x55e5c216cc00)) called at /home/sand/src/perl/repoperls/installed-perls/host/k93jammy/v5.39.3/b4f3/lib/site_perl/5.39.3/LWP/UserAgent.pm line 452
	LWP::UserAgent::get(Test::WWW::Mechanize::PSGI=HASH(0x55e5c09fc168), "http://localhost/wishlist") called at /home/sand/src/perl/repoperls/installed-perls/host/k93jammy/v5.39.3/b4f3/lib/site_perl/5.39.3/WWW/Mechanize.pm line 124
	WWW::Mechanize::get(Test::WWW::Mechanize::PSGI=HASH(0x55e5c09fc168), "/wishlist") called at /home/sand/src/perl/repoperls/installed-perls/host/k93jammy/v5.39.3/b4f3/lib/site_perl/5.39.3/Test/WWW/Mechanize.pm line 192
	Test::WWW::Mechanize::get_ok(Test::WWW::Mechanize::PSGI=HASH(0x55e5c09fc168), "/wishlist", "Wishlist is still available") called at t/03_mech.t line 91
Do not use HTTP::Session2::ClientStore. Use HTTP::Session2::ServerStore or HTTP::Session2::ClientStore2 instead. at /tmp/loop_over_bdir-1255584-m4BHmZ/HTTP-Session2-1.10-0/blib/lib/HTTP/Session2/ClientStore.pm line 35.
Secret string too short at /tmp/loop_over_bdir-1255584-m4BHmZ/HTTP-Session2-1.10-0/blib/lib/HTTP/Session2/Base.pm line 79.
	HTTP::Session2::Base::__ANON__(HTTP::Session2::ClientStore=HASH(0x55e5c2172b40), "s3cret") called at t/03_mech.t line 127
	main::client_session(HASH(0x55e5c216d488)) called at t/03_mech.t line 17
	main::__ANON__(HASH(0x55e5c216d488)) called at /home/sand/src/perl/repoperls/installed-perls/host/k93jammy/v5.39.3/b4f3/lib/site_perl/5.39.3/Test/WWW/Mechanize/PSGI.pm line 46
	Test::WWW::Mechanize::PSGI::try {...} () called at /home/sand/src/perl/repoperls/installed-perls/host/k93jammy/v5.39.3/b4f3/lib/site_perl/5.39.3/Try/Tiny.pm line 102
	eval {...} called at /home/sand/src/perl/repoperls/installed-perls/host/k93jammy/v5.39.3/b4f3/lib/site_perl/5.39.3/Try/Tiny.pm line 93
	Try::Tiny::try(CODE(0x55e5c21698c8), Try::Tiny::Catch=REF(0x55e5c2172b28)) called at /home/sand/src/perl/repoperls/installed-perls/host/k93jammy/v5.39.3/b4f3/lib/site_perl/5.39.3/Test/WWW/Mechanize/PSGI.pm line 53
	Test::WWW::Mechanize::PSGI::simple_request(Test::WWW::Mechanize::PSGI=HASH(0x55e5c09fc168), HTTP::Request=HASH(0x55e5c21731b8), undef, undef) called at /home/sand/src/perl/repoperls/installed-perls/host/k93jammy/v5.39.3/b4f3/lib/site_perl/5.39.3/LWP/UserAgent.pm line 308
	LWP::UserAgent::request(Test::WWW::Mechanize::PSGI=HASH(0x55e5c09fc168), HTTP::Request=HASH(0x55e5c21731b8)) called at /home/sand/src/perl/repoperls/installed-perls/host/k93jammy/v5.39.3/b4f3/lib/site_perl/5.39.3/WWW/Mechanize.pm line 1697
	WWW::Mechanize::_make_request(Test::WWW::Mechanize::PSGI=HASH(0x55e5c09fc168), HTTP::Request=HASH(0x55e5c21731b8)) called at /home/sand/src/perl/repoperls/installed-perls/host/k93jammy/v5.39.3/b4f3/lib/site_perl/5.39.3/WWW/Mechanize.pm line 1532
	WWW::Mechanize::request(Test::WWW::Mechanize::PSGI=HASH(0x55e5c09fc168), HTTP::Request=HASH(0x55e5c21731b8)) called at /home/sand/src/perl/repoperls/installed-perls/host/k93jammy/v5.39.3/b4f3/lib/site_perl/5.39.3/LWP/UserAgent.pm line 452
	LWP::UserAgent::get(Test::WWW::Mechanize::PSGI=HASH(0x55e5c09fc168), "http://localhost/my/name") called at /home/sand/src/perl/repoperls/installed-perls/host/k93jammy/v5.39.3/b4f3/lib/site_perl/5.39.3/WWW/Mechanize.pm line 124
	WWW::Mechanize::get(Test::WWW::Mechanize::PSGI=HASH(0x55e5c09fc168), "/my/name") called at /home/sand/src/perl/repoperls/installed-perls/host/k93jammy/v5.39.3/b4f3/lib/site_perl/5.39.3/Test/WWW/Mechanize.pm line 192
	Test::WWW::Mechanize::get_ok(Test::WWW::Mechanize::PSGI=HASH(0x55e5c09fc168), "/my/name") called at t/03_mech.t line 93
Do not use HTTP::Session2::ClientStore. Use HTTP::Session2::ServerStore or HTTP::Session2::ClientStore2 instead. at /tmp/loop_over_bdir-1255584-m4BHmZ/HTTP-Session2-1.10-0/blib/lib/HTTP/Session2/ClientStore.pm line 35.
Secret string too short at /tmp/loop_over_bdir-1255584-m4BHmZ/HTTP-Session2-1.10-0/blib/lib/HTTP/Session2/Base.pm line 79.
	HTTP::Session2::Base::__ANON__(HTTP::Session2::ClientStore=HASH(0x55e5c21728e8), "s3cret") called at t/03_mech.t line 127
	main::client_session(HASH(0x55e5c2172b40)) called at t/03_mech.t line 17
	main::__ANON__(HASH(0x55e5c2172b40)) called at /home/sand/src/perl/repoperls/installed-perls/host/k93jammy/v5.39.3/b4f3/lib/site_perl/5.39.3/Test/WWW/Mechanize/PSGI.pm line 46
	Test::WWW::Mechanize::PSGI::try {...} () called at /home/sand/src/perl/repoperls/installed-perls/host/k93jammy/v5.39.3/b4f3/lib/site_perl/5.39.3/Try/Tiny.pm line 102
	eval {...} called at /home/sand/src/perl/repoperls/installed-perls/host/k93jammy/v5.39.3/b4f3/lib/site_perl/5.39.3/Try/Tiny.pm line 93
	Try::Tiny::try(CODE(0x55e5c21728a0), Try::Tiny::Catch=REF(0x55e5c2172c48)) called at /home/sand/src/perl/repoperls/installed-perls/host/k93jammy/v5.39.3/b4f3/lib/site_perl/5.39.3/Test/WWW/Mechanize/PSGI.pm line 53
	Test::WWW::Mechanize::PSGI::simple_request(Test::WWW::Mechanize::PSGI=HASH(0x55e5c09fc168), HTTP::Request=HASH(0x55e5c216d320), undef, undef) called at /home/sand/src/perl/repoperls/installed-perls/host/k93jammy/v5.39.3/b4f3/lib/site_perl/5.39.3/LWP/UserAgent.pm line 308
	LWP::UserAgent::request(Test::WWW::Mechanize::PSGI=HASH(0x55e5c09fc168), HTTP::Request=HASH(0x55e5c216d320)) called at /home/sand/src/perl/repoperls/installed-perls/host/k93jammy/v5.39.3/b4f3/lib/site_perl/5.39.3/WWW/Mechanize.pm line 1697
	WWW::Mechanize::_make_request(Test::WWW::Mechanize::PSGI=HASH(0x55e5c09fc168), HTTP::Request=HASH(0x55e5c216d320)) called at /home/sand/src/perl/repoperls/installed-perls/host/k93jammy/v5.39.3/b4f3/lib/site_perl/5.39.3/WWW/Mechanize.pm line 1532
	WWW::Mechanize::request(Test::WWW::Mechanize::PSGI=HASH(0x55e5c09fc168), HTTP::Request=HASH(0x55e5c216d320)) called at /home/sand/src/perl/repoperls/installed-perls/host/k93jammy/v5.39.3/b4f3/lib/site_perl/5.39.3/LWP/UserAgent.pm line 498
	LWP::UserAgent::post(Test::WWW::Mechanize::PSGI=HASH(0x55e5c09fc168), "http://localhost/account/logout?john") called at /home/sand/src/perl/repoperls/installed-perls/host/k93jammy/v5.39.3/b4f3/lib/site_perl/5.39.3/WWW/Mechanize.pm line 136
	WWW::Mechanize::post(Test::WWW::Mechanize::PSGI=HASH(0x55e5c09fc168), "/account/logout?john") called at t/03_mech.t line 97
Do not use HTTP::Session2::ClientStore. Use HTTP::Session2::ServerStore or HTTP::Session2::ClientStore2 instead. at /tmp/loop_over_bdir-1255584-m4BHmZ/HTTP-Session2-1.10-0/blib/lib/HTTP/Session2/ClientStore.pm line 35.
Do not use HTTP::Session2::ClientStore. Use HTTP::Session2::ServerStore or HTTP::Session2::ClientStore2 instead. at /tmp/loop_over_bdir-1255584-m4BHmZ/HTTP-Session2-1.10-0/blib/lib/HTTP/Session2/ClientStore.pm line 35.
t/03_mech.t ................. ok
Do not use HTTP::Session2::ClientStore. Use HTTP::Session2::ServerStore or HTTP::Session2::ClientStore2 instead. at /tmp/loop_over_bdir-1255584-m4BHmZ/HTTP-Session2-1.10-0/blib/lib/HTTP/Session2/ClientStore.pm line 25.
t/04_plack_response.t ....... ok
Secret string too short at /tmp/loop_over_bdir-1255584-m4BHmZ/HTTP-Session2-1.10-0/blib/lib/HTTP/Session2/Base.pm line 79.
	HTTP::Session2::Base::__ANON__(HTTP::Session2::ClientStore=HASH(0x55f6d8c76b18), "s3cret") called at t/05_keep_me_signed_in.t line 20
Do not use HTTP::Session2::ClientStore. Use HTTP::Session2::ServerStore or HTTP::Session2::ClientStore2 instead. at /tmp/loop_over_bdir-1255584-m4BHmZ/HTTP-Session2-1.10-0/blib/lib/HTTP/Session2/ClientStore.pm line 25.
t/05_keep_me_signed_in.t .... ok
Secret string too short at /tmp/loop_over_bdir-1255584-m4BHmZ/HTTP-Session2-1.10-0/blib/lib/HTTP/Session2/Base.pm line 79.
	HTTP::Session2::Base::__ANON__(HTTP::Session2::Base=HASH(0x555cac0520e8), "i am secret") called at t/06_base_abstract.t line 7
t/06_base_abstract.t ........ ok
Secret string too short at /tmp/loop_over_bdir-1255584-m4BHmZ/HTTP-Session2-1.10-0/blib/lib/HTTP/Session2/Base.pm line 79.
	HTTP::Session2::Base::__ANON__(HTTP::Session2::ClientStore=HASH(0x5578b2a47400), "secret") called at t/07_client_store.t line 23
	main::__ANON__() called at /home/sand/src/perl/repoperls/installed-perls/host/k93jammy/v5.39.3/b4f3/lib/5.39.3/Test/Builder.pm line 374
	eval {...} called at /home/sand/src/perl/repoperls/installed-perls/host/k93jammy/v5.39.3/b4f3/lib/5.39.3/Test/Builder.pm line 374
	Test::Builder::subtest(Test::Builder=HASH(0x5578b2a675e8), "get/set/remove", CODE(0x5578b3230ff8)) called at /home/sand/src/perl/repoperls/installed-perls/host/k93jammy/v5.39.3/b4f3/lib/5.39.3/Test/More.pm line 831
	Test::More::subtest("get/set/remove", CODE(0x5578b3230ff8)) called at t/07_client_store.t line 31
Secret string too short at /tmp/loop_over_bdir-1255584-m4BHmZ/HTTP-Session2-1.10-0/blib/lib/HTTP/Session2/Base.pm line 79.
	HTTP::Session2::Base::__ANON__(HTTP::Session2::ClientStore=HASH(0x5578b34a6a40), "secret") called at t/07_client_store.t line 35
	main::__ANON__() called at /home/sand/src/perl/repoperls/installed-perls/host/k93jammy/v5.39.3/b4f3/lib/5.39.3/Test/Builder.pm line 374
	eval {...} called at /home/sand/src/perl/repoperls/installed-perls/host/k93jammy/v5.39.3/b4f3/lib/5.39.3/Test/Builder.pm line 374
	Test::Builder::subtest(Test::Builder=HASH(0x5578b2a675e8), "validate_token", CODE(0x5578b32327f0)) called at /home/sand/src/perl/repoperls/installed-perls/host/k93jammy/v5.39.3/b4f3/lib/5.39.3/Test/More.pm line 831
	Test::More::subtest("validate_token", CODE(0x5578b32327f0)) called at t/07_client_store.t line 71
Do not use HTTP::Session2::ClientStore. Use HTTP::Session2::ServerStore or HTTP::Session2::ClientStore2 instead. at /tmp/loop_over_bdir-1255584-m4BHmZ/HTTP-Session2-1.10-0/blib/lib/HTTP/Session2/ClientStore.pm line 25.
Secret string too short at /tmp/loop_over_bdir-1255584-m4BHmZ/HTTP-Session2-1.10-0/blib/lib/HTTP/Session2/Base.pm line 79.
	HTTP::Session2::Base::__ANON__(HTTP::Session2::ClientStore=HASH(0x5578b38d81d0), "secret") called at t/07_client_store.t line 51
	main::__ANON__() called at /home/sand/src/perl/repoperls/installed-perls/host/k93jammy/v5.39.3/b4f3/lib/5.39.3/Test/Builder.pm line 374
	eval {...} called at /home/sand/src/perl/repoperls/installed-perls/host/k93jammy/v5.39.3/b4f3/lib/5.39.3/Test/Builder.pm line 374
	Test::Builder::subtest(Test::Builder=HASH(0x5578b2a675e8), "bad", CODE(0x5578b38d4260)) called at /home/sand/src/perl/repoperls/installed-perls/host/k93jammy/v5.39.3/b4f3/lib/5.39.3/Test/More.pm line 831
	Test::More::subtest("bad", CODE(0x5578b38d4260)) called at t/07_client_store.t line 57
	main::__ANON__() called at /home/sand/src/perl/repoperls/installed-perls/host/k93jammy/v5.39.3/b4f3/lib/5.39.3/Test/Builder.pm line 374
	eval {...} called at /home/sand/src/perl/repoperls/installed-perls/host/k93jammy/v5.39.3/b4f3/lib/5.39.3/Test/Builder.pm line 374
	Test::Builder::subtest(Test::Builder=HASH(0x5578b2a675e8), "validate_token", CODE(0x5578b32327f0)) called at /home/sand/src/perl/repoperls/installed-perls/host/k93jammy/v5.39.3/b4f3/lib/5.39.3/Test/More.pm line 831
	Test::More::subtest("validate_token", CODE(0x5578b32327f0)) called at t/07_client_store.t line 71
Do not use HTTP::Session2::ClientStore. Use HTTP::Session2::ServerStore or HTTP::Session2::ClientStore2 instead. at /tmp/loop_over_bdir-1255584-m4BHmZ/HTTP-Session2-1.10-0/blib/lib/HTTP/Session2/ClientStore.pm line 35.
Secret string too short at /tmp/loop_over_bdir-1255584-m4BHmZ/HTTP-Session2-1.10-0/blib/lib/HTTP/Session2/Base.pm line 79.
	HTTP::Session2::Base::__ANON__(HTTP::Session2::ClientStore=HASH(0x5578b38db2b8), "secret") called at t/07_client_store.t line 65
	main::__ANON__() called at /home/sand/src/perl/repoperls/installed-perls/host/k93jammy/v5.39.3/b4f3/lib/5.39.3/Test/Builder.pm line 374
	eval {...} called at /home/sand/src/perl/repoperls/installed-perls/host/k93jammy/v5.39.3/b4f3/lib/5.39.3/Test/Builder.pm line 374
	Test::Builder::subtest(Test::Builder=HASH(0x5578b2a675e8), "good", CODE(0x5578b38d4260)) called at /home/sand/src/perl/repoperls/installed-perls/host/k93jammy/v5.39.3/b4f3/lib/5.39.3/Test/More.pm line 831
	Test::More::subtest("good", CODE(0x5578b38d4260)) called at t/07_client_store.t line 70
	main::__ANON__() called at /home/sand/src/perl/repoperls/installed-perls/host/k93jammy/v5.39.3/b4f3/lib/5.39.3/Test/Builder.pm line 374
	eval {...} called at /home/sand/src/perl/repoperls/installed-perls/host/k93jammy/v5.39.3/b4f3/lib/5.39.3/Test/Builder.pm line 374
	Test::Builder::subtest(Test::Builder=HASH(0x5578b2a675e8), "validate_token", CODE(0x5578b32327f0)) called at /home/sand/src/perl/repoperls/installed-perls/host/k93jammy/v5.39.3/b4f3/lib/5.39.3/Test/More.pm line 831
	Test::More::subtest("validate_token", CODE(0x5578b32327f0)) called at t/07_client_store.t line 71
Do not use HTTP::Session2::ClientStore. Use HTTP::Session2::ServerStore or HTTP::Session2::ClientStore2 instead. at /tmp/loop_over_bdir-1255584-m4BHmZ/HTTP-Session2-1.10-0/blib/lib/HTTP/Session2/ClientStore.pm line 35.
Secret string too short at /tmp/loop_over_bdir-1255584-m4BHmZ/HTTP-Session2-1.10-0/blib/lib/HTTP/Session2/Base.pm line 79.
	HTTP::Session2::Base::__ANON__(HTTP::Session2::ClientStore=HASH(0x5578b34a70e8), "secret") called at t/07_client_store.t line 76
	main::__ANON__() called at /home/sand/src/perl/repoperls/installed-perls/host/k93jammy/v5.39.3/b4f3/lib/5.39.3/Test/Builder.pm line 374
	eval {...} called at /home/sand/src/perl/repoperls/installed-perls/host/k93jammy/v5.39.3/b4f3/lib/5.39.3/Test/Builder.pm line 374
	Test::Builder::subtest(Test::Builder=HASH(0x5578b2a675e8), "ignore_old", CODE(0x5578b34a68f0)) called at /home/sand/src/perl/repoperls/installed-perls/host/k93jammy/v5.39.3/b4f3/lib/5.39.3/Test/More.pm line 831
	Test::More::subtest("ignore_old", CODE(0x5578b34a68f0)) called at t/07_client_store.t line 106
Do not use HTTP::Session2::ClientStore. Use HTTP::Session2::ServerStore or HTTP::Session2::ClientStore2 instead. at /tmp/loop_over_bdir-1255584-m4BHmZ/HTTP-Session2-1.10-0/blib/lib/HTTP/Session2/ClientStore.pm line 25.
Secret string too short at /tmp/loop_over_bdir-1255584-m4BHmZ/HTTP-Session2-1.10-0/blib/lib/HTTP/Session2/Base.pm line 79.
	HTTP::Session2::Base::__ANON__(HTTP::Session2::ClientStore=HASH(0x5578b38e22f0), "secret") called at t/07_client_store.t line 87
	main::__ANON__() called at /home/sand/src/perl/repoperls/installed-perls/host/k93jammy/v5.39.3/b4f3/lib/5.39.3/Test/Builder.pm line 374
	eval {...} called at /home/sand/src/perl/repoperls/installed-perls/host/k93jammy/v5.39.3/b4f3/lib/5.39.3/Test/Builder.pm line 374
	Test::Builder::subtest(Test::Builder=HASH(0x5578b2a675e8), "ignore_old disabled", CODE(0x5578b38d8980)) called at /home/sand/src/perl/repoperls/installed-perls/host/k93jammy/v5.39.3/b4f3/lib/5.39.3/Test/More.pm line 831
	Test::More::subtest("ignore_old disabled", CODE(0x5578b38d8980)) called at t/07_client_store.t line 95
	main::__ANON__() called at /home/sand/src/perl/repoperls/installed-perls/host/k93jammy/v5.39.3/b4f3/lib/5.39.3/Test/Builder.pm line 374
	eval {...} called at /home/sand/src/perl/repoperls/installed-perls/host/k93jammy/v5.39.3/b4f3/lib/5.39.3/Test/Builder.pm line 374
	Test::Builder::subtest(Test::Builder=HASH(0x5578b2a675e8), "ignore_old", CODE(0x5578b34a68f0)) called at /home/sand/src/perl/repoperls/installed-perls/host/k93jammy/v5.39.3/b4f3/lib/5.39.3/Test/More.pm line 831
	Test::More::subtest("ignore_old", CODE(0x5578b34a68f0)) called at t/07_client_store.t line 106
Do not use HTTP::Session2::ClientStore. Use HTTP::Session2::ServerStore or HTTP::Session2::ClientStore2 instead. at /tmp/loop_over_bdir-1255584-m4BHmZ/HTTP-Session2-1.10-0/blib/lib/HTTP/Session2/ClientStore.pm line 35.
Secret string too short at /tmp/loop_over_bdir-1255584-m4BHmZ/HTTP-Session2-1.10-0/blib/lib/HTTP/Session2/Base.pm line 79.
	HTTP::Session2::Base::__ANON__(HTTP::Session2::ClientStore=HASH(0x5578b38e4e20), "secret") called at t/07_client_store.t line 97
	main::__ANON__() called at /home/sand/src/perl/repoperls/installed-perls/host/k93jammy/v5.39.3/b4f3/lib/5.39.3/Test/Builder.pm line 374
	eval {...} called at /home/sand/src/perl/repoperls/installed-perls/host/k93jammy/v5.39.3/b4f3/lib/5.39.3/Test/Builder.pm line 374
	Test::Builder::subtest(Test::Builder=HASH(0x5578b2a675e8), "ignore_old enabled", CODE(0x5578b38d8980)) called at /home/sand/src/perl/repoperls/installed-perls/host/k93jammy/v5.39.3/b4f3/lib/5.39.3/Test/More.pm line 831
	Test::More::subtest("ignore_old enabled", CODE(0x5578b38d8980)) called at t/07_client_store.t line 105
	main::__ANON__() called at /home/sand/src/perl/repoperls/installed-perls/host/k93jammy/v5.39.3/b4f3/lib/5.39.3/Test/Builder.pm line 374
	eval {...} called at /home/sand/src/perl/repoperls/installed-perls/host/k93jammy/v5.39.3/b4f3/lib/5.39.3/Test/Builder.pm line 374
	Test::Builder::subtest(Test::Builder=HASH(0x5578b2a675e8), "ignore_old", CODE(0x5578b34a68f0)) called at /home/sand/src/perl/repoperls/installed-perls/host/k93jammy/v5.39.3/b4f3/lib/5.39.3/Test/More.pm line 831
	Test::More::subtest("ignore_old", CODE(0x5578b34a68f0)) called at t/07_client_store.t line 106
t/07_client_store.t ......... ok
Secret string too short at /tmp/loop_over_bdir-1255584-m4BHmZ/HTTP-Session2-1.10-0/blib/lib/HTTP/Session2/Base.pm line 79.
	HTTP::Session2::Base::__ANON__(HTTP::Session2::Expired=HASH(0x556aa3824d50), 33333) called at t/08_expired.t line 7
t/08_expired.t .............. ok
# /dev/urandom available
# /dev/urandom(1): r2-pmDPvy2c-6-wA6Xosyxn_FsBiT4-
# /dev/urandom(2): obVg-1ITjxdIHc0q1uhv7RJu7bDwG99
# perl:            25b105ba5fb595fad184d15a9c84473
t/09_random.t ............... ok
t/11_secret_string.t ........ ok
Secret string too short at /tmp/loop_over_bdir-1255584-m4BHmZ/HTTP-Session2-1.10-0/blib/lib/HTTP/Session2/Base.pm line 79.
	HTTP::Session2::Base::__ANON__(HTTP::Session2::ClientStore2=HASH(0x560bddcfc860), "s3cret") called at t/client_store2/01_basic.t line 24
	main::__ANON__("client -> server: request without cookie", CODE(0x560bddcf7fa8)) called at t/client_store2/01_basic.t line 30
	main::__ANON__() called at /home/sand/src/perl/repoperls/installed-perls/host/k93jammy/v5.39.3/b4f3/lib/5.39.3/Test/Builder.pm line 374
	eval {...} called at /home/sand/src/perl/repoperls/installed-perls/host/k93jammy/v5.39.3/b4f3/lib/5.39.3/Test/Builder.pm line 374
	Test::Builder::subtest(Test::Builder=HASH(0x560bdd1a7818), "First request", CODE(0x560bdd149568)) called at /home/sand/src/perl/repoperls/installed-perls/host/k93jammy/v5.39.3/b4f3/lib/5.39.3/Test/More.pm line 831
	Test::More::subtest("First request", CODE(0x560bdd149568)) called at t/client_store2/01_basic.t line 9
	main::scenario("First request", CODE(0x560bdd149568)) called at t/client_store2/01_basic.t line 36
Secret string too short at /tmp/loop_over_bdir-1255584-m4BHmZ/HTTP-Session2-1.10-0/blib/lib/HTTP/Session2/Base.pm line 79.
	HTTP::Session2::Base::__ANON__(HTTP::Session2::ClientStore2=HASH(0x560bddcf7bb8), "s3cret") called at t/client_store2/01_basic.t line 41
	main::__ANON__("client -> server: request without cookie", CODE(0x560bddd01688)) called at t/client_store2/01_basic.t line 47
	main::__ANON__() called at /home/sand/src/perl/repoperls/installed-perls/host/k93jammy/v5.39.3/b4f3/lib/5.39.3/Test/Builder.pm line 374
	eval {...} called at /home/sand/src/perl/repoperls/installed-perls/host/k93jammy/v5.39.3/b4f3/lib/5.39.3/Test/Builder.pm line 374
	Test::Builder::subtest(Test::Builder=HASH(0x560bdd1a7818), "Store something without login", CODE(0x560bdd149568)) called at /home/sand/src/perl/repoperls/installed-perls/host/k93jammy/v5.39.3/b4f3/lib/5.39.3/Test/More.pm line 831
	Test::More::subtest("Store something without login", CODE(0x560bdd149568)) called at t/client_store2/01_basic.t line 9
	main::scenario("Store something without login", CODE(0x560bdd149568)) called at t/client_store2/01_basic.t line 63
WARNING: The key derivation method "opensslv1" is deprecated. Using -pbkdf=>'pbkdf2' would be better.
Pass -nodeprecate=>1 to inhibit this message.
 at /tmp/loop_over_bdir-1255584-m4BHmZ/HTTP-Session2-1.10-0/blib/lib/HTTP/Session2/ClientStore2.pm line 177.
Secret string too short at /tmp/loop_over_bdir-1255584-m4BHmZ/HTTP-Session2-1.10-0/blib/lib/HTTP/Session2/Base.pm line 79.
	HTTP::Session2::Base::__ANON__(HTTP::Session2::ClientStore2=HASH(0x560bddd05f28), "s3cret") called at t/client_store2/01_basic.t line 69
	main::__ANON__("client -> server: request without cookie", CODE(0x560bddd01fa0)) called at t/client_store2/01_basic.t line 76
	main::__ANON__() called at /home/sand/src/perl/repoperls/installed-perls/host/k93jammy/v5.39.3/b4f3/lib/5.39.3/Test/Builder.pm line 374
	eval {...} called at /home/sand/src/perl/repoperls/installed-perls/host/k93jammy/v5.39.3/b4f3/lib/5.39.3/Test/Builder.pm line 374
	Test::Builder::subtest(Test::Builder=HASH(0x560bdd1a7818), "Login", CODE(0x560bdd149568)) called at /home/sand/src/perl/repoperls/installed-perls/host/k93jammy/v5.39.3/b4f3/lib/5.39.3/Test/More.pm line 831
	Test::More::subtest("Login", CODE(0x560bdd149568)) called at t/client_store2/01_basic.t line 9
	main::scenario("Login", CODE(0x560bdd149568)) called at t/client_store2/01_basic.t line 96
Ciphertext does not begin with a valid header for 'salt' header mode at /tmp/loop_over_bdir-1255584-m4BHmZ/HTTP-Session2-1.10-0/blib/lib/HTTP/Session2/ClientStore2.pm line 81.
Ciphertext does not begin with a valid header for 'salt' header mode at /tmp/loop_over_bdir-1255584-m4BHmZ/HTTP-Session2-1.10-0/blib/lib/HTTP/Session2/ClientStore2.pm line 81.
WARNING: The key derivation method "opensslv1" is deprecated. Using -pbkdf=>'pbkdf2' would be better.
Pass -nodeprecate=>1 to inhibit this message.
 at /tmp/loop_over_bdir-1255584-m4BHmZ/HTTP-Session2-1.10-0/blib/lib/HTTP/Session2/ClientStore2.pm line 177.
Secret string too short at /tmp/loop_over_bdir-1255584-m4BHmZ/HTTP-Session2-1.10-0/blib/lib/HTTP/Session2/Base.pm line 79.
	HTTP::Session2::Base::__ANON__(HTTP::Session2::ClientStore2=HASH(0x560bddcfd130), "s3cret") called at t/client_store2/01_basic.t line 102
	main::__ANON__("client -> server: request without cookie", CODE(0x560bddd14ed0)) called at t/client_store2/01_basic.t line 109
	main::__ANON__() called at /home/sand/src/perl/repoperls/installed-perls/host/k93jammy/v5.39.3/b4f3/lib/5.39.3/Test/Builder.pm line 374
	eval {...} called at /home/sand/src/perl/repoperls/installed-perls/host/k93jammy/v5.39.3/b4f3/lib/5.39.3/Test/Builder.pm line 374
	Test::Builder::subtest(Test::Builder=HASH(0x560bdd1a7818), "In a login session", CODE(0x560bdd149568)) called at /home/sand/src/perl/repoperls/installed-perls/host/k93jammy/v5.39.3/b4f3/lib/5.39.3/Test/More.pm line 831
	Test::More::subtest("In a login session", CODE(0x560bdd149568)) called at t/client_store2/01_basic.t line 9
	main::scenario("In a login session", CODE(0x560bdd149568)) called at t/client_store2/01_basic.t line 118
Ciphertext does not begin with a valid header for 'salt' header mode at /tmp/loop_over_bdir-1255584-m4BHmZ/HTTP-Session2-1.10-0/blib/lib/HTTP/Session2/ClientStore2.pm line 81.
WARNING: The key derivation method "opensslv1" is deprecated. Using -pbkdf=>'pbkdf2' would be better.
Pass -nodeprecate=>1 to inhibit this message.
 at /tmp/loop_over_bdir-1255584-m4BHmZ/HTTP-Session2-1.10-0/blib/lib/HTTP/Session2/ClientStore2.pm line 177.
Secret string too short at /tmp/loop_over_bdir-1255584-m4BHmZ/HTTP-Session2-1.10-0/blib/lib/HTTP/Session2/Base.pm line 79.
	HTTP::Session2::Base::__ANON__(HTTP::Session2::ClientStore2=HASH(0x560bddce9378), "s3cret") called at t/client_store2/01_basic.t line 123
	main::__ANON__("client -> server: request without cookie", CODE(0x560bddcf76c0)) called at t/client_store2/01_basic.t line 130
	main::__ANON__() called at /home/sand/src/perl/repoperls/installed-perls/host/k93jammy/v5.39.3/b4f3/lib/5.39.3/Test/Builder.pm line 374
	eval {...} called at /home/sand/src/perl/repoperls/installed-perls/host/k93jammy/v5.39.3/b4f3/lib/5.39.3/Test/Builder.pm line 374
	Test::Builder::subtest(Test::Builder=HASH(0x560bdd1a7818), "Logout", CODE(0x560bdd149568)) called at /home/sand/src/perl/repoperls/installed-perls/host/k93jammy/v5.39.3/b4f3/lib/5.39.3/Test/More.pm line 831
	Test::More::subtest("Logout", CODE(0x560bdd149568)) called at t/client_store2/01_basic.t line 9
	main::scenario("Logout", CODE(0x560bdd149568)) called at t/client_store2/01_basic.t line 143
Ciphertext does not begin with a valid header for 'salt' header mode at /tmp/loop_over_bdir-1255584-m4BHmZ/HTTP-Session2-1.10-0/blib/lib/HTTP/Session2/ClientStore2.pm line 81.
t/client_store2/01_basic.t .. ok
WARNING: The key derivation method "opensslv1" is deprecated. Using -pbkdf=>'pbkdf2' would be better.
Pass -nodeprecate=>1 to inhibit this message.
 at /tmp/loop_over_bdir-1255584-m4BHmZ/HTTP-Session2-1.10-0/blib/lib/HTTP/Session2/ClientStore2.pm line 177.
WARNING: The key derivation method "opensslv1" is deprecated. Using -pbkdf=>'pbkdf2' would be better.
Pass -nodeprecate=>1 to inhibit this message.
 at /tmp/loop_over_bdir-1255584-m4BHmZ/HTTP-Session2-1.10-0/blib/lib/HTTP/Session2/ClientStore2.pm line 177.
WARNING: The key derivation method "opensslv1" is deprecated. Using -pbkdf=>'pbkdf2' would be better.
Pass -nodeprecate=>1 to inhibit this message.
 at /tmp/loop_over_bdir-1255584-m4BHmZ/HTTP-Session2-1.10-0/blib/lib/HTTP/Session2/ClientStore2.pm line 177.
t/client_store2/02_mech.t ... ok
WARNING: The key derivation method "opensslv1" is deprecated. Using -pbkdf=>'pbkdf2' would be better.
Pass -nodeprecate=>1 to inhibit this message.
 at /tmp/loop_over_bdir-1255584-m4BHmZ/HTTP-Session2-1.10-0/blib/lib/HTTP/Session2/ClientStore2.pm line 177.
t/client_store2/03_colon.t .. ok
All tests successful.
Files=14, Tests=84,  3 wallclock secs ( 0.08 usr  0.02 sys +  1.79 cusr  0.50 csys =  2.39 CPU)
Result: PASS

------------------------------
PREREQUISITES
------------------------------

Prerequisite modules loaded:

requires:

    Module                     Need     Have    
    -------------------------- -------- --------
    Cookie::Baker              0        0.11    
    Crypt::CBC                 0        3.04    
    Data::MessagePack          0        1.02    
    Digest::HMAC               0        1.04    
    Digest::SHA                0        6.04    
    Digest::SHA1               0        2.13    
    MIME::Base64               3.11     3.16_01 
    Mouse                      0        v2.5.10 
    parent                     0        0.241   
    perl                       5.008005 5.039003
    Time::HiRes                0        1.9776  

build_requires:

    Module                     Need     Have    
    -------------------------- -------- --------
    Crypt::Rijndael            0        1.16    
    Plack::Request             0        1.0050  
    Plack::Response            0        1.0050  
    Test::More                 0.98     1.302195
    Test::WWW::Mechanize::PSGI 0        0.39    

configure_requires:

    Module                     Need     Have    
    -------------------------- -------- --------
    Module::Build::Tiny        0.035    0.047   


------------------------------
ENVIRONMENT AND OTHER CONTEXT
------------------------------

Environment variables:

    AUTOMATED_TESTING = 1
    LANG = en_US.UTF-8
    LC_ADDRESS = de_DE.UTF-8
    LC_IDENTIFICATION = de_DE.UTF-8
    LC_MEASUREMENT = de_DE.UTF-8
    LC_MONETARY = de_DE.UTF-8
    LC_NAME = de_DE.UTF-8
    LC_NUMERIC = de_DE.UTF-8
    LC_PAPER = de_DE.UTF-8
    LC_TELEPHONE = de_DE.UTF-8
    LC_TIME = de_DE.UTF-8
    PATH = /home/sand/bin:/usr/local/bin:/usr/local/sbin:/usr/sbin:/usr/bin:/sbin:/bin:/usr/games:/usr/local/games:/snap/bin:/usr/local/perl/bin:/usr/X11/bin
    PERL5LIB = /tmp/loop_over_bdir-1255584-m4BHmZ/Net-ISP-Balance-1.31-0/blib/arch:/tmp/loop_over_bdir-1255584-m4BHmZ/Net-ISP-Balance-1.31-0/blib/lib:/tmp/loop_over_bdir-1255584-m4BHmZ/NoZone-1.3-0/blib/arch:/tmp/loop_over_bdir-1255584-m4BHmZ/NoZone-1.3-0/blib/lib:/tmp/loop_over_bdir-1255584-m4BHmZ/ProjectBuilder-0.14.1-0/blib/arch:/tmp/loop_over_bdir-1255584-m4BHmZ/ProjectBuilder-0.14.1-0/blib/lib:/tmp/loop_over_bdir-1255584-m4BHmZ/Net-Async-WebService-lxd-0.03-0/blib/arch:/tmp/loop_over_bdir-1255584-m4BHmZ/Net-Async-WebService-lxd-0.03-0/blib/lib:/tmp/loop_over_bdir-1255584-m4BHmZ/FusionInventory-Agent-2.6-0/blib/arch:/tmp/loop_over_bdir-1255584-m4BHmZ/FusionInventory-Agent-2.6-0/blib/lib:/tmp/loop_over_bdir-1255584-m4BHmZ/RDF-NLP-SPARQLQuery-0.1-0/blib/arch:/tmp/loop_over_bdir-1255584-m4BHmZ/RDF-NLP-SPARQLQuery-0.1-0/blib/lib:/tmp/loop_over_bdir-1255584-m4BHmZ/App-rmcd-0.280-0/blib/arch:/tmp/loop_over_bdir-1255584-m4BHmZ/App-rmcd-0.280-0/blib/lib:/tmp/loop_over_bdir-1255584-m4BHmZ/js-app-0.13-0/blib/arch:/tmp/loop_over_bdir-1255584-m4BHmZ/js-app-0.13-0/blib/lib:/tmp/loop_over_bdir-1255584-m4BHmZ/Debian-Packages-0.03-0/blib/arch:/tmp/loop_over_bdir-1255584-m4BHmZ/Debian-Packages-0.03-0/blib/lib:/tmp/loop_over_bdir-1255584-m4BHmZ/mmds-1.902-0/blib/arch:/tmp/loop_over_bdir-1255584-m4BHmZ/mmds-1.902-0/blib/lib:/tmp/loop_over_bdir-1255584-m4BHmZ/Linux-InitFS-0.2-0/blib/arch:/tmp/loop_over_bdir-1255584-m4BHmZ/Linux-InitFS-0.2-0/blib/lib:/tmp/loop_over_bdir-1255584-m4BHmZ/Business-Shipping-DataFiles-1.02-0/blib/arch:/tmp/loop_over_bdir-1255584-m4BHmZ/Business-Shipping-DataFiles-1.02-0/blib/lib:/tmp/loop_over_bdir-1255584-m4BHmZ/CORBA-Python-2.66-0/blib/arch:/tmp/loop_over_bdir-1255584-m4BHmZ/CORBA-Python-2.66-0/blib/lib:/tmp/loop_over_bdir-1255584-m4BHmZ/Devel-Required-0.16-0/blib/arch:/tmp/loop_over_bdir-1255584-m4BHmZ/Devel-Required-0.16-0/blib/lib:/tmp/loop_over_bdir-1255584-m4BHmZ/perl-Hardware-UPS-Perl-0.43-0/blib/arch:/tmp/loop_over_bdir-1255584-m4BHmZ/perl-Hardware-UPS-Perl-0.43-0/blib/lib:/tmp/loop_over_bdir-1255584-m4BHmZ/EJBCA-CrlPublish-0.60-0/blib/arch:/tmp/loop_over_bdir-1255584-m4BHmZ/EJBCA-CrlPublish-0.60-0/blib/lib:/tmp/loop_over_bdir-1255584-m4BHmZ/MP3-PodcastFetch-1.05-0/blib/arch:/tmp/loop_over_bdir-1255584-m4BHmZ/MP3-PodcastFetch-1.05-0/blib/lib:/tmp/loop_over_bdir-1255584-m4BHmZ/WWW-Mechanize-Chrome-DOMops-0.06-0/blib/arch:/tmp/loop_over_bdir-1255584-m4BHmZ/WWW-Mechanize-Chrome-DOMops-0.06-0/blib/lib:/tmp/loop_over_bdir-1255584-m4BHmZ/dta-tokwrap-0.98-0/blib/arch:/tmp/loop_over_bdir-1255584-m4BHmZ/dta-tokwrap-0.98-0/blib/lib:/tmp/loop_over_bdir-1255584-m4BHmZ/Simulation-Automate-1.0.1-0/blib/arch:/tmp/loop_over_bdir-1255584-m4BHmZ/Simulation-Automate-1.0.1-0/blib/lib:/tmp/loop_over_bdir-1255584-m4BHmZ/Device-Kiln-0.03-0/blib/arch:/tmp/loop_over_bdir-1255584-m4BHmZ/Device-Kiln-0.03-0/blib/lib:/tmp/loop_over_bdir-1255584-m4BHmZ/App-nrun-v1.1.2-0/blib/arch:/tmp/loop_over_bdir-1255584-m4BHmZ/App-nrun-v1.1.2-0/blib/lib:/tmp/loop_over_bdir-1255584-m4BHmZ/LCFG-Build-Skeleton-0.5.0-0/blib/arch:/tmp/loop_over_bdir-1255584-m4BHmZ/LCFG-Build-Skeleton-0.5.0-0/blib/lib:/tmp/loop_over_bdir-1255584-m4BHmZ/Captive-Portal-4.10-0/blib/arch:/tmp/loop_over_bdir-1255584-m4BHmZ/Captive-Portal-4.10-0/blib/lib:/tmp/loop_over_bdir-1255584-m4BHmZ/Lemonldap-NG-Cli-0.2-0/blib/arch:/tmp/loop_over_bdir-1255584-m4BHmZ/Lemonldap-NG-Cli-0.2-0/blib/lib:/tmp/loop_over_bdir-1255584-m4BHmZ/LiquidWeb-Storm-CLI-1.03-0/blib/arch:/tmp/loop_over_bdir-1255584-m4BHmZ/LiquidWeb-Storm-CLI-1.03-0/blib/lib:/tmp/loop_over_bdir-1255584-m4BHmZ/DBIx-Migration-Directories-0.12-0/blib/arch:/tmp/loop_over_bdir-1255584-m4BHmZ/DBIx-Migration-Directories-0.12-0/blib/lib:/tmp/loop_over_bdir-1255584-m4BHmZ/Lingua-BioYaTeA-0.11-0/blib/arch:/tmp/loop_over_bdir-1255584-m4BHmZ/Lingua-BioYaTeA-0.11-0/blib/lib:/tmp/loop_over_bdir-1255584-m4BHmZ/Lingua-YaTeA-0.626-0/blib/arch:/tmp/loop_over_bdir-1255584-m4BHmZ/Lingua-YaTeA-0.626-0/blib/lib:/tmp/loop_over_bdir-1255584-m4BHmZ/CGI-Application-NetNewsIface-0.0204-0/blib/arch:/tmp/loop_over_bdir-1255584-m4BHmZ/CGI-Application-NetNewsIface-0.0204-0/blib/lib
    PERL5OPT = 
    PERL5_CPANPLUS_IS_RUNNING = 1255592
    PERL5_CPAN_IS_RUNNING = 1255592
    PERL_CANARY_STABILITY_NOPROMPT = 1
    PERL_MM_USE_DEFAULT = 1
    PERL_USE_UNSAFE_INC = 1
    SHELL = /usr/bin/zsh
    TERM = screen

Perl special variables (and OS-specific diagnostics, for MSWin32):

    $^X = /tmp/basesmoker-reloperl-1MVi/bin/perl
    $UID/$EUID = 1005 / 1005
    $GID = 1005 1005
    $EGID = 1005 1005

Perl module toolchain versions installed:

    Module              Have    
    ------------------- --------
    CPAN                2.36    
    CPAN::Meta          2.150010
    Cwd                 3.90    
    ExtUtils::CBuilder  0.280240
    ExtUtils::Command   7.70    
    ExtUtils::Install   2.22    
    ExtUtils::MakeMaker 7.70    
    ExtUtils::Manifest  1.75    
    ExtUtils::ParseXS   3.51    
    File::Spec          3.90    
    JSON                4.10    
    JSON::PP            4.16    
    Module::Build       0.4234  
    Module::Signature   0.88    
    Parse::CPAN::Meta   2.150010
    Test2               1.302195
    Test::Harness       3.47    
    Test::More          1.302195
    YAML                1.30    
    YAML::Syck          1.34    
    version             0.9930  


--

Summary of my perl5 (revision 5 version 39 subversion 3) configuration:
  Commit id: c8a2e4d1432cd1244a4e44d6bb71920b692076b7
  Platform:
    osname=linux
    osvers=6.2.0-32-generic
    archname=x86_64-linux-thread-multi
    uname='linux k93jammy 6.2.0-32-generic #32~22.04.1-ubuntu smp preempt_dynamic fri aug 18 10:40:13 utc 2 x86_64 x86_64 x86_64 gnulinux '
    config_args='-Dprefix=/home/sand/src/perl/repoperls/installed-perls/host/k93jammy/v5.39.3/b4f3 -Dmyhostname=k93jammy -Dinstallusrbinperl=n -Uversiononly -Dusedevel -des -Ui_db -Dlibswanted=cl pthread socket inet nsl gdbm dbm malloc dl ld sun m crypt sec util c cposix posix ucb BSD gdbm_compat -Duseithreads -Uuselongdouble -DEBUGGING=-g'
    hint=recommended
    useposix=true
    d_sigaction=define
    useithreads=define
    usemultiplicity=define
    use64bitint=define
    use64bitall=define
    uselongdouble=undef
    usemymalloc=n
    default_inc_excludes_dot=define
  Compiler:
    cc='cc'
    ccflags ='-D_REENTRANT -D_GNU_SOURCE -fwrapv -fno-strict-aliasing -pipe -fstack-protector-strong -I/usr/local/include -D_LARGEFILE_SOURCE -D_FILE_OFFSET_BITS=64'
    optimize='-O2 -g'
    cppflags='-D_REENTRANT -D_GNU_SOURCE -fwrapv -fno-strict-aliasing -pipe -fstack-protector-strong -I/usr/local/include'
    ccversion=''
    gccversion='11.4.0'
    gccosandvers=''
    intsize=4
    longsize=8
    ptrsize=8
    doublesize=8
    byteorder=12345678
    doublekind=3
    d_longlong=define
    longlongsize=8
    d_longdbl=define
    longdblsize=16
    longdblkind=3
    ivtype='long'
    ivsize=8
    nvtype='double'
    nvsize=8
    Off_t='off_t'
    lseeksize=8
    alignbytes=8
    prototype=define
  Linker and Libraries:
    ld='cc'
    ldflags =' -fstack-protector-strong -L/usr/local/lib'
    libpth=/usr/local/lib /usr/lib/x86_64-linux-gnu /usr/lib /usr/lib64
    libs=-lpthread -lnsl -ldl -lm -lcrypt -lutil -lc
    perllibs=-lpthread -lnsl -ldl -lm -lcrypt -lutil -lc
    libc=/lib/x86_64-linux-gnu/libc.so.6
    so=so
    useshrplib=false
    libperl=libperl.a
    gnulibc_version='2.35'
  Dynamic Linking:
    dlsrc=dl_dlopen.xs
    dlext=so
    d_dlsymun=undef
    ccdlflags='-Wl,-E'
    cccdlflags='-fPIC'
    lddlflags='-shared -O2 -g -L/usr/local/lib -fstack-protector-strong'


Characteristics of this binary (from libperl): 
  Compile-time options:
    HAS_LONG_DOUBLE
    HAS_STRTOLD
    HAS_TIMES
    MULTIPLICITY
    PERLIO_LAYERS
    PERL_COPY_ON_WRITE
    PERL_DONT_CREATE_GVSV
    PERL_HASH_FUNC_SIPHASH13
    PERL_HASH_USE_SBOX32
    PERL_MALLOC_WRAP
    PERL_OP_PARENT
    PERL_PRESERVE_IVUV
    PERL_USE_DEVEL
    PERL_USE_SAFE_PUTENV
    USE_64_BIT_ALL
    USE_64_BIT_INT
    USE_ITHREADS
    USE_LARGE_FILES
    USE_LOCALE
    USE_LOCALE_COLLATE
    USE_LOCALE_CTYPE
    USE_LOCALE_NUMERIC
    USE_LOCALE_TIME
    USE_PERLIO
    USE_PERL_ATOF
    USE_REENTRANT_API
    USE_THREAD_SAFE_LOCALE
  Built under linux
  Compiled at Sep 20 2023 21:52:46
  %ENV:
    PERL5LIB="/tmp/loop_over_bdir-1255584-m4BHmZ/Net-ISP-Balance-1.31-0/blib/arch:/tmp/loop_over_bdir-1255584-m4BHmZ/Net-ISP-Balance-1.31-0/blib/lib:/tmp/loop_over_bdir-1255584-m4BHmZ/NoZone-1.3-0/blib/arch:/tmp/loop_over_bdir-1255584-m4BHmZ/NoZone-1.3-0/blib/lib:/tmp/loop_over_bdir-1255584-m4BHmZ/ProjectBuilder-0.14.1-0/blib/arch:/tmp/loop_over_bdir-1255584-m4BHmZ/ProjectBuilder-0.14.1-0/blib/lib:/tmp/loop_over_bdir-1255584-m4BHmZ/Net-Async-WebService-lxd-0.03-0/blib/arch:/tmp/loop_over_bdir-1255584-m4BHmZ/Net-Async-WebService-lxd-0.03-0/blib/lib:/tmp/loop_over_bdir-1255584-m4BHmZ/FusionInventory-Agent-2.6-0/blib/arch:/tmp/loop_over_bdir-1255584-m4BHmZ/FusionInventory-Agent-2.6-0/blib/lib:/tmp/loop_over_bdir-1255584-m4BHmZ/RDF-NLP-SPARQLQuery-0.1-0/blib/arch:/tmp/loop_over_bdir-1255584-m4BHmZ/RDF-NLP-SPARQLQuery-0.1-0/blib/lib:/tmp/loop_over_bdir-1255584-m4BHmZ/App-rmcd-0.280-0/blib/arch:/tmp/loop_over_bdir-1255584-m4BHmZ/App-rmcd-0.280-0/blib/lib:/tmp/loop_over_bdir-1255584-m4BHmZ/js-app-0.13-0/blib/arch:/tmp/loop_over_bdir-1255584-m4BHmZ/js-app-0.13-0/blib/lib:/tmp/loop_over_bdir-1255584-m4BHmZ/Debian-Packages-0.03-0/blib/arch:/tmp/loop_over_bdir-1255584-m4BHmZ/Debian-Packages-0.03-0/blib/lib:/tmp/loop_over_bdir-1255584-m4BHmZ/mmds-1.902-0/blib/arch:/tmp/loop_over_bdir-1255584-m4BHmZ/mmds-1.902-0/blib/lib:/tmp/loop_over_bdir-1255584-m4BHmZ/Linux-InitFS-0.2-0/blib/arch:/tmp/loop_over_bdir-1255584-m4BHmZ/Linux-InitFS-0.2-0/blib/lib:/tmp/loop_over_bdir-1255584-m4BHmZ/Business-Shipping-DataFiles-1.02-0/blib/arch:/tmp/loop_over_bdir-1255584-m4BHmZ/Business-Shipping-DataFiles-1.02-0/blib/lib:/tmp/loop_over_bdir-1255584-m4BHmZ/CORBA-Python-2.66-0/blib/arch:/tmp/loop_over_bdir-1255584-m4BHmZ/CORBA-Python-2.66-0/blib/lib:/tmp/loop_over_bdir-1255584-m4BHmZ/Devel-Required-0.16-0/blib/arch:/tmp/loop_over_bdir-1255584-m4BHmZ/Devel-Required-0.16-0/blib/lib:/tmp/loop_over_bdir-1255584-m4BHmZ/perl-Hardware-UPS-Perl-0.43-0/blib/arch:/tmp/loop_over_bdir-1255584-m4BHmZ/perl-Hardware-UPS-Perl-0.43-0/blib/lib:/tmp/loop_over_bdir-1255584-m4BHmZ/EJBCA-CrlPublish-0.60-0/blib/arch:/tmp/loop_over_bdir-1255584-m4BHmZ/EJBCA-CrlPublish-0.60-0/blib/lib:/tmp/loop_over_bdir-1255584-m4BHmZ/MP3-PodcastFetch-1.05-0/blib/arch:/tmp/loop_over_bdir-1255584-m4BHmZ/MP3-PodcastFetch-1.05-0/blib/lib:/tmp/loop_over_bdir-1255584-m4BHmZ/WWW-Mechanize-Chrome-DOMops-0.06-0/blib/arch:/tmp/loop_over_bdir-1255584-m4BHmZ/WWW-Mechanize-Chrome-DOMops-0.06-0/blib/lib:/tmp/loop_over_bdir-1255584-m4BHmZ/dta-tokwrap-0.98-0/blib/arch:/tmp/loop_over_bdir-1255584-m4BHmZ/dta-tokwrap-0.98-0/blib/lib:/tmp/loop_over_bdir-1255584-m4BHmZ/Simulation-Automate-1.0.1-0/blib/arch:/tmp/loop_over_bdir-1255584-m4BHmZ/Simulation-Automate-1.0.1-0/blib/lib:/tmp/loop_over_bdir-1255584-m4BHmZ/Device-Kiln-0.03-0/blib/arch:/tmp/loop_over_bdir-1255584-m4BHmZ/Device-Kiln-0.03-0/blib/lib:/tmp/loop_over_bdir-1255584-m4BHmZ/App-nrun-v1.1.2-0/blib/arch:/tmp/loop_over_bdir-1255584-m4BHmZ/App-nrun-v1.1.2-0/blib/lib:/tmp/loop_over_bdir-1255584-m4BHmZ/LCFG-Build-Skeleton-0.5.0-0/blib/arch:/tmp/loop_over_bdir-1255584-m4BHmZ/LCFG-Build-Skeleton-0.5.0-0/blib/lib:/tmp/loop_over_bdir-1255584-m4BHmZ/Captive-Portal-4.10-0/blib/arch:/tmp/loop_over_bdir-1255584-m4BHmZ/Captive-Portal-4.10-0/blib/lib:/tmp/loop_over_bdir-1255584-m4BHmZ/Lemonldap-NG-Cli-0.2-0/blib/arch:/tmp/loop_over_bdir-1255584-m4BHmZ/Lemonldap-NG-Cli-0.2-0/blib/lib:/tmp/loop_over_bdir-1255584-m4BHmZ/LiquidWeb-Storm-CLI-1.03-0/blib/arch:/tmp/loop_over_bdir-1255584-m4BHmZ/LiquidWeb-Storm-CLI-1.03-0/blib/lib:/tmp/loop_over_bdir-1255584-m4BHmZ/DBIx-Migration-Directories-0.12-0/blib/arch:/tmp/loop_over_bdir-1255584-m4BHmZ/DBIx-Migration-Directories-0.12-0/blib/lib:/tmp/loop_over_bdir-1255584-m4BHmZ/Lingua-BioYaTeA-0.11-0/blib/arch:/tmp/loop_over_bdir-1255584-m4BHmZ/Lingua-BioYaTeA-0.11-0/blib/lib:/tmp/loop_over_bdir-1255584-m4BHmZ/Lingua-YaTeA-0.626-0/blib/arch:/tmp/loop_over_bdir-1255584-m4BHmZ/Lingua-YaTeA-0.626-0/blib/lib:/tmp/loop_over_bdir-1255584-m4BHmZ/CGI-Application-NetNewsIface-0.0204-0/blib/arch:/tmp/loop_over_bdir-1255584-m4BHmZ/CGI-Application-NetNewsIface-0.0204-0/blib/lib"
    PERL5OPT=""
    PERL5_CPANPLUS_IS_RUNNING="1255592"
    PERL5_CPAN_IS_RUNNING="1255592"
    PERL_CANARY_STABILITY_NOPROMPT="1"
    PERL_MM_USE_DEFAULT="1"
    PERL_USE_UNSAFE_INC="1"
  @INC:
    /tmp/loop_over_bdir-1255584-m4BHmZ/Net-ISP-Balance-1.31-0/blib/arch
    /tmp/loop_over_bdir-1255584-m4BHmZ/Net-ISP-Balance-1.31-0/blib/lib
    /tmp/loop_over_bdir-1255584-m4BHmZ/NoZone-1.3-0/blib/arch
    /tmp/loop_over_bdir-1255584-m4BHmZ/NoZone-1.3-0/blib/lib
    /tmp/loop_over_bdir-1255584-m4BHmZ/ProjectBuilder-0.14.1-0/blib/arch
    /tmp/loop_over_bdir-1255584-m4BHmZ/ProjectBuilder-0.14.1-0/blib/lib
    /tmp/loop_over_bdir-1255584-m4BHmZ/Net-Async-WebService-lxd-0.03-0/blib/arch
    /tmp/loop_over_bdir-1255584-m4BHmZ/Net-Async-WebService-lxd-0.03-0/blib/lib
    /tmp/loop_over_bdir-1255584-m4BHmZ/FusionInventory-Agent-2.6-0/blib/arch
    /tmp/loop_over_bdir-1255584-m4BHmZ/FusionInventory-Agent-2.6-0/blib/lib
    /tmp/loop_over_bdir-1255584-m4BHmZ/RDF-NLP-SPARQLQuery-0.1-0/blib/arch
    /tmp/loop_over_bdir-1255584-m4BHmZ/RDF-NLP-SPARQLQuery-0.1-0/blib/lib
    /tmp/loop_over_bdir-1255584-m4BHmZ/App-rmcd-0.280-0/blib/arch
    /tmp/loop_over_bdir-1255584-m4BHmZ/App-rmcd-0.280-0/blib/lib
    /tmp/loop_over_bdir-1255584-m4BHmZ/js-app-0.13-0/blib/arch
    /tmp/loop_over_bdir-1255584-m4BHmZ/js-app-0.13-0/blib/lib
    /tmp/loop_over_bdir-1255584-m4BHmZ/Debian-Packages-0.03-0/blib/arch
    /tmp/loop_over_bdir-1255584-m4BHmZ/Debian-Packages-0.03-0/blib/lib
    /tmp/loop_over_bdir-1255584-m4BHmZ/mmds-1.902-0/blib/arch
    /tmp/loop_over_bdir-1255584-m4BHmZ/mmds-1.902-0/blib/lib
    /tmp/loop_over_bdir-1255584-m4BHmZ/Linux-InitFS-0.2-0/blib/arch
    /tmp/loop_over_bdir-1255584-m4BHmZ/Linux-InitFS-0.2-0/blib/lib
    /tmp/loop_over_bdir-1255584-m4BHmZ/Business-Shipping-DataFiles-1.02-0/blib/arch
    /tmp/loop_over_bdir-1255584-m4BHmZ/Business-Shipping-DataFiles-1.02-0/blib/lib
    /tmp/loop_over_bdir-1255584-m4BHmZ/CORBA-Python-2.66-0/blib/arch
    /tmp/loop_over_bdir-1255584-m4BHmZ/CORBA-Python-2.66-0/blib/lib
    /tmp/loop_over_bdir-1255584-m4BHmZ/Devel-Required-0.16-0/blib/arch
    /tmp/loop_over_bdir-1255584-m4BHmZ/Devel-Required-0.16-0/blib/lib
    /tmp/loop_over_bdir-1255584-m4BHmZ/perl-Hardware-UPS-Perl-0.43-0/blib/arch
    /tmp/loop_over_bdir-1255584-m4BHmZ/perl-Hardware-UPS-Perl-0.43-0/blib/lib
    /tmp/loop_over_bdir-1255584-m4BHmZ/EJBCA-CrlPublish-0.60-0/blib/arch
    /tmp/loop_over_bdir-1255584-m4BHmZ/EJBCA-CrlPublish-0.60-0/blib/lib
    /tmp/loop_over_bdir-1255584-m4BHmZ/MP3-PodcastFetch-1.05-0/blib/arch
    /tmp/loop_over_bdir-1255584-m4BHmZ/MP3-PodcastFetch-1.05-0/blib/lib
    /tmp/loop_over_bdir-1255584-m4BHmZ/WWW-Mechanize-Chrome-DOMops-0.06-0/blib/arch
    /tmp/loop_over_bdir-1255584-m4BHmZ/WWW-Mechanize-Chrome-DOMops-0.06-0/blib/lib
    /tmp/loop_over_bdir-1255584-m4BHmZ/dta-tokwrap-0.98-0/blib/arch
    /tmp/loop_over_bdir-1255584-m4BHmZ/dta-tokwrap-0.98-0/blib/lib
    /tmp/loop_over_bdir-1255584-m4BHmZ/Simulation-Automate-1.0.1-0/blib/arch
    /tmp/loop_over_bdir-1255584-m4BHmZ/Simulation-Automate-1.0.1-0/blib/lib
    /tmp/loop_over_bdir-1255584-m4BHmZ/Device-Kiln-0.03-0/blib/arch
    /tmp/loop_over_bdir-1255584-m4BHmZ/Device-Kiln-0.03-0/blib/lib
    /tmp/loop_over_bdir-1255584-m4BHmZ/App-nrun-v1.1.2-0/blib/arch
    /tmp/loop_over_bdir-1255584-m4BHmZ/App-nrun-v1.1.2-0/blib/lib
    /tmp/loop_over_bdir-1255584-m4BHmZ/LCFG-Build-Skeleton-0.5.0-0/blib/arch
    /tmp/loop_over_bdir-1255584-m4BHmZ/LCFG-Build-Skeleton-0.5.0-0/blib/lib
    /tmp/loop_over_bdir-1255584-m4BHmZ/Captive-Portal-4.10-0/blib/arch
    /tmp/loop_over_bdir-1255584-m4BHmZ/Captive-Portal-4.10-0/blib/lib
    /tmp/loop_over_bdir-1255584-m4BHmZ/Lemonldap-NG-Cli-0.2-0/blib/arch
    /tmp/loop_over_bdir-1255584-m4BHmZ/Lemonldap-NG-Cli-0.2-0/blib/lib
    /tmp/loop_over_bdir-1255584-m4BHmZ/LiquidWeb-Storm-CLI-1.03-0/blib/arch
    /tmp/loop_over_bdir-1255584-m4BHmZ/LiquidWeb-Storm-CLI-1.03-0/blib/lib
    /tmp/loop_over_bdir-1255584-m4BHmZ/DBIx-Migration-Directories-0.12-0/blib/arch
    /tmp/loop_over_bdir-1255584-m4BHmZ/DBIx-Migration-Directories-0.12-0/blib/lib
    /tmp/loop_over_bdir-1255584-m4BHmZ/Lingua-BioYaTeA-0.11-0/blib/arch
    /tmp/loop_over_bdir-1255584-m4BHmZ/Lingua-BioYaTeA-0.11-0/blib/lib
    /tmp/loop_over_bdir-1255584-m4BHmZ/Lingua-YaTeA-0.626-0/blib/arch
    /tmp/loop_over_bdir-1255584-m4BHmZ/Lingua-YaTeA-0.626-0/blib/lib
    /tmp/loop_over_bdir-1255584-m4BHmZ/CGI-Application-NetNewsIface-0.0204-0/blib/arch
    /tmp/loop_over_bdir-1255584-m4BHmZ/CGI-Application-NetNewsIface-0.0204-0/blib/lib
    /home/sand/src/perl/repoperls/installed-perls/host/k93jammy/v5.39.3/b4f3/lib/site_perl/5.39.3/x86_64-linux-thread-multi
    /home/sand/src/perl/repoperls/installed-perls/host/k93jammy/v5.39.3/b4f3/lib/site_perl/5.39.3
    /home/sand/src/perl/repoperls/installed-perls/host/k93jammy/v5.39.3/b4f3/lib/5.39.3/x86_64-linux-thread-multi
    /home/sand/src/perl/repoperls/installed-perls/host/k93jammy/v5.39.3/b4f3/lib/5.39.3
    .