Module-FromPerlVer v0.030000 Perl 5 v5.41.5 x86_64-linux

Status
Pass
From
Andreas J. König (ANDK)
Dist
Module-FromPerlVer v0.030000
Platform
Perl 5 v5.41.5 x86_64-linux
Date
2024-11-26 17:28:16
ID
d29cdcc8-ac1b-11ef-bc1b-3a9c3c2193cd
This distribution has been tested as part of the CPAN Testers
project, supporting the Perl programming language.  See
http://wiki.cpantesters.org/ for more information or email
questions to cpan-testers-discuss@perl.org


--
Dear Steven Lembark,

This is a computer-generated report for Module-FromPerlVer-0.030000
on perl 5.41.5, created by CPAN-Reporter-1.2020.

Thank you for uploading your work to CPAN.  Congratulations!
All tests were successful.

Sections of this report:

    * Tester comments
    * Program output
    * Prerequisites
    * Environment and other context

------------------------------
TESTER COMMENTS
------------------------------

Additional comments from tester:

this report is from an automated smoke testing program
and was not reviewed by a human for accuracy

------------------------------
PROGRAM OUTPUT
------------------------------

Output from '/usr/bin/make test':

PERL_DL_NONLAZY=1 "/tmp/basesmoker-reloperl-eSdV/bin/perl" "-MExtUtils::Command::MM" "-MTest::Harness" "-e" "undef *Test::Harness::Switches; test_harness(0, 'blib/lib', 'blib/arch')" t/*.t t/dynamic/*.t
# Working dir: '/tmp/loop_over_bdir-3373713-Bflc3Z/Module-FromPerlVer-0.030000-0'
# Executable:  't/00-usable.t'
# Found 'lib' directory
# Search: '/tmp/loop_over_bdir-3373713-Bflc3Z/Module-FromPerlVer-0.030000-0' for files with 'File::Copy::Recursive'
# Module-FromPerlVer-0.030000-0/CHANGES  5 : '    out File::Copy::Recursive, which is not used in the Makefile.PL,
# '
# Module-FromPerlVer-0.030000-0/CHANGES  6 : '    module, or test code. File::Copy::Recursive is not installed 
# '
# Module-FromPerlVer-0.030000-0/CHANGES  13 : '    "File::Copy::Recursive" and dumping the result along with 
# '
# Module-FromPerlVer-0.030000-0/CHANGES  27 : '    File::Copy::Recursive may still have problems; revert to 
# '
# Module-FromPerlVer-0.030000-0/CHANGES  28 : '    File::Copy::Recursive::Reduced.
# '
# Module-FromPerlVer-0.030000-0/META.json  37 : '            "File::Copy::Recursive::Reduced" : "0.006000",
# '
# Module-FromPerlVer-0.030000-0/META.json  60 : '      "File::Copy::Recursive::Reduced" : "0.006000",
# '
# Module-FromPerlVer-0.030000-0/MYMETA.json  37 : '            "File::Copy::Recursive::Reduced" : "0.006000",
# '
# Module-FromPerlVer-0.030000-0/MYMETA.json  60 : '      "File::Copy::Recursive::Reduced" : "0.006000",
# '
# Module-FromPerlVer-0.030000-0/Makefile  19 : '#     META_MERGE => { CONFIGURE_REQUIRES=>{ ExtUtils::MakeMaker=>undef, strict=>q[0], version=>q[0] }, TEST_REQUIRES=>{ Archive::Tar=>q[0], Cwd=>q[3.073000], File::Basename=>q[0], File::Copy::Recursive::Reduced=>q[0.006000], File::Find=>q[0], File::Spec::Functions=>q[0], File::Temp=>q[0], FindBin=>q[0], List::MoreUtils=>q[0], List::Util=>q[1.046000], Symbol=>q[0], Test::Deep=>q[0], Test::More=>q[0], lib=>q[0], strict=>q[0], version=>q[0] }, dynamic_config=>q[1], meta-spec=>{ version=>q[2] } }
# '
# Module-FromPerlVer-0.030000-0/Makefile  21 : '#     PREREQ_PM => { Cwd=>q[3.073000], File::Basename=>q[0], File::Copy::Recursive::Reduced=>q[0.006000], File::Find=>q[0], File::Spec::Functions=>q[0], FindBin=>q[0], List::Util=>q[1.046000], Symbol=>q[0], Test::More=>q[0], strict=>q[0], version=>q[0] }
# '
# Module-FromPerlVer-0.030000-0/Makefile  510 : '	$(NOECHO) $(ECHO) '  File::Copy::Recursive::Reduced: '\''0.006000'\''' >> META_new.yml
# '
# Module-FromPerlVer-0.030000-0/Makefile  528 : '	$(NOECHO) $(ECHO) '  File::Copy::Recursive::Reduced: '\''0.006000'\''' >> META_new.yml
# '
# Module-FromPerlVer-0.030000-0/Makefile  580 : '	$(NOECHO) $(ECHO) '            "File::Copy::Recursive::Reduced" : "0.006000",' >> META_new.json
# '
# Module-FromPerlVer-0.030000-0/Makefile  603 : '	$(NOECHO) $(ECHO) '      "File::Copy::Recursive::Reduced" : "0.006000",' >> META_new.json
# '
# Module-FromPerlVer-0.030000-0/Makefile  932 : '	$(NOECHO) $(ECHO) '        <REQUIRE NAME="File::Copy::Recursive::Reduced" VERSION="0.006000" />' >> Module-FromPerlVer.ppd
# '
# Module-FromPerlVer-0.030000-0/Makefile.PL  81 : '                    [ qw( File::Copy::Recursive::Reduced    v0.6.0  ) ],
# '
# Module-FromPerlVer-0.030000-0/Makefile.PL  112 : '            [ qw( File::Copy::Recursive::Reduced    v0.6.0  ) ],
# '
# Module-FromPerlVer-0.030000-0/MYMETA.yml  23 : '  File::Copy::Recursive::Reduced: '0.006000'
# '
# Module-FromPerlVer-0.030000-0/MYMETA.yml  41 : '  File::Copy::Recursive::Reduced: '0.006000'
# '
# Module-FromPerlVer-0.030000-0/META.yml  23 : '  File::Copy::Recursive::Reduced: '0.006000'
# '
# Module-FromPerlVer-0.030000-0/META.yml  41 : '  File::Copy::Recursive::Reduced: '0.006000'
# '
# man3/Module::FromPerlVer.3  407 : '.IP File::Copy::Recursive 4
# '
# man3/Module::FromPerlVer.3  408 : '.IX Item "File::Copy::Recursive"
# '
# Module/FromPerlVer.pm  6 : '# File::Copy::Recursive & friends -- yeah, ancient.
# '
# Module/FromPerlVer.pm  21 : 'use File::Copy::Recursive::Reduced  qw( dircopy );
# '
# Module/FromPerlVer.pm  460 : '    # this returns the count from File::Copy::Recursive,
# '
# Module/FromPerlVer.pm  828 : '=item File::Copy::Recursive
# '
# t/00-usable.t  39 : '            -1 < index  $line, 'File::Copy::Recursive'
# '
# t/00-usable.t  50 : 'diag "Search: '$cwd' for files with 'File::Copy::Recursive'";
# '
# Module/FromPerlVer.pm  6 : '# File::Copy::Recursive & friends -- yeah, ancient.
# '
# Module/FromPerlVer.pm  21 : 'use File::Copy::Recursive::Reduced  qw( dircopy );
# '
# Module/FromPerlVer.pm  460 : '    # this returns the count from File::Copy::Recursive,
# '
# Module/FromPerlVer.pm  828 : '=item File::Copy::Recursive
# '
t/00-usable.t ................................ ok

# Search: 't' (/tmp/loop_over_bdir-3373713-Bflc3Z/Module-FromPerlVer-0.030000-0/t)
# Created:  '/tmp/loop_over_bdir-3373713-Bflc3Z/Module-FromPerlVer-0.030000-0/t/sandbox'.
# Search: 't' (/tmp/loop_over_bdir-3373713-Bflc3Z/Module-FromPerlVer-0.030000-0/t)
# Existing: '/tmp/loop_over_bdir-3373713-Bflc3Z/Module-FromPerlVer-0.030000-0/t/sandbox'.
# Work dir: 't/sandbox/10-perl-version.t-Hun1't/10-perl-version.t .......................... ok

# Search: 't' (/tmp/loop_over_bdir-3373713-Bflc3Z/Module-FromPerlVer-0.030000-0/t)
# Existing: '/tmp/loop_over_bdir-3373713-Bflc3Z/Module-FromPerlVer-0.030000-0/t/sandbox'.
# Search: 't' (/tmp/loop_over_bdir-3373713-Bflc3Z/Module-FromPerlVer-0.030000-0/t)
# Existing: '/tmp/loop_over_bdir-3373713-Bflc3Z/Module-FromPerlVer-0.030000-0/t/sandbox'.
# Work dir: 't/sandbox/11-env-version.t-iVMn't/11-env-version.t ........................... ok

# Search: 't' (/tmp/loop_over_bdir-3373713-Bflc3Z/Module-FromPerlVer-0.030000-0/t)
# Existing: '/tmp/loop_over_bdir-3373713-Bflc3Z/Module-FromPerlVer-0.030000-0/t/sandbox'.
# Search: 't' (/tmp/loop_over_bdir-3373713-Bflc3Z/Module-FromPerlVer-0.030000-0/t)
# Existing: '/tmp/loop_over_bdir-3373713-Bflc3Z/Module-FromPerlVer-0.030000-0/t/sandbox'.
# Work dir: 't/sandbox/12-path-version.t-gzeU't/12-path-version.t .......................... ok
t/13-reject-bogus-no-5.0.t ................... ok

# Search: 't' (/tmp/loop_over_bdir-3373713-Bflc3Z/Module-FromPerlVer-0.030000-0/t)
# Existing: '/tmp/loop_over_bdir-3373713-Bflc3Z/Module-FromPerlVer-0.030000-0/t/sandbox'.
# Search: 't' (/tmp/loop_over_bdir-3373713-Bflc3Z/Module-FromPerlVer-0.030000-0/t)
# Existing: '/tmp/loop_over_bdir-3373713-Bflc3Z/Module-FromPerlVer-0.030000-0/t/sandbox'.
# Work dir: 't/sandbox/20-file-defaults-5.0.1.t-IPL2'
# Testing perl version: '5.0.1' (20-file-defaults-5.0.1).
t/dynamic/20-file-defaults-5.0.1.t ........... ok

# Search: 't' (/tmp/loop_over_bdir-3373713-Bflc3Z/Module-FromPerlVer-0.030000-0/t)
# Existing: '/tmp/loop_over_bdir-3373713-Bflc3Z/Module-FromPerlVer-0.030000-0/t/sandbox'.
# Search: 't' (/tmp/loop_over_bdir-3373713-Bflc3Z/Module-FromPerlVer-0.030000-0/t)
# Existing: '/tmp/loop_over_bdir-3373713-Bflc3Z/Module-FromPerlVer-0.030000-0/t/sandbox'.
# Work dir: 't/sandbox/20-file-defaults-5.000.001.t-9fib'
# Testing perl version: '5.000.001' (20-file-defaults-5.000.001).
t/dynamic/20-file-defaults-5.000.001.t ....... ok

# Search: 't' (/tmp/loop_over_bdir-3373713-Bflc3Z/Module-FromPerlVer-0.030000-0/t)
# Existing: '/tmp/loop_over_bdir-3373713-Bflc3Z/Module-FromPerlVer-0.030000-0/t/sandbox'.
# Search: 't' (/tmp/loop_over_bdir-3373713-Bflc3Z/Module-FromPerlVer-0.030000-0/t)
# Existing: '/tmp/loop_over_bdir-3373713-Bflc3Z/Module-FromPerlVer-0.030000-0/t/sandbox'.
# Work dir: 't/sandbox/20-file-defaults-5.000001.t-FtsO'
# Testing perl version: '5.000001' (20-file-defaults-5.000001).
t/dynamic/20-file-defaults-5.000001.t ........ ok

# Search: 't' (/tmp/loop_over_bdir-3373713-Bflc3Z/Module-FromPerlVer-0.030000-0/t)
# Existing: '/tmp/loop_over_bdir-3373713-Bflc3Z/Module-FromPerlVer-0.030000-0/t/sandbox'.
# Search: 't' (/tmp/loop_over_bdir-3373713-Bflc3Z/Module-FromPerlVer-0.030000-0/t)
# Existing: '/tmp/loop_over_bdir-3373713-Bflc3Z/Module-FromPerlVer-0.030000-0/t/sandbox'.
# Work dir: 't/sandbox/20-file-defaults-5.000_001.t-T8jP'
# Testing perl version: '5.000_001' (20-file-defaults-5.000_001).
t/dynamic/20-file-defaults-5.000_001.t ....... ok

# Search: 't' (/tmp/loop_over_bdir-3373713-Bflc3Z/Module-FromPerlVer-0.030000-0/t)
# Existing: '/tmp/loop_over_bdir-3373713-Bflc3Z/Module-FromPerlVer-0.030000-0/t/sandbox'.
# Search: 't' (/tmp/loop_over_bdir-3373713-Bflc3Z/Module-FromPerlVer-0.030000-0/t)
# Existing: '/tmp/loop_over_bdir-3373713-Bflc3Z/Module-FromPerlVer-0.030000-0/t/sandbox'.
# Work dir: 't/sandbox/20-file-defaults-5.006.000.t-5PwO'
# Testing perl version: '5.006.000' (20-file-defaults-5.006.000).
t/dynamic/20-file-defaults-5.006.000.t ....... ok

# Search: 't' (/tmp/loop_over_bdir-3373713-Bflc3Z/Module-FromPerlVer-0.030000-0/t)
# Existing: '/tmp/loop_over_bdir-3373713-Bflc3Z/Module-FromPerlVer-0.030000-0/t/sandbox'.
# Search: 't' (/tmp/loop_over_bdir-3373713-Bflc3Z/Module-FromPerlVer-0.030000-0/t)
# Existing: '/tmp/loop_over_bdir-3373713-Bflc3Z/Module-FromPerlVer-0.030000-0/t/sandbox'.
# Work dir: 't/sandbox/20-file-defaults-5.006000.t-eTo1'
# Testing perl version: '5.006000' (20-file-defaults-5.006000).
t/dynamic/20-file-defaults-5.006000.t ........ ok

# Search: 't' (/tmp/loop_over_bdir-3373713-Bflc3Z/Module-FromPerlVer-0.030000-0/t)
# Existing: '/tmp/loop_over_bdir-3373713-Bflc3Z/Module-FromPerlVer-0.030000-0/t/sandbox'.
# Search: 't' (/tmp/loop_over_bdir-3373713-Bflc3Z/Module-FromPerlVer-0.030000-0/t)
# Existing: '/tmp/loop_over_bdir-3373713-Bflc3Z/Module-FromPerlVer-0.030000-0/t/sandbox'.
# Work dir: 't/sandbox/20-file-defaults-5.006_000.t-Sj7w'
# Testing perl version: '5.006_000' (20-file-defaults-5.006_000).
t/dynamic/20-file-defaults-5.006_000.t ....... ok

# Search: 't' (/tmp/loop_over_bdir-3373713-Bflc3Z/Module-FromPerlVer-0.030000-0/t)
# Existing: '/tmp/loop_over_bdir-3373713-Bflc3Z/Module-FromPerlVer-0.030000-0/t/sandbox'.
# Search: 't' (/tmp/loop_over_bdir-3373713-Bflc3Z/Module-FromPerlVer-0.030000-0/t)
# Existing: '/tmp/loop_over_bdir-3373713-Bflc3Z/Module-FromPerlVer-0.030000-0/t/sandbox'.
# Work dir: 't/sandbox/20-file-defaults-5.008.008.t-UNZ0'
# Testing perl version: '5.008.008' (20-file-defaults-5.008.008).
t/dynamic/20-file-defaults-5.008.008.t ....... ok

# Search: 't' (/tmp/loop_over_bdir-3373713-Bflc3Z/Module-FromPerlVer-0.030000-0/t)
# Existing: '/tmp/loop_over_bdir-3373713-Bflc3Z/Module-FromPerlVer-0.030000-0/t/sandbox'.
# Search: 't' (/tmp/loop_over_bdir-3373713-Bflc3Z/Module-FromPerlVer-0.030000-0/t)
# Existing: '/tmp/loop_over_bdir-3373713-Bflc3Z/Module-FromPerlVer-0.030000-0/t/sandbox'.
# Work dir: 't/sandbox/20-file-defaults-5.008008.t-W6uQ'
# Testing perl version: '5.008008' (20-file-defaults-5.008008).
t/dynamic/20-file-defaults-5.008008.t ........ ok

# Search: 't' (/tmp/loop_over_bdir-3373713-Bflc3Z/Module-FromPerlVer-0.030000-0/t)
# Existing: '/tmp/loop_over_bdir-3373713-Bflc3Z/Module-FromPerlVer-0.030000-0/t/sandbox'.
# Search: 't' (/tmp/loop_over_bdir-3373713-Bflc3Z/Module-FromPerlVer-0.030000-0/t)
# Existing: '/tmp/loop_over_bdir-3373713-Bflc3Z/Module-FromPerlVer-0.030000-0/t/sandbox'.
# Work dir: 't/sandbox/20-file-defaults-5.008_008.t-U8er'
# Testing perl version: '5.008_008' (20-file-defaults-5.008_008).
t/dynamic/20-file-defaults-5.008_008.t ....... ok

# Search: 't' (/tmp/loop_over_bdir-3373713-Bflc3Z/Module-FromPerlVer-0.030000-0/t)
# Existing: '/tmp/loop_over_bdir-3373713-Bflc3Z/Module-FromPerlVer-0.030000-0/t/sandbox'.
# Search: 't' (/tmp/loop_over_bdir-3373713-Bflc3Z/Module-FromPerlVer-0.030000-0/t)
# Existing: '/tmp/loop_over_bdir-3373713-Bflc3Z/Module-FromPerlVer-0.030000-0/t/sandbox'.
# Work dir: 't/sandbox/20-file-defaults-5.6.0.t-bBEX'
# Testing perl version: '5.6.0' (20-file-defaults-5.6.0).
t/dynamic/20-file-defaults-5.6.0.t ........... ok

# Search: 't' (/tmp/loop_over_bdir-3373713-Bflc3Z/Module-FromPerlVer-0.030000-0/t)
# Existing: '/tmp/loop_over_bdir-3373713-Bflc3Z/Module-FromPerlVer-0.030000-0/t/sandbox'.
# Search: 't' (/tmp/loop_over_bdir-3373713-Bflc3Z/Module-FromPerlVer-0.030000-0/t)
# Existing: '/tmp/loop_over_bdir-3373713-Bflc3Z/Module-FromPerlVer-0.030000-0/t/sandbox'.
# Work dir: 't/sandbox/20-file-defaults-5.8.8.t-PPbI'
# Testing perl version: '5.8.8' (20-file-defaults-5.8.8).
t/dynamic/20-file-defaults-5.8.8.t ........... ok

# Search: 't' (/tmp/loop_over_bdir-3373713-Bflc3Z/Module-FromPerlVer-0.030000-0/t)
# Existing: '/tmp/loop_over_bdir-3373713-Bflc3Z/Module-FromPerlVer-0.030000-0/t/sandbox'.
# Search: 't' (/tmp/loop_over_bdir-3373713-Bflc3Z/Module-FromPerlVer-0.030000-0/t)
# Existing: '/tmp/loop_over_bdir-3373713-Bflc3Z/Module-FromPerlVer-0.030000-0/t/sandbox'.
# Work dir: 't/sandbox/20-file-defaults-5.888.888.t-P2kv'
# Testing perl version: '5.888.888' (20-file-defaults-5.888.888).
t/dynamic/20-file-defaults-5.888.888.t ....... ok

# Search: 't' (/tmp/loop_over_bdir-3373713-Bflc3Z/Module-FromPerlVer-0.030000-0/t)
# Existing: '/tmp/loop_over_bdir-3373713-Bflc3Z/Module-FromPerlVer-0.030000-0/t/sandbox'.
# Search: 't' (/tmp/loop_over_bdir-3373713-Bflc3Z/Module-FromPerlVer-0.030000-0/t)
# Existing: '/tmp/loop_over_bdir-3373713-Bflc3Z/Module-FromPerlVer-0.030000-0/t/sandbox'.
# Work dir: 't/sandbox/20-file-defaults-5.888888.t-6kjL'
# Testing perl version: '5.888888' (20-file-defaults-5.888888).
t/dynamic/20-file-defaults-5.888888.t ........ ok

# Search: 't' (/tmp/loop_over_bdir-3373713-Bflc3Z/Module-FromPerlVer-0.030000-0/t)
# Existing: '/tmp/loop_over_bdir-3373713-Bflc3Z/Module-FromPerlVer-0.030000-0/t/sandbox'.
# Search: 't' (/tmp/loop_over_bdir-3373713-Bflc3Z/Module-FromPerlVer-0.030000-0/t)
# Existing: '/tmp/loop_over_bdir-3373713-Bflc3Z/Module-FromPerlVer-0.030000-0/t/sandbox'.
# Work dir: 't/sandbox/20-file-defaults-5.888_888.t-r8TC'
# Testing perl version: '5.888_888' (20-file-defaults-5.888_888).
t/dynamic/20-file-defaults-5.888_888.t ....... ok

# Search: 't' (/tmp/loop_over_bdir-3373713-Bflc3Z/Module-FromPerlVer-0.030000-0/t)
# Existing: '/tmp/loop_over_bdir-3373713-Bflc3Z/Module-FromPerlVer-0.030000-0/t/sandbox'.
# Search: 't' (/tmp/loop_over_bdir-3373713-Bflc3Z/Module-FromPerlVer-0.030000-0/t)
# Existing: '/tmp/loop_over_bdir-3373713-Bflc3Z/Module-FromPerlVer-0.030000-0/t/sandbox'.
# Work dir: 't/sandbox/20-file-defaults-5.999.999.t-Dt6A'
# Testing perl version: '5.999.999' (20-file-defaults-5.999.999).
t/dynamic/20-file-defaults-5.999.999.t ....... ok

# Search: 't' (/tmp/loop_over_bdir-3373713-Bflc3Z/Module-FromPerlVer-0.030000-0/t)
# Existing: '/tmp/loop_over_bdir-3373713-Bflc3Z/Module-FromPerlVer-0.030000-0/t/sandbox'.
# Search: 't' (/tmp/loop_over_bdir-3373713-Bflc3Z/Module-FromPerlVer-0.030000-0/t)
# Existing: '/tmp/loop_over_bdir-3373713-Bflc3Z/Module-FromPerlVer-0.030000-0/t/sandbox'.
# Work dir: 't/sandbox/20-file-defaults-5.999999.t-DFu1'
# Testing perl version: '5.999999' (20-file-defaults-5.999999).
t/dynamic/20-file-defaults-5.999999.t ........ ok

# Search: 't' (/tmp/loop_over_bdir-3373713-Bflc3Z/Module-FromPerlVer-0.030000-0/t)
# Existing: '/tmp/loop_over_bdir-3373713-Bflc3Z/Module-FromPerlVer-0.030000-0/t/sandbox'.
# Search: 't' (/tmp/loop_over_bdir-3373713-Bflc3Z/Module-FromPerlVer-0.030000-0/t)
# Existing: '/tmp/loop_over_bdir-3373713-Bflc3Z/Module-FromPerlVer-0.030000-0/t/sandbox'.
# Work dir: 't/sandbox/20-file-defaults-5.999_999.t-pFYd'
# Testing perl version: '5.999_999' (20-file-defaults-5.999_999).
t/dynamic/20-file-defaults-5.999_999.t ....... ok

# Search: 't' (/tmp/loop_over_bdir-3373713-Bflc3Z/Module-FromPerlVer-0.030000-0/t)
# Existing: '/tmp/loop_over_bdir-3373713-Bflc3Z/Module-FromPerlVer-0.030000-0/t/sandbox'.
# Search: 't' (/tmp/loop_over_bdir-3373713-Bflc3Z/Module-FromPerlVer-0.030000-0/t)
# Existing: '/tmp/loop_over_bdir-3373713-Bflc3Z/Module-FromPerlVer-0.030000-0/t/sandbox'.
# Work dir: 't/sandbox/20-file-defaults-v5.0.1.t-0zXm'
# Testing perl version: 'v5.0.1' (20-file-defaults-v5.0.1).
t/dynamic/20-file-defaults-v5.0.1.t .......... ok

# Search: 't' (/tmp/loop_over_bdir-3373713-Bflc3Z/Module-FromPerlVer-0.030000-0/t)
# Existing: '/tmp/loop_over_bdir-3373713-Bflc3Z/Module-FromPerlVer-0.030000-0/t/sandbox'.
# Search: 't' (/tmp/loop_over_bdir-3373713-Bflc3Z/Module-FromPerlVer-0.030000-0/t)
# Existing: '/tmp/loop_over_bdir-3373713-Bflc3Z/Module-FromPerlVer-0.030000-0/t/sandbox'.
# Work dir: 't/sandbox/20-file-defaults-v5.000.001.t-FaNr'
# Testing perl version: 'v5.000.001' (20-file-defaults-v5.000.001).
t/dynamic/20-file-defaults-v5.000.001.t ...... ok

# Search: 't' (/tmp/loop_over_bdir-3373713-Bflc3Z/Module-FromPerlVer-0.030000-0/t)
# Existing: '/tmp/loop_over_bdir-3373713-Bflc3Z/Module-FromPerlVer-0.030000-0/t/sandbox'.
# Search: 't' (/tmp/loop_over_bdir-3373713-Bflc3Z/Module-FromPerlVer-0.030000-0/t)
# Existing: '/tmp/loop_over_bdir-3373713-Bflc3Z/Module-FromPerlVer-0.030000-0/t/sandbox'.
# Work dir: 't/sandbox/20-file-defaults-v5.000001.t-amV_'
# Testing perl version: 'v5.000001' (20-file-defaults-v5.000001).
t/dynamic/20-file-defaults-v5.000001.t ....... ok

# Search: 't' (/tmp/loop_over_bdir-3373713-Bflc3Z/Module-FromPerlVer-0.030000-0/t)
# Existing: '/tmp/loop_over_bdir-3373713-Bflc3Z/Module-FromPerlVer-0.030000-0/t/sandbox'.
# Search: 't' (/tmp/loop_over_bdir-3373713-Bflc3Z/Module-FromPerlVer-0.030000-0/t)
# Existing: '/tmp/loop_over_bdir-3373713-Bflc3Z/Module-FromPerlVer-0.030000-0/t/sandbox'.
# Work dir: 't/sandbox/20-file-defaults-v5.000_001.t-UFfO'
# Testing perl version: 'v5.000_001' (20-file-defaults-v5.000_001).
t/dynamic/20-file-defaults-v5.000_001.t ...... ok

# Search: 't' (/tmp/loop_over_bdir-3373713-Bflc3Z/Module-FromPerlVer-0.030000-0/t)
# Existing: '/tmp/loop_over_bdir-3373713-Bflc3Z/Module-FromPerlVer-0.030000-0/t/sandbox'.
# Search: 't' (/tmp/loop_over_bdir-3373713-Bflc3Z/Module-FromPerlVer-0.030000-0/t)
# Existing: '/tmp/loop_over_bdir-3373713-Bflc3Z/Module-FromPerlVer-0.030000-0/t/sandbox'.
# Work dir: 't/sandbox/20-file-defaults-v5.006.000.t-flRl'
# Testing perl version: 'v5.006.000' (20-file-defaults-v5.006.000).
t/dynamic/20-file-defaults-v5.006.000.t ...... ok

# Search: 't' (/tmp/loop_over_bdir-3373713-Bflc3Z/Module-FromPerlVer-0.030000-0/t)
# Existing: '/tmp/loop_over_bdir-3373713-Bflc3Z/Module-FromPerlVer-0.030000-0/t/sandbox'.
# Search: 't' (/tmp/loop_over_bdir-3373713-Bflc3Z/Module-FromPerlVer-0.030000-0/t)
# Existing: '/tmp/loop_over_bdir-3373713-Bflc3Z/Module-FromPerlVer-0.030000-0/t/sandbox'.
# Work dir: 't/sandbox/20-file-defaults-v5.006000.t-n0ON'
# Testing perl version: 'v5.006000' (20-file-defaults-v5.006000).
t/dynamic/20-file-defaults-v5.006000.t ....... ok

# Search: 't' (/tmp/loop_over_bdir-3373713-Bflc3Z/Module-FromPerlVer-0.030000-0/t)
# Existing: '/tmp/loop_over_bdir-3373713-Bflc3Z/Module-FromPerlVer-0.030000-0/t/sandbox'.
# Search: 't' (/tmp/loop_over_bdir-3373713-Bflc3Z/Module-FromPerlVer-0.030000-0/t)
# Existing: '/tmp/loop_over_bdir-3373713-Bflc3Z/Module-FromPerlVer-0.030000-0/t/sandbox'.
# Work dir: 't/sandbox/20-file-defaults-v5.006_000.t-ppGr'
# Testing perl version: 'v5.006_000' (20-file-defaults-v5.006_000).
t/dynamic/20-file-defaults-v5.006_000.t ...... ok

# Search: 't' (/tmp/loop_over_bdir-3373713-Bflc3Z/Module-FromPerlVer-0.030000-0/t)
# Existing: '/tmp/loop_over_bdir-3373713-Bflc3Z/Module-FromPerlVer-0.030000-0/t/sandbox'.
# Search: 't' (/tmp/loop_over_bdir-3373713-Bflc3Z/Module-FromPerlVer-0.030000-0/t)
# Existing: '/tmp/loop_over_bdir-3373713-Bflc3Z/Module-FromPerlVer-0.030000-0/t/sandbox'.
# Work dir: 't/sandbox/20-file-defaults-v5.008.008.t-YQCC'
# Testing perl version: 'v5.008.008' (20-file-defaults-v5.008.008).
t/dynamic/20-file-defaults-v5.008.008.t ...... ok

# Search: 't' (/tmp/loop_over_bdir-3373713-Bflc3Z/Module-FromPerlVer-0.030000-0/t)
# Existing: '/tmp/loop_over_bdir-3373713-Bflc3Z/Module-FromPerlVer-0.030000-0/t/sandbox'.
# Search: 't' (/tmp/loop_over_bdir-3373713-Bflc3Z/Module-FromPerlVer-0.030000-0/t)
# Existing: '/tmp/loop_over_bdir-3373713-Bflc3Z/Module-FromPerlVer-0.030000-0/t/sandbox'.
# Work dir: 't/sandbox/20-file-defaults-v5.008008.t-K85T'
# Testing perl version: 'v5.008008' (20-file-defaults-v5.008008).
t/dynamic/20-file-defaults-v5.008008.t ....... ok

# Search: 't' (/tmp/loop_over_bdir-3373713-Bflc3Z/Module-FromPerlVer-0.030000-0/t)
# Existing: '/tmp/loop_over_bdir-3373713-Bflc3Z/Module-FromPerlVer-0.030000-0/t/sandbox'.
# Search: 't' (/tmp/loop_over_bdir-3373713-Bflc3Z/Module-FromPerlVer-0.030000-0/t)
# Existing: '/tmp/loop_over_bdir-3373713-Bflc3Z/Module-FromPerlVer-0.030000-0/t/sandbox'.
# Work dir: 't/sandbox/20-file-defaults-v5.008_008.t-9GQg'
# Testing perl version: 'v5.008_008' (20-file-defaults-v5.008_008).
t/dynamic/20-file-defaults-v5.008_008.t ...... ok

# Search: 't' (/tmp/loop_over_bdir-3373713-Bflc3Z/Module-FromPerlVer-0.030000-0/t)
# Existing: '/tmp/loop_over_bdir-3373713-Bflc3Z/Module-FromPerlVer-0.030000-0/t/sandbox'.
# Search: 't' (/tmp/loop_over_bdir-3373713-Bflc3Z/Module-FromPerlVer-0.030000-0/t)
# Existing: '/tmp/loop_over_bdir-3373713-Bflc3Z/Module-FromPerlVer-0.030000-0/t/sandbox'.
# Work dir: 't/sandbox/20-file-defaults-v5.6.0.t-KUrZ'
# Testing perl version: 'v5.6.0' (20-file-defaults-v5.6.0).
t/dynamic/20-file-defaults-v5.6.0.t .......... ok

# Search: 't' (/tmp/loop_over_bdir-3373713-Bflc3Z/Module-FromPerlVer-0.030000-0/t)
# Existing: '/tmp/loop_over_bdir-3373713-Bflc3Z/Module-FromPerlVer-0.030000-0/t/sandbox'.
# Search: 't' (/tmp/loop_over_bdir-3373713-Bflc3Z/Module-FromPerlVer-0.030000-0/t)
# Existing: '/tmp/loop_over_bdir-3373713-Bflc3Z/Module-FromPerlVer-0.030000-0/t/sandbox'.
# Work dir: 't/sandbox/20-file-defaults-v5.8.8.t-P80r'
# Testing perl version: 'v5.8.8' (20-file-defaults-v5.8.8).
t/dynamic/20-file-defaults-v5.8.8.t .......... ok

# Search: 't' (/tmp/loop_over_bdir-3373713-Bflc3Z/Module-FromPerlVer-0.030000-0/t)
# Existing: '/tmp/loop_over_bdir-3373713-Bflc3Z/Module-FromPerlVer-0.030000-0/t/sandbox'.
# Search: 't' (/tmp/loop_over_bdir-3373713-Bflc3Z/Module-FromPerlVer-0.030000-0/t)
# Existing: '/tmp/loop_over_bdir-3373713-Bflc3Z/Module-FromPerlVer-0.030000-0/t/sandbox'.
# Work dir: 't/sandbox/20-file-defaults-v5.888.888.t-ufDH'
# Testing perl version: 'v5.888.888' (20-file-defaults-v5.888.888).
t/dynamic/20-file-defaults-v5.888.888.t ...... ok

# Search: 't' (/tmp/loop_over_bdir-3373713-Bflc3Z/Module-FromPerlVer-0.030000-0/t)
# Existing: '/tmp/loop_over_bdir-3373713-Bflc3Z/Module-FromPerlVer-0.030000-0/t/sandbox'.
# Search: 't' (/tmp/loop_over_bdir-3373713-Bflc3Z/Module-FromPerlVer-0.030000-0/t)
# Existing: '/tmp/loop_over_bdir-3373713-Bflc3Z/Module-FromPerlVer-0.030000-0/t/sandbox'.
# Work dir: 't/sandbox/20-file-defaults-v5.888888.t-J1N2'
# Testing perl version: 'v5.888888' (20-file-defaults-v5.888888).
t/dynamic/20-file-defaults-v5.888888.t ....... ok

# Search: 't' (/tmp/loop_over_bdir-3373713-Bflc3Z/Module-FromPerlVer-0.030000-0/t)
# Existing: '/tmp/loop_over_bdir-3373713-Bflc3Z/Module-FromPerlVer-0.030000-0/t/sandbox'.
# Search: 't' (/tmp/loop_over_bdir-3373713-Bflc3Z/Module-FromPerlVer-0.030000-0/t)
# Existing: '/tmp/loop_over_bdir-3373713-Bflc3Z/Module-FromPerlVer-0.030000-0/t/sandbox'.
# Work dir: 't/sandbox/20-file-defaults-v5.888_888.t-lAk0'
# Testing perl version: 'v5.888_888' (20-file-defaults-v5.888_888).
t/dynamic/20-file-defaults-v5.888_888.t ...... ok

# Search: 't' (/tmp/loop_over_bdir-3373713-Bflc3Z/Module-FromPerlVer-0.030000-0/t)
# Existing: '/tmp/loop_over_bdir-3373713-Bflc3Z/Module-FromPerlVer-0.030000-0/t/sandbox'.
# Search: 't' (/tmp/loop_over_bdir-3373713-Bflc3Z/Module-FromPerlVer-0.030000-0/t)
# Existing: '/tmp/loop_over_bdir-3373713-Bflc3Z/Module-FromPerlVer-0.030000-0/t/sandbox'.
# Work dir: 't/sandbox/20-file-defaults-v5.999.999.t-jNoJ'
# Testing perl version: 'v5.999.999' (20-file-defaults-v5.999.999).
t/dynamic/20-file-defaults-v5.999.999.t ...... ok

# Search: 't' (/tmp/loop_over_bdir-3373713-Bflc3Z/Module-FromPerlVer-0.030000-0/t)
# Existing: '/tmp/loop_over_bdir-3373713-Bflc3Z/Module-FromPerlVer-0.030000-0/t/sandbox'.
# Search: 't' (/tmp/loop_over_bdir-3373713-Bflc3Z/Module-FromPerlVer-0.030000-0/t)
# Existing: '/tmp/loop_over_bdir-3373713-Bflc3Z/Module-FromPerlVer-0.030000-0/t/sandbox'.
# Work dir: 't/sandbox/20-file-defaults-v5.999999.t-NsgJ'
# Testing perl version: 'v5.999999' (20-file-defaults-v5.999999).
t/dynamic/20-file-defaults-v5.999999.t ....... ok

# Search: 't' (/tmp/loop_over_bdir-3373713-Bflc3Z/Module-FromPerlVer-0.030000-0/t)
# Existing: '/tmp/loop_over_bdir-3373713-Bflc3Z/Module-FromPerlVer-0.030000-0/t/sandbox'.
# Search: 't' (/tmp/loop_over_bdir-3373713-Bflc3Z/Module-FromPerlVer-0.030000-0/t)
# Existing: '/tmp/loop_over_bdir-3373713-Bflc3Z/Module-FromPerlVer-0.030000-0/t/sandbox'.
# Work dir: 't/sandbox/20-file-defaults-v5.999_999.t-Fj4h'
# Testing perl version: 'v5.999_999' (20-file-defaults-v5.999_999).
t/dynamic/20-file-defaults-v5.999_999.t ...... ok

# Search: 't' (/tmp/loop_over_bdir-3373713-Bflc3Z/Module-FromPerlVer-0.030000-0/t)
# Existing: '/tmp/loop_over_bdir-3373713-Bflc3Z/Module-FromPerlVer-0.030000-0/t/sandbox'.
# Search: 't' (/tmp/loop_over_bdir-3373713-Bflc3Z/Module-FromPerlVer-0.030000-0/t)
# Existing: '/tmp/loop_over_bdir-3373713-Bflc3Z/Module-FromPerlVer-0.030000-0/t/sandbox'.
# Work dir: 't/sandbox/30-file-version-from-5.0.1.t-aCWj'
# Testing perl version: '5.0.1' (30-file-version-from-5.0.1).

# Search: 'sandbox' (/tmp/loop_over_bdir-3373713-Bflc3Z/Module-FromPerlVer-0.030000-0/t/sandbox)t/dynamic/30-file-version-from-5.0.1.t ....... ok

# Search: 't' (/tmp/loop_over_bdir-3373713-Bflc3Z/Module-FromPerlVer-0.030000-0/t)
# Existing: '/tmp/loop_over_bdir-3373713-Bflc3Z/Module-FromPerlVer-0.030000-0/t/sandbox'.
# Search: 't' (/tmp/loop_over_bdir-3373713-Bflc3Z/Module-FromPerlVer-0.030000-0/t)
# Existing: '/tmp/loop_over_bdir-3373713-Bflc3Z/Module-FromPerlVer-0.030000-0/t/sandbox'.
# Work dir: 't/sandbox/30-file-version-from-5.000.001.t-wIoJ'
# Testing perl version: '5.000.001' (30-file-version-from-5.000.001).

# Search: 'sandbox' (/tmp/loop_over_bdir-3373713-Bflc3Z/Module-FromPerlVer-0.030000-0/t/sandbox)t/dynamic/30-file-version-from-5.000.001.t ... ok

# Search: 't' (/tmp/loop_over_bdir-3373713-Bflc3Z/Module-FromPerlVer-0.030000-0/t)
# Existing: '/tmp/loop_over_bdir-3373713-Bflc3Z/Module-FromPerlVer-0.030000-0/t/sandbox'.
# Search: 't' (/tmp/loop_over_bdir-3373713-Bflc3Z/Module-FromPerlVer-0.030000-0/t)
# Existing: '/tmp/loop_over_bdir-3373713-Bflc3Z/Module-FromPerlVer-0.030000-0/t/sandbox'.
# Work dir: 't/sandbox/30-file-version-from-5.000001.t-aIu4'
# Testing perl version: '5.000001' (30-file-version-from-5.000001).

# Search: 'sandbox' (/tmp/loop_over_bdir-3373713-Bflc3Z/Module-FromPerlVer-0.030000-0/t/sandbox)t/dynamic/30-file-version-from-5.000001.t .... ok

# Search: 't' (/tmp/loop_over_bdir-3373713-Bflc3Z/Module-FromPerlVer-0.030000-0/t)
# Existing: '/tmp/loop_over_bdir-3373713-Bflc3Z/Module-FromPerlVer-0.030000-0/t/sandbox'.
# Search: 't' (/tmp/loop_over_bdir-3373713-Bflc3Z/Module-FromPerlVer-0.030000-0/t)
# Existing: '/tmp/loop_over_bdir-3373713-Bflc3Z/Module-FromPerlVer-0.030000-0/t/sandbox'.
# Work dir: 't/sandbox/30-file-version-from-5.000_001.t-Buqn'
# Testing perl version: '5.000_001' (30-file-version-from-5.000_001).

# Search: 'sandbox' (/tmp/loop_over_bdir-3373713-Bflc3Z/Module-FromPerlVer-0.030000-0/t/sandbox)t/dynamic/30-file-version-from-5.000_001.t ... ok

# Search: 't' (/tmp/loop_over_bdir-3373713-Bflc3Z/Module-FromPerlVer-0.030000-0/t)
# Existing: '/tmp/loop_over_bdir-3373713-Bflc3Z/Module-FromPerlVer-0.030000-0/t/sandbox'.
# Search: 't' (/tmp/loop_over_bdir-3373713-Bflc3Z/Module-FromPerlVer-0.030000-0/t)
# Existing: '/tmp/loop_over_bdir-3373713-Bflc3Z/Module-FromPerlVer-0.030000-0/t/sandbox'.
# Work dir: 't/sandbox/30-file-version-from-5.006.000.t-peJG'
# Testing perl version: '5.006.000' (30-file-version-from-5.006.000).

# Search: 'sandbox' (/tmp/loop_over_bdir-3373713-Bflc3Z/Module-FromPerlVer-0.030000-0/t/sandbox)t/dynamic/30-file-version-from-5.006.000.t ... ok

# Search: 't' (/tmp/loop_over_bdir-3373713-Bflc3Z/Module-FromPerlVer-0.030000-0/t)
# Existing: '/tmp/loop_over_bdir-3373713-Bflc3Z/Module-FromPerlVer-0.030000-0/t/sandbox'.
# Search: 't' (/tmp/loop_over_bdir-3373713-Bflc3Z/Module-FromPerlVer-0.030000-0/t)
# Existing: '/tmp/loop_over_bdir-3373713-Bflc3Z/Module-FromPerlVer-0.030000-0/t/sandbox'.
# Work dir: 't/sandbox/30-file-version-from-5.006000.t-bCNz'
# Testing perl version: '5.006000' (30-file-version-from-5.006000).

# Search: 'sandbox' (/tmp/loop_over_bdir-3373713-Bflc3Z/Module-FromPerlVer-0.030000-0/t/sandbox)t/dynamic/30-file-version-from-5.006000.t .... ok

# Search: 't' (/tmp/loop_over_bdir-3373713-Bflc3Z/Module-FromPerlVer-0.030000-0/t)
# Existing: '/tmp/loop_over_bdir-3373713-Bflc3Z/Module-FromPerlVer-0.030000-0/t/sandbox'.
# Search: 't' (/tmp/loop_over_bdir-3373713-Bflc3Z/Module-FromPerlVer-0.030000-0/t)
# Existing: '/tmp/loop_over_bdir-3373713-Bflc3Z/Module-FromPerlVer-0.030000-0/t/sandbox'.
# Work dir: 't/sandbox/30-file-version-from-5.006_000.t-4Fap'
# Testing perl version: '5.006_000' (30-file-version-from-5.006_000).

# Search: 'sandbox' (/tmp/loop_over_bdir-3373713-Bflc3Z/Module-FromPerlVer-0.030000-0/t/sandbox)t/dynamic/30-file-version-from-5.006_000.t ... ok

# Search: 't' (/tmp/loop_over_bdir-3373713-Bflc3Z/Module-FromPerlVer-0.030000-0/t)
# Existing: '/tmp/loop_over_bdir-3373713-Bflc3Z/Module-FromPerlVer-0.030000-0/t/sandbox'.
# Search: 't' (/tmp/loop_over_bdir-3373713-Bflc3Z/Module-FromPerlVer-0.030000-0/t)
# Existing: '/tmp/loop_over_bdir-3373713-Bflc3Z/Module-FromPerlVer-0.030000-0/t/sandbox'.
# Work dir: 't/sandbox/30-file-version-from-5.008.008.t-FTPF'
# Testing perl version: '5.008.008' (30-file-version-from-5.008.008).

# Search: 'sandbox' (/tmp/loop_over_bdir-3373713-Bflc3Z/Module-FromPerlVer-0.030000-0/t/sandbox)t/dynamic/30-file-version-from-5.008.008.t ... ok

# Search: 't' (/tmp/loop_over_bdir-3373713-Bflc3Z/Module-FromPerlVer-0.030000-0/t)
# Existing: '/tmp/loop_over_bdir-3373713-Bflc3Z/Module-FromPerlVer-0.030000-0/t/sandbox'.
# Search: 't' (/tmp/loop_over_bdir-3373713-Bflc3Z/Module-FromPerlVer-0.030000-0/t)
# Existing: '/tmp/loop_over_bdir-3373713-Bflc3Z/Module-FromPerlVer-0.030000-0/t/sandbox'.
# Work dir: 't/sandbox/30-file-version-from-5.008008.t-PuhB'
# Testing perl version: '5.008008' (30-file-version-from-5.008008).

# Search: 'sandbox' (/tmp/loop_over_bdir-3373713-Bflc3Z/Module-FromPerlVer-0.030000-0/t/sandbox)t/dynamic/30-file-version-from-5.008008.t .... ok

# Search: 't' (/tmp/loop_over_bdir-3373713-Bflc3Z/Module-FromPerlVer-0.030000-0/t)
# Existing: '/tmp/loop_over_bdir-3373713-Bflc3Z/Module-FromPerlVer-0.030000-0/t/sandbox'.
# Search: 't' (/tmp/loop_over_bdir-3373713-Bflc3Z/Module-FromPerlVer-0.030000-0/t)
# Existing: '/tmp/loop_over_bdir-3373713-Bflc3Z/Module-FromPerlVer-0.030000-0/t/sandbox'.
# Work dir: 't/sandbox/30-file-version-from-5.008_008.t-3fJm'
# Testing perl version: '5.008_008' (30-file-version-from-5.008_008).

# Search: 'sandbox' (/tmp/loop_over_bdir-3373713-Bflc3Z/Module-FromPerlVer-0.030000-0/t/sandbox)t/dynamic/30-file-version-from-5.008_008.t ... ok

# Search: 't' (/tmp/loop_over_bdir-3373713-Bflc3Z/Module-FromPerlVer-0.030000-0/t)
# Existing: '/tmp/loop_over_bdir-3373713-Bflc3Z/Module-FromPerlVer-0.030000-0/t/sandbox'.
# Search: 't' (/tmp/loop_over_bdir-3373713-Bflc3Z/Module-FromPerlVer-0.030000-0/t)
# Existing: '/tmp/loop_over_bdir-3373713-Bflc3Z/Module-FromPerlVer-0.030000-0/t/sandbox'.
# Work dir: 't/sandbox/30-file-version-from-5.6.0.t-bRHi'
# Testing perl version: '5.6.0' (30-file-version-from-5.6.0).

# Search: 'sandbox' (/tmp/loop_over_bdir-3373713-Bflc3Z/Module-FromPerlVer-0.030000-0/t/sandbox)t/dynamic/30-file-version-from-5.6.0.t ....... ok

# Search: 't' (/tmp/loop_over_bdir-3373713-Bflc3Z/Module-FromPerlVer-0.030000-0/t)
# Existing: '/tmp/loop_over_bdir-3373713-Bflc3Z/Module-FromPerlVer-0.030000-0/t/sandbox'.
# Search: 't' (/tmp/loop_over_bdir-3373713-Bflc3Z/Module-FromPerlVer-0.030000-0/t)
# Existing: '/tmp/loop_over_bdir-3373713-Bflc3Z/Module-FromPerlVer-0.030000-0/t/sandbox'.
# Work dir: 't/sandbox/30-file-version-from-5.8.8.t-AOdR'
# Testing perl version: '5.8.8' (30-file-version-from-5.8.8).

# Search: 'sandbox' (/tmp/loop_over_bdir-3373713-Bflc3Z/Module-FromPerlVer-0.030000-0/t/sandbox)t/dynamic/30-file-version-from-5.8.8.t ....... ok

# Search: 't' (/tmp/loop_over_bdir-3373713-Bflc3Z/Module-FromPerlVer-0.030000-0/t)
# Existing: '/tmp/loop_over_bdir-3373713-Bflc3Z/Module-FromPerlVer-0.030000-0/t/sandbox'.
# Search: 't' (/tmp/loop_over_bdir-3373713-Bflc3Z/Module-FromPerlVer-0.030000-0/t)
# Existing: '/tmp/loop_over_bdir-3373713-Bflc3Z/Module-FromPerlVer-0.030000-0/t/sandbox'.
# Work dir: 't/sandbox/30-file-version-from-5.888.888.t-uOZW'
# Testing perl version: '5.888.888' (30-file-version-from-5.888.888).

# Search: 'sandbox' (/tmp/loop_over_bdir-3373713-Bflc3Z/Module-FromPerlVer-0.030000-0/t/sandbox)t/dynamic/30-file-version-from-5.888.888.t ... ok

# Search: 't' (/tmp/loop_over_bdir-3373713-Bflc3Z/Module-FromPerlVer-0.030000-0/t)
# Existing: '/tmp/loop_over_bdir-3373713-Bflc3Z/Module-FromPerlVer-0.030000-0/t/sandbox'.
# Search: 't' (/tmp/loop_over_bdir-3373713-Bflc3Z/Module-FromPerlVer-0.030000-0/t)
# Existing: '/tmp/loop_over_bdir-3373713-Bflc3Z/Module-FromPerlVer-0.030000-0/t/sandbox'.
# Work dir: 't/sandbox/30-file-version-from-5.888888.t-LMTR'
# Testing perl version: '5.888888' (30-file-version-from-5.888888).

# Search: 'sandbox' (/tmp/loop_over_bdir-3373713-Bflc3Z/Module-FromPerlVer-0.030000-0/t/sandbox)t/dynamic/30-file-version-from-5.888888.t .... ok

# Search: 't' (/tmp/loop_over_bdir-3373713-Bflc3Z/Module-FromPerlVer-0.030000-0/t)
# Existing: '/tmp/loop_over_bdir-3373713-Bflc3Z/Module-FromPerlVer-0.030000-0/t/sandbox'.
# Search: 't' (/tmp/loop_over_bdir-3373713-Bflc3Z/Module-FromPerlVer-0.030000-0/t)
# Existing: '/tmp/loop_over_bdir-3373713-Bflc3Z/Module-FromPerlVer-0.030000-0/t/sandbox'.
# Work dir: 't/sandbox/30-file-version-from-5.888_888.t-OZNY'
# Testing perl version: '5.888_888' (30-file-version-from-5.888_888).

# Search: 'sandbox' (/tmp/loop_over_bdir-3373713-Bflc3Z/Module-FromPerlVer-0.030000-0/t/sandbox)t/dynamic/30-file-version-from-5.888_888.t ... ok

# Search: 't' (/tmp/loop_over_bdir-3373713-Bflc3Z/Module-FromPerlVer-0.030000-0/t)
# Existing: '/tmp/loop_over_bdir-3373713-Bflc3Z/Module-FromPerlVer-0.030000-0/t/sandbox'.
# Search: 't' (/tmp/loop_over_bdir-3373713-Bflc3Z/Module-FromPerlVer-0.030000-0/t)
# Existing: '/tmp/loop_over_bdir-3373713-Bflc3Z/Module-FromPerlVer-0.030000-0/t/sandbox'.
# Work dir: 't/sandbox/30-file-version-from-5.999.999.t-PQRl'
# Testing perl version: '5.999.999' (30-file-version-from-5.999.999).

# Search: 'sandbox' (/tmp/loop_over_bdir-3373713-Bflc3Z/Module-FromPerlVer-0.030000-0/t/sandbox)t/dynamic/30-file-version-from-5.999.999.t ... ok

# Search: 't' (/tmp/loop_over_bdir-3373713-Bflc3Z/Module-FromPerlVer-0.030000-0/t)
# Existing: '/tmp/loop_over_bdir-3373713-Bflc3Z/Module-FromPerlVer-0.030000-0/t/sandbox'.
# Search: 't' (/tmp/loop_over_bdir-3373713-Bflc3Z/Module-FromPerlVer-0.030000-0/t)
# Existing: '/tmp/loop_over_bdir-3373713-Bflc3Z/Module-FromPerlVer-0.030000-0/t/sandbox'.
# Work dir: 't/sandbox/30-file-version-from-5.999999.t-6vpG'
# Testing perl version: '5.999999' (30-file-version-from-5.999999).

# Search: 'sandbox' (/tmp/loop_over_bdir-3373713-Bflc3Z/Module-FromPerlVer-0.030000-0/t/sandbox)t/dynamic/30-file-version-from-5.999999.t .... ok

# Search: 't' (/tmp/loop_over_bdir-3373713-Bflc3Z/Module-FromPerlVer-0.030000-0/t)
# Existing: '/tmp/loop_over_bdir-3373713-Bflc3Z/Module-FromPerlVer-0.030000-0/t/sandbox'.
# Search: 't' (/tmp/loop_over_bdir-3373713-Bflc3Z/Module-FromPerlVer-0.030000-0/t)
# Existing: '/tmp/loop_over_bdir-3373713-Bflc3Z/Module-FromPerlVer-0.030000-0/t/sandbox'.
# Work dir: 't/sandbox/30-file-version-from-5.999_999.t-VfFT'
# Testing perl version: '5.999_999' (30-file-version-from-5.999_999).

# Search: 'sandbox' (/tmp/loop_over_bdir-3373713-Bflc3Z/Module-FromPerlVer-0.030000-0/t/sandbox)t/dynamic/30-file-version-from-5.999_999.t ... ok

# Search: 't' (/tmp/loop_over_bdir-3373713-Bflc3Z/Module-FromPerlVer-0.030000-0/t)
# Existing: '/tmp/loop_over_bdir-3373713-Bflc3Z/Module-FromPerlVer-0.030000-0/t/sandbox'.
# Search: 't' (/tmp/loop_over_bdir-3373713-Bflc3Z/Module-FromPerlVer-0.030000-0/t)
# Existing: '/tmp/loop_over_bdir-3373713-Bflc3Z/Module-FromPerlVer-0.030000-0/t/sandbox'.
# Work dir: 't/sandbox/30-file-version-from-v5.0.1.t-VPo1'
# Testing perl version: 'v5.0.1' (30-file-version-from-v5.0.1).

# Search: 'sandbox' (/tmp/loop_over_bdir-3373713-Bflc3Z/Module-FromPerlVer-0.030000-0/t/sandbox)t/dynamic/30-file-version-from-v5.0.1.t ...... ok

# Search: 't' (/tmp/loop_over_bdir-3373713-Bflc3Z/Module-FromPerlVer-0.030000-0/t)
# Existing: '/tmp/loop_over_bdir-3373713-Bflc3Z/Module-FromPerlVer-0.030000-0/t/sandbox'.
# Search: 't' (/tmp/loop_over_bdir-3373713-Bflc3Z/Module-FromPerlVer-0.030000-0/t)
# Existing: '/tmp/loop_over_bdir-3373713-Bflc3Z/Module-FromPerlVer-0.030000-0/t/sandbox'.
# Work dir: 't/sandbox/30-file-version-from-v5.000.001.t-Y6a1'
# Testing perl version: 'v5.000.001' (30-file-version-from-v5.000.001).

# Search: 'sandbox' (/tmp/loop_over_bdir-3373713-Bflc3Z/Module-FromPerlVer-0.030000-0/t/sandbox)t/dynamic/30-file-version-from-v5.000.001.t .. ok

# Search: 't' (/tmp/loop_over_bdir-3373713-Bflc3Z/Module-FromPerlVer-0.030000-0/t)
# Existing: '/tmp/loop_over_bdir-3373713-Bflc3Z/Module-FromPerlVer-0.030000-0/t/sandbox'.
# Search: 't' (/tmp/loop_over_bdir-3373713-Bflc3Z/Module-FromPerlVer-0.030000-0/t)
# Existing: '/tmp/loop_over_bdir-3373713-Bflc3Z/Module-FromPerlVer-0.030000-0/t/sandbox'.
# Work dir: 't/sandbox/30-file-version-from-v5.000001.t-NG_O'
# Testing perl version: 'v5.000001' (30-file-version-from-v5.000001).

# Search: 'sandbox' (/tmp/loop_over_bdir-3373713-Bflc3Z/Module-FromPerlVer-0.030000-0/t/sandbox)t/dynamic/30-file-version-from-v5.000001.t ... ok

# Search: 't' (/tmp/loop_over_bdir-3373713-Bflc3Z/Module-FromPerlVer-0.030000-0/t)
# Existing: '/tmp/loop_over_bdir-3373713-Bflc3Z/Module-FromPerlVer-0.030000-0/t/sandbox'.
# Search: 't' (/tmp/loop_over_bdir-3373713-Bflc3Z/Module-FromPerlVer-0.030000-0/t)
# Existing: '/tmp/loop_over_bdir-3373713-Bflc3Z/Module-FromPerlVer-0.030000-0/t/sandbox'.
# Work dir: 't/sandbox/30-file-version-from-v5.000_001.t-6msO'
# Testing perl version: 'v5.000_001' (30-file-version-from-v5.000_001).

# Search: 'sandbox' (/tmp/loop_over_bdir-3373713-Bflc3Z/Module-FromPerlVer-0.030000-0/t/sandbox)t/dynamic/30-file-version-from-v5.000_001.t .. ok

# Search: 't' (/tmp/loop_over_bdir-3373713-Bflc3Z/Module-FromPerlVer-0.030000-0/t)
# Existing: '/tmp/loop_over_bdir-3373713-Bflc3Z/Module-FromPerlVer-0.030000-0/t/sandbox'.
# Search: 't' (/tmp/loop_over_bdir-3373713-Bflc3Z/Module-FromPerlVer-0.030000-0/t)
# Existing: '/tmp/loop_over_bdir-3373713-Bflc3Z/Module-FromPerlVer-0.030000-0/t/sandbox'.
# Work dir: 't/sandbox/30-file-version-from-v5.006.000.t-Q4xe'
# Testing perl version: 'v5.006.000' (30-file-version-from-v5.006.000).

# Search: 'sandbox' (/tmp/loop_over_bdir-3373713-Bflc3Z/Module-FromPerlVer-0.030000-0/t/sandbox)t/dynamic/30-file-version-from-v5.006.000.t .. ok

# Search: 't' (/tmp/loop_over_bdir-3373713-Bflc3Z/Module-FromPerlVer-0.030000-0/t)
# Existing: '/tmp/loop_over_bdir-3373713-Bflc3Z/Module-FromPerlVer-0.030000-0/t/sandbox'.
# Search: 't' (/tmp/loop_over_bdir-3373713-Bflc3Z/Module-FromPerlVer-0.030000-0/t)
# Existing: '/tmp/loop_over_bdir-3373713-Bflc3Z/Module-FromPerlVer-0.030000-0/t/sandbox'.
# Work dir: 't/sandbox/30-file-version-from-v5.006000.t-kmbh'
# Testing perl version: 'v5.006000' (30-file-version-from-v5.006000).

# Search: 'sandbox' (/tmp/loop_over_bdir-3373713-Bflc3Z/Module-FromPerlVer-0.030000-0/t/sandbox)t/dynamic/30-file-version-from-v5.006000.t ... ok

# Search: 't' (/tmp/loop_over_bdir-3373713-Bflc3Z/Module-FromPerlVer-0.030000-0/t)
# Existing: '/tmp/loop_over_bdir-3373713-Bflc3Z/Module-FromPerlVer-0.030000-0/t/sandbox'.
# Search: 't' (/tmp/loop_over_bdir-3373713-Bflc3Z/Module-FromPerlVer-0.030000-0/t)
# Existing: '/tmp/loop_over_bdir-3373713-Bflc3Z/Module-FromPerlVer-0.030000-0/t/sandbox'.
# Work dir: 't/sandbox/30-file-version-from-v5.006_000.t-3Vz_'
# Testing perl version: 'v5.006_000' (30-file-version-from-v5.006_000).

# Search: 'sandbox' (/tmp/loop_over_bdir-3373713-Bflc3Z/Module-FromPerlVer-0.030000-0/t/sandbox)t/dynamic/30-file-version-from-v5.006_000.t .. ok

# Search: 't' (/tmp/loop_over_bdir-3373713-Bflc3Z/Module-FromPerlVer-0.030000-0/t)
# Existing: '/tmp/loop_over_bdir-3373713-Bflc3Z/Module-FromPerlVer-0.030000-0/t/sandbox'.
# Search: 't' (/tmp/loop_over_bdir-3373713-Bflc3Z/Module-FromPerlVer-0.030000-0/t)
# Existing: '/tmp/loop_over_bdir-3373713-Bflc3Z/Module-FromPerlVer-0.030000-0/t/sandbox'.
# Work dir: 't/sandbox/30-file-version-from-v5.008.008.t-FBPE'
# Testing perl version: 'v5.008.008' (30-file-version-from-v5.008.008).

# Search: 'sandbox' (/tmp/loop_over_bdir-3373713-Bflc3Z/Module-FromPerlVer-0.030000-0/t/sandbox)t/dynamic/30-file-version-from-v5.008.008.t .. ok

# Search: 't' (/tmp/loop_over_bdir-3373713-Bflc3Z/Module-FromPerlVer-0.030000-0/t)
# Existing: '/tmp/loop_over_bdir-3373713-Bflc3Z/Module-FromPerlVer-0.030000-0/t/sandbox'.
# Search: 't' (/tmp/loop_over_bdir-3373713-Bflc3Z/Module-FromPerlVer-0.030000-0/t)
# Existing: '/tmp/loop_over_bdir-3373713-Bflc3Z/Module-FromPerlVer-0.030000-0/t/sandbox'.
# Work dir: 't/sandbox/30-file-version-from-v5.008008.t-5Ucq'
# Testing perl version: 'v5.008008' (30-file-version-from-v5.008008).

# Search: 'sandbox' (/tmp/loop_over_bdir-3373713-Bflc3Z/Module-FromPerlVer-0.030000-0/t/sandbox)t/dynamic/30-file-version-from-v5.008008.t ... ok

# Search: 't' (/tmp/loop_over_bdir-3373713-Bflc3Z/Module-FromPerlVer-0.030000-0/t)
# Existing: '/tmp/loop_over_bdir-3373713-Bflc3Z/Module-FromPerlVer-0.030000-0/t/sandbox'.
# Search: 't' (/tmp/loop_over_bdir-3373713-Bflc3Z/Module-FromPerlVer-0.030000-0/t)
# Existing: '/tmp/loop_over_bdir-3373713-Bflc3Z/Module-FromPerlVer-0.030000-0/t/sandbox'.
# Work dir: 't/sandbox/30-file-version-from-v5.008_008.t-She5'
# Testing perl version: 'v5.008_008' (30-file-version-from-v5.008_008).

# Search: 'sandbox' (/tmp/loop_over_bdir-3373713-Bflc3Z/Module-FromPerlVer-0.030000-0/t/sandbox)t/dynamic/30-file-version-from-v5.008_008.t .. ok

# Search: 't' (/tmp/loop_over_bdir-3373713-Bflc3Z/Module-FromPerlVer-0.030000-0/t)
# Existing: '/tmp/loop_over_bdir-3373713-Bflc3Z/Module-FromPerlVer-0.030000-0/t/sandbox'.
# Search: 't' (/tmp/loop_over_bdir-3373713-Bflc3Z/Module-FromPerlVer-0.030000-0/t)
# Existing: '/tmp/loop_over_bdir-3373713-Bflc3Z/Module-FromPerlVer-0.030000-0/t/sandbox'.
# Work dir: 't/sandbox/30-file-version-from-v5.6.0.t-HxJ6'
# Testing perl version: 'v5.6.0' (30-file-version-from-v5.6.0).

# Search: 'sandbox' (/tmp/loop_over_bdir-3373713-Bflc3Z/Module-FromPerlVer-0.030000-0/t/sandbox)t/dynamic/30-file-version-from-v5.6.0.t ...... ok

# Search: 't' (/tmp/loop_over_bdir-3373713-Bflc3Z/Module-FromPerlVer-0.030000-0/t)
# Existing: '/tmp/loop_over_bdir-3373713-Bflc3Z/Module-FromPerlVer-0.030000-0/t/sandbox'.
# Search: 't' (/tmp/loop_over_bdir-3373713-Bflc3Z/Module-FromPerlVer-0.030000-0/t)
# Existing: '/tmp/loop_over_bdir-3373713-Bflc3Z/Module-FromPerlVer-0.030000-0/t/sandbox'.
# Work dir: 't/sandbox/30-file-version-from-v5.8.8.t-7QR_'
# Testing perl version: 'v5.8.8' (30-file-version-from-v5.8.8).

# Search: 'sandbox' (/tmp/loop_over_bdir-3373713-Bflc3Z/Module-FromPerlVer-0.030000-0/t/sandbox)t/dynamic/30-file-version-from-v5.8.8.t ...... ok

# Search: 't' (/tmp/loop_over_bdir-3373713-Bflc3Z/Module-FromPerlVer-0.030000-0/t)
# Existing: '/tmp/loop_over_bdir-3373713-Bflc3Z/Module-FromPerlVer-0.030000-0/t/sandbox'.
# Search: 't' (/tmp/loop_over_bdir-3373713-Bflc3Z/Module-FromPerlVer-0.030000-0/t)
# Existing: '/tmp/loop_over_bdir-3373713-Bflc3Z/Module-FromPerlVer-0.030000-0/t/sandbox'.
# Work dir: 't/sandbox/30-file-version-from-v5.888.888.t-0ZvS'
# Testing perl version: 'v5.888.888' (30-file-version-from-v5.888.888).

# Search: 'sandbox' (/tmp/loop_over_bdir-3373713-Bflc3Z/Module-FromPerlVer-0.030000-0/t/sandbox)t/dynamic/30-file-version-from-v5.888.888.t .. ok

# Search: 't' (/tmp/loop_over_bdir-3373713-Bflc3Z/Module-FromPerlVer-0.030000-0/t)
# Existing: '/tmp/loop_over_bdir-3373713-Bflc3Z/Module-FromPerlVer-0.030000-0/t/sandbox'.
# Search: 't' (/tmp/loop_over_bdir-3373713-Bflc3Z/Module-FromPerlVer-0.030000-0/t)
# Existing: '/tmp/loop_over_bdir-3373713-Bflc3Z/Module-FromPerlVer-0.030000-0/t/sandbox'.
# Work dir: 't/sandbox/30-file-version-from-v5.888888.t-bhrQ'
# Testing perl version: 'v5.888888' (30-file-version-from-v5.888888).

# Search: 'sandbox' (/tmp/loop_over_bdir-3373713-Bflc3Z/Module-FromPerlVer-0.030000-0/t/sandbox)t/dynamic/30-file-version-from-v5.888888.t ... ok

# Search: 't' (/tmp/loop_over_bdir-3373713-Bflc3Z/Module-FromPerlVer-0.030000-0/t)
# Existing: '/tmp/loop_over_bdir-3373713-Bflc3Z/Module-FromPerlVer-0.030000-0/t/sandbox'.
# Search: 't' (/tmp/loop_over_bdir-3373713-Bflc3Z/Module-FromPerlVer-0.030000-0/t)
# Existing: '/tmp/loop_over_bdir-3373713-Bflc3Z/Module-FromPerlVer-0.030000-0/t/sandbox'.
# Work dir: 't/sandbox/30-file-version-from-v5.888_888.t-0NFt'
# Testing perl version: 'v5.888_888' (30-file-version-from-v5.888_888).

# Search: 'sandbox' (/tmp/loop_over_bdir-3373713-Bflc3Z/Module-FromPerlVer-0.030000-0/t/sandbox)t/dynamic/30-file-version-from-v5.888_888.t .. ok

# Search: 't' (/tmp/loop_over_bdir-3373713-Bflc3Z/Module-FromPerlVer-0.030000-0/t)
# Existing: '/tmp/loop_over_bdir-3373713-Bflc3Z/Module-FromPerlVer-0.030000-0/t/sandbox'.
# Search: 't' (/tmp/loop_over_bdir-3373713-Bflc3Z/Module-FromPerlVer-0.030000-0/t)
# Existing: '/tmp/loop_over_bdir-3373713-Bflc3Z/Module-FromPerlVer-0.030000-0/t/sandbox'.
# Work dir: 't/sandbox/30-file-version-from-v5.999.999.t-7oQA'
# Testing perl version: 'v5.999.999' (30-file-version-from-v5.999.999).

# Search: 'sandbox' (/tmp/loop_over_bdir-3373713-Bflc3Z/Module-FromPerlVer-0.030000-0/t/sandbox)t/dynamic/30-file-version-from-v5.999.999.t .. ok

# Search: 't' (/tmp/loop_over_bdir-3373713-Bflc3Z/Module-FromPerlVer-0.030000-0/t)
# Existing: '/tmp/loop_over_bdir-3373713-Bflc3Z/Module-FromPerlVer-0.030000-0/t/sandbox'.
# Search: 't' (/tmp/loop_over_bdir-3373713-Bflc3Z/Module-FromPerlVer-0.030000-0/t)
# Existing: '/tmp/loop_over_bdir-3373713-Bflc3Z/Module-FromPerlVer-0.030000-0/t/sandbox'.
# Work dir: 't/sandbox/30-file-version-from-v5.999999.t-_e_A'
# Testing perl version: 'v5.999999' (30-file-version-from-v5.999999).

# Search: 'sandbox' (/tmp/loop_over_bdir-3373713-Bflc3Z/Module-FromPerlVer-0.030000-0/t/sandbox)t/dynamic/30-file-version-from-v5.999999.t ... ok

# Search: 't' (/tmp/loop_over_bdir-3373713-Bflc3Z/Module-FromPerlVer-0.030000-0/t)
# Existing: '/tmp/loop_over_bdir-3373713-Bflc3Z/Module-FromPerlVer-0.030000-0/t/sandbox'.
# Search: 't' (/tmp/loop_over_bdir-3373713-Bflc3Z/Module-FromPerlVer-0.030000-0/t)
# Existing: '/tmp/loop_over_bdir-3373713-Bflc3Z/Module-FromPerlVer-0.030000-0/t/sandbox'.
# Work dir: 't/sandbox/30-file-version-from-v5.999_999.t-BOpB'
# Testing perl version: 'v5.999_999' (30-file-version-from-v5.999_999).

# Search: 'sandbox' (/tmp/loop_over_bdir-3373713-Bflc3Z/Module-FromPerlVer-0.030000-0/t/sandbox)t/dynamic/30-file-version-from-v5.999_999.t .. ok
All tests successful.
Files=77, Tests=1049, 15 wallclock secs ( 0.32 usr  0.10 sys + 11.79 cusr  3.45 csys = 15.66 CPU)
Result: PASS

------------------------------
PREREQUISITES
------------------------------

Prerequisite modules loaded:

requires:

    Module                         Need     Have    
    ------------------------------ -------- --------
    Cwd                            3.073000 3.92    
    File::Basename                 0        2.86    
    File::Copy::Recursive::Reduced 0.006000 0.008   
    File::Find                     0        1.44    
    File::Spec::Functions          0        3.93    
    FindBin                        0        1.54    
    List::Util                     1.046000 1.68    
    strict                         0        1.13    
    Symbol                         0        1.09    
    Test::More                     0        1.302204
    version                        0        0.9933  

build_requires:

    Module                         Need     Have    
    ------------------------------ -------- --------
    ExtUtils::MakeMaker            0        7.70    

configure_requires:

    Module                         Need     Have    
    ------------------------------ -------- --------
    ExtUtils::MakeMaker            0        7.70    


------------------------------
ENVIRONMENT AND OTHER CONTEXT
------------------------------

Environment variables:

    AUTOMATED_TESTING = 1
    LANG = en_US.UTF-8
    LC_ADDRESS = de_DE.UTF-8
    LC_IDENTIFICATION = de_DE.UTF-8
    LC_MEASUREMENT = de_DE.UTF-8
    LC_MONETARY = de_DE.UTF-8
    LC_NAME = de_DE.UTF-8
    LC_NUMERIC = de_DE.UTF-8
    LC_PAPER = de_DE.UTF-8
    LC_TELEPHONE = de_DE.UTF-8
    LC_TIME = de_DE.UTF-8
    PATH = /home/sand/bin:/usr/local/bin:/usr/local/sbin:/usr/sbin:/usr/bin:/sbin:/bin:/usr/games:/usr/local/games:/snap/bin:/usr/local/perl/bin:/usr/X11/bin
    PERL = /tmp/basesmoker-reloperl-eSdV/bin/perl
    PERL5LIB = /tmp/loop_over_bdir-3373713-Bflc3Z/Business-Shipping-DataFiles-1.02-0/blib/arch:/tmp/loop_over_bdir-3373713-Bflc3Z/Business-Shipping-DataFiles-1.02-0/blib/lib:/tmp/loop_over_bdir-3373713-Bflc3Z/Captive-Portal-4.10-0/blib/arch:/tmp/loop_over_bdir-3373713-Bflc3Z/Captive-Portal-4.10-0/blib/lib:/tmp/loop_over_bdir-3373713-Bflc3Z/MP3-PodcastFetch-1.05-0/blib/arch:/tmp/loop_over_bdir-3373713-Bflc3Z/MP3-PodcastFetch-1.05-0/blib/lib:/tmp/loop_over_bdir-3373713-Bflc3Z/CORBA-Python-2.66-0/blib/arch:/tmp/loop_over_bdir-3373713-Bflc3Z/CORBA-Python-2.66-0/blib/lib:/tmp/loop_over_bdir-3373713-Bflc3Z/downsexta-0/blib/arch:/tmp/loop_over_bdir-3373713-Bflc3Z/downsexta-0/blib/lib:/tmp/loop_over_bdir-3373713-Bflc3Z/Net-OpenVPN-DDNS-0.1-0/blib/arch:/tmp/loop_over_bdir-3373713-Bflc3Z/Net-OpenVPN-DDNS-0.1-0/blib/lib:/tmp/loop_over_bdir-3373713-Bflc3Z/mmds-1.902-0/blib/arch:/tmp/loop_over_bdir-3373713-Bflc3Z/mmds-1.902-0/blib/lib:/tmp/loop_over_bdir-3373713-Bflc3Z/dta-tokwrap-0.98-0/blib/arch:/tmp/loop_over_bdir-3373713-Bflc3Z/dta-tokwrap-0.98-0/blib/lib:/tmp/loop_over_bdir-3373713-Bflc3Z/triceps-2.1.0-0/blib/arch:/tmp/loop_over_bdir-3373713-Bflc3Z/triceps-2.1.0-0/blib/lib:/tmp/loop_over_bdir-3373713-Bflc3Z/Lingua-BioYaTeA-0.11-0/blib/arch:/tmp/loop_over_bdir-3373713-Bflc3Z/Lingua-BioYaTeA-0.11-0/blib/lib:/tmp/loop_over_bdir-3373713-Bflc3Z/Lingua-YaTeA-0.626-0/blib/arch:/tmp/loop_over_bdir-3373713-Bflc3Z/Lingua-YaTeA-0.626-0/blib/lib:/tmp/loop_over_bdir-3373713-Bflc3Z/Module-ScanDeps-Static-1.005-0/blib/arch:/tmp/loop_over_bdir-3373713-Bflc3Z/Module-ScanDeps-Static-1.005-0/blib/lib:/tmp/loop_over_bdir-3373713-Bflc3Z/ProjectBuilder-0.14.1-0/blib/arch:/tmp/loop_over_bdir-3373713-Bflc3Z/ProjectBuilder-0.14.1-0/blib/lib:/tmp/loop_over_bdir-3373713-Bflc3Z/LCFG-Build-Skeleton-0.5.0-0/blib/arch:/tmp/loop_over_bdir-3373713-Bflc3Z/LCFG-Build-Skeleton-0.5.0-0/blib/lib:/tmp/loop_over_bdir-3373713-Bflc3Z/DBIx-Migration-Directories-0.12-0/blib/arch:/tmp/loop_over_bdir-3373713-Bflc3Z/DBIx-Migration-Directories-0.12-0/blib/lib:/tmp/loop_over_bdir-3373713-Bflc3Z/Devel-Required-0.16-0/blib/arch:/tmp/loop_over_bdir-3373713-Bflc3Z/Devel-Required-0.16-0/blib/lib:/tmp/loop_over_bdir-3373713-Bflc3Z/AllKnowingDNS-1.7-0/blib/arch:/tmp/loop_over_bdir-3373713-Bflc3Z/AllKnowingDNS-1.7-0/blib/lib:/tmp/loop_over_bdir-3373713-Bflc3Z/perl-Hardware-UPS-Perl-0.43-0/blib/arch:/tmp/loop_over_bdir-3373713-Bflc3Z/perl-Hardware-UPS-Perl-0.43-0/blib/lib:/tmp/loop_over_bdir-3373713-Bflc3Z/makepp-1.19-0/blib/arch:/tmp/loop_over_bdir-3373713-Bflc3Z/makepp-1.19-0/blib/lib:/tmp/loop_over_bdir-3373713-Bflc3Z/LiquidWeb-Storm-CLI-1.03-0/blib/arch:/tmp/loop_over_bdir-3373713-Bflc3Z/LiquidWeb-Storm-CLI-1.03-0/blib/lib:/tmp/loop_over_bdir-3373713-Bflc3Z/Sysync-0.38-0/blib/arch:/tmp/loop_over_bdir-3373713-Bflc3Z/Sysync-0.38-0/blib/lib
    PERL5OPT = 
    PERL5_CPANPLUS_IS_RUNNING = 3373721
    PERL5_CPAN_IS_RUNNING = 3373721
    PERL_CANARY_STABILITY_NOPROMPT = 1
    PERL_MM_USE_DEFAULT = 1
    PERL_USE_UNSAFE_INC = 1
    SHELL = /usr/bin/zsh
    TERM = screen

Perl special variables (and OS-specific diagnostics, for MSWin32):

    $^X = /tmp/basesmoker-reloperl-eSdV/bin/perl
    $UID/$EUID = 1005 / 1005
    $GID = 1005 1005
    $EGID = 1005 1005

Perl module toolchain versions installed:

    Module              Have    
    ------------------- --------
    CPAN                2.38    
    CPAN::Meta          2.150010
    Cwd                 3.92    
    ExtUtils::CBuilder  0.280240
    ExtUtils::Command   7.70    
    ExtUtils::Install   2.22    
    ExtUtils::MakeMaker 7.70    
    ExtUtils::Manifest  1.75    
    ExtUtils::ParseXS   3.55    
    File::Spec          3.93    
    JSON                4.10    
    JSON::PP            4.16    
    Module::Build       0.4234  
    Module::Signature   0.89    
    Parse::CPAN::Meta   2.150010
    Test2               1.302204
    Test::Harness       3.50    
    Test::More          1.302204
    YAML                1.31    
    YAML::Syck          1.34    
    version             0.9933  


--

Summary of my perl5 (revision 5 version 41 subversion 5) configuration:
  Commit id: 49feb78d039f9c146d7060a6b02af643e5b21489
  Platform:
    osname=linux
    osvers=6.8.0-45-generic
    archname=x86_64-linux
    uname='linux k93jammy 6.8.0-45-generic #45~22.04.1-ubuntu smp preempt_dynamic wed sep 11 15:25:05 utc 2 x86_64 x86_64 x86_64 gnulinux '
    config_args='-Dprefix=/home/sand/src/perl/repoperls/installed-perls/host/k93jammy/v5.41.5/6567 -Dmyhostname=k93jammy -Dinstallusrbinperl=n -Uversiononly -Dusedevel -des -Ui_db -Dlibswanted=cl pthread socket inet nsl gdbm dbm malloc dl ld sun m crypt sec util c cposix posix ucb BSD gdbm_compat -Uuseithreads -Uuselongdouble -DEBUGGING=-g'
    hint=recommended
    useposix=true
    d_sigaction=define
    useithreads=undef
    usemultiplicity=undef
    use64bitint=define
    use64bitall=define
    uselongdouble=undef
    usemymalloc=n
    default_inc_excludes_dot=define
  Compiler:
    cc='cc'
    ccflags ='-fwrapv -fno-strict-aliasing -pipe -fstack-protector-strong -I/usr/local/include -D_LARGEFILE_SOURCE -D_FILE_OFFSET_BITS=64'
    optimize='-O2 -g'
    cppflags='-fwrapv -fno-strict-aliasing -pipe -fstack-protector-strong -I/usr/local/include'
    ccversion=''
    gccversion='11.4.0'
    gccosandvers=''
    intsize=4
    longsize=8
    ptrsize=8
    doublesize=8
    byteorder=12345678
    doublekind=3
    d_longlong=define
    longlongsize=8
    d_longdbl=define
    longdblsize=16
    longdblkind=3
    ivtype='long'
    ivsize=8
    nvtype='double'
    nvsize=8
    Off_t='off_t'
    lseeksize=8
    alignbytes=8
    prototype=define
  Linker and Libraries:
    ld='cc'
    ldflags =' -fstack-protector-strong -L/usr/local/lib'
    libpth=/usr/local/lib /usr/lib/x86_64-linux-gnu /usr/lib /usr/lib64
    libs=-lpthread -lnsl -ldl -lm -lcrypt -lutil -lc
    perllibs=-lpthread -lnsl -ldl -lm -lcrypt -lutil -lc
    libc=/lib/x86_64-linux-gnu/libc.so.6
    so=so
    useshrplib=false
    libperl=libperl.a
    gnulibc_version='2.35'
  Dynamic Linking:
    dlsrc=dl_dlopen.xs
    dlext=so
    d_dlsymun=undef
    ccdlflags='-Wl,-E'
    cccdlflags='-fPIC'
    lddlflags='-shared -O2 -g -L/usr/local/lib -fstack-protector-strong'


Characteristics of this binary (from libperl): 
  Compile-time options:
    HAS_LONG_DOUBLE
    HAS_STRTOLD
    HAS_TIMES
    PERLIO_LAYERS
    PERL_COPY_ON_WRITE
    PERL_DONT_CREATE_GVSV
    PERL_HASH_FUNC_SIPHASH13
    PERL_HASH_USE_SBOX32
    PERL_MALLOC_WRAP
    PERL_OP_PARENT
    PERL_PRESERVE_IVUV
    PERL_USE_DEVEL
    PERL_USE_SAFE_PUTENV
    USE_64_BIT_ALL
    USE_64_BIT_INT
    USE_LARGE_FILES
    USE_LOCALE
    USE_LOCALE_COLLATE
    USE_LOCALE_CTYPE
    USE_LOCALE_NUMERIC
    USE_LOCALE_TIME
    USE_PERLIO
    USE_PERL_ATOF
  Built under linux
  Compiled at Oct 21 2024 08:53:29
  %ENV:
    PERL="/tmp/basesmoker-reloperl-eSdV/bin/perl"
    PERL5LIB="/tmp/loop_over_bdir-3373713-Bflc3Z/Business-Shipping-DataFiles-1.02-0/blib/arch:/tmp/loop_over_bdir-3373713-Bflc3Z/Business-Shipping-DataFiles-1.02-0/blib/lib:/tmp/loop_over_bdir-3373713-Bflc3Z/Captive-Portal-4.10-0/blib/arch:/tmp/loop_over_bdir-3373713-Bflc3Z/Captive-Portal-4.10-0/blib/lib:/tmp/loop_over_bdir-3373713-Bflc3Z/MP3-PodcastFetch-1.05-0/blib/arch:/tmp/loop_over_bdir-3373713-Bflc3Z/MP3-PodcastFetch-1.05-0/blib/lib:/tmp/loop_over_bdir-3373713-Bflc3Z/CORBA-Python-2.66-0/blib/arch:/tmp/loop_over_bdir-3373713-Bflc3Z/CORBA-Python-2.66-0/blib/lib:/tmp/loop_over_bdir-3373713-Bflc3Z/downsexta-0/blib/arch:/tmp/loop_over_bdir-3373713-Bflc3Z/downsexta-0/blib/lib:/tmp/loop_over_bdir-3373713-Bflc3Z/Net-OpenVPN-DDNS-0.1-0/blib/arch:/tmp/loop_over_bdir-3373713-Bflc3Z/Net-OpenVPN-DDNS-0.1-0/blib/lib:/tmp/loop_over_bdir-3373713-Bflc3Z/mmds-1.902-0/blib/arch:/tmp/loop_over_bdir-3373713-Bflc3Z/mmds-1.902-0/blib/lib:/tmp/loop_over_bdir-3373713-Bflc3Z/dta-tokwrap-0.98-0/blib/arch:/tmp/loop_over_bdir-3373713-Bflc3Z/dta-tokwrap-0.98-0/blib/lib:/tmp/loop_over_bdir-3373713-Bflc3Z/triceps-2.1.0-0/blib/arch:/tmp/loop_over_bdir-3373713-Bflc3Z/triceps-2.1.0-0/blib/lib:/tmp/loop_over_bdir-3373713-Bflc3Z/Lingua-BioYaTeA-0.11-0/blib/arch:/tmp/loop_over_bdir-3373713-Bflc3Z/Lingua-BioYaTeA-0.11-0/blib/lib:/tmp/loop_over_bdir-3373713-Bflc3Z/Lingua-YaTeA-0.626-0/blib/arch:/tmp/loop_over_bdir-3373713-Bflc3Z/Lingua-YaTeA-0.626-0/blib/lib:/tmp/loop_over_bdir-3373713-Bflc3Z/Module-ScanDeps-Static-1.005-0/blib/arch:/tmp/loop_over_bdir-3373713-Bflc3Z/Module-ScanDeps-Static-1.005-0/blib/lib:/tmp/loop_over_bdir-3373713-Bflc3Z/ProjectBuilder-0.14.1-0/blib/arch:/tmp/loop_over_bdir-3373713-Bflc3Z/ProjectBuilder-0.14.1-0/blib/lib:/tmp/loop_over_bdir-3373713-Bflc3Z/LCFG-Build-Skeleton-0.5.0-0/blib/arch:/tmp/loop_over_bdir-3373713-Bflc3Z/LCFG-Build-Skeleton-0.5.0-0/blib/lib:/tmp/loop_over_bdir-3373713-Bflc3Z/DBIx-Migration-Directories-0.12-0/blib/arch:/tmp/loop_over_bdir-3373713-Bflc3Z/DBIx-Migration-Directories-0.12-0/blib/lib:/tmp/loop_over_bdir-3373713-Bflc3Z/Devel-Required-0.16-0/blib/arch:/tmp/loop_over_bdir-3373713-Bflc3Z/Devel-Required-0.16-0/blib/lib:/tmp/loop_over_bdir-3373713-Bflc3Z/AllKnowingDNS-1.7-0/blib/arch:/tmp/loop_over_bdir-3373713-Bflc3Z/AllKnowingDNS-1.7-0/blib/lib:/tmp/loop_over_bdir-3373713-Bflc3Z/perl-Hardware-UPS-Perl-0.43-0/blib/arch:/tmp/loop_over_bdir-3373713-Bflc3Z/perl-Hardware-UPS-Perl-0.43-0/blib/lib:/tmp/loop_over_bdir-3373713-Bflc3Z/makepp-1.19-0/blib/arch:/tmp/loop_over_bdir-3373713-Bflc3Z/makepp-1.19-0/blib/lib:/tmp/loop_over_bdir-3373713-Bflc3Z/LiquidWeb-Storm-CLI-1.03-0/blib/arch:/tmp/loop_over_bdir-3373713-Bflc3Z/LiquidWeb-Storm-CLI-1.03-0/blib/lib:/tmp/loop_over_bdir-3373713-Bflc3Z/Sysync-0.38-0/blib/arch:/tmp/loop_over_bdir-3373713-Bflc3Z/Sysync-0.38-0/blib/lib"
    PERL5OPT=""
    PERL5_CPANPLUS_IS_RUNNING="3373721"
    PERL5_CPAN_IS_RUNNING="3373721"
    PERL_CANARY_STABILITY_NOPROMPT="1"
    PERL_MM_USE_DEFAULT="1"
    PERL_USE_UNSAFE_INC="1"
  @INC:
    /tmp/loop_over_bdir-3373713-Bflc3Z/Business-Shipping-DataFiles-1.02-0/blib/arch
    /tmp/loop_over_bdir-3373713-Bflc3Z/Business-Shipping-DataFiles-1.02-0/blib/lib
    /tmp/loop_over_bdir-3373713-Bflc3Z/Captive-Portal-4.10-0/blib/arch
    /tmp/loop_over_bdir-3373713-Bflc3Z/Captive-Portal-4.10-0/blib/lib
    /tmp/loop_over_bdir-3373713-Bflc3Z/MP3-PodcastFetch-1.05-0/blib/arch
    /tmp/loop_over_bdir-3373713-Bflc3Z/MP3-PodcastFetch-1.05-0/blib/lib
    /tmp/loop_over_bdir-3373713-Bflc3Z/CORBA-Python-2.66-0/blib/arch
    /tmp/loop_over_bdir-3373713-Bflc3Z/CORBA-Python-2.66-0/blib/lib
    /tmp/loop_over_bdir-3373713-Bflc3Z/downsexta-0/blib/arch
    /tmp/loop_over_bdir-3373713-Bflc3Z/downsexta-0/blib/lib
    /tmp/loop_over_bdir-3373713-Bflc3Z/Net-OpenVPN-DDNS-0.1-0/blib/arch
    /tmp/loop_over_bdir-3373713-Bflc3Z/Net-OpenVPN-DDNS-0.1-0/blib/lib
    /tmp/loop_over_bdir-3373713-Bflc3Z/mmds-1.902-0/blib/arch
    /tmp/loop_over_bdir-3373713-Bflc3Z/mmds-1.902-0/blib/lib
    /tmp/loop_over_bdir-3373713-Bflc3Z/dta-tokwrap-0.98-0/blib/arch
    /tmp/loop_over_bdir-3373713-Bflc3Z/dta-tokwrap-0.98-0/blib/lib
    /tmp/loop_over_bdir-3373713-Bflc3Z/triceps-2.1.0-0/blib/arch
    /tmp/loop_over_bdir-3373713-Bflc3Z/triceps-2.1.0-0/blib/lib
    /tmp/loop_over_bdir-3373713-Bflc3Z/Lingua-BioYaTeA-0.11-0/blib/arch
    /tmp/loop_over_bdir-3373713-Bflc3Z/Lingua-BioYaTeA-0.11-0/blib/lib
    /tmp/loop_over_bdir-3373713-Bflc3Z/Lingua-YaTeA-0.626-0/blib/arch
    /tmp/loop_over_bdir-3373713-Bflc3Z/Lingua-YaTeA-0.626-0/blib/lib
    /tmp/loop_over_bdir-3373713-Bflc3Z/Module-ScanDeps-Static-1.005-0/blib/arch
    /tmp/loop_over_bdir-3373713-Bflc3Z/Module-ScanDeps-Static-1.005-0/blib/lib
    /tmp/loop_over_bdir-3373713-Bflc3Z/ProjectBuilder-0.14.1-0/blib/arch
    /tmp/loop_over_bdir-3373713-Bflc3Z/ProjectBuilder-0.14.1-0/blib/lib
    /tmp/loop_over_bdir-3373713-Bflc3Z/LCFG-Build-Skeleton-0.5.0-0/blib/arch
    /tmp/loop_over_bdir-3373713-Bflc3Z/LCFG-Build-Skeleton-0.5.0-0/blib/lib
    /tmp/loop_over_bdir-3373713-Bflc3Z/DBIx-Migration-Directories-0.12-0/blib/arch
    /tmp/loop_over_bdir-3373713-Bflc3Z/DBIx-Migration-Directories-0.12-0/blib/lib
    /tmp/loop_over_bdir-3373713-Bflc3Z/Devel-Required-0.16-0/blib/arch
    /tmp/loop_over_bdir-3373713-Bflc3Z/Devel-Required-0.16-0/blib/lib
    /tmp/loop_over_bdir-3373713-Bflc3Z/AllKnowingDNS-1.7-0/blib/arch
    /tmp/loop_over_bdir-3373713-Bflc3Z/AllKnowingDNS-1.7-0/blib/lib
    /tmp/loop_over_bdir-3373713-Bflc3Z/perl-Hardware-UPS-Perl-0.43-0/blib/arch
    /tmp/loop_over_bdir-3373713-Bflc3Z/perl-Hardware-UPS-Perl-0.43-0/blib/lib
    /tmp/loop_over_bdir-3373713-Bflc3Z/makepp-1.19-0/blib/arch
    /tmp/loop_over_bdir-3373713-Bflc3Z/makepp-1.19-0/blib/lib
    /tmp/loop_over_bdir-3373713-Bflc3Z/LiquidWeb-Storm-CLI-1.03-0/blib/arch
    /tmp/loop_over_bdir-3373713-Bflc3Z/LiquidWeb-Storm-CLI-1.03-0/blib/lib
    /tmp/loop_over_bdir-3373713-Bflc3Z/Sysync-0.38-0/blib/arch
    /tmp/loop_over_bdir-3373713-Bflc3Z/Sysync-0.38-0/blib/lib
    /home/sand/src/perl/repoperls/installed-perls/host/k93jammy/v5.41.5/6567/lib/site_perl/5.41.5/x86_64-linux
    /home/sand/src/perl/repoperls/installed-perls/host/k93jammy/v5.41.5/6567/lib/site_perl/5.41.5
    /home/sand/src/perl/repoperls/installed-perls/host/k93jammy/v5.41.5/6567/lib/5.41.5/x86_64-linux
    /home/sand/src/perl/repoperls/installed-perls/host/k93jammy/v5.41.5/6567/lib/5.41.5
    .