Algorithm-ConstructDFA-XS v0.23 Perl 5 v5.24.3 x86_64-linux-thread-multi

Status
Pass
From
Andreas J. König (ANDK)
Dist
Algorithm-ConstructDFA-XS v0.23
Platform
Perl 5 v5.24.3 x86_64-linux-thread-multi
Date
2017-12-07 14:56:36
ID
d28f4ef4-db5e-11e7-8347-df09436d3645
This distribution has been tested as part of the CPAN Testers
project, supporting the Perl programming language.  See
http://wiki.cpantesters.org/ for more information or email
questions to cpan-testers-discuss@perl.org


--
Dear Bjoern Hoehrmann,

This is a computer-generated report for Algorithm-ConstructDFA-XS-0.23
on perl 5.24.3, created by CPAN-Reporter-1.2018.

Thank you for uploading your work to CPAN.  Congratulations!
All tests were successful.

Sections of this report:

    * Tester comments
    * Program output
    * Prerequisites
    * Environment and other context

------------------------------
TESTER COMMENTS
------------------------------

Additional comments from tester:

this report is from an automated smoke testing program
and was not reviewed by a human for accuracy

------------------------------
PROGRAM OUTPUT
------------------------------

Output from '/usr/bin/make test':

"/home/sand/src/perl/repoperls/installed-perls/host/k93msid/v5.24.3/276a/bin/perl" -MExtUtils::Command::MM -e 'cp_nonempty' -- XS.bs blib/arch/auto/Algorithm/ConstructDFA/XS/XS.bs 644
PERL_DL_NONLAZY=1 "/home/sand/src/perl/repoperls/installed-perls/host/k93msid/v5.24.3/276a/bin/perl" "-MExtUtils::Command::MM" "-MTest::Harness" "-e" "undef *Test::Harness::Switches; test_harness(0, 'blib/lib', 'blib/arch')" t/*.t
t/00basic.t ... ok
t/01simple.t .. ok
t/02simple.t .. ok
t/03cmp.t ..... ok
t/98podsyn.t .. ok
t/99podcov.t .. ok
All tests successful.
Files=6, Tests=221,  8 wallclock secs ( 0.05 usr  0.05 sys +  3.17 cusr  0.18 csys =  3.45 CPU)
Result: PASS

------------------------------
PREREQUISITES
------------------------------

Prerequisite modules loaded:

requires:

    Module                  Need  Have     
    ----------------------- ----- ---------
    Algorithm::ConstructDFA 0     0.03     
    Config                  0     5.024003 
    Data::AutoBimap         0     0.03     
    Graph::Directed         0     0        
    Graph::RandomPath       0     0.01     
    List::MoreUtils         0     0.427_001
    List::UtilsBy           0     0.10     
    Memoize                 0     1.03_01  
    perl                    5.012 5.024003 
    Storable                0     3.05_15  
    Test::More              0     1.302120 

build_requires:

    Module                  Need  Have     
    ----------------------- ----- ---------
    ExtUtils::MakeMaker     0     7.31_04  


------------------------------
ENVIRONMENT AND OTHER CONTEXT
------------------------------

Environment variables:

    AUTOMATED_TESTING = 1
    LANG = en_US.UTF-8
    PATH = /home/sand/bin:/usr/local/bin:/usr/bin:/bin:/usr/games:/usr/local/perl/bin:/usr/X11/bin:/sbin:/usr/sbin
    PERL5LIB = /tmp/loop_over_bdir-15799-wd5Rxy/Algorithm-ConstructDFA-0.03-0/blib/arch:/tmp/loop_over_bdir-15799-wd5Rxy/Algorithm-ConstructDFA-0.03-0/blib/lib:/tmp/loop_over_bdir-15799-wd5Rxy/Graph-RandomPath-0.01-0/blib/arch:/tmp/loop_over_bdir-15799-wd5Rxy/Graph-RandomPath-0.01-0/blib/lib:/tmp/loop_over_bdir-15799-wd5Rxy/Data-AutoBimap-0.03-0/blib/arch:/tmp/loop_over_bdir-15799-wd5Rxy/Data-AutoBimap-0.03-0/blib/lib
    PERL5OPT = 
    PERL5_CPANPLUS_IS_RUNNING = 15808
    PERL5_CPAN_IS_RUNNING = 15808
    PERL5_CPAN_IS_RUNNING_IN_RECURSION = 1718,15808
    PERL_CANARY_STABILITY_NOPROMPT = 1
    PERL_MM_USE_DEFAULT = 1
    PERL_USE_UNSAFE_INC = 1
    SHELL = /usr/bin/zsh
    TERM = screen

Perl special variables (and OS-specific diagnostics, for MSWin32):

    $^X = /home/sand/src/perl/repoperls/installed-perls/host/k93msid/v5.24.3/276a/bin/perl
    $UID/$EUID = 1005 / 1005
    $GID = 1005 1005
    $EGID = 1005 1005

Perl module toolchain versions installed:

    Module              Have    
    ------------------- --------
    CPAN                2.19    
    CPAN::Meta          2.150010
    Cwd                 3.63_01 
    ExtUtils::CBuilder  0.280229
    ExtUtils::Command   7.31_04 
    ExtUtils::Install   2.06    
    ExtUtils::MakeMaker 7.31_04 
    ExtUtils::Manifest  1.70    
    ExtUtils::ParseXS   3.31    
    File::Spec          3.63_01 
    JSON                2.94    
    JSON::PP            2.94    
    Module::Build       0.4224  
    Module::Signature   0.81    
    Parse::CPAN::Meta   2.150010
    Test::Harness       3.39    
    Test::More          1.302120
    YAML                1.23_003
    YAML::Syck          1.30    
    version             0.9916  


--

Summary of my perl5 (revision 5 version 24 subversion 3) configuration:
  Derived from: 9f1d3884c227a955e9ecaaadba4cba3280c47e3a
  Platform:
    osname=linux, osvers=4.12.0-2-amd64, archname=x86_64-linux-thread-multi
    uname='linux k93msid 4.12.0-2-amd64 #1 smp debian 4.12.13-1 (2017-09-19) x86_64 gnulinux '
    config_args='-Dprefix=/home/sand/src/perl/repoperls/installed-perls/host/k93msid/v5.24.3/276a -Dmyhostname=k93msid -Dinstallusrbinperl=n -Uversiononly -Dusedevel -des -Ui_db -Dlibswanted=cl pthread socket inet nsl gdbm dbm malloc dl ld sun m crypt sec util c cposix posix ucb BSD gdbm_compat -Duseithreads -Uuselongdouble -DDEBUGGING=both'
    hint=recommended, useposix=true, d_sigaction=define
    useithreads=define, usemultiplicity=define
    use64bitint=define, use64bitall=define, uselongdouble=undef
    usemymalloc=n, bincompat5005=undef
  Compiler:
    cc='cc', ccflags ='-D_REENTRANT -D_GNU_SOURCE -fwrapv -DDEBUGGING -fno-strict-aliasing -pipe -fstack-protector-strong -I/usr/local/include -D_LARGEFILE_SOURCE -D_FILE_OFFSET_BITS=64 -D_FORTIFY_SOURCE=2',
    optimize='-O2 -g',
    cppflags='-D_REENTRANT -D_GNU_SOURCE -fwrapv -DDEBUGGING -fno-strict-aliasing -pipe -fstack-protector-strong -I/usr/local/include'
    ccversion='', gccversion='7.2.0', gccosandvers=''
    intsize=4, longsize=8, ptrsize=8, doublesize=8, byteorder=12345678, doublekind=3
    d_longlong=define, longlongsize=8, d_longdbl=define, longdblsize=16, longdblkind=3
    ivtype='long', ivsize=8, nvtype='double', nvsize=8, Off_t='off_t', lseeksize=8
    alignbytes=8, prototype=define
  Linker and Libraries:
    ld='cc', ldflags =' -fstack-protector-strong -L/usr/local/lib'
    libpth=/usr/local/lib /usr/lib/gcc/x86_64-linux-gnu/7/include-fixed /usr/include/x86_64-linux-gnu /usr/lib /lib/x86_64-linux-gnu /lib/../lib /usr/lib/x86_64-linux-gnu /usr/lib/../lib /lib
    libs=-lpthread -lnsl -ldl -lm -lcrypt -lutil -lc
    perllibs=-lpthread -lnsl -ldl -lm -lcrypt -lutil -lc
    libc=libc-2.24.so, so=so, useshrplib=false, libperl=libperl.a
    gnulibc_version='2.24'
  Dynamic Linking:
    dlsrc=dl_dlopen.xs, dlext=so, d_dlsymun=undef, ccdlflags='-Wl,-E'
    cccdlflags='-fPIC', lddlflags='-shared -O2 -g -L/usr/local/lib -fstack-protector-strong'


Characteristics of this binary (from libperl): 
  Compile-time options: DEBUGGING HAS_TIMES MULTIPLICITY PERLIO_LAYERS
                        PERL_COPY_ON_WRITE PERL_DONT_CREATE_GVSV
                        PERL_HASH_FUNC_ONE_AT_A_TIME_HARD
                        PERL_IMPLICIT_CONTEXT PERL_MALLOC_WRAP
                        PERL_PRESERVE_IVUV PERL_TRACK_MEMPOOL PERL_USE_DEVEL
                        USE_64_BIT_ALL USE_64_BIT_INT USE_ITHREADS
                        USE_LARGE_FILES USE_LOCALE USE_LOCALE_COLLATE
                        USE_LOCALE_CTYPE USE_LOCALE_NUMERIC USE_LOCALE_TIME
                        USE_PERLIO USE_PERL_ATOF USE_REENTRANT_API
  Locally applied patches:
	uncommitted-changes
  Built under linux
  Compiled at Oct  2 2017 07:07:02
  %ENV:
    PERL5LIB="/tmp/loop_over_bdir-15799-wd5Rxy/Algorithm-ConstructDFA-0.03-0/blib/arch:/tmp/loop_over_bdir-15799-wd5Rxy/Algorithm-ConstructDFA-0.03-0/blib/lib:/tmp/loop_over_bdir-15799-wd5Rxy/Graph-RandomPath-0.01-0/blib/arch:/tmp/loop_over_bdir-15799-wd5Rxy/Graph-RandomPath-0.01-0/blib/lib:/tmp/loop_over_bdir-15799-wd5Rxy/Data-AutoBimap-0.03-0/blib/arch:/tmp/loop_over_bdir-15799-wd5Rxy/Data-AutoBimap-0.03-0/blib/lib"
    PERL5OPT=""
    PERL5_CPANPLUS_IS_RUNNING="15808"
    PERL5_CPAN_IS_RUNNING="15808"
    PERL5_CPAN_IS_RUNNING_IN_RECURSION="1718,15808"
    PERL_CANARY_STABILITY_NOPROMPT="1"
    PERL_MM_USE_DEFAULT="1"
    PERL_USE_UNSAFE_INC="1"
  @INC:
    /tmp/loop_over_bdir-15799-wd5Rxy/Algorithm-ConstructDFA-0.03-0/blib/arch
    /tmp/loop_over_bdir-15799-wd5Rxy/Algorithm-ConstructDFA-0.03-0/blib/lib
    /tmp/loop_over_bdir-15799-wd5Rxy/Graph-RandomPath-0.01-0/blib/arch
    /tmp/loop_over_bdir-15799-wd5Rxy/Graph-RandomPath-0.01-0/blib/lib
    /tmp/loop_over_bdir-15799-wd5Rxy/Data-AutoBimap-0.03-0/blib/arch
    /tmp/loop_over_bdir-15799-wd5Rxy/Data-AutoBimap-0.03-0/blib/lib
    /home/sand/src/perl/repoperls/installed-perls/host/k93msid/v5.24.3/276a/lib/site_perl/5.24.3/x86_64-linux-thread-multi
    /home/sand/src/perl/repoperls/installed-perls/host/k93msid/v5.24.3/276a/lib/site_perl/5.24.3
    /home/sand/src/perl/repoperls/installed-perls/host/k93msid/v5.24.3/276a/lib/5.24.3/x86_64-linux-thread-multi
    /home/sand/src/perl/repoperls/installed-perls/host/k93msid/v5.24.3/276a/lib/5.24.3
    .