Report for Web-Scraper-0.38

Back
From: metabase:user:9c36dc84-a30f-11e0-a9fc-0a18abbd4f2f
Subject: PASS Web-Scraper-0.38 v5.16.3 GNU/Linux
Date: 2015-10-27T23:59:55Z

This distribution has been tested as part of the CPAN Testers
project, supporting the Perl programming language.  See
http://wiki.cpantesters.org/ for more information or email
questions to cpan-testers-discuss@perl.org


--
Dear Tatsuhiko Miyagawa,

This is a computer-generated report for Web-Scraper-0.38
on perl 5.16.3, created by CPAN-Reporter-1.2015.

Thank you for uploading your work to CPAN.  Congratulations!
All tests were successful.

Sections of this report:

    * Tester comments
    * Program output
    * Prerequisites
    * Environment and other context

------------------------------
TESTER COMMENTS
------------------------------

Additional comments from tester:

this report is from an automated smoke testing program
and was not reviewed by a human for accuracy

------------------------------
PROGRAM OUTPUT
------------------------------

Output from './Build test':

t/00_compile.t .......... ok
t/01_process.t .......... ok
t/02_process_multi.t .... ok
t/03_scraper_nest.t ..... ok
t/04_callback.t ......... ok
t/05_process_first.t .... ok
t/07-live.t ............. skipped: LIVE_TEST not enabled
t/06_define.t ........... ok
t/08-leak.t ............. skipped: LEAK_TEST is not defined
t/11_absolute.t ......... ok
t/09-process_hash.t ..... ok
t/13_textnode.t ......... ok
t/12_html.t ............. ok
t/14_absolute_nested.t .. ok
t/15_absolute_hash.t .... ok
t/16_filter.t ........... ok
t/18_http_response.t .... skipped: LIVE_TEST not enabled
t/17_filter_loop.t ...... ok
t/21_html5.t ............ ok
t/redefine.t ............ ok
t/19_decode_content.t ... skipped: LIVE_TEST not enabled
t/20_comment_nodes.t .... skipped: Please upgrade HTML::TreeBuilder::XPath and HTML::TreeBuilder::LibXML modules for comment nodes supporting
t/release-pod-syntax.t .. skipped: these tests are for release candidate testing
t/xml-simple.t .......... skipped: Test requires module 'HTML::TreeBuilder::LibXML' but it's not found
t/22_filter_regex.t ..... ok
All tests successful.
Files=25, Tests=42,  1 wallclock secs ( 0.05 usr  0.04 sys +  1.73 cusr  0.25 csys =  2.07 CPU)
Result: PASS

------------------------------
PREREQUISITES
------------------------------

Prerequisite modules loaded:

requires:

    Module                   Need     Have    
    ------------------------ -------- --------
    HTML::Entities           0        3.69    
    HTML::Selector::XPath    0.03     0.18    
    HTML::Tagset             0        3.20    
    HTML::TreeBuilder        3.23     5.03    
    HTML::TreeBuilder::XPath 0.08     0.14    
    LWP                      5.827    6.13    
    perl                     5.008001 5.016003
    Scalar::Util             0        1.42    
    UNIVERSAL::require       0        0.18    
    URI                      0        1.69    
    XML::XPathEngine         0.08     0.14    
    YAML                     0        1.15    

build_requires:

    Module                   Need     Have    
    ------------------------ -------- --------
    ExtUtils::MakeMaker      6.59     7.10    
    Test::Base               0        0.88    
    Test::More               0        1.001014
    Test::Requires           0        0.10    

configure_requires:

    Module                   Need     Have    
    ------------------------ -------- --------
    Module::Build::Tiny      0.039    0.039   


------------------------------
ENVIRONMENT AND OTHER CONTEXT
------------------------------

Environment variables:

    AUTOMATED_TESTING = 1
    HARNESS_OPTIONS = j4
    LANG = pt_BR.UTF-8
    PATH = /home/arfreitas/.plenv/versions/5.16.3/bin:/home/arfreitas/.plenv/libexec:/home/arfreitas/.plenv/plugins/perl-build/bin:/home/arfreitas/.plenv/shims:/usr/local/bin:/bin:/usr/bin:/usr/local/sbin:/usr/sbin:/home/arfreitas/.local/bin:/home/arfreitas/bin:/home/arfreitas/.plenv/bin
    PERL5LIB = 
    PERL5OPT = 
    PERL5_CPANPLUS_IS_RUNNING = 3785
    PERL5_CPAN_IS_RUNNING = 3785
    PERL5_CPAN_IS_RUNNING_IN_RECURSION = 2546,3785
    PERL_CR_SMOKER_CURRENT = WWW-YahooJapan-Baseball-0.02
    PERL_CR_SMOKER_RUNONCE = 1
    PERL_EXTUTILS_AUTOINSTALL = --defaultdeps
    PERL_MM_USE_DEFAULT = 1
    SHELL = /bin/bash
    TERM = linux

Perl special variables (and OS-specific diagnostics, for MSWin32):

    $^X = /home/arfreitas/.plenv/versions/5.16.3/bin/perl5.16.3
    $UID/$EUID = 1001 / 1001
    $GID = 1001 1001
    $EGID = 1001 1001

Perl module toolchain versions installed:

    Module              Have    
    ------------------- --------
    CPAN                2.10    
    CPAN::Meta          2.150005
    Cwd                 3.47    
    ExtUtils::CBuilder  0.280224
    ExtUtils::Command   7.10    
    ExtUtils::Install   2.04    
    ExtUtils::MakeMaker 7.10    
    ExtUtils::Manifest  1.70    
    ExtUtils::ParseXS   3.30    
    File::Spec          3.47    
    JSON                2.90    
    JSON::PP            2.27300 
    Module::Build       0.4214  
    Module::Signature   n/a     
    Parse::CPAN::Meta   1.4417  
    Test::Harness       3.35    
    Test::More          1.001014
    YAML                1.15    
    YAML::Syck          1.29    
    version             0.9912  


--

Summary of my perl5 (revision 5 version 16 subversion 3) configuration:
   
  Platform:
    osname=linux, osvers=3.8.13-55.1.6.el7uek.x86_64, archname=x86_64-linux
    uname='linux gabiru 3.8.13-55.1.6.el7uek.x86_64 #2 smp wed feb 11 14:18:22 pst 2015 x86_64 x86_64 x86_64 gnulinux '
    config_args='-Dprefix=/home/arfreitas/.plenv/versions/5.16.3 -de -Dusedevel -A'eval:scriptdir=/home/arfreitas/.plenv/versions/5.16.3/bin''
    hint=recommended, useposix=true, d_sigaction=define
    useithreads=undef, usemultiplicity=undef
    useperlio=define, d_sfio=undef, uselargefiles=define, usesocks=undef
    use64bitint=define, use64bitall=define, uselongdouble=undef
    usemymalloc=n, bincompat5005=undef
  Compiler:
    cc='cc', ccflags ='-fno-strict-aliasing -pipe -fstack-protector -I/usr/local/include -D_LARGEFILE_SOURCE -D_FILE_OFFSET_BITS=64',
    optimize='-O2',
    cppflags='-fno-strict-aliasing -pipe -fstack-protector -I/usr/local/include'
    ccversion='', gccversion='4.8.3 20140911 (Red Hat 4.8.3-9)', gccosandvers=''
    intsize=4, longsize=8, ptrsize=8, doublesize=8, byteorder=12345678
    d_longlong=define, longlongsize=8, d_longdbl=define, longdblsize=16
    ivtype='long', ivsize=8, nvtype='double', nvsize=8, Off_t='off_t', lseeksize=8
    alignbytes=8, prototype=define
  Linker and Libraries:
    ld='cc', ldflags =' -fstack-protector -L/usr/local/lib'
    libpth=/usr/local/lib /lib/../lib64 /usr/lib/../lib64 /lib /usr/lib /lib64 /usr/lib64 /usr/local/lib64
    libs=-lnsl -ldl -lm -lcrypt -lutil -lc
    perllibs=-lnsl -ldl -lm -lcrypt -lutil -lc
    libc=libc-2.17.so, so=so, useshrplib=false, libperl=libperl.a
    gnulibc_version='2.17'
  Dynamic Linking:
    dlsrc=dl_dlopen.xs, dlext=so, d_dlsymun=undef, ccdlflags='-Wl,-E'
    cccdlflags='-fPIC', lddlflags='-shared -O2 -L/usr/local/lib -fstack-protector'


Characteristics of this binary (from libperl): 
  Compile-time options: HAS_TIMES PERLIO_LAYERS PERL_DONT_CREATE_GVSV
                        PERL_MALLOC_WRAP PERL_PRESERVE_IVUV PERL_USE_DEVEL
                        USE_64_BIT_ALL USE_64_BIT_INT USE_LARGE_FILES
                        USE_LOCALE USE_LOCALE_COLLATE USE_LOCALE_CTYPE
                        USE_LOCALE_NUMERIC USE_PERLIO USE_PERL_ATOF
  Locally applied patches:
	Devel::PatchPerl 1.38
  Built under linux
  Compiled at Oct 23 2015 02:37:27
  %ENV:
    PERL5LIB=""
    PERL5OPT=""
    PERL5_CPANPLUS_IS_RUNNING="3785"
    PERL5_CPAN_IS_RUNNING="3785"
    PERL5_CPAN_IS_RUNNING_IN_RECURSION="2546,3785"
    PERL_CR_SMOKER_CURRENT="WWW-YahooJapan-Baseball-0.02"
    PERL_CR_SMOKER_RUNONCE="1"
    PERL_EXTUTILS_AUTOINSTALL="--defaultdeps"
    PERL_MM_USE_DEFAULT="1"
  @INC:
    /home/arfreitas/.plenv/versions/5.16.3/lib/perl5/site_perl/5.16.3/x86_64-linux
    /home/arfreitas/.plenv/versions/5.16.3/lib/perl5/site_perl/5.16.3
    /home/arfreitas/.plenv/versions/5.16.3/lib/perl5/5.16.3/x86_64-linux
    /home/arfreitas/.plenv/versions/5.16.3/lib/perl5/5.16.3
    .