Report for Curses-UI-0.9607

Back
From: metabase:user:320bfe00-2aae-11df-837a-5e0a49663a4f
Subject: PASS Curses-UI-0.9607 v5.13.4 GNU/Linux
Date: 2010-09-03T07:06:49Z

This distribution has been tested as part of the CPAN Testers
project, supporting the Perl programming language.  See
http://wiki.cpantesters.org/ for more information or email
questions to cpan-testers-discuss@perl.org


--
Dear Shawn Boyette,

This is a computer-generated report for Curses-UI-0.9607
on perl 5.13.4, created by CPAN-Reporter-1.18.

Thank you for uploading your work to CPAN.  Congratulations!
All tests were successful.

Sections of this report:

    * Tester comments
    * Program output
    * Prerequisites
    * Environment and other context

------------------------------
TESTER COMMENTS
------------------------------

Additional comments from tester:

none provided

------------------------------
PROGRAM OUTPUT
------------------------------

Output from '/usr/bin/make test':

make[1]: Entering directory `/home/sand/.cpan/build/Curses-UI-0.9607-Je6qg5'
PERL_DL_NONLAZY=1 /home/src/perl/repoperls/installed-perls/perl/v5.13.4-120-gc064d6c/bin/perl "-MExtUtils::Command::MM" "-e" "test_harness(0, 'inc', 'blib/lib', 'blib/arch')" t/01base_classes.t t/02widget_classes.t t/03dialog_classes.t t/04language_classes.t t/05pod.t t/06ui.t t/07widget.t t/08common.t t/09label.t t/10texteditor.t t/11listbox.t t/12gpm_handler.t t/13notebook.t t/99misc.t
Prototype after '@' for Curses::UI::Widget::width_by_windowscrwidth : $@; at /home/sand/.cpan/build/Curses-UI-0.9607-Je6qg5/t/../lib/Curses/UI/Widget.pm line 356.
Prototype after '@' for Curses::UI::Widget::height_by_windowscrheight : $@; at /home/sand/.cpan/build/Curses-UI-0.9607-Je6qg5/t/../lib/Curses/UI/Widget.pm line 380.
Prototype after '@' for Curses::UI::Widget::set_binding : $@; at /home/sand/.cpan/build/Curses-UI-0.9607-Je6qg5/t/../lib/Curses/UI/Widget.pm line 898.
Prototype after '@' for Curses::UI::Widget::set_mouse_binding : $@; at /home/sand/.cpan/build/Curses-UI-0.9607-Je6qg5/t/../lib/Curses/UI/Widget.pm line 924.
Prototype after '@' for Curses::UI::Container::add : $@; at /home/sand/.cpan/build/Curses-UI-0.9607-Je6qg5/t/../lib/Curses/UI/Container.pm line 67.
Prototype after '@' for Curses::UI::Container::set_focusorder : @; at /home/sand/.cpan/build/Curses-UI-0.9607-Je6qg5/t/../lib/Curses/UI/Container.pm line 475.
Prototype after '@' for Curses::UI::Container::set_draworder : @; at /home/sand/.cpan/build/Curses-UI-0.9607-Je6qg5/t/../lib/Curses/UI/Container.pm line 483.
t/01base_classes.t ...... ok
Prototype after '@' for Curses::UI::Widget::width_by_windowscrwidth : $@; at /home/sand/.cpan/build/Curses-UI-0.9607-Je6qg5/blib/lib/Curses/UI/Widget.pm line 356.
Prototype after '@' for Curses::UI::Widget::height_by_windowscrheight : $@; at /home/sand/.cpan/build/Curses-UI-0.9607-Je6qg5/blib/lib/Curses/UI/Widget.pm line 380.
Prototype after '@' for Curses::UI::Widget::set_binding : $@; at /home/sand/.cpan/build/Curses-UI-0.9607-Je6qg5/blib/lib/Curses/UI/Widget.pm line 898.
Prototype after '@' for Curses::UI::Widget::set_mouse_binding : $@; at /home/sand/.cpan/build/Curses-UI-0.9607-Je6qg5/blib/lib/Curses/UI/Widget.pm line 924.
Prototype after '@' for Curses::UI::Container::add : $@; at /home/sand/.cpan/build/Curses-UI-0.9607-Je6qg5/blib/lib/Curses/UI/Container.pm line 67.
Prototype after '@' for Curses::UI::Container::set_focusorder : @; at /home/sand/.cpan/build/Curses-UI-0.9607-Je6qg5/blib/lib/Curses/UI/Container.pm line 475.
Prototype after '@' for Curses::UI::Container::set_draworder : @; at /home/sand/.cpan/build/Curses-UI-0.9607-Je6qg5/blib/lib/Curses/UI/Container.pm line 483.
Prototype after '@' for Curses::UI::Listbox::maxlabelwidth : @; at /home/sand/.cpan/build/Curses-UI-0.9607-Je6qg5/blib/lib/Curses/UI/Listbox.pm line 221.
t/02widget_classes.t .... ok
Prototype after '@' for Curses::UI::Widget::width_by_windowscrwidth : $@; at /home/sand/.cpan/build/Curses-UI-0.9607-Je6qg5/blib/lib/Curses/UI/Widget.pm line 356.
Prototype after '@' for Curses::UI::Widget::height_by_windowscrheight : $@; at /home/sand/.cpan/build/Curses-UI-0.9607-Je6qg5/blib/lib/Curses/UI/Widget.pm line 380.
Prototype after '@' for Curses::UI::Widget::set_binding : $@; at /home/sand/.cpan/build/Curses-UI-0.9607-Je6qg5/blib/lib/Curses/UI/Widget.pm line 898.
Prototype after '@' for Curses::UI::Widget::set_mouse_binding : $@; at /home/sand/.cpan/build/Curses-UI-0.9607-Je6qg5/blib/lib/Curses/UI/Widget.pm line 924.
Prototype after '@' for Curses::UI::Container::add : $@; at /home/sand/.cpan/build/Curses-UI-0.9607-Je6qg5/blib/lib/Curses/UI/Container.pm line 67.
Prototype after '@' for Curses::UI::Container::set_focusorder : @; at /home/sand/.cpan/build/Curses-UI-0.9607-Je6qg5/blib/lib/Curses/UI/Container.pm line 475.
Prototype after '@' for Curses::UI::Container::set_draworder : @; at /home/sand/.cpan/build/Curses-UI-0.9607-Je6qg5/blib/lib/Curses/UI/Container.pm line 483.
t/03dialog_classes.t .... ok
Prototype after '@' for Curses::UI::Widget::width_by_windowscrwidth : $@; at /home/sand/.cpan/build/Curses-UI-0.9607-Je6qg5/t/../lib/Curses/UI/Widget.pm line 356.
Prototype after '@' for Curses::UI::Widget::height_by_windowscrheight : $@; at /home/sand/.cpan/build/Curses-UI-0.9607-Je6qg5/t/../lib/Curses/UI/Widget.pm line 380.
Prototype after '@' for Curses::UI::Widget::set_binding : $@; at /home/sand/.cpan/build/Curses-UI-0.9607-Je6qg5/t/../lib/Curses/UI/Widget.pm line 898.
Prototype after '@' for Curses::UI::Widget::set_mouse_binding : $@; at /home/sand/.cpan/build/Curses-UI-0.9607-Je6qg5/t/../lib/Curses/UI/Widget.pm line 924.
Prototype after '@' for Curses::UI::Container::add : $@; at /home/sand/.cpan/build/Curses-UI-0.9607-Je6qg5/t/../lib/Curses/UI/Container.pm line 67.
Prototype after '@' for Curses::UI::Container::set_focusorder : @; at /home/sand/.cpan/build/Curses-UI-0.9607-Je6qg5/t/../lib/Curses/UI/Container.pm line 475.
Prototype after '@' for Curses::UI::Container::set_draworder : @; at /home/sand/.cpan/build/Curses-UI-0.9607-Je6qg5/t/../lib/Curses/UI/Container.pm line 483.
t/04language_classes.t .. ok
t/05pod.t ............... ok
Prototype after '@' for Curses::UI::Widget::width_by_windowscrwidth : $@; at /home/sand/.cpan/build/Curses-UI-0.9607-Je6qg5/blib/lib/Curses/UI/Widget.pm line 356.
Prototype after '@' for Curses::UI::Widget::height_by_windowscrheight : $@; at /home/sand/.cpan/build/Curses-UI-0.9607-Je6qg5/blib/lib/Curses/UI/Widget.pm line 380.
Prototype after '@' for Curses::UI::Widget::set_binding : $@; at /home/sand/.cpan/build/Curses-UI-0.9607-Je6qg5/blib/lib/Curses/UI/Widget.pm line 898.
Prototype after '@' for Curses::UI::Widget::set_mouse_binding : $@; at /home/sand/.cpan/build/Curses-UI-0.9607-Je6qg5/blib/lib/Curses/UI/Widget.pm line 924.
Prototype after '@' for Curses::UI::Container::add : $@; at /home/sand/.cpan/build/Curses-UI-0.9607-Je6qg5/blib/lib/Curses/UI/Container.pm line 67.
Prototype after '@' for Curses::UI::Container::set_focusorder : @; at /home/sand/.cpan/build/Curses-UI-0.9607-Je6qg5/blib/lib/Curses/UI/Container.pm line 475.
Prototype after '@' for Curses::UI::Container::set_draworder : @; at /home/sand/.cpan/build/Curses-UI-0.9607-Je6qg5/blib/lib/Curses/UI/Container.pm line 483.
t/06ui.t ................ ok
Prototype after '@' for Curses::UI::Widget::width_by_windowscrwidth : $@; at /home/sand/.cpan/build/Curses-UI-0.9607-Je6qg5/blib/lib/Curses/UI/Widget.pm line 356.
Prototype after '@' for Curses::UI::Widget::height_by_windowscrheight : $@; at /home/sand/.cpan/build/Curses-UI-0.9607-Je6qg5/blib/lib/Curses/UI/Widget.pm line 380.
Prototype after '@' for Curses::UI::Widget::set_binding : $@; at /home/sand/.cpan/build/Curses-UI-0.9607-Je6qg5/blib/lib/Curses/UI/Widget.pm line 898.
Prototype after '@' for Curses::UI::Widget::set_mouse_binding : $@; at /home/sand/.cpan/build/Curses-UI-0.9607-Je6qg5/blib/lib/Curses/UI/Widget.pm line 924.
Prototype after '@' for Curses::UI::Container::add : $@; at /home/sand/.cpan/build/Curses-UI-0.9607-Je6qg5/blib/lib/Curses/UI/Container.pm line 67.
Prototype after '@' for Curses::UI::Container::set_focusorder : @; at /home/sand/.cpan/build/Curses-UI-0.9607-Je6qg5/blib/lib/Curses/UI/Container.pm line 475.
Prototype after '@' for Curses::UI::Container::set_draworder : @; at /home/sand/.cpan/build/Curses-UI-0.9607-Je6qg5/blib/lib/Curses/UI/Container.pm line 483.
t/07widget.t ............ ok
Prototype after '@' for Curses::UI::Widget::width_by_windowscrwidth : $@; at /home/sand/.cpan/build/Curses-UI-0.9607-Je6qg5/blib/lib/Curses/UI/Widget.pm line 356.
Prototype after '@' for Curses::UI::Widget::height_by_windowscrheight : $@; at /home/sand/.cpan/build/Curses-UI-0.9607-Je6qg5/blib/lib/Curses/UI/Widget.pm line 380.
Prototype after '@' for Curses::UI::Widget::set_binding : $@; at /home/sand/.cpan/build/Curses-UI-0.9607-Je6qg5/blib/lib/Curses/UI/Widget.pm line 898.
Prototype after '@' for Curses::UI::Widget::set_mouse_binding : $@; at /home/sand/.cpan/build/Curses-UI-0.9607-Je6qg5/blib/lib/Curses/UI/Widget.pm line 924.
Prototype after '@' for Curses::UI::Container::add : $@; at /home/sand/.cpan/build/Curses-UI-0.9607-Je6qg5/blib/lib/Curses/UI/Container.pm line 67.
Prototype after '@' for Curses::UI::Container::set_focusorder : @; at /home/sand/.cpan/build/Curses-UI-0.9607-Je6qg5/blib/lib/Curses/UI/Container.pm line 475.
Prototype after '@' for Curses::UI::Container::set_draworder : @; at /home/sand/.cpan/build/Curses-UI-0.9607-Je6qg5/blib/lib/Curses/UI/Container.pm line 483.
t/08common.t ............ ok
Prototype after '@' for Curses::UI::Widget::width_by_windowscrwidth : $@; at /home/sand/.cpan/build/Curses-UI-0.9607-Je6qg5/blib/lib/Curses/UI/Widget.pm line 356.
Prototype after '@' for Curses::UI::Widget::height_by_windowscrheight : $@; at /home/sand/.cpan/build/Curses-UI-0.9607-Je6qg5/blib/lib/Curses/UI/Widget.pm line 380.
Prototype after '@' for Curses::UI::Widget::set_binding : $@; at /home/sand/.cpan/build/Curses-UI-0.9607-Je6qg5/blib/lib/Curses/UI/Widget.pm line 898.
Prototype after '@' for Curses::UI::Widget::set_mouse_binding : $@; at /home/sand/.cpan/build/Curses-UI-0.9607-Je6qg5/blib/lib/Curses/UI/Widget.pm line 924.
Prototype after '@' for Curses::UI::Container::add : $@; at /home/sand/.cpan/build/Curses-UI-0.9607-Je6qg5/blib/lib/Curses/UI/Container.pm line 67.
Prototype after '@' for Curses::UI::Container::set_focusorder : @; at /home/sand/.cpan/build/Curses-UI-0.9607-Je6qg5/blib/lib/Curses/UI/Container.pm line 475.
Prototype after '@' for Curses::UI::Container::set_draworder : @; at /home/sand/.cpan/build/Curses-UI-0.9607-Je6qg5/blib/lib/Curses/UI/Container.pm line 483.
t/09label.t ............. ok
Prototype after '@' for Curses::UI::Widget::width_by_windowscrwidth : $@; at /home/sand/.cpan/build/Curses-UI-0.9607-Je6qg5/blib/lib/Curses/UI/Widget.pm line 356.
Prototype after '@' for Curses::UI::Widget::height_by_windowscrheight : $@; at /home/sand/.cpan/build/Curses-UI-0.9607-Je6qg5/blib/lib/Curses/UI/Widget.pm line 380.
Prototype after '@' for Curses::UI::Widget::set_binding : $@; at /home/sand/.cpan/build/Curses-UI-0.9607-Je6qg5/blib/lib/Curses/UI/Widget.pm line 898.
Prototype after '@' for Curses::UI::Widget::set_mouse_binding : $@; at /home/sand/.cpan/build/Curses-UI-0.9607-Je6qg5/blib/lib/Curses/UI/Widget.pm line 924.
Prototype after '@' for Curses::UI::Container::add : $@; at /home/sand/.cpan/build/Curses-UI-0.9607-Je6qg5/blib/lib/Curses/UI/Container.pm line 67.
Prototype after '@' for Curses::UI::Container::set_focusorder : @; at /home/sand/.cpan/build/Curses-UI-0.9607-Je6qg5/blib/lib/Curses/UI/Container.pm line 475.
Prototype after '@' for Curses::UI::Container::set_draworder : @; at /home/sand/.cpan/build/Curses-UI-0.9607-Je6qg5/blib/lib/Curses/UI/Container.pm line 483.
t/10texteditor.t ........ ok
Prototype after '@' for Curses::UI::Widget::width_by_windowscrwidth : $@; at /home/sand/.cpan/build/Curses-UI-0.9607-Je6qg5/blib/lib/Curses/UI/Widget.pm line 356.
Prototype after '@' for Curses::UI::Widget::height_by_windowscrheight : $@; at /home/sand/.cpan/build/Curses-UI-0.9607-Je6qg5/blib/lib/Curses/UI/Widget.pm line 380.
Prototype after '@' for Curses::UI::Widget::set_binding : $@; at /home/sand/.cpan/build/Curses-UI-0.9607-Je6qg5/blib/lib/Curses/UI/Widget.pm line 898.
Prototype after '@' for Curses::UI::Widget::set_mouse_binding : $@; at /home/sand/.cpan/build/Curses-UI-0.9607-Je6qg5/blib/lib/Curses/UI/Widget.pm line 924.
Prototype after '@' for Curses::UI::Container::add : $@; at /home/sand/.cpan/build/Curses-UI-0.9607-Je6qg5/blib/lib/Curses/UI/Container.pm line 67.
Prototype after '@' for Curses::UI::Container::set_focusorder : @; at /home/sand/.cpan/build/Curses-UI-0.9607-Je6qg5/blib/lib/Curses/UI/Container.pm line 475.
Prototype after '@' for Curses::UI::Container::set_draworder : @; at /home/sand/.cpan/build/Curses-UI-0.9607-Je6qg5/blib/lib/Curses/UI/Container.pm line 483.
Prototype after '@' for Curses::UI::Listbox::maxlabelwidth : @; at /home/sand/.cpan/build/Curses-UI-0.9607-Je6qg5/blib/lib/Curses/UI/Listbox.pm line 221.
t/11listbox.t ........... ok
Prototype after '@' for Curses::UI::Widget::width_by_windowscrwidth : $@; at /home/sand/.cpan/build/Curses-UI-0.9607-Je6qg5/blib/lib/Curses/UI/Widget.pm line 356.
Prototype after '@' for Curses::UI::Widget::height_by_windowscrheight : $@; at /home/sand/.cpan/build/Curses-UI-0.9607-Je6qg5/blib/lib/Curses/UI/Widget.pm line 380.
Prototype after '@' for Curses::UI::Widget::set_binding : $@; at /home/sand/.cpan/build/Curses-UI-0.9607-Je6qg5/blib/lib/Curses/UI/Widget.pm line 898.
Prototype after '@' for Curses::UI::Widget::set_mouse_binding : $@; at /home/sand/.cpan/build/Curses-UI-0.9607-Je6qg5/blib/lib/Curses/UI/Widget.pm line 924.
Prototype after '@' for Curses::UI::Container::add : $@; at /home/sand/.cpan/build/Curses-UI-0.9607-Je6qg5/blib/lib/Curses/UI/Container.pm line 67.
Prototype after '@' for Curses::UI::Container::set_focusorder : @; at /home/sand/.cpan/build/Curses-UI-0.9607-Je6qg5/blib/lib/Curses/UI/Container.pm line 475.
Prototype after '@' for Curses::UI::Container::set_draworder : @; at /home/sand/.cpan/build/Curses-UI-0.9607-Je6qg5/blib/lib/Curses/UI/Container.pm line 483.
t/12gpm_handler.t ....... ok
Prototype after '@' for Curses::UI::Widget::width_by_windowscrwidth : $@; at /home/sand/.cpan/build/Curses-UI-0.9607-Je6qg5/blib/lib/Curses/UI/Widget.pm line 356.
Prototype after '@' for Curses::UI::Widget::height_by_windowscrheight : $@; at /home/sand/.cpan/build/Curses-UI-0.9607-Je6qg5/blib/lib/Curses/UI/Widget.pm line 380.
Prototype after '@' for Curses::UI::Widget::set_binding : $@; at /home/sand/.cpan/build/Curses-UI-0.9607-Je6qg5/blib/lib/Curses/UI/Widget.pm line 898.
Prototype after '@' for Curses::UI::Widget::set_mouse_binding : $@; at /home/sand/.cpan/build/Curses-UI-0.9607-Je6qg5/blib/lib/Curses/UI/Widget.pm line 924.
Prototype after '@' for Curses::UI::Container::add : $@; at /home/sand/.cpan/build/Curses-UI-0.9607-Je6qg5/blib/lib/Curses/UI/Container.pm line 67.
Prototype after '@' for Curses::UI::Container::set_focusorder : @; at /home/sand/.cpan/build/Curses-UI-0.9607-Je6qg5/blib/lib/Curses/UI/Container.pm line 475.
Prototype after '@' for Curses::UI::Container::set_draworder : @; at /home/sand/.cpan/build/Curses-UI-0.9607-Je6qg5/blib/lib/Curses/UI/Container.pm line 483.
t/13notebook.t .......... ok
Prototype after '@' for Curses::UI::Widget::width_by_windowscrwidth : $@; at /home/sand/.cpan/build/Curses-UI-0.9607-Je6qg5/blib/lib/Curses/UI/Widget.pm line 356.
Prototype after '@' for Curses::UI::Widget::height_by_windowscrheight : $@; at /home/sand/.cpan/build/Curses-UI-0.9607-Je6qg5/blib/lib/Curses/UI/Widget.pm line 380.
Prototype after '@' for Curses::UI::Widget::set_binding : $@; at /home/sand/.cpan/build/Curses-UI-0.9607-Je6qg5/blib/lib/Curses/UI/Widget.pm line 898.
Prototype after '@' for Curses::UI::Widget::set_mouse_binding : $@; at /home/sand/.cpan/build/Curses-UI-0.9607-Je6qg5/blib/lib/Curses/UI/Widget.pm line 924.
Prototype after '@' for Curses::UI::Container::add : $@; at /home/sand/.cpan/build/Curses-UI-0.9607-Je6qg5/blib/lib/Curses/UI/Container.pm line 67.
Prototype after '@' for Curses::UI::Container::set_focusorder : @; at /home/sand/.cpan/build/Curses-UI-0.9607-Je6qg5/blib/lib/Curses/UI/Container.pm line 475.
Prototype after '@' for Curses::UI::Container::set_draworder : @; at /home/sand/.cpan/build/Curses-UI-0.9607-Je6qg5/blib/lib/Curses/UI/Container.pm line 483.
t/99misc.t .............. ok
All tests successful.
Files=14, Tests=169,  2 wallclock secs ( 0.06 usr  0.00 sys +  1.28 cusr  0.14 csys =  1.48 CPU)
Result: PASS
make[1]: Leaving directory `/home/sand/.cpan/build/Curses-UI-0.9607-Je6qg5'

------------------------------
PREREQUISITES
------------------------------

Prerequisite modules loaded:

requires:

    Module              Need Have   
    ------------------- ---- -------
    Curses              0    1.28   
    ExtUtils::MakeMaker 6.57 6.57_01
    Term::ReadKey       0    2.30   


------------------------------
ENVIRONMENT AND OTHER CONTEXT
------------------------------

Environment variables:

    LANG = en_US.UTF-8
    PATH = /home/sand/bin:/usr/local/bin:/usr/bin:/bin:/usr/bin/X11:/usr/games:/usr/local/perl/bin:/usr/X11/bin:/sbin:/usr/sbin
    PERL5LIB = 
    PERL5OPT = 
    PERL5_CPANPLUS_IS_RUNNING = 14300
    PERL5_CPAN_IS_RUNNING = 14300
    SHELL = /usr/bin/zsh
    TERM = screen

Perl special variables (and OS-specific diagnostics, for MSWin32):

    $^X = /home/src/perl/repoperls/installed-perls/perl/v5.13.4-120-gc064d6c/bin/perl
    $UID/$EUID = 1001 / 1001
    $GID = 1001 1001
    $EGID = 1001 1001

Perl module toolchain versions installed:

    Module              Have   
    ------------------- -------
    CPAN                1.94_57
    Cwd                 3.31   
    ExtUtils::CBuilder  0.2703 
    ExtUtils::Command   1.16   
    ExtUtils::Install   1.55   
    ExtUtils::MakeMaker 6.57_01
    ExtUtils::Manifest  1.58   
    ExtUtils::ParseXS   2.2207 
    File::Spec          3.31_01
    Module::Build       0.3607 
    Module::Signature   0.64   
    Test::Harness       3.22   
    Test::More          0.96   
    YAML                0.72   
    YAML::Syck          1.14   
    version             0.82   


--

Summary of my perl5 (revision 5 version 13 subversion 4) configuration:
  Commit id: c064d6c6600a09556bae5adafca518fb4e6da98a
  Platform:
    osname=linux, osvers=2.6.32-2-amd64, archname=x86_64-linux
    uname='linux k81 2.6.32-2-amd64 #1 smp fri feb 12 00:01:47 utc 2010 x86_64 gnulinux '
    config_args='-Dprefix=/home/src/perl/repoperls/installed-perls/perl/v5.13.4-120-gc064d6c -Dinstallusrbinperl=n -Uversiononly -Dusedevel -des -Ui_db -Uuseithreads -Uuselongdouble'
    hint=recommended, useposix=true, d_sigaction=define
    useithreads=undef, usemultiplicity=undef
    useperlio=define, d_sfio=undef, uselargefiles=define, usesocks=undef
    use64bitint=define, use64bitall=define, uselongdouble=undef
    usemymalloc=n, bincompat5005=undef
  Compiler:
    cc='cc', ccflags ='-fno-strict-aliasing -pipe -fstack-protector -I/usr/local/include -D_LARGEFILE_SOURCE -D_FILE_OFFSET_BITS=64',
    optimize='-O2',
    cppflags='-fno-strict-aliasing -pipe -fstack-protector -I/usr/local/include'
    ccversion='', gccversion='4.4.4', gccosandvers=''
    intsize=4, longsize=8, ptrsize=8, doublesize=8, byteorder=12345678
    d_longlong=define, longlongsize=8, d_longdbl=define, longdblsize=16
    ivtype='long', ivsize=8, nvtype='double', nvsize=8, Off_t='off_t', lseeksize=8
    alignbytes=8, prototype=define
  Linker and Libraries:
    ld='cc', ldflags =' -fstack-protector -L/usr/local/lib'
    libpth=/usr/local/lib /lib /usr/lib /lib64 /usr/lib64
    libs=-lnsl -lgdbm -ldb -ldl -lm -lcrypt -lutil -lc -lgdbm_compat
    perllibs=-lnsl -ldl -lm -lcrypt -lutil -lc
    libc=/lib/libc-2.11.2.so, so=so, useshrplib=false, libperl=libperl.a
    gnulibc_version='2.11.2'
  Dynamic Linking:
    dlsrc=dl_dlopen.xs, dlext=so, d_dlsymun=undef, ccdlflags='-Wl,-E'
    cccdlflags='-fPIC', lddlflags='-shared -O2 -L/usr/local/lib -fstack-protector'


Characteristics of this binary (from libperl): 
  Compile-time options: PERL_DONT_CREATE_GVSV PERL_MALLOC_WRAP PERL_USE_DEVEL
                        USE_64_BIT_ALL USE_64_BIT_INT USE_LARGE_FILES
                        USE_PERLIO USE_PERL_ATOF
  Built under linux
  Compiled at Sep  3 2010 03:39:21
  %ENV:
    PERL5LIB=""
    PERL5OPT=""
    PERL5_CPANPLUS_IS_RUNNING="14300"
    PERL5_CPAN_IS_RUNNING="14300"
  @INC:
    /home/src/perl/repoperls/installed-perls/perl/v5.13.4-120-gc064d6c/lib/site_perl/5.13.4/x86_64-linux
    /home/src/perl/repoperls/installed-perls/perl/v5.13.4-120-gc064d6c/lib/site_perl/5.13.4
    /home/src/perl/repoperls/installed-perls/perl/v5.13.4-120-gc064d6c/lib/5.13.4/x86_64-linux
    /home/src/perl/repoperls/installed-perls/perl/v5.13.4-120-gc064d6c/lib/5.13.4
    .