Report for Coat-Persistent-0.223

Back
From: metabase:user:314402c4-2aae-11df-837a-5e0a49663a4f
Subject: PASS Coat-Persistent-0.223 v5.13.5 FreeBSD
Date: 2010-09-25T22:54:15Z

This distribution has been tested as part of the CPAN Testers
project, supporting the Perl programming language.  See
http://wiki.cpantesters.org/ for more information or email
questions to cpan-testers-discuss@perl.org


--
Dear Alexis Sukrieh,

This is a computer-generated report for Coat-Persistent-0.223
on perl 5.13.5, created by CPAN-Reporter-1.1801.

Thank you for uploading your work to CPAN.  Congratulations!
All tests were successful.

Sections of this report:

    * Tester comments
    * Program output
    * Prerequisites
    * Environment and other context

------------------------------
TESTER COMMENTS
------------------------------

Additional comments from tester:

none provided

------------------------------
PROGRAM OUTPUT
------------------------------

Output from '/usr/bin/make test':

PERL_DL_NONLAZY=1 /usr/home/cpansand/var/ctps/sprout_77810/install/perl-5.13.5/bin/perl "-MExtUtils::Command::MM" "-e" "test_harness(0, 'blib/lib', 'blib/arch')" t/001_csv_binding.t t/002_subobjects.t t/003_classes_scope.t t/004_default_dbh.t t/005_context.t t/006_find_by_sql.t t/007_unique.t t/008_syntax.t t/009_cache.t t/009_required_read_only.t t/010_update.t t/011_create.t t/012_find.t t/013_find_or_create.t t/014_find_or_init.t t/015_meta.t t/016_import.t t/017_rename.t t/018_find_with_undef.t t/019_mix.t t/019_state_object.t t/022_storage_value.t t/023_types_and_coercions.t t/024_undefined_primary_key.t t/test-database/001_auto_increment.t
t/001_csv_binding.t ................... ok
t/002_subobjects.t .................... ok
t/003_classes_scope.t ................. ok
t/004_default_dbh.t ................... ok
t/005_context.t ....................... ok
t/006_find_by_sql.t ................... ok
t/007_unique.t ........................ ok
t/008_syntax.t ........................ ok
t/009_cache.t ......................... ok
t/009_required_read_only.t ............ ok
t/010_update.t ........................ ok
t/011_create.t ........................ ok
t/012_find.t .......................... ok
t/013_find_or_create.t ................ ok
t/014_find_or_init.t .................. ok
t/015_meta.t .......................... ok
t/016_import.t ........................ ok
t/017_rename.t ........................ ok
t/018_find_with_undef.t ............... ok
t/019_mix.t ........................... ok
t/019_state_object.t .................. ok
t/022_storage_value.t ................. ok
t/023_types_and_coercions.t ........... ok
t/024_undefined_primary_key.t ......... ok
t/test-database/001_auto_increment.t .. skipped: No MySQL database handle available
All tests successful.
Files=25, Tests=171, 10 wallclock secs ( 0.14 usr  0.02 sys +  5.79 cusr  0.85 csys =  6.80 CPU)
Result: PASS

------------------------------
PREREQUISITES
------------------------------

Prerequisite modules loaded:

requires:

    Module              Need  Have   
    ------------------- ----- -------
    Class::Date         0     1.1.10 
    Coat                0.334 0.334  
    DBD::CSV            0     0.31   
    DBI                 0     1.615  
    DBIx::Sequence      0     1.5    
    List::Compare       0     0.37   
    SQL::Abstract       0     1.68   
    Test::Database      0     1.11   

build_requires:

    Module              Need  Have   
    ------------------- ----- -------
    ExtUtils::MakeMaker 0     6.57_05


------------------------------
ENVIRONMENT AND OTHER CONTEXT
------------------------------

Environment variables:

    DBIC_NO_WARN_BAD_PERL = 1
    PATH = /usr/local/bin:/usr/X11R6/bin:/usr/X11/bin:/usr/perl5.8.0/bin:/usr/bin:/bin:/usr/local/sbin:/usr/sbin:/sbin:/usr/local/pilot/bin:/home/cpansand/bin/freebsd8.0:/home/cpansand/bin/sh:/home/cpansand/bin:/usr/X386/bin:/usr/games:/home/cpansand/devel:/usr/home/e/eserte/src/perl/CPAN-Testers-ParallelSmoker/utils
    PERL5LIB = 
    PERL5OPT = 
    PERL5_CPANPLUS_IS_RUNNING = 98386
    PERL5_CPAN_IS_RUNNING = 98386
    PERL5_CPAN_IS_RUNNING_IN_RECURSION = 32529,98386
    PERL_BATCH = yes
    PERL_CPAN_REPORTER_DIR = /home/cpansand/var/ctps/sprout_77810/config/perl-5.13.5/cpanreporter
    PERL_EXTUTILS_AUTOINSTALL = --defaultdeps
    PERL_HTML_DISPLAY_CLASS = HTML::Display::Mozilla
    SHELL = /usr/local/bin/zsh
    TERM = xterm
    TMPDIR = /tmp/cpansmoker-1023

Perl special variables (and OS-specific diagnostics, for MSWin32):

    $^X = /usr/home/cpansand/var/ctps/sprout_77810/install/perl-5.13.5/bin/perl
    $UID/$EUID = 1023 / 1023
    $GID = 1023 1023
    $EGID = 1023 1023

Perl module toolchain versions installed:

    Module              Have   
    ------------------- -------
    CPAN                1.94_57
    Cwd                 3.33   
    ExtUtils::CBuilder  0.2703 
    ExtUtils::Command   1.16   
    ExtUtils::Install   1.55   
    ExtUtils::MakeMaker 6.57_05
    ExtUtils::Manifest  1.58   
    ExtUtils::ParseXS   2.2207 
    File::Spec          3.33   
    Module::Build       0.3607 
    Module::Signature   0.66   
    Test::Harness       3.22   
    Test::More          0.97_01
    YAML                0.72   
    YAML::Syck          1.15   
    version             0.82   


--

Summary of my perl5 (revision 5 version 13 subversion 5) configuration:
   
  Platform:
    osname=freebsd, osvers=8.0-release, archname=i386-freebsd
    uname='freebsd biokovo.herceg.de 8.0-release freebsd 8.0-release #0: sat nov 21 15:48:17 utc 2009 root@almeida.cse.buffalo.edu:usrobjusrsrcsysgeneric i386 '
    config_args='-ds -e -Uversiononly -Dinstallusrbinperl=n -Dusedevel -Dprefix=/home/cpansand/var/ctps/sprout_77810/install/perl-5.13.5'
    hint=recommended, useposix=true, d_sigaction=define
    useithreads=undef, usemultiplicity=undef
    useperlio=define, d_sfio=undef, uselargefiles=define, usesocks=undef
    use64bitint=undef, use64bitall=undef, uselongdouble=undef
    usemymalloc=n, bincompat5005=undef
  Compiler:
    cc='cc', ccflags ='-DHAS_FPSETMASK -DHAS_FLOATINGPOINT_H -fno-strict-aliasing -pipe -fstack-protector -I/usr/local/include',
    optimize='-O',
    cppflags='-DHAS_FPSETMASK -DHAS_FLOATINGPOINT_H -fno-strict-aliasing -pipe -fstack-protector -I/usr/local/include'
    ccversion='', gccversion='4.2.1 20070719  [FreeBSD]', gccosandvers=''
    intsize=4, longsize=4, ptrsize=4, doublesize=8, byteorder=1234
    d_longlong=define, longlongsize=8, d_longdbl=define, longdblsize=12
    ivtype='long', ivsize=4, nvtype='double', nvsize=8, Off_t='off_t', lseeksize=8
    alignbytes=4, prototype=define
  Linker and Libraries:
    ld='cc', ldflags ='-Wl,-E  -fstack-protector -L/usr/local/lib'
    libpth=/usr/lib /usr/local/lib
    libs=-lgdbm -lm -lcrypt -lutil -lc
    perllibs=-lm -lcrypt -lutil -lc
    libc=, so=so, useshrplib=false, libperl=libperl.a
    gnulibc_version=''
  Dynamic Linking:
    dlsrc=dl_dlopen.xs, dlext=so, d_dlsymun=undef, ccdlflags=' '
    cccdlflags='-DPIC -fPIC', lddlflags='-shared  -L/usr/local/lib -fstack-protector'


Characteristics of this binary (from libperl): 
  Compile-time options: PERL_DONT_CREATE_GVSV PERL_MALLOC_WRAP PERL_USE_DEVEL
                        USE_LARGE_FILES USE_PERLIO USE_PERL_ATOF
  Built under freebsd
  Compiled at Sep 20 2010 20:06:57
  %ENV:
    PERL5LIB=""
    PERL5OPT=""
    PERL5_CPANPLUS_IS_RUNNING="98386"
    PERL5_CPAN_IS_RUNNING="98386"
    PERL5_CPAN_IS_RUNNING_IN_RECURSION="32529,98386"
    PERL_BATCH="yes"
    PERL_CPAN_REPORTER_DIR="/home/cpansand/var/ctps/sprout_77810/config/perl-5.13.5/cpanreporter"
    PERL_EXTUTILS_AUTOINSTALL="--defaultdeps"
    PERL_HTML_DISPLAY_CLASS="HTML::Display::Mozilla"
  @INC:
    /home/cpansand/var/ctps/sprout_77810/install/perl-5.13.5/lib/site_perl/5.13.5/i386-freebsd
    /home/cpansand/var/ctps/sprout_77810/install/perl-5.13.5/lib/site_perl/5.13.5
    /home/cpansand/var/ctps/sprout_77810/install/perl-5.13.5/lib/5.13.5/i386-freebsd
    /home/cpansand/var/ctps/sprout_77810/install/perl-5.13.5/lib/5.13.5
    .