Text-PerlPP v0.600002 Perl 5 v5.30.3 amd64-freebsd

Status
Pass
From
Slaven Rezić
Dist
Text-PerlPP v0.600002
Platform
Perl 5 v5.30.3 amd64-freebsd
Date
2022-10-29 09:12:33
ID
d26583c6-5769-11ed-be70-76e46d8775ea
This distribution has been tested as part of the CPAN Testers
project, supporting the Perl programming language.  See
http://wiki.cpantesters.org/ for more information or email
questions to cpan-testers-discuss@perl.org


--
Dear Christopher White,

This is a computer-generated report for Text-PerlPP-0.600002
on perl 5.30.3, created by CPAN-Reporter-1.2018.

Thank you for uploading your work to CPAN.  Congratulations!
All tests were successful.

Sections of this report:

    * Tester comments
    * Program output
    * Prerequisites
    * Environment and other context

------------------------------
TESTER COMMENTS
------------------------------

Additional comments from tester:

none provided

------------------------------
PROGRAM OUTPUT
------------------------------

Output from '/usr/bin/make test':

"/usr/perl5.30.3p/bin/perl" "-Iblib/arch" "-Iblib/lib" pack.PL pack
Packing...
bin/perlpp syntax OK
File /usr/home/cpansand/.cpan/build/2022102902/Text-PerlPP-0.600002-2/fatlib/newgetopt.pl isn't a .pm file - can't pack this -- if you hoped we were going to, things may not be what you expected later
File /usr/home/cpansand/.cpan/build/2022102902/Text-PerlPP-0.600002-2/fatlib/Pod/Simple.pod isn't a .pm file - can't pack this -- if you hoped we were going to, things may not be what you expected later
File /usr/home/cpansand/.cpan/build/2022102902/Text-PerlPP-0.600002-2/fatlib/Pod/Simple/Subclassing.pod isn't a .pm file - can't pack this -- if you hoped we were going to, things may not be what you expected later
File /usr/home/cpansand/.cpan/build/2022102902/Text-PerlPP-0.600002-2/fatlib/amd64-freebsd/auto/Storable/Storable.so isn't a .pm file - can't pack this -- if you hoped we were going to, things may not be what you expected later
File /usr/home/cpansand/.cpan/build/2022102902/Text-PerlPP-0.600002-2/fatlib/amd64-freebsd/auto/Encode/Encode.so isn't a .pm file - can't pack this -- if you hoped we were going to, things may not be what you expected later
File /usr/home/cpansand/.cpan/build/2022102902/Text-PerlPP-0.600002-2/fatlib/amd64-freebsd/auto/Encode/KR/KR.so isn't a .pm file - can't pack this -- if you hoped we were going to, things may not be what you expected later
File /usr/home/cpansand/.cpan/build/2022102902/Text-PerlPP-0.600002-2/fatlib/amd64-freebsd/auto/Encode/Symbol/Symbol.so isn't a .pm file - can't pack this -- if you hoped we were going to, things may not be what you expected later
File /usr/home/cpansand/.cpan/build/2022102902/Text-PerlPP-0.600002-2/fatlib/amd64-freebsd/auto/Encode/Byte/Byte.so isn't a .pm file - can't pack this -- if you hoped we were going to, things may not be what you expected later
File /usr/home/cpansand/.cpan/build/2022102902/Text-PerlPP-0.600002-2/fatlib/amd64-freebsd/auto/Encode/JP/JP.so isn't a .pm file - can't pack this -- if you hoped we were going to, things may not be what you expected later
File /usr/home/cpansand/.cpan/build/2022102902/Text-PerlPP-0.600002-2/fatlib/amd64-freebsd/auto/Encode/CN/CN.so isn't a .pm file - can't pack this -- if you hoped we were going to, things may not be what you expected later
File /usr/home/cpansand/.cpan/build/2022102902/Text-PerlPP-0.600002-2/fatlib/amd64-freebsd/auto/Encode/Unicode/Unicode.so isn't a .pm file - can't pack this -- if you hoped we were going to, things may not be what you expected later
File /usr/home/cpansand/.cpan/build/2022102902/Text-PerlPP-0.600002-2/fatlib/amd64-freebsd/auto/Encode/EBCDIC/EBCDIC.so isn't a .pm file - can't pack this -- if you hoped we were going to, things may not be what you expected later
File /usr/home/cpansand/.cpan/build/2022102902/Text-PerlPP-0.600002-2/fatlib/amd64-freebsd/auto/Encode/TW/TW.so isn't a .pm file - can't pack this -- if you hoped we were going to, things may not be what you expected later
File /usr/home/cpansand/.cpan/build/2022102902/Text-PerlPP-0.600002-2/fatlib/amd64-freebsd/Encode/_T.e2x isn't a .pm file - can't pack this -- if you hoped we were going to, things may not be what you expected later
File /usr/home/cpansand/.cpan/build/2022102902/Text-PerlPP-0.600002-2/fatlib/amd64-freebsd/Encode/ConfigLocal_PM.e2x isn't a .pm file - can't pack this -- if you hoped we were going to, things may not be what you expected later
File /usr/home/cpansand/.cpan/build/2022102902/Text-PerlPP-0.600002-2/fatlib/amd64-freebsd/Encode/_PM.e2x isn't a .pm file - can't pack this -- if you hoped we were going to, things may not be what you expected later
File /usr/home/cpansand/.cpan/build/2022102902/Text-PerlPP-0.600002-2/fatlib/amd64-freebsd/Encode/Makefile_PL.e2x isn't a .pm file - can't pack this -- if you hoped we were going to, things may not be what you expected later
File /usr/home/cpansand/.cpan/build/2022102902/Text-PerlPP-0.600002-2/fatlib/amd64-freebsd/Encode/README.e2x isn't a .pm file - can't pack this -- if you hoped we were going to, things may not be what you expected later
File /usr/home/cpansand/.cpan/build/2022102902/Text-PerlPP-0.600002-2/fatlib/amd64-freebsd/Encode/PerlIO.pod isn't a .pm file - can't pack this -- if you hoped we were going to, things may not be what you expected later
File /usr/home/cpansand/.cpan/build/2022102902/Text-PerlPP-0.600002-2/fatlib/amd64-freebsd/Encode/Supported.pod isn't a .pm file - can't pack this -- if you hoped we were going to, things may not be what you expected later
File /usr/home/cpansand/.cpan/build/2022102902/Text-PerlPP-0.600002-2/fatlib/amd64-freebsd/Encode/Changes.e2x isn't a .pm file - can't pack this -- if you hoped we were going to, things may not be what you expected later
File /usr/home/cpansand/.cpan/build/2022102902/Text-PerlPP-0.600002-2/fatlib/amd64-freebsd/Encode/encode.h isn't a .pm file - can't pack this -- if you hoped we were going to, things may not be what you expected later
...done
Cleanup...
...done
Generating blib/perlpp...
Done packing
PERL_DL_NONLAZY=1 "/usr/perl5.30.3p/bin/perl" "-MExtUtils::Command::MM" "-MTest::Harness" "-e" "undef *Test::Harness::Switches; test_harness(0, 'blib/lib', 'blib/arch')" t/*.t
# Running as t/00-load.t
# Text::PerlPP included from /usr/home/cpansand/.cpan/build/2022102902/Text-PerlPP-0.600002-2/blib/lib/Text/PerlPP.pm
# PerlPPTest included from /usr/home/cpansand/.cpan/build/2022102902/Text-PerlPP-0.600002-2/t/lib/PerlPPTest.pm
t/00-load.t .............. ok
t/01-capture.t ........... ok
t/02-basic.t ............. ok
t/02-readme.t ............ ok
t/03-cmdline.t ........... ok
# Checking /usr/home/cpansand/.cpan/build/2022102902/Text-PerlPP-0.600002-2/blib/lib/Text/PerlPP.pm
t/03-idempotency.t ....... ok
# Including from "t/included.txt"
t/04-include.t ........... ok
t/05-external-command.t .. ok
# Including from \"t/included.txt\"
# perlpp -D foo=42 <<<'<?:macro say $PSelf->{Defs}->{foo}; ?>'
# perlpp -D incfile=\"t/included.txt\" <<<'<?:macro $PSelf->Include( $PSelf->{Defs}->{incfile} ); ?>'
# perlpp -s incfile=\"t/included.txt\" <<<'<?:macro $PSelf->Include( $PSelf->{Sets}->{incfile} ); ?>'
# perlpp  <<<'<?:immediate say "print 128;"; ?>'
t/06-macro.t ............. ok
t/07-invalid.t ........... ok
t/08-persistent-state.t .. ok
t/09-preproc.t ........... skipped: Not yet implemented
t/10-postproc.t .......... skipped: Not yet implemented
All tests successful.
Files=13, Tests=119,  1 wallclock secs ( 0.03 usr  0.03 sys +  1.20 cusr  0.16 csys =  1.42 CPU)
Result: PASS

------------------------------
PREREQUISITES
------------------------------

Prerequisite modules loaded:

requires:

    Module              Need  Have    
    ------------------- ----- --------
    Getopt::Long        2.5   2.52    
    perl                5.010 5.030003
    Pod::Usage          0     1.69    

build_requires:

    Module              Need  Have    
    ------------------- ----- --------
    App::FatPacker      0     0.010008
    Capture::Tiny       0     0.48    
    Carp                0     1.50    
    Config              0     5.030003
    constant            0     1.33    
    Cwd                 0     3.78    
    Exporter            0     5.74    
    File::Spec          0     3.78    
    Getopt::Long        2.5   2.52    
    Import::Into        0     1.002005
    IPC::Run3           0     0.048   
    List::Util          1.33  1.63    
    parent              0     0.238   
    Pod::Usage          0     1.69    
    rlib                0     0.02    
    Test::More          0     1.302191
    Text::Diff          0     1.45    
    Text::ParseWords    0     3.31    

configure_requires:

    Module              Need  Have    
    ------------------- ----- --------
    ExtUtils::MakeMaker 6.46  7.64    


------------------------------
ENVIRONMENT AND OTHER CONTEXT
------------------------------

Environment variables:

    PATH = /usr/local/bin:/usr/bin:/bin:/usr/local/sbin:/usr/sbin:/sbin:/home/cpansand/bin/sh:/home/cpansand/bin:/usr/games:/home/cpansand/devel:/usr/home/eserte/src/srezic-misc/scripts
    PERL5LIB = 
    PERL5OPT = 
    PERL5_CPANPLUS_IS_RUNNING = 97936
    PERL5_CPAN_IS_RUNNING = 97936
    PERL5_CPAN_IS_RUNNING_IN_RECURSION = 97457,97936
    PERL_BATCH = yes
    PERL_CANARY_STABILITY_NOPROMPT = 1
    PERL_CPAN_REPORTER_CONFIG = /var/tmp/cpansmoker-1023/2022102902/cpanreporter_000_config.ini
    PERL_EXTUTILS_AUTOINSTALL = --defaultdeps
    PERL_USE_UNSAFE_INC = 1
    SHELL = /bin/sh
    TMPDIR = /var/tmp/cpansmoker-1023/2022102902

Perl special variables (and OS-specific diagnostics, for MSWin32):

    $^X = /usr/perl5.30.3p/bin/perl
    $UID/$EUID = 1023 / 1023
    $GID = 1023 1023
    $EGID = 1023 1023

Perl module toolchain versions installed:

    Module              Have    
    ------------------- --------
    CPAN                2.34    
    CPAN::Meta          2.150010
    Cwd                 3.78    
    ExtUtils::CBuilder  0.280236
    ExtUtils::Command   7.64    
    ExtUtils::Install   2.20    
    ExtUtils::MakeMaker 7.64    
    ExtUtils::Manifest  1.72    
    ExtUtils::ParseXS   3.40    
    File::Spec          3.78    
    JSON                4.09    
    JSON::PP            4.12    
    Module::Build       0.4231  
    Module::Signature   0.88    
    Parse::CPAN::Meta   2.150010
    Test::Harness       3.44    
    Test::More          1.302191
    YAML                1.30    
    YAML::Syck          1.34    
    version             0.9929  


--

Summary of my perl5 (revision 5 version 30 subversion 3) configuration:
   
  Platform:
    osname=freebsd
    osvers=13.0-stable
    archname=amd64-freebsd
    uname='freebsd cloud10.bbbike.org 13.0-stable freebsd 13.0-stable #0 stable13-n245623-e2872019983d: thu may 13 16:04:27 utc 2021 root@cloud10.bbbike.org:usrobjusrhomeprojectsfreebsdamd64.amd64sysgeneric amd64 '
    config_args='-ds -e -Dprefix=/usr/perl5.30.3p -Dcf_email=srezic@cpan.org -Doptimize=-O2 -pipe'
    hint=recommended
    useposix=true
    d_sigaction=define
    useithreads=undef
    usemultiplicity=undef
    use64bitint=define
    use64bitall=define
    uselongdouble=undef
    usemymalloc=n
    default_inc_excludes_dot=define
    bincompat5005=undef
  Compiler:
    cc='cc'
    ccflags ='-DHAS_FPSETMASK -DHAS_FLOATINGPOINT_H -fno-strict-aliasing -pipe -fstack-protector-strong -I/usr/local/include'
    optimize='-O2 -pipe'
    cppflags='-DHAS_FPSETMASK -DHAS_FLOATINGPOINT_H -fno-strict-aliasing -pipe -fstack-protector-strong -I/usr/local/include'
    ccversion=''
    gccversion='FreeBSD Clang 11.0.1 (git@github.com:llvm/llvm-project.git llvmorg-11.0.1-0-g43ff75f2c3fe)'
    gccosandvers=''
    intsize=4
    longsize=8
    ptrsize=8
    doublesize=8
    byteorder=12345678
    doublekind=3
    d_longlong=define
    longlongsize=8
    d_longdbl=define
    longdblsize=16
    longdblkind=3
    ivtype='long'
    ivsize=8
    nvtype='double'
    nvsize=8
    Off_t='off_t'
    lseeksize=8
    alignbytes=8
    prototype=define
  Linker and Libraries:
    ld='cc'
    ldflags ='-pthread -Wl,-E  -fstack-protector-strong -L/usr/local/lib'
    libpth=/usr/lib /usr/local/lib /usr/lib/clang/11.0.1/lib /usr/lib
    libs=-lpthread -lgdbm -ldl -lm -lcrypt -lutil -lc
    perllibs=-lpthread -ldl -lm -lcrypt -lutil -lc
    libc=
    so=so
    useshrplib=false
    libperl=libperl.a
    gnulibc_version=''
  Dynamic Linking:
    dlsrc=dl_dlopen.xs
    dlext=so
    d_dlsymun=undef
    ccdlflags=' '
    cccdlflags='-DPIC -fPIC'
    lddlflags='-shared  -L/usr/local/lib -fstack-protector-strong'


Characteristics of this binary (from libperl): 
  Compile-time options:
    HAS_TIMES
    PERLIO_LAYERS
    PERL_COPY_ON_WRITE
    PERL_DONT_CREATE_GVSV
    PERL_MALLOC_WRAP
    PERL_OP_PARENT
    PERL_PRESERVE_IVUV
    USE_64_BIT_ALL
    USE_64_BIT_INT
    USE_LARGE_FILES
    USE_LOCALE
    USE_LOCALE_COLLATE
    USE_LOCALE_CTYPE
    USE_LOCALE_NUMERIC
    USE_LOCALE_TIME
    USE_PERLIO
    USE_PERL_ATOF
  Built under freebsd
  Compiled at May 14 2021 19:47:18
  %ENV:
    PERL5LIB=""
    PERL5OPT=""
    PERL5_CPANPLUS_IS_RUNNING="97936"
    PERL5_CPAN_IS_RUNNING="97936"
    PERL5_CPAN_IS_RUNNING_IN_RECURSION="97457,97936"
    PERL_BATCH="yes"
    PERL_CANARY_STABILITY_NOPROMPT="1"
    PERL_CPAN_REPORTER_CONFIG="/var/tmp/cpansmoker-1023/2022102902/cpanreporter_000_config.ini"
    PERL_EXTUTILS_AUTOINSTALL="--defaultdeps"
    PERL_USE_UNSAFE_INC="1"
  @INC:
    /usr/perl5.30.3p/lib/site_perl/5.30.3/amd64-freebsd
    /usr/perl5.30.3p/lib/site_perl/5.30.3
    /usr/perl5.30.3p/lib/5.30.3/amd64-freebsd
    /usr/perl5.30.3p/lib/5.30.3
    .