Back
From: metabase:user:314402c4-2aae-11df-837a-5e0a49663a4f
Subject: PASS CatalystX-Widget-Paginator-0.04 v5.21.3 GNU/Linux
Date: 2014-09-11T21:37:25Z
This distribution has been tested as part of the CPAN Testers
project, supporting the Perl programming language. See
http://wiki.cpantesters.org/ for more information or email
questions to cpan-testers-discuss@perl.org
--
Dear Oleg A. Mamontov,
This is a computer-generated report for CatalystX-Widget-Paginator-0.04
on perl 5.21.3, created by CPAN-Reporter-1.2011.
Thank you for uploading your work to CPAN. Congratulations!
All tests were successful.
Sections of this report:
* Tester comments
* Program output
* Prerequisites
* Environment and other context
------------------------------
TESTER COMMENTS
------------------------------
Additional comments from tester:
none provided
------------------------------
PROGRAM OUTPUT
------------------------------
Output from '/usr/bin/make test':
PERL_DL_NONLAZY=1 /bbbike/perl-5.21.3/bin/perl5.21.3 "-MExtUtils::Command::MM" "-MTest::Harness" "-e" "undef *Test::Harness::Switches; test_harness(0, 'inc', 'blib/lib', 'blib/arch')" t/00-load.t t/01-manifest.t t/02-boilerplate.t t/03-pod-coverage.t t/04-pod.t t/10-app.t t/11-defaults.t t/12-delim.t t/13-edges.t t/14-link.t t/15-main.t t/16-page.t t/17-rows.t t/18-page_arg.t t/19-invalid.t t/20-page_auto.t t/21-prefix.t t/22-side.t t/23-style.t t/24-suffix.t t/25-text.t t/26-objects.t t/27-namespace.t t/28-subclass.t
# Testing CatalystX::Widget::Paginator 0.04, Perl 5.021003, /bbbike/perl-5.21.3/bin/perl5.21.3
t/00-load.t .......... ok
t/01-manifest.t ...... skipped: Author tests not required for installation
t/02-boilerplate.t ... ok
t/03-pod-coverage.t .. ok
t/04-pod.t ........... ok
t/10-app.t ........... ok
t/11-defaults.t ...... ok
t/12-delim.t ......... ok
t/13-edges.t ......... ok
t/14-link.t .......... ok
t/15-main.t .......... ok
t/16-page.t .......... ok
t/17-rows.t .......... ok
t/18-page_arg.t ...... ok
t/19-invalid.t ....... ok
t/20-page_auto.t ..... ok
t/21-prefix.t ........ ok
t/22-side.t .......... ok
t/23-style.t ......... ok
t/24-suffix.t ........ ok
t/25-text.t .......... ok
t/26-objects.t ....... ok
t/27-namespace.t ..... ok
t/28-subclass.t ...... ok
All tests successful.
Test Summary Report
-------------------
t/02-boilerplate.t (Wstat: 0 Tests: 3 Failed: 0)
TODO passed: 1-3
Files=24, Tests=48, 29 wallclock secs ( 0.06 usr 0.12 sys + 15.30 cusr 2.46 csys = 17.94 CPU)
Result: PASS
------------------------------
PREREQUISITES
------------------------------
Prerequisite modules loaded:
requires:
Module Need Have
----------------------------- ---- --------
Catalyst::Model::DBIC::Schema 0 0.65
Catalyst::Plugin::Widget 0.03 0.04
Catalyst::Test 0 0
DBD::SQLite 0 1.42
DBI 0 1.631
Test::More 0 1.001006
build_requires:
Module Need Have
----------------------------- ---- --------
Catalyst::Model::DBIC::Schema 0 0.65
Catalyst::Test 0 0
DBD::SQLite 0 1.42
DBI 0 1.631
ExtUtils::MakeMaker 6.42 6.98
Test::More 0 1.001006
configure_requires:
Module Need Have
----------------------------- ---- --------
ExtUtils::MakeMaker 6.42 6.98
------------------------------
ENVIRONMENT AND OTHER CONTEXT
------------------------------
Environment variables:
DBIC_NO_WARN_BAD_PERL = 1
LANG = C
PATH = /usr/local/bin:/usr/bin:/bin:/usr/local/sbin:/usr/sbin:/sbin:/home/eserte/bin/linux-gnu:/home/eserte/bin/sh:/home/eserte/bin:/usr/games:/home/eserte/devel:/home/eserte/src/srezic-misc/scripts
PERL5LIB = /home/eserte/.cpan/build/Catalyst-Plugin-Widget-0.04-7aRjFI/blib/arch:/home/eserte/.cpan/build/Catalyst-Plugin-Widget-0.04-7aRjFI/blib/lib:/home/eserte/.cpan/build/Catalyst-Model-DBIC-Schema-0.65-ZmP0Vx/blib/arch:/home/eserte/.cpan/build/Catalyst-Model-DBIC-Schema-0.65-ZmP0Vx/blib/lib:/home/eserte/.cpan/build/CatalystX-Component-Traits-0.19-0EwW4e/blib/arch:/home/eserte/.cpan/build/CatalystX-Component-Traits-0.19-0EwW4e/blib/lib:/home/eserte/.cpan/build/MooseX-Traits-Pluggable-0.12-L7eB_5/blib/arch:/home/eserte/.cpan/build/MooseX-Traits-Pluggable-0.12-L7eB_5/blib/lib:/home/eserte/.cpan/build/Catalyst-Component-InstancePerContext-0.001001-xoz6Kf/blib/arch:/home/eserte/.cpan/build/Catalyst-Component-InstancePerContext-0.001001-xoz6Kf/blib/lib
PERL5OPT =
PERL5_CPANPLUS_IS_RUNNING = 15893
PERL5_CPAN_IS_RUNNING = 15893
PERL5_CPAN_IS_RUNNING_IN_RECURSION = 15818,15893
PERLDOC = -MPod::Perldoc::ToTextOverstrike
PERL_BATCH = yes
PERL_CPAN_REPORTER_CONFIG = /var/tmp/cpansmoker-1001/6Xmg1X5Tja_config.ini
PERL_EXTUTILS_AUTOINSTALL = --defaultdeps
PERL_HASH_SEED = 0
PERL_HTML_DISPLAY_CLASS = HTML::Display::Mozilla
PERL_PERTURB_KEYS = NO
SHELL = /bin/zsh
TERM = screen
TMPDIR = /var/tmp/cpansmoker-1001
Perl special variables (and OS-specific diagnostics, for MSWin32):
$^X = /bbbike/perl-5.21.3/bin/perl5.21.3
$UID/$EUID = 1001 / 1001
$GID = 1001 109 1001
$EGID = 1001 109 1001
Perl module toolchain versions installed:
Module Have
------------------- --------
CPAN 2.05
CPAN::Meta 2.142060
Cwd 3.49
ExtUtils::CBuilder 0.280217
ExtUtils::Command 1.18
ExtUtils::Install 1.68
ExtUtils::MakeMaker 6.98
ExtUtils::Manifest 1.66
ExtUtils::ParseXS 3.25
File::Spec 3.49
JSON 2.90
JSON::PP 2.27203
Module::Build 0.4210
Module::Signature 0.73
Parse::CPAN::Meta 1.4414
Test::Harness 3.33
Test::More 1.001006
YAML 1.11
YAML::Syck 1.27
version 0.9909
--
Summary of my perl5 (revision 5 version 21 subversion 3) configuration:
Platform:
osname=linux, osvers=3.2.0-4-amd64, archname=x86_64-linux
uname='linux eserte 3.2.0-4-amd64 #1 smp debian 3.2.60-1+deb7u3 x86_64 gnulinux '
config_args='-ds -e -Dprefix=/opt/perl-5.21.3t -Dusedevel -Dusemallocwrap=no -Dusethreads'
hint=previous, useposix=true, d_sigaction=define
useithreads=undef, usemultiplicity=undef
use64bitint=define, use64bitall=define, uselongdouble=undef
usemymalloc=n, bincompat5005=undef
Compiler:
cc='cc', ccflags ='-fwrapv -fno-strict-aliasing -pipe -fstack-protector -I/usr/local/include -D_LARGEFILE_SOURCE -D_FILE_OFFSET_BITS=64 -D_FORTIFY_SOURCE=2',
optimize='-O2',
cppflags='-fwrapv -fno-strict-aliasing -pipe -fstack-protector -I/usr/local/include -fwrapv -fno-strict-aliasing -pipe -fstack-protector -I/usr/local/include -D_LARGEFILE_SOURCE -D_FILE_OFFSET_BITS=64 -D_FORTIFY_SOURCE=2'
ccversion='', gccversion='4.7.2', gccosandvers=''
intsize=4, longsize=8, ptrsize=8, doublesize=8, byteorder=12345678
d_longlong=define, longlongsize=8, d_longdbl=define, longdblsize=16, longdblkind=3
ivtype='long', ivsize=8, nvtype='double', nvsize=8, Off_t='off_t', lseeksize=8
alignbytes=8, prototype=define
Linker and Libraries:
ld='cc', ldflags =' -fstack-protector -L/usr/local/lib'
libpth=/usr/local/lib /usr/lib/gcc/x86_64-linux-gnu/4.7/include-fixed /usr/include/x86_64-linux-gnu /usr/lib /lib/x86_64-linux-gnu /lib/../lib /usr/lib/x86_64-linux-gnu /usr/lib/../lib /lib /usr/local/lib /usr/lib/gcc/x86_64-linux-gnu/4.7/include-fixed /usr/include/x86_64-linux-gnu /usr/lib
libs=-lnsl -ldb -ldl -lm -lcrypt -lutil -lc
perllibs=-lnsl -ldl -lm -lcrypt -lutil -lc
libc=libc-2.13.so, so=so, useshrplib=false, libperl=libperl.a
gnulibc_version='2.13'
Dynamic Linking:
dlsrc=dl_dlopen.xs, dlext=so, d_dlsymun=undef, ccdlflags='-Wl,-E'
cccdlflags='-fPIC', lddlflags='-shared -O2 -L/usr/local/lib -fstack-protector'
Characteristics of this binary (from libperl):
Compile-time options: HAS_TIMES PERLIO_LAYERS PERL_DONT_CREATE_GVSV
PERL_HASH_FUNC_ONE_AT_A_TIME_HARD
PERL_NEW_COPY_ON_WRITE PERL_PRESERVE_IVUV
PERL_USE_DEVEL USE_64_BIT_ALL USE_64_BIT_INT
USE_LARGE_FILES USE_LOCALE USE_LOCALE_COLLATE
USE_LOCALE_CTYPE USE_LOCALE_NUMERIC USE_LOCALE_TIME
USE_PERLIO USE_PERL_ATOF
Built under linux
Compiled at Aug 21 2014 18:13:43
%ENV:
PERL5LIB="/home/eserte/.cpan/build/Catalyst-Plugin-Widget-0.04-7aRjFI/blib/arch:/home/eserte/.cpan/build/Catalyst-Plugin-Widget-0.04-7aRjFI/blib/lib:/home/eserte/.cpan/build/Catalyst-Model-DBIC-Schema-0.65-ZmP0Vx/blib/arch:/home/eserte/.cpan/build/Catalyst-Model-DBIC-Schema-0.65-ZmP0Vx/blib/lib:/home/eserte/.cpan/build/CatalystX-Component-Traits-0.19-0EwW4e/blib/arch:/home/eserte/.cpan/build/CatalystX-Component-Traits-0.19-0EwW4e/blib/lib:/home/eserte/.cpan/build/MooseX-Traits-Pluggable-0.12-L7eB_5/blib/arch:/home/eserte/.cpan/build/MooseX-Traits-Pluggable-0.12-L7eB_5/blib/lib:/home/eserte/.cpan/build/Catalyst-Component-InstancePerContext-0.001001-xoz6Kf/blib/arch:/home/eserte/.cpan/build/Catalyst-Component-InstancePerContext-0.001001-xoz6Kf/blib/lib"
PERL5OPT=""
PERL5_CPANPLUS_IS_RUNNING="15893"
PERL5_CPAN_IS_RUNNING="15893"
PERL5_CPAN_IS_RUNNING_IN_RECURSION="15818,15893"
PERLDOC="-MPod::Perldoc::ToTextOverstrike"
PERL_BATCH="yes"
PERL_CPAN_REPORTER_CONFIG="/var/tmp/cpansmoker-1001/6Xmg1X5Tja_config.ini"
PERL_EXTUTILS_AUTOINSTALL="--defaultdeps"
PERL_HASH_SEED="0"
PERL_HTML_DISPLAY_CLASS="HTML::Display::Mozilla"
PERL_PERTURB_KEYS="NO"
@INC:
/home/eserte/.cpan/build/Catalyst-Plugin-Widget-0.04-7aRjFI/blib/arch
/home/eserte/.cpan/build/Catalyst-Plugin-Widget-0.04-7aRjFI/blib/lib
/home/eserte/.cpan/build/Catalyst-Model-DBIC-Schema-0.65-ZmP0Vx/blib/arch
/home/eserte/.cpan/build/Catalyst-Model-DBIC-Schema-0.65-ZmP0Vx/blib/lib
/home/eserte/.cpan/build/CatalystX-Component-Traits-0.19-0EwW4e/blib/arch
/home/eserte/.cpan/build/CatalystX-Component-Traits-0.19-0EwW4e/blib/lib
/home/eserte/.cpan/build/MooseX-Traits-Pluggable-0.12-L7eB_5/blib/arch
/home/eserte/.cpan/build/MooseX-Traits-Pluggable-0.12-L7eB_5/blib/lib
/home/eserte/.cpan/build/Catalyst-Component-InstancePerContext-0.001001-xoz6Kf/blib/arch
/home/eserte/.cpan/build/Catalyst-Component-InstancePerContext-0.001001-xoz6Kf/blib/lib
/opt/perl-5.21.3/lib/site_perl/5.21.3/x86_64-linux
/opt/perl-5.21.3/lib/site_perl/5.21.3
/opt/perl-5.21.3/lib/5.21.3/x86_64-linux
/opt/perl-5.21.3/lib/5.21.3
.