Text-Amuse v1.83 Perl 5 v5.30.3 x86_64-linux-ld

Status
Pass
From
David Cantrell (DCANTRELL)
Dist
Text-Amuse v1.83
Platform
Perl 5 v5.30.3 x86_64-linux-ld
Date
2023-02-20 03:51:13
ID
d2084f8c-b0d1-11ed-a1b7-a70766d91a41
This distribution has been tested as part of the CPAN Testers
project, supporting the Perl programming language.  See
http://wiki.cpantesters.org/ for more information or email
questions to cpan-testers-discuss@perl.org


--
Dear Marco Pessotto,

This is a computer-generated report for Text-Amuse-1.83
on perl 5.30.3, created by CPAN-Reporter-1.2018.

Thank you for uploading your work to CPAN.  Congratulations!
All tests were successful.

Sections of this report:

    * Tester comments
    * Program output
    * Prerequisites
    * Environment and other context

------------------------------
TESTER COMMENTS
------------------------------

Additional comments from tester:

this report is from an automated smoke testing program
and was not reviewed by a human for accuracy

------------------------------
PROGRAM OUTPUT
------------------------------

Output from '/usr/bin/make test':

PERL_DL_NONLAZY=1 "/home/david/cpantesting/perl-5.30.3-longdouble/bin/perl" "-MExtUtils::Command::MM" "-MTest::Harness" "-e" "undef *Test::Harness::Switches; test_harness(0, 'blib/lib', 'blib/arch')" t/*.t
# Testing Text::Amuse 1.83, Perl 5.030003, /home/david/cpantesting/perl-5.30.3-longdouble/bin/perl
t/00-load.t ............. ok
t/bidi.t ................ ok
t/br.t .................. ok
t/breakages.t ........... ok
Forcing the closing of quote
Couldn't retrieve verse from the pile
Couldn't retrieve example from the pile
t/broken.t .............. ok
t/caching.t ............. ok
t/changes.t ............. skipped: Changes testing not required (or Test::CPAN::Changes not found)
t/context-parsing.t ..... ok
# <h2 id="toc1">Bug title</h2>
# 
# 
# <p>
# This text is not displayed
# </p>
# <h2 id="toc2"></h2>
# 
# \part{Bug title}
# 
# 
# This text is not displayed
# 
# \part{}
# 
# <p class="tableofcontentline toclevel1"><span class="tocprefix">&#160;&#160;</span><a href="#toc1">Bug title</a></p>
# $VAR1 = {
#           'index' => 1,
#           'string' => 'Bug title',
#           'level' => '1'
#         };
# $VAR2 = {
#           'index' => 2,
#           'string' => '',
#           'level' => '1'
#         };
t/crash-40.t ............ ok
t/crash-on-loops.t ...... ok
t/description-lists.t ... ok
/tmp/UPGTkQcQVT/dash-and-underscore.muse: Overwriting directive 'testme' continuation
 with #__test__me__

/tmp/UPGTkQcQVT/dash-and-underscore.muse: Found empty directive #______________
, it will be removed
/tmp/UPGTkQcQVT/dash-and-underscore.muse: Found empty directive #--------------
, it will be removed
/tmp/UPGTkQcQVT/dash-and-underscore.muse: Overwriting directive ''  with #--------------

/tmp/UPGTkQcQVT/dash-and-underscore.muse: Overwriting directive 'testme' continuation
 with #__test__me__

/tmp/UPGTkQcQVT/dash-and-underscore.muse: Found empty directive #______________
, it will be removed
/tmp/UPGTkQcQVT/dash-and-underscore.muse: Found empty directive #--------------
, it will be removed
/tmp/UPGTkQcQVT/dash-and-underscore.muse: Overwriting directive ''  with #--------------

t/directives.t .......... ok
t/elements.t ............ ok
t/false-lists.t ......... ok
t/footnotes.t ........... ok
t/french.t .............. ok
# Using /tmp/C4QJoY2x5_
# Testing line breaks
# Using /tmp/_ARCu5M_q9
# Testing stripping
# Using /tmp/e18Tpsw0xA
# Using /tmp/yXIrTQO1uS
# Testing formats
# Using /tmp/IucWEcDUbF
# Using /tmp/P_glXigjvC
# Using /tmp/eOcLCO0E7_
# Using /tmp/kSEQWq6HCt
# Using /tmp/6EbiwbD68S
# Using /tmp/R6U71axH90
# Using /tmp/LqkR0e4PM7
t/functions.t ........... ok
t/header-defined.t ...... ok
t/testfiles/headers.muse: Found empty directive #______________
, it will be removed
t/testfiles/headers.muse: Found empty directive #--------------
, it will be removed
t/testfiles/headers.muse: Overwriting directive ''  with #--------------

t/testfiles/headers.muse: Found empty directive #______________
, it will be removed
t/testfiles/headers.muse: Found empty directive #--------------
, it will be removed
t/testfiles/headers.muse: Overwriting directive ''  with #--------------

t/testfiles/headers.muse: Found empty directive #______________
, it will be removed
t/testfiles/headers.muse: Found empty directive #--------------
, it will be removed
t/testfiles/headers.muse: Overwriting directive ''  with #--------------

t/testfiles/headers.muse: Found empty directive #______________
, it will be removed
t/testfiles/headers.muse: Found empty directive #--------------
, it will be removed
t/testfiles/headers.muse: Overwriting directive ''  with #--------------

t/headers.t ............. ok
t/hyphenation.t ......... ok
t/images.t .............. ok
Directory traversal or hidden file found in included ../../../../../../../../../../../../../../../../../../../../../etc/passwd! at /home/david/cpantesting/perl-5.30.3-longdouble/.cpan/build/Text-Amuse-1.83-0/blib/lib/Text/Amuse/Document.pm line 418.
Directory traversal or hidden file found in included ../../../../../../../../../../../../../../../../../../../../../etc/passwd! at /home/david/cpantesting/perl-5.30.3-longdouble/.cpan/build/Text-Amuse-1.83-0/blib/lib/Text/Amuse/Document.pm line 418.
Directory traversal or hidden file found in included include/../include/pippo.muse! at /home/david/cpantesting/perl-5.30.3-longdouble/.cpan/build/Text-Amuse-1.83-0/blib/lib/Text/Amuse/Document.pm line 418.
Directory traversal or hidden file found in included include/./pippo.muse! at /home/david/cpantesting/perl-5.30.3-longdouble/.cpan/build/Text-Amuse-1.83-0/blib/lib/Text/Amuse/Document.pm line 418.
Directory traversal or hidden file found in included include/./pippo.muse! at /home/david/cpantesting/perl-5.30.3-longdouble/.cpan/build/Text-Amuse-1.83-0/blib/lib/Text/Amuse/Document.pm line 418.
# $VAR1 = [
#           'Directory traversal or hidden file found in included include/.pippo.muse! at /home/david/cpantesting/perl-5.30.3-longdouble/.cpan/build/Text-Amuse-1.83-0/blib/lib/Text/Amuse/Document.pm line 418.
# ',
#           'Invalid file or directory name (slashes?) found in included include\\pippo.muse! at /home/david/cpantesting/perl-5.30.3-longdouble/.cpan/build/Text-Amuse-1.83-0/blib/lib/Text/Amuse/Document.pm line 423.
# ',
#           'Invalid file or directory name (slashes?) found in included include/pi\\\\ppo.muse! at /home/david/cpantesting/perl-5.30.3-longdouble/.cpan/build/Text-Amuse-1.83-0/blib/lib/Text/Amuse/Document.pm line 423.
# '
#         ];
t/includes.t ............ ok
# Test *M \textbackslash{}\{\#!\_<"> e*\forcelinebreak  \texttt{code}
# Test **M \textbackslash{}\{\#!\_<"> e**\forcelinebreak 
# Test *M \{#!_&lt;&quot;&gt; e*<br /> <code>code</code>
# Test **M \{#!_&lt;&quot;&gt; e**<br />
# \emph{This is a [1] long string with \href{http://example.com}{\textbf{\emph{strong}}} emph} and some material
# <em>This is a [1] long string with <a class="text-amuse-link" href="http://example.com"><strong><em>strong</em></strong></a> emph</em> and some material
# \textbf{This \emph{is} a [1] long string} with \href{http://example.com}{\textbf{\emph{strong}}} \emph{emph} and \{3\} \texttt{some} material
# <strong>This <em>is</em> a [1] long string</strong> with <a class="text-amuse-link" href="http://example.com"><strong><em>strong</em></strong></a> <em>emph</em> and {3} <code>some</code> material
# syntax for \texttt{<example>} is \texttt{\{\{\{} \texttt{\}\}\}}:
# syntax for <code>&lt;example&gt;</code> is <code>{{{</code> <code>}}}</code>:
# Test <verbatim> <\Slash{}verbatim>
# Test &lt;verbatim&gt; &lt;/verbatim&gt;
<code> is already verbatim! in "<code><verbatim>[[link]]</verbatim></code>"
# \texttt{[[link]]}
<code> is already verbatim! in "<code><verbatim>[[link]]</verbatim></code>"
# <code>[[link]]</code>
# 
# \bigskip
# <br />
# \emph{à
# \forcelinebreak 
# đ}
# <em>à
# <br />
# đ</em>
# 0
# 0
# 
# 0
# 
# 0
# \texttt{=} there \texttt{*}
# <code>=</code> there <code>*</code>
Found open_inline tag *** in <***Hello there ***> without a matching closing tag. Leaving it as-is, but it's unlikely you want this. To suppress this warning, wrap it in <verbatim>
t/inline-elements.t ..... ok
Found unclosed tag em in string <*foo *bar*
>, closing it
Found unclosed tag em in string </*foo *bar*/
>, closing it
Found unclosed tag em in string < *foo *bar*
>, closing it
Found unclosed tag em in string < material *foo *bar* material
>, closing it
Found unclosed tag em in string <,*foo *bar*,
>, closing it
Found unclosed tag em in string <.*foo *bar*.
>, closing it
Found unclosed tag em in string <(*foo *bar*(
>, closing it
Found unclosed tag em in string <-*foo *bar*-
>, closing it
t/inline-markup.t ....... ok
t/internal-linking.t .... ok
Unknown language xx at /home/david/cpantesting/perl-5.30.3-longdouble/.cpan/build/Text-Amuse-1.83-0/blib/lib/Text/Amuse/Document.pm line 292.
# 
# Hello
# 
# \begin{otherlanguage}{croatian}
# 
# Test
# 
# \end{otherlanguage}
# 
# Test
# 
# \begin{otherlanguage}{italian}
# 
# Hello \foreignlanguage{french}{Ćao} inlined.
# 
# 
# \foreignlanguage{arabic}{Ciao}
# 
# \end{otherlanguage}
# 
# <p>
# Hello
# </p>
# <div lang="hr">
# 
# <p>
# Test
# </p>
# </div>
# 
# <p>
# Test
# </p>
# <div lang="it">
# 
# <p>
# Hello <span lang="fr">Ćao</span> inlined.
# </p>
# 
# <p>
# <span lang="ar">Ciao</span>
# </p>
# </div>
t/languages.t ........... ok
LLL doesn't map exactly to a list index!
iiii doesn't map exactly to a list index!
t/list-continuations.t .. ok
t/lists.t ............... ok
t/manifest.t ............ skipped: Author tests not required for installation
<code> is already verbatim! in "<code><verbatim>[[link]]</verbatim></code>"
<code> is already verbatim! in "<code><verbatim>[[link]]</verbatim></code>"
<code> is already verbatim! in "<code><verbatim>[[link]]</verbatim></code>"
<code> is already verbatim! in "<code><verbatim>[[link]]</verbatim></code>"
<code> is already verbatim! in "<code><verbatim>[[link]]</verbatim></code>"
<code> is already verbatim! in "<code><verbatim>[[link]]</verbatim></code>"
t/memory-cycles.t ....... ok
t/memory-size.t ......... skipped: Devel::Size required for testing memory usage
t/missing-bidi.t ........ ok
t/muse-to-object.t ...... ok
# Trying passing a ref to a scalar
t/on-the-fly.t .......... ok
Couldn't retrieve verse from the pile
Couldn't retrieve comment from the pile
Couldn't retrieve comment from the pile
Couldn't retrieve verse from the pile
Found open tag em in <<script>alert("hacked!")</script><em><strong>> without a matching closing tag. Leaving it as-is, but it's unlikely you want this. To suppress this warning, wrap it in <verbatim>
Found open tag strong in <<script>alert("hacked!")</script><em><strong>> without a matching closing tag. Leaving it as-is, but it's unlikely you want this. To suppress this warning, wrap it in <verbatim>
Found open tag em in <<script>alert("hacked!")</script><em><strong>> without a matching closing tag. Leaving it as-is, but it's unlikely you want this. To suppress this warning, wrap it in <verbatim>
Found open tag strong in <<script>alert("hacked!")</script><em><strong>> without a matching closing tag. Leaving it as-is, but it's unlikely you want this. To suppress this warning, wrap it in <verbatim>
<code> is already verbatim! in "<code><verbatim><br> *hello* <br></verbatim></code>"
<code> is already verbatim! in "<code><verbatim><br> *hello* <br></verbatim></code>"
<code> is already verbatim! in "<code><verbatim><br> *hello* <br></verbatim></code>"
<code> is already verbatim! in "<code><verbatim><br> *hello* <br></verbatim></code>"
Table width should be a percentage between 1 and 99, you provided 101
Table width should be a percentage between 1 and 99, you provided 101
t/testfiles/nbsp.muse: Found empty directive #---------------------------
, it will be removed
t/testfiles/nbsp.muse: Found empty directive #---------------------------
, it will be removed
t/testfiles/nbsp.muse: Overwriting directive ''  with #---------------------------

t/testfiles/10_theses.muse: Overwriting directive 'testme' continuation
 with #__test__me__

Forcing the closing of quote
Couldn't retrieve verse from the pile
Couldn't retrieve example from the pile
Found close tag em in <</em>
</strong>
<code>> without a matching opening tag. Leaving it as-is, but it's unlikely you want this. To suppress this warning, wrap it in <verbatim>
Found close tag strong in <</em>
</strong>
<code>> without a matching opening tag. Leaving it as-is, but it's unlikely you want this. To suppress this warning, wrap it in <verbatim>
Found close tag em in <</em>
</strong>
<code>> without a matching opening tag. Leaving it as-is, but it's unlikely you want this. To suppress this warning, wrap it in <verbatim>
Found close tag strong in <</em>
</strong>
<code>> without a matching opening tag. Leaving it as-is, but it's unlikely you want this. To suppress this warning, wrap it in <verbatim>
Found close tag em in <</em>> without a matching opening tag. Leaving it as-is, but it's unlikely you want this. To suppress this warning, wrap it in <verbatim>
Found close tag strong in <</strong>> without a matching opening tag. Leaving it as-is, but it's unlikely you want this. To suppress this warning, wrap it in <verbatim>
Found close tag em in <</em>> without a matching opening tag. Leaving it as-is, but it's unlikely you want this. To suppress this warning, wrap it in <verbatim>
Found close tag strong in <</strong>> without a matching opening tag. Leaving it as-is, but it's unlikely you want this. To suppress this warning, wrap it in <verbatim>
Forcing the closing of quote
Found close tag em in <</em>> without a matching opening tag. Leaving it as-is, but it's unlikely you want this. To suppress this warning, wrap it in <verbatim>
Found close tag strong in <</strong>> without a matching opening tag. Leaving it as-is, but it's unlikely you want this. To suppress this warning, wrap it in <verbatim>
Found close tag em in <</em>> without a matching opening tag. Leaving it as-is, but it's unlikely you want this. To suppress this warning, wrap it in <verbatim>
Found close tag strong in <</strong>> without a matching opening tag. Leaving it as-is, but it's unlikely you want this. To suppress this warning, wrap it in <verbatim>
Found open_inline tag *** in <***bolditalic   ***> without a matching closing tag. Leaving it as-is, but it's unlikely you want this. To suppress this warning, wrap it in <verbatim>
Found open_inline tag *** in <***bolditalic {3} [5] ***> without a matching closing tag. Leaving it as-is, but it's unlikely you want this. To suppress this warning, wrap it in <verbatim>
Found open_inline tag *** in <***bolditalic   ***> without a matching closing tag. Leaving it as-is, but it's unlikely you want this. To suppress this warning, wrap it in <verbatim>
Found open_inline tag *** in <***bolditalic {3} [5] ***> without a matching closing tag. Leaving it as-is, but it's unlikely you want this. To suppress this warning, wrap it in <verbatim>
Forcing the closing of quote
Couldn't retrieve quote from the pile
<code> is already verbatim! in "<code><verbatim>[[link]]</verbatim></code>"
<code> is already verbatim! in "<code><verbatim>[[link]]</verbatim></code>"
<code> is already verbatim! in "<code><verbatim>[[link]]</verbatim></code>"
<code> is already verbatim! in "<code><verbatim>[[link]]</verbatim></code>"
<code> is already verbatim! in "<code><verbatim>[[link]]</verbatim></code>"
<code> is already verbatim! in "<code><verbatim>[[link]]</verbatim></code>"
t/testfiles/headers.muse: Found empty directive #______________
, it will be removed
t/testfiles/headers.muse: Found empty directive #--------------
, it will be removed
t/testfiles/headers.muse: Overwriting directive ''  with #--------------

Found unclosed tag em in string <And. *this is
*broken* and will not compile.
>, closing it
Found unclosed tag em in string <<em>This should</em> <em> <em>compile</em>
>, closing it
<code> is already verbatim! in "<code><verbatim><code></verbatim></code>"
<code> is already verbatim! in "<code><verbatim><em></verbatim></code>"
<code> is already verbatim! in "<code><verbatim><strong></verbatim></code>"
Found unclosed tag em in string <And. *this is
*broken* and will not compile.
>, closing it
Found unclosed tag em in string <<em>This should</em> <em> <em>compile</em>
>, closing it
<code> is already verbatim! in "<code><verbatim><code></verbatim></code>"
<code> is already verbatim! in "<code><verbatim><em></verbatim></code>"
<code> is already verbatim! in "<code><verbatim><strong></verbatim></code>"
Direction already set to rtl! at /home/david/cpantesting/perl-5.30.3-longdouble/.cpan/build/Text-Amuse-1.83-0/blib/lib/Text/Amuse/Document.pm line 542.
Forcing the closing of rtl
Direction already set to ltr! at /home/david/cpantesting/perl-5.30.3-longdouble/.cpan/build/Text-Amuse-1.83-0/blib/lib/Text/Amuse/Document.pm line 542.
Forcing the closing of ltr
t/output.t .............. ok
t/partials.t ............ ok
t/pod-coverage.t ........ skipped: Test::Pod::Coverage 1.08 required for testing POD coverage
t/pod.t ................. ok
t/regexp.t .............. ok
t/rewrite-header.t ...... ok
t/ruby.t ................ ok
t/short-titles.t ........ ok
t/splat.t ............... ok
t/splat_html.t .......... ok
Direction already set to rtl! at /home/david/cpantesting/perl-5.30.3-longdouble/.cpan/build/Text-Amuse-1.83-0/blib/lib/Text/Amuse/Document.pm line 542.
Forcing the closing of rtl
Direction already set to rtl! at /home/david/cpantesting/perl-5.30.3-longdouble/.cpan/build/Text-Amuse-1.83-0/blib/lib/Text/Amuse/Document.pm line 542.
Forcing the closing of rtl
Forcing the closing of quote
Couldn't retrieve verse from the pile
Couldn't retrieve example from the pile
Found close tag em in <</em>
</strong>
<code>> without a matching opening tag. Leaving it as-is, but it's unlikely you want this. To suppress this warning, wrap it in <verbatim>
Found close tag strong in <</em>
</strong>
<code>> without a matching opening tag. Leaving it as-is, but it's unlikely you want this. To suppress this warning, wrap it in <verbatim>
Found close tag em in <</em>
</strong>
<code>> without a matching opening tag. Leaving it as-is, but it's unlikely you want this. To suppress this warning, wrap it in <verbatim>
Found close tag strong in <</em>
</strong>
<code>> without a matching opening tag. Leaving it as-is, but it's unlikely you want this. To suppress this warning, wrap it in <verbatim>
Forcing the closing of quote
Couldn't retrieve verse from the pile
Couldn't retrieve example from the pile
Found close tag em in <</em>
</strong>
<code>> without a matching opening tag. Leaving it as-is, but it's unlikely you want this. To suppress this warning, wrap it in <verbatim>
Found close tag strong in <</em>
</strong>
<code>> without a matching opening tag. Leaving it as-is, but it's unlikely you want this. To suppress this warning, wrap it in <verbatim>
Found close tag em in <</em>
</strong>
<code>> without a matching opening tag. Leaving it as-is, but it's unlikely you want this. To suppress this warning, wrap it in <verbatim>
Found close tag strong in <</em>
</strong>
<code>> without a matching opening tag. Leaving it as-is, but it's unlikely you want this. To suppress this warning, wrap it in <verbatim>
Table width should be a percentage between 1 and 99, you provided 101
Table width should be a percentage between 1 and 99, you provided 101
Table width should be a percentage between 1 and 99, you provided 101
Table width should be a percentage between 1 and 99, you provided 101
Found open_inline tag *** in <***bolditalic   ***> without a matching closing tag. Leaving it as-is, but it's unlikely you want this. To suppress this warning, wrap it in <verbatim>
Found open_inline tag *** in <***bolditalic {3} [5] ***> without a matching closing tag. Leaving it as-is, but it's unlikely you want this. To suppress this warning, wrap it in <verbatim>
Found open_inline tag *** in <***bolditalic   ***> without a matching closing tag. Leaving it as-is, but it's unlikely you want this. To suppress this warning, wrap it in <verbatim>
Found open_inline tag *** in <***bolditalic {3} [5] ***> without a matching closing tag. Leaving it as-is, but it's unlikely you want this. To suppress this warning, wrap it in <verbatim>
Found open_inline tag *** in <***bolditalic   ***> without a matching closing tag. Leaving it as-is, but it's unlikely you want this. To suppress this warning, wrap it in <verbatim>
Found open_inline tag *** in <***bolditalic {3} [5] ***> without a matching closing tag. Leaving it as-is, but it's unlikely you want this. To suppress this warning, wrap it in <verbatim>
Found open_inline tag *** in <***bolditalic   ***> without a matching closing tag. Leaving it as-is, but it's unlikely you want this. To suppress this warning, wrap it in <verbatim>
Found open_inline tag *** in <***bolditalic {3} [5] ***> without a matching closing tag. Leaving it as-is, but it's unlikely you want this. To suppress this warning, wrap it in <verbatim>
Direction already set to ltr! at /home/david/cpantesting/perl-5.30.3-longdouble/.cpan/build/Text-Amuse-1.83-0/blib/lib/Text/Amuse/Document.pm line 542.
Forcing the closing of ltr
Direction already set to ltr! at /home/david/cpantesting/perl-5.30.3-longdouble/.cpan/build/Text-Amuse-1.83-0/blib/lib/Text/Amuse/Document.pm line 542.
Forcing the closing of ltr
Forcing the closing of quote
Couldn't retrieve quote from the pile
Forcing the closing of quote
Couldn't retrieve quote from the pile
t/testfiles/10_theses.muse: Overwriting directive 'testme' continuation
 with #__test__me__

t/testfiles/10_theses.muse: Overwriting directive 'testme' continuation
 with #__test__me__

<code> is already verbatim! in "<code><verbatim><br> *hello* <br></verbatim></code>"
<code> is already verbatim! in "<code><verbatim><br> *hello* <br></verbatim></code>"
<code> is already verbatim! in "<code><verbatim><br> *hello* <br></verbatim></code>"
<code> is already verbatim! in "<code><verbatim><br> *hello* <br></verbatim></code>"
<code> is already verbatim! in "<code><verbatim><br> *hello* <br></verbatim></code>"
<code> is already verbatim! in "<code><verbatim><br> *hello* <br></verbatim></code>"
<code> is already verbatim! in "<code><verbatim><br> *hello* <br></verbatim></code>"
<code> is already verbatim! in "<code><verbatim><br> *hello* <br></verbatim></code>"
Found unclosed tag em in string <And. *this is
*broken* and will not compile.
>, closing it
Found unclosed tag em in string <<em>This should</em> <em> <em>compile</em>
>, closing it
<code> is already verbatim! in "<code><verbatim><code></verbatim></code>"
<code> is already verbatim! in "<code><verbatim><em></verbatim></code>"
<code> is already verbatim! in "<code><verbatim><strong></verbatim></code>"
Found unclosed tag em in string <And. *this is
*broken* and will not compile.
>, closing it
Found unclosed tag em in string <<em>This should</em> <em> <em>compile</em>
>, closing it
<code> is already verbatim! in "<code><verbatim><code></verbatim></code>"
<code> is already verbatim! in "<code><verbatim><em></verbatim></code>"
<code> is already verbatim! in "<code><verbatim><strong></verbatim></code>"
Found unclosed tag em in string <And. *this is
*broken* and will not compile.
>, closing it
Found unclosed tag em in string <<em>This should</em> <em> <em>compile</em>
>, closing it
<code> is already verbatim! in "<code><verbatim><code></verbatim></code>"
<code> is already verbatim! in "<code><verbatim><em></verbatim></code>"
<code> is already verbatim! in "<code><verbatim><strong></verbatim></code>"
Found unclosed tag em in string <And. *this is
*broken* and will not compile.
>, closing it
Found unclosed tag em in string <<em>This should</em> <em> <em>compile</em>
>, closing it
<code> is already verbatim! in "<code><verbatim><code></verbatim></code>"
<code> is already verbatim! in "<code><verbatim><em></verbatim></code>"
<code> is already verbatim! in "<code><verbatim><strong></verbatim></code>"
t/testfiles/headers.muse: Found empty directive #______________
, it will be removed
t/testfiles/headers.muse: Found empty directive #--------------
, it will be removed
t/testfiles/headers.muse: Overwriting directive ''  with #--------------

t/testfiles/headers.muse: Found empty directive #______________
, it will be removed
t/testfiles/headers.muse: Found empty directive #--------------
, it will be removed
t/testfiles/headers.muse: Overwriting directive ''  with #--------------

<code> is already verbatim! in "<code><verbatim>[[link]]</verbatim></code>"
<code> is already verbatim! in "<code><verbatim>[[link]]</verbatim></code>"
<code> is already verbatim! in "<code><verbatim>[[link]]</verbatim></code>"
<code> is already verbatim! in "<code><verbatim>[[link]]</verbatim></code>"
<code> is already verbatim! in "<code><verbatim>[[link]]</verbatim></code>"
<code> is already verbatim! in "<code><verbatim>[[link]]</verbatim></code>"
<code> is already verbatim! in "<code><verbatim>[[link]]</verbatim></code>"
<code> is already verbatim! in "<code><verbatim>[[link]]</verbatim></code>"
<code> is already verbatim! in "<code><verbatim>[[link]]</verbatim></code>"
<code> is already verbatim! in "<code><verbatim>[[link]]</verbatim></code>"
<code> is already verbatim! in "<code><verbatim>[[link]]</verbatim></code>"
<code> is already verbatim! in "<code><verbatim>[[link]]</verbatim></code>"
Couldn't retrieve verse from the pile
Couldn't retrieve comment from the pile
Couldn't retrieve comment from the pile
Couldn't retrieve verse from the pile
Couldn't retrieve verse from the pile
Couldn't retrieve comment from the pile
Couldn't retrieve comment from the pile
Couldn't retrieve verse from the pile
Found close tag em in <</em>> without a matching opening tag. Leaving it as-is, but it's unlikely you want this. To suppress this warning, wrap it in <verbatim>
Found close tag strong in <</strong>> without a matching opening tag. Leaving it as-is, but it's unlikely you want this. To suppress this warning, wrap it in <verbatim>
Found close tag em in <</em>> without a matching opening tag. Leaving it as-is, but it's unlikely you want this. To suppress this warning, wrap it in <verbatim>
Found close tag strong in <</strong>> without a matching opening tag. Leaving it as-is, but it's unlikely you want this. To suppress this warning, wrap it in <verbatim>
Found close tag em in <</em>> without a matching opening tag. Leaving it as-is, but it's unlikely you want this. To suppress this warning, wrap it in <verbatim>
Found close tag strong in <</strong>> without a matching opening tag. Leaving it as-is, but it's unlikely you want this. To suppress this warning, wrap it in <verbatim>
Found close tag em in <</em>> without a matching opening tag. Leaving it as-is, but it's unlikely you want this. To suppress this warning, wrap it in <verbatim>
Found close tag strong in <</strong>> without a matching opening tag. Leaving it as-is, but it's unlikely you want this. To suppress this warning, wrap it in <verbatim>
Forcing the closing of quote
Found close tag em in <</em>> without a matching opening tag. Leaving it as-is, but it's unlikely you want this. To suppress this warning, wrap it in <verbatim>
Found close tag strong in <</strong>> without a matching opening tag. Leaving it as-is, but it's unlikely you want this. To suppress this warning, wrap it in <verbatim>
Found close tag em in <</em>> without a matching opening tag. Leaving it as-is, but it's unlikely you want this. To suppress this warning, wrap it in <verbatim>
Found close tag strong in <</strong>> without a matching opening tag. Leaving it as-is, but it's unlikely you want this. To suppress this warning, wrap it in <verbatim>
Forcing the closing of quote
Found close tag em in <</em>> without a matching opening tag. Leaving it as-is, but it's unlikely you want this. To suppress this warning, wrap it in <verbatim>
Found close tag strong in <</strong>> without a matching opening tag. Leaving it as-is, but it's unlikely you want this. To suppress this warning, wrap it in <verbatim>
Found close tag em in <</em>> without a matching opening tag. Leaving it as-is, but it's unlikely you want this. To suppress this warning, wrap it in <verbatim>
Found close tag strong in <</strong>> without a matching opening tag. Leaving it as-is, but it's unlikely you want this. To suppress this warning, wrap it in <verbatim>
Found open tag em in <<script>alert("hacked!")</script><em><strong>> without a matching closing tag. Leaving it as-is, but it's unlikely you want this. To suppress this warning, wrap it in <verbatim>
Found open tag strong in <<script>alert("hacked!")</script><em><strong>> without a matching closing tag. Leaving it as-is, but it's unlikely you want this. To suppress this warning, wrap it in <verbatim>
Found open tag em in <<script>alert("hacked!")</script><em><strong>> without a matching closing tag. Leaving it as-is, but it's unlikely you want this. To suppress this warning, wrap it in <verbatim>
Found open tag strong in <<script>alert("hacked!")</script><em><strong>> without a matching closing tag. Leaving it as-is, but it's unlikely you want this. To suppress this warning, wrap it in <verbatim>
Found open tag em in <<script>alert("hacked!")</script><em><strong>> without a matching closing tag. Leaving it as-is, but it's unlikely you want this. To suppress this warning, wrap it in <verbatim>
Found open tag strong in <<script>alert("hacked!")</script><em><strong>> without a matching closing tag. Leaving it as-is, but it's unlikely you want this. To suppress this warning, wrap it in <verbatim>
Found open tag em in <<script>alert("hacked!")</script><em><strong>> without a matching closing tag. Leaving it as-is, but it's unlikely you want this. To suppress this warning, wrap it in <verbatim>
Found open tag strong in <<script>alert("hacked!")</script><em><strong>> without a matching closing tag. Leaving it as-is, but it's unlikely you want this. To suppress this warning, wrap it in <verbatim>
t/testfiles/nbsp.muse: Found empty directive #---------------------------
, it will be removed
t/testfiles/nbsp.muse: Found empty directive #---------------------------
, it will be removed
t/testfiles/nbsp.muse: Overwriting directive ''  with #---------------------------

t/testfiles/nbsp.muse: Found empty directive #---------------------------
, it will be removed
t/testfiles/nbsp.muse: Found empty directive #---------------------------
, it will be removed
t/testfiles/nbsp.muse: Overwriting directive ''  with #---------------------------

t/splat_latex.t ......... ok
t/tables.t .............. ok
# Constructor
t/text-amuse.t .......... ok
# $VAR1 = [
#           {
#             'level' => '1',
#             'index' => 1,
#             'string' => 'Part without an anchor'
#           },
#           {
#             'named' => 'text-amuse-label-again2',
#             'level' => '2',
#             'string' => 'A chapter',
#             'index' => 2
#           },
#           {
#             'level' => '3',
#             'named' => 'text-amuse-label-top1',
#             'index' => 3,
#             'string' => 'A chapter'
#           },
#           {
#             'string' => 'A Section',
#             'index' => 4,
#             'level' => '4'
#           }
#         ];
t/title-anchors.t ....... ok
t/tocs-with-fn.t ........ ok
t/tocs.t ................ ok
t/unroll.t .............. ok
Couldn't retrieve example from the pile
Couldn't retrieve example from the pile
t/verbatim.t ............ ok
t/warnings.t ............ ok
All tests successful.
Files=53, Tests=3325, 62 wallclock secs ( 0.98 usr  0.14 sys + 16.62 cusr  1.56 csys = 19.30 CPU)
Result: PASS

------------------------------
PREREQUISITES
------------------------------

Prerequisite modules loaded:

requires:

    Module              Need     Have    
    ------------------- -------- --------
    File::Temp          0        0.2309  
    perl                5.010001 5.030003

build_requires:

    Module              Need     Have    
    ------------------- -------- --------
    Data::Dumper        0        2.174   
    File::Spec          0        3.78    
    Test::More          0        1.302192

configure_requires:

    Module              Need     Have    
    ------------------- -------- --------
    ExtUtils::MakeMaker 0        7.66    


------------------------------
ENVIRONMENT AND OTHER CONTEXT
------------------------------

Environment variables:

    AUTOMATED_TESTING = 1
    LANG = en_GB.UTF-8
    LANGUAGE = en_GB:en
    LC_TERMINAL = iTerm2
    LC_TERMINAL_VERSION = 3.4.19
    NONINTERACTIVE_TESTING = 1
    PATH = /home/david/.nvm/versions/node/v18.13.0/bin:/home/david/.cargo/bin:/home/david/perl5/perlbrew/bin:/home/david/perl5/perlbrew/perls/perl-5.30.2/bin:/home/david/bin:/usr/local/bin:/usr/bin:/bin:/usr/local/games:/usr/games
    PERL = 5.30.3-longdouble
    PERL5LIB = 
    PERL5OPT = 
    PERL5_CPANPLUS_IS_RUNNING = 754373
    PERL5_CPAN_IS_RUNNING = 754373
    PERLBREW_HOME = /home/david/.perlbrew
    PERLBREW_MANPATH = /home/david/perl5/perlbrew/perls/perl-5.30.2/man
    PERLBREW_PATH = /home/david/perl5/perlbrew/bin:/home/david/perl5/perlbrew/perls/perl-5.30.2/bin
    PERLBREW_PERL = perl-5.30.2
    PERLBREW_ROOT = /home/david/perl5/perlbrew
    PERLBREW_SHELLRC_VERSION = 0.89
    PERLBREW_VERSION = 0.89
    PERLVER = 5.30.3-longdouble
    PERL_INLINE_DIRECTORY = /home/david/.Inline-5.30.3-longdouble
    PERL_MM_USE_DEFAULT = 1
    PERL_USE_UNSAFE_INC = 0
    SHELL = /bin/bash
    TERM = screen

Perl special variables (and OS-specific diagnostics, for MSWin32):

    $^X = /home/david/cpantesting/perl-5.30.3-longdouble/bin/perl
    $UID/$EUID = 1000 / 1000
    $GID = 1000 24 25 27 29 30 44 46 109 1000
    $EGID = 1000 24 25 27 29 30 44 46 109 1000

Perl module toolchain versions installed:

    Module              Have    
    ------------------- --------
    CPAN                2.22    
    CPAN::Meta          2.150010
    Cwd                 3.78    
    ExtUtils::CBuilder  0.280231
    ExtUtils::Command   7.66    
    ExtUtils::Install   2.14    
    ExtUtils::MakeMaker 7.66    
    ExtUtils::Manifest  1.72    
    ExtUtils::ParseXS   3.40    
    File::Spec          3.78    
    JSON                4.10    
    JSON::PP            4.16    
    Module::Build       0.4231  
    Module::Signature   n/a     
    Parse::CPAN::Meta   2.150010
    Test::Harness       3.42    
    Test::More          1.302192
    YAML                n/a     
    YAML::Syck          n/a     
    version             0.9924  


--

Summary of my perl5 (revision 5 version 30 subversion 3) configuration:
   
  Platform:
    osname=linux
    osvers=5.10.0-11-amd64
    archname=x86_64-linux-ld
    uname='linux cpantesting-linux-utm 5.10.0-11-amd64 #1 smp debian 5.10.92-1 (2022-01-18) x86_64 gnulinux '
    config_args='-de -Duselongdouble -Dprefix=/home/david/cpantesting/perl-5.30.3-longdouble'
    hint=recommended
    useposix=true
    d_sigaction=define
    useithreads=undef
    usemultiplicity=undef
    use64bitint=define
    use64bitall=define
    uselongdouble=define
    usemymalloc=n
    default_inc_excludes_dot=define
    bincompat5005=undef
  Compiler:
    cc='cc'
    ccflags ='-fwrapv -fno-strict-aliasing -pipe -fstack-protector-strong -I/usr/local/include -D_LARGEFILE_SOURCE -D_FILE_OFFSET_BITS=64 -D_FORTIFY_SOURCE=2'
    optimize='-O2'
    cppflags='-fwrapv -fno-strict-aliasing -pipe -fstack-protector-strong -I/usr/local/include'
    ccversion=''
    gccversion='10.2.1 20210110'
    gccosandvers=''
    intsize=4
    longsize=8
    ptrsize=8
    doublesize=8
    byteorder=12345678
    doublekind=3
    d_longlong=define
    longlongsize=8
    d_longdbl=define
    longdblsize=16
    longdblkind=3
    ivtype='long'
    ivsize=8
    nvtype='long double'
    nvsize=16
    Off_t='off_t'
    lseeksize=8
    alignbytes=16
    prototype=define
  Linker and Libraries:
    ld='cc'
    ldflags =' -fstack-protector-strong -L/usr/local/lib'
    libpth=/usr/local/lib /usr/include/x86_64-linux-gnu /usr/lib /lib/x86_64-linux-gnu /lib/../lib /usr/lib/x86_64-linux-gnu /usr/lib/../lib /lib /lib64 /usr/lib64
    libs=-lpthread -lnsl -ldl -lm -lcrypt -lutil -lc
    perllibs=-lpthread -lnsl -ldl -lm -lcrypt -lutil -lc
    libc=libc-2.31.so
    so=so
    useshrplib=false
    libperl=libperl.a
    gnulibc_version='2.31'
  Dynamic Linking:
    dlsrc=dl_dlopen.xs
    dlext=so
    d_dlsymun=undef
    ccdlflags='-Wl,-E'
    cccdlflags='-fPIC'
    lddlflags='-shared -O2 -L/usr/local/lib -fstack-protector-strong'


Characteristics of this binary (from libperl): 
  Compile-time options:
    HAS_TIMES
    PERLIO_LAYERS
    PERL_COPY_ON_WRITE
    PERL_DONT_CREATE_GVSV
    PERL_MALLOC_WRAP
    PERL_OP_PARENT
    PERL_PRESERVE_IVUV
    USE_64_BIT_ALL
    USE_64_BIT_INT
    USE_LARGE_FILES
    USE_LOCALE
    USE_LOCALE_COLLATE
    USE_LOCALE_CTYPE
    USE_LOCALE_NUMERIC
    USE_LOCALE_TIME
    USE_LONG_DOUBLE
    USE_PERLIO
    USE_PERL_ATOF
  Locally applied patches:
    Devel::PatchPerl 2.08
  Built under linux
  Compiled at Feb  5 2022 21:27:05
  %ENV:
    PERL="5.30.3-longdouble"
    PERL5LIB=""
    PERL5OPT=""
    PERL5_CPANPLUS_IS_RUNNING="754373"
    PERL5_CPAN_IS_RUNNING="754373"
    PERLBREW_HOME="/home/david/.perlbrew"
    PERLBREW_MANPATH="/home/david/perl5/perlbrew/perls/perl-5.30.2/man"
    PERLBREW_PATH="/home/david/perl5/perlbrew/bin:/home/david/perl5/perlbrew/perls/perl-5.30.2/bin"
    PERLBREW_PERL="perl-5.30.2"
    PERLBREW_ROOT="/home/david/perl5/perlbrew"
    PERLBREW_SHELLRC_VERSION="0.89"
    PERLBREW_VERSION="0.89"
    PERLVER="5.30.3-longdouble"
    PERL_INLINE_DIRECTORY="/home/david/.Inline-5.30.3-longdouble"
    PERL_MM_USE_DEFAULT="1"
    PERL_USE_UNSAFE_INC="0"
  @INC:
    /home/david/cpantesting/perl-5.30.3-longdouble/lib/site_perl/5.30.3/x86_64-linux-ld
    /home/david/cpantesting/perl-5.30.3-longdouble/lib/site_perl/5.30.3
    /home/david/cpantesting/perl-5.30.3-longdouble/lib/5.30.3/x86_64-linux-ld
    /home/david/cpantesting/perl-5.30.3-longdouble/lib/5.30.3