Report for Amazon-DynamoDB-0.29

Back
From: metabase:user:320bfe00-2aae-11df-837a-5e0a49663a4f
Subject: PASS Amazon-DynamoDB-0.29 v5.14.4 GNU/Linux
Date: 2014-12-21T22:22:16Z

This distribution has been tested as part of the CPAN Testers
project, supporting the Perl programming language.  See
http://wiki.cpantesters.org/ for more information or email
questions to cpan-testers-discuss@perl.org


--
Dear Rusty Conover,

This is a computer-generated report for Amazon-DynamoDB-0.29
on perl 5.14.4, created by CPAN-Reporter-1.2011.

Thank you for uploading your work to CPAN.  Congratulations!
All tests were successful.

Sections of this report:

    * Tester comments
    * Program output
    * Prerequisites
    * Environment and other context

------------------------------
TESTER COMMENTS
------------------------------

Additional comments from tester:

this report is from an automated smoke testing program
and was not reviewed by a human for accuracy

------------------------------
PROGRAM OUTPUT
------------------------------

Output from '/usr/bin/make test':

PERL_DL_NONLAZY=1 "/home/sand/src/perl/repoperls/installed-perls/perl/v5.14.4/127e/bin/perl" "-MExtUtils::Command::MM" "-MTest::Harness" "-e" "undef *Test::Harness::Switches; test_harness(0, 'blib/lib', 'blib/arch')" t/*.t
t/00use.t ................. ok
t/01-tables-simple.t ...... skipped: Testing this module for real costs money.
t/02-tables-gsi.t ......... skipped: Testing this module for real costs money.
t/02-tables-lsi.t ......... skipped: Testing this module for real costs money.
t/03-simple-get-put.t ..... skipped: Testing this module for real costs money.
t/04-batch-get.t .......... skipped: Testing this module for real costs money.
t/05-batch-write.t ........ skipped: Testing this module for real costs money.
t/06-scan.t ............... skipped: Testing this module for real costs money.
t/07-query.t .............. skipped: Testing this module for real costs money.
t/10-presidential-data.t .. skipped: Testing this module for real costs money.
t/30-nahttp.t ............. skipped: Testing this module for real costs money.
All tests successful.
Files=11, Tests=1,  9 wallclock secs ( 0.04 usr  0.00 sys +  5.18 cusr  0.33 csys =  5.55 CPU)
Result: PASS

------------------------------
PREREQUISITES
------------------------------

Prerequisite modules loaded:

requires:

    Module                             Need Have        
    ---------------------------------- ---- ------------
    AWS::Signature4                    0    1.01        
    B                                  0    1.29        
    Future                             0    0.30        
    Future::Utils                      0    0.30        
    HTTP::Request                      0    6.00        
    IO::Async::Timer::Countdown        0    0.64        
    JSON::XS                           0    3.01        
    Kavorka                            0    0.036       
    List::MoreUtils                    0    0.401       
    List::Util                         0    1.41        
    LWP::UserAgent                     0    6.06        
    MIME::Base64                       0    3.13        
    Module::Load                       0    0.18        
    Mojo::UserAgent                    0    0           
    Net::Async::HTTP                   0.30 0.37        
    POSIX                              0    1.24        
    strict                             0    1.04        
    Type::Library                      0    1.000005    
    Type::Registry                     0    1.000005    
    Type::Utils                        0    1.000005    
    Types::Standard                    0    1.000005    
    VM::EC2::Security::CredentialCache 0    0.18        
    warnings                           0    1.12        

build_requires:

    Module                             Need Have        
    ---------------------------------- ---- ------------
    Data::Dumper                       0    2.154       
    ExtUtils::MakeMaker                0    7.05_02     
    IO::Async::Loop                    0    0.64        
    IO::Async::SSL                     0    0.14        
    lib                                0    0.63        
    String::Random                     0    0.26        
    Test::Differences                  0    0.63        
    Test::More                         0    1.301001_092
    Test::Most                         0    0.34        

configure_requires:

    Module                             Need Have        
    ---------------------------------- ---- ------------
    ExtUtils::MakeMaker                0    7.05_02     


------------------------------
ENVIRONMENT AND OTHER CONTEXT
------------------------------

Environment variables:

    AUTOMATED_TESTING = 1
    LANG = en_US.UTF-8
    LANGUAGE = en_US:en
    PATH = /home/sand/bin:/usr/local/bin:/usr/bin:/bin:/usr/games:/usr/local/perl/bin:/usr/X11/bin:/sbin:/usr/sbin
    PERL5LIB = 
    PERL5OPT = 
    PERL5_CPANPLUS_IS_RUNNING = 9802
    PERL5_CPAN_IS_RUNNING = 9802
    PERL_MM_USE_DEFAULT = 1
    SHELL = /usr/bin/zsh
    TERM = screen

Perl special variables (and OS-specific diagnostics, for MSWin32):

    $^X = /home/sand/src/perl/repoperls/installed-perls/perl/v5.14.4/127e/bin/perl
    $UID/$EUID = 1005 / 1005
    $GID = 1005 1005
    $EGID = 1005 1005

Perl module toolchain versions installed:

    Module              Have        
    ------------------- ------------
    CPAN                2.05        
    CPAN::Meta          2.143240    
    Cwd                 3.47        
    ExtUtils::CBuilder  0.280220    
    ExtUtils::Command   1.17        
    ExtUtils::Install   1.56        
    ExtUtils::MakeMaker 7.05_02     
    ExtUtils::Manifest  1.69        
    ExtUtils::ParseXS   3.24        
    File::Spec          3.47        
    JSON                2.90        
    JSON::PP            2.27203     
    Module::Build       0.4210      
    Module::Signature   0.73        
    Parse::CPAN::Meta   1.4414      
    Test::Harness       3.34        
    Test::More          1.301001_092
    YAML                1.13        
    YAML::Syck          1.29_01     
    version             0.9909      


--

Summary of my perl5 (revision 5 version 14 subversion 4) configuration:
  Commit id: 26c5c13a4ece9084f310610bb17fb2f24c72a73e
  Platform:
    osname=linux, osvers=3.16.0-4-amd64, archname=x86_64-linux-ld
    uname='linux k83 3.16.0-4-amd64 #1 smp debian 3.16.7-2 (2014-11-06) x86_64 gnulinux '
    config_args='-Dprefix=/home/sand/src/perl/repoperls/installed-perls/perl/v5.14.4/127e -Dmyhostname=k83 -Dinstallusrbinperl=n -Uversiononly -Dusedevel -des -Ui_db -Uuseithreads -Duselongdouble -DDEBUGGING=-g'
    hint=recommended, useposix=true, d_sigaction=define
    useithreads=undef, usemultiplicity=undef
    useperlio=define, d_sfio=undef, uselargefiles=define, usesocks=undef
    use64bitint=define, use64bitall=define, uselongdouble=define
    usemymalloc=n, bincompat5005=undef
  Compiler:
    cc='cc', ccflags ='-fno-strict-aliasing -pipe -fstack-protector -I/usr/local/include -D_LARGEFILE_SOURCE -D_FILE_OFFSET_BITS=64',
    optimize='-O2 -g',
    cppflags='-fno-strict-aliasing -pipe -fstack-protector -I/usr/local/include'
    ccversion='', gccversion='4.9.2', gccosandvers=''
    intsize=4, longsize=8, ptrsize=8, doublesize=8, byteorder=12345678
    d_longlong=define, longlongsize=8, d_longdbl=define, longdblsize=16
    ivtype='long', ivsize=8, nvtype='long double', nvsize=16, Off_t='off_t', lseeksize=8
    alignbytes=16, prototype=define
  Linker and Libraries:
    ld='cc', ldflags =' -fstack-protector -L/usr/local/lib'
    libpth=/usr/local/lib /lib/x86_64-linux-gnu /lib/../lib /usr/lib/x86_64-linux-gnu /usr/lib/../lib /lib /usr/lib
    libs=-lnsl -lgdbm -ldb -ldl -lm -lcrypt -lutil -lc -lgdbm_compat
    perllibs=-lnsl -ldl -lm -lcrypt -lutil -lc
    libc=, so=so, useshrplib=false, libperl=libperl.a
    gnulibc_version='2.19'
  Dynamic Linking:
    dlsrc=dl_dlopen.xs, dlext=so, d_dlsymun=undef, ccdlflags='-Wl,-E'
    cccdlflags='-fPIC', lddlflags='-shared -O2 -g -L/usr/local/lib -fstack-protector'


Characteristics of this binary (from libperl): 
  Compile-time options: PERL_DONT_CREATE_GVSV PERL_MALLOC_WRAP
                        PERL_PRESERVE_IVUV PERL_USE_DEVEL USE_64_BIT_ALL
                        USE_64_BIT_INT USE_LARGE_FILES USE_LONG_DOUBLE
                        USE_PERLIO USE_PERL_ATOF
  Built under linux
  Compiled at Dec  4 2014 23:52:39
  %ENV:
    PERL5LIB=""
    PERL5OPT=""
    PERL5_CPANPLUS_IS_RUNNING="9802"
    PERL5_CPAN_IS_RUNNING="9802"
    PERL_MM_USE_DEFAULT="1"
  @INC:
    /home/sand/src/perl/repoperls/installed-perls/perl/v5.14.4/127e/lib/site_perl/5.14.4/x86_64-linux-ld
    /home/sand/src/perl/repoperls/installed-perls/perl/v5.14.4/127e/lib/site_perl/5.14.4
    /home/sand/src/perl/repoperls/installed-perls/perl/v5.14.4/127e/lib/5.14.4/x86_64-linux-ld
    /home/sand/src/perl/repoperls/installed-perls/perl/v5.14.4/127e/lib/5.14.4
    .