Report for Plack-Middleware-ServerStatus-Lite-0.36

Back
From: metabase:user:15c6debe-b638-11e6-8ec8-f42bcddd27ba
Subject: PASS Plack-Middleware-ServerStatus-Lite-0.36 v5.20.3 OpenBSD
Date: 2017-01-25T20:06:55Z

This distribution has been tested as part of the CPAN Testers
project, supporting the Perl programming language.  See
http://wiki.cpantesters.org/ for more information or email
questions to cpan-testers-discuss@perl.org


--
Dear Masahiro Nagano,

This is a computer-generated report for Plack-Middleware-ServerStatus-Lite-0.36
on perl 5.20.3, created by CPAN-Reporter-1.2018.

Thank you for uploading your work to CPAN.  Congratulations!
All tests were successful.

Sections of this report:

    * Tester comments
    * Program output
    * Prerequisites
    * Environment and other context

------------------------------
TESTER COMMENTS
------------------------------

Additional comments from tester:

this report is from an automated smoke testing program
and was not reviewed by a human for accuracy

------------------------------
PROGRAM OUTPUT
------------------------------

Output from './Build test':

t/00_compile.t .............. ok
t/01_builder.t .............. ok
using Starman for test at t/02_server.t line 29.
2017/01/25-21:06:24 Starman::Server (type Net::Server::PreFork) starting! pid(81771)
Resolved [localhost]:50981 to [127.0.0.1]:50981, IPv4
Binding to TCP port 50981 on host 127.0.0.1 with IPv4
Setting gid to "1000 1000 1000 0"
2017/01/25-21:06:27 Server closing!
t/02_server.t ............... ok
using Starman for test at t/03_server_delayed_res.t line 29.
2017/01/25-21:06:27 Starman::Server (type Net::Server::PreFork) starting! pid(20626)
Resolved [localhost]:50075 to [127.0.0.1]:50075, IPv4
Binding to TCP port 50075 on host 127.0.0.1 with IPv4
Setting gid to "1000 1000 1000 0"
2017/01/25-21:06:31 Server closing!
using Starman for test at t/03_server_delayed_res.t line 89.
2017/01/25-21:06:31 Starman::Server (type Net::Server::PreFork) starting! pid(15931)
Resolved [localhost]:51382 to [127.0.0.1]:51382, IPv4
Binding to TCP port 51382 on host 127.0.0.1 with IPv4
Setting gid to "1000 1000 1000 0"
2017/01/25-21:06:34 Server closing!
t/03_server_delayed_res.t ... ok
using Starman for test at t/04_json.t line 31.
2017/01/25-21:06:34 Starman::Server (type Net::Server::PreFork) starting! pid(12606)
Resolved [localhost]:50587 to [127.0.0.1]:50587, IPv4
Binding to TCP port 50587 on host 127.0.0.1 with IPv4
Setting gid to "1000 1000 1000 0"
2017/01/25-21:06:37 Server closing!
t/04_json.t ................. ok
using Starman for test at t/05_counter.t line 31.
2017/01/25-21:06:38 Starman::Server (type Net::Server::PreFork) starting! pid(53814)
Resolved [localhost]:51481 to [127.0.0.1]:51481, IPv4
Binding to TCP port 51481 on host 127.0.0.1 with IPv4
Setting gid to "1000 1000 1000 0"
2017/01/25-21:06:38 Server closing!
t/05_counter.t .............. ok
using Starman for test at t/06_counter_delayed_res.t line 33.
2017/01/25-21:06:38 Starman::Server (type Net::Server::PreFork) starting! pid(57510)
Resolved [localhost]:50089 to [127.0.0.1]:50089, IPv4
Binding to TCP port 50089 on host 127.0.0.1 with IPv4
Setting gid to "1000 1000 1000 0"
2017/01/25-21:06:38 Server closing!
using Starman for test at t/06_counter_delayed_res.t line 95.
2017/01/25-21:06:38 Starman::Server (type Net::Server::PreFork) starting! pid(17246)
Resolved [localhost]:50629 to [127.0.0.1]:50629, IPv4
Binding to TCP port 50629 on host 127.0.0.1 with IPv4
Setting gid to "1000 1000 1000 0"
2017/01/25-21:06:38 Server closing!
t/06_counter_delayed_res.t .. ok
using Starman for test at t/07_skip_ps.t line 29.
2017/01/25-21:06:39 Starman::Server (type Net::Server::PreFork) starting! pid(93378)
Resolved [localhost]:50200 to [127.0.0.1]:50200, IPv4
Binding to TCP port 50200 on host 127.0.0.1 with IPv4
Setting gid to "1000 1000 1000 0"
2017/01/25-21:06:40 Server closing!
t/07_skip_ps.t .............. ok
2017/01/25-21:06:40 Starman::Server (type Net::Server::PreFork) starting! pid(57549)
Resolved [localhost]:50986 to [127.0.0.1]:50986, IPv4
Binding to TCP port 50986 on host 127.0.0.1 with IPv4
Setting gid to "1000 1000 1000 0"
2017/01/25-21:06:43 Server closing!
t/08_command.t .............. ok
All tests successful.
Files=9, Tests=86, 20 wallclock secs ( 0.07 usr  0.07 sys +  2.16 cusr  1.28 csys =  3.58 CPU)
Result: PASS

------------------------------
PREREQUISITES
------------------------------

Prerequisite modules loaded:

requires:

    Module               Need   Have    
    -------------------- ------ --------
    Getopt::Long         2.38   2.42    
    JSON                 2.53   2.90    
    Net::CIDR::Lite      0      0.21    
    Parallel::Scoreboard 0.03   0.08    
    parent               0      0.228   
    Plack::Middleware    0      0       
    Pod::Usage           0      1.63    
    Try::Tiny            0.09   0.27    

build_requires:

    Module               Need   Have    
    -------------------- ------ --------
    B                    0      1.48    
    Capture::Tiny        0      0.44    
    LWP::UserAgent       0      6.15    
    Starman              0.3013 0.4014  
    Test::More           0      1.302067
    Test::SharedFork     0      0.35    
    Test::TCP            2.00   2.17    

configure_requires:

    Module               Need   Have    
    -------------------- ------ --------
    Module::Build        0.38   0.4220  


------------------------------
ENVIRONMENT AND OTHER CONTEXT
------------------------------

Environment variables:

    AUTOMATED_TESTING = 1
    PATH = /home/mb/bin:/bin:/sbin:/usr/bin:/usr/sbin:/usr/X11R6/bin:/usr/local/bin:/usr/local/sbin:/usr/games:.:/home/mb/perl5/bin
    PERL5LIB = /home/mb/.cpan/build/Net-CIDR-Lite-0.21-Q032wR/blib/arch:/home/mb/.cpan/build/Net-CIDR-Lite-0.21-Q032wR/blib/lib:/home/mb/.cpan/build/Parallel-Scoreboard-0.08-6FE7b3/blib/arch:/home/mb/.cpan/build/Parallel-Scoreboard-0.08-6FE7b3/blib/lib:/home/mb/.cpan/build/Class-Accessor-Lite-0.08-APACm8/blib/arch:/home/mb/.cpan/build/Class-Accessor-Lite-0.08-APACm8/blib/lib:/home/mb/.cpan/build/Starman-0.4014-sBHfiQ/blib/arch:/home/mb/.cpan/build/Starman-0.4014-sBHfiQ/blib/lib:/home/mb/.cpan/build/Net-Server-2.008-_v3SMy/blib/arch:/home/mb/.cpan/build/Net-Server-2.008-_v3SMy/blib/lib:/home/mb/.cpan/build/HTTP-Parser-XS-0.17-pQIYDG/blib/arch:/home/mb/.cpan/build/HTTP-Parser-XS-0.17-pQIYDG/blib/lib:/home/mb/.cpan/build/Data-Dump-1.23-uNjZqn/blib/arch:/home/mb/.cpan/build/Data-Dump-1.23-uNjZqn/blib/lib:/home/mb/perl5/lib/perl5
    PERL5OPT = 
    PERL5_CPANPLUS_IS_RUNNING = 70575
    PERL5_CPAN_IS_RUNNING = 70575
    PERL5_CPAN_IS_RUNNING_IN_RECURSION = 72403,70575
    PERL_CR_SMOKER_CURRENT = Plack-Middleware-ServerStatus-Lite-0.36
    PERL_EXTUTILS_AUTOINSTALL = --defaultdeps
    PERL_MM_USE_DEFAULT = 1
    SHELL = /bin/ksh
    TERM = screen

Perl special variables (and OS-specific diagnostics, for MSWin32):

    $^X = /usr/bin/perl
    $UID/$EUID = 1000 / 1000
    $GID = 1000 1000 0
    $EGID = 1000 1000 0

Perl module toolchain versions installed:

    Module              Have    
    ------------------- --------
    CPAN                2.05_01 
    CPAN::Meta          2.143240
    Cwd                 3.48_03 
    ExtUtils::CBuilder  0.280217
    ExtUtils::Command   7.24    
    ExtUtils::Install   1.67    
    ExtUtils::MakeMaker 7.24    
    ExtUtils::Manifest  1.70    
    ExtUtils::ParseXS   3.24_01 
    File::Spec          3.48_03 
    JSON                2.90    
    JSON::PP            2.27400 
    Module::Build       0.4220  
    Module::Signature   n/a     
    Parse::CPAN::Meta   1.4414  
    Test::Harness       3.36    
    Test::More          1.302067
    YAML                1.19    
    YAML::Syck          1.29    
    version             0.9909  


--

Summary of my perl5 (revision 5 version 20 subversion 3) configuration:
   
  Platform:
    osname=openbsd, osvers=6.0, archname=amd64-openbsd
    uname='openbsd'
    config_args='-dsE -Dopenbsd_distribution=defined -Dccflags=-DNO_LOCALE_NUMERIC -DNO_LOCALE_COLLATE -Dmksymlinks'
    hint=recommended, useposix=true, d_sigaction=define
    useithreads=undef, usemultiplicity=undef
    use64bitint=define, use64bitall=define, uselongdouble=undef
    usemymalloc=n, bincompat5005=undef
  Compiler:
    cc='cc', ccflags ='-DNO_LOCALE_NUMERIC -DNO_LOCALE_COLLATE -fno-strict-aliasing -fno-delete-null-pointer-checks -pipe -fstack-protector -I/usr/local/include',
    optimize='-O2',
    cppflags='-DNO_LOCALE_NUMERIC -DNO_LOCALE_COLLATE -fno-strict-aliasing -fno-delete-null-pointer-checks -pipe -fstack-protector -I/usr/local/include'
    ccversion='', gccversion='4.2.1 20070719 ', gccosandvers='openbsd6.0'
    intsize=4, longsize=8, ptrsize=8, doublesize=8, byteorder=12345678
    d_longlong=define, longlongsize=8, d_longdbl=define, longdblsize=16
    ivtype='long', ivsize=8, nvtype='double', nvsize=8, Off_t='off_t', lseeksize=8
    alignbytes=8, prototype=define
  Linker and Libraries:
    ld='cc', ldflags ='-Wl,-E  -fstack-protector -L/usr/local/lib'
    libpth=/usr/lib /usr/lib
    libs=-lpthread -lm -lc
    perllibs=-lpthread -lm -lc
    libc=/usr/lib/libc.a, so=so, useshrplib=true, libperl=libperl.so.17.1
    gnulibc_version=''
  Dynamic Linking:
    dlsrc=dl_dlopen.xs, dlext=so, d_dlsymun=undef, ccdlflags='-Wl,-R/usr/libdata/perl5/amd64-openbsd/5.20.3/CORE'
    cccdlflags='-DPIC -fPIC ', lddlflags='-shared -fPIC  -fstack-protector -L/usr/local/lib'


Characteristics of this binary (from libperl): 
  Compile-time options: HAS_TIMES PERLIO_LAYERS PERL_DONT_CREATE_GVSV
                        PERL_HASH_FUNC_ONE_AT_A_TIME_HARD PERL_MALLOC_WRAP
                        PERL_NEW_COPY_ON_WRITE PERL_PRESERVE_IVUV
                        USE_64_BIT_ALL USE_64_BIT_INT USE_LARGE_FILES
                        USE_LOCALE USE_LOCALE_CTYPE USE_PERLIO USE_PERL_ATOF
  Built under openbsd
  %ENV:
    PERL5LIB="/home/mb/.cpan/build/Net-CIDR-Lite-0.21-Q032wR/blib/arch:/home/mb/.cpan/build/Net-CIDR-Lite-0.21-Q032wR/blib/lib:/home/mb/.cpan/build/Parallel-Scoreboard-0.08-6FE7b3/blib/arch:/home/mb/.cpan/build/Parallel-Scoreboard-0.08-6FE7b3/blib/lib:/home/mb/.cpan/build/Class-Accessor-Lite-0.08-APACm8/blib/arch:/home/mb/.cpan/build/Class-Accessor-Lite-0.08-APACm8/blib/lib:/home/mb/.cpan/build/Starman-0.4014-sBHfiQ/blib/arch:/home/mb/.cpan/build/Starman-0.4014-sBHfiQ/blib/lib:/home/mb/.cpan/build/Net-Server-2.008-_v3SMy/blib/arch:/home/mb/.cpan/build/Net-Server-2.008-_v3SMy/blib/lib:/home/mb/.cpan/build/HTTP-Parser-XS-0.17-pQIYDG/blib/arch:/home/mb/.cpan/build/HTTP-Parser-XS-0.17-pQIYDG/blib/lib:/home/mb/.cpan/build/Data-Dump-1.23-uNjZqn/blib/arch:/home/mb/.cpan/build/Data-Dump-1.23-uNjZqn/blib/lib:/home/mb/perl5/lib/perl5"
    PERL5OPT=""
    PERL5_CPANPLUS_IS_RUNNING="70575"
    PERL5_CPAN_IS_RUNNING="70575"
    PERL5_CPAN_IS_RUNNING_IN_RECURSION="72403,70575"
    PERL_CR_SMOKER_CURRENT="Plack-Middleware-ServerStatus-Lite-0.36"
    PERL_EXTUTILS_AUTOINSTALL="--defaultdeps"
    PERL_MM_USE_DEFAULT="1"
  @INC:
    /home/mb/.cpan/build/Net-CIDR-Lite-0.21-Q032wR/blib/arch
    /home/mb/.cpan/build/Net-CIDR-Lite-0.21-Q032wR/blib/lib
    /home/mb/.cpan/build/Parallel-Scoreboard-0.08-6FE7b3/blib/arch
    /home/mb/.cpan/build/Parallel-Scoreboard-0.08-6FE7b3/blib/lib
    /home/mb/.cpan/build/Class-Accessor-Lite-0.08-APACm8/blib/arch
    /home/mb/.cpan/build/Class-Accessor-Lite-0.08-APACm8/blib/lib
    /home/mb/.cpan/build/Starman-0.4014-sBHfiQ/blib/arch
    /home/mb/.cpan/build/Starman-0.4014-sBHfiQ/blib/lib
    /home/mb/.cpan/build/Net-Server-2.008-_v3SMy/blib/arch
    /home/mb/.cpan/build/Net-Server-2.008-_v3SMy/blib/lib
    /home/mb/.cpan/build/HTTP-Parser-XS-0.17-pQIYDG/blib/arch
    /home/mb/.cpan/build/HTTP-Parser-XS-0.17-pQIYDG/blib/lib
    /home/mb/.cpan/build/Data-Dump-1.23-uNjZqn/blib/arch
    /home/mb/.cpan/build/Data-Dump-1.23-uNjZqn/blib/lib
    /home/mb/perl5/lib/perl5/5.20.3/amd64-openbsd
    /home/mb/perl5/lib/perl5/5.20.3
    /home/mb/perl5/lib/perl5/amd64-openbsd
    /home/mb/perl5/lib/perl5
    /usr/local/libdata/perl5/site_perl/amd64-openbsd
    /usr/libdata/perl5/site_perl/amd64-openbsd
    /usr/local/libdata/perl5/site_perl
    /usr/libdata/perl5/site_perl
    /usr/libdata/perl5/amd64-openbsd/5.20.3
    /usr/local/libdata/perl5/amd64-openbsd/5.20.3
    /usr/libdata/perl5
    /usr/local/libdata/perl5
    .