CatalystX-SimpleLogin v0.21 Perl 5 v5.41.2 x86_64-dragonfly-thread-multi

Status
Pass
From
Carlos Guevara
Dist
CatalystX-SimpleLogin v0.21
Platform
Perl 5 v5.41.2 x86_64-dragonfly-thread-multi
Date
2024-07-18 17:26:08
ID
d1d9e054-452a-11ef-b88f-a5935a7f14be
This distribution has been tested as part of the CPAN Testers
project, supporting the Perl programming language.  See
http://wiki.cpantesters.org/ for more information or email
questions to cpan-testers-discuss@perl.org


--
Dear Alexander Hartmaier,

This is a computer-generated report for CatalystX-SimpleLogin-0.21
on perl 5.41.2, created by CPAN-Reporter-1.2019.

Thank you for uploading your work to CPAN.  Congratulations!
All tests were successful.

Sections of this report:

    * Tester comments
    * Program output
    * Prerequisites
    * Environment and other context

------------------------------
TESTER COMMENTS
------------------------------

Additional comments from tester:

this report is from an automated smoke testing program
and was not reviewed by a human for accuracy

------------------------------
PROGRAM OUTPUT
------------------------------

Output from '/usr/bin/make test':

PERL_DL_NONLAZY=1 "/home/cpan/bin/perl/bin/perl5.41.2" "-MExtUtils::Command::MM" "-MTest::Harness" "-e" "undef *Test::Harness::Switches; test_harness(0, 'inc', 'blib/lib', 'blib/arch')" t/*.t
t/00-load.t ........................... ok
[warn] Attempted to use view 'TestApp::View::HTML', but does not exist
t/01-live-test.t ...................... ok
[warn] Attempted to use view 'TestAppRedirect::View::HTML', but does not exist
t/02-redirect-test.t .................. ok
t/03-login-form.t ..................... ok
[warn] Attempted to use view 'TestAppRedirect::View::HTML', but does not exist
t/04-test-role-apply-order.t .......... ok
[warn] Attempted to use view 'TestAppRedirect::View::HTML', but does not exist
t/05-login-redirect-custom-message.t .. ok
[warn] Attempted to use view 'TestAppRenderTT::View::HTML', but does not exist
t/06-rendertt.t ....................... ok
t/07-openid-live.t .................... skipped: OpenID dependencies not installed
t/08-dbic-mappedfields.t .............. ok
[warn] Attempted to use view 'TestAppClearSession::View::HTML', but does not exist
t/09-clearsession.t ................... ok
[warn] Attempted to use view 'TestAppFormArgs::View::HTML', but does not exist
t/10-form-args.t ...................... ok
[warn] Attempted to use view 'TestApp::View::HTML', but does not exist
t/chained_parts.t ..................... ok
All tests successful.
Files=12, Tests=112, 15 wallclock secs ( 0.05 usr  0.03 sys + 12.93 cusr  1.40 csys = 14.41 CPU)
Result: PASS

------------------------------
PREREQUISITES
------------------------------

Prerequisite modules loaded:

requires:

    Module                                   Need    Have    
    ---------------------------------------- ------- --------
    Catalyst::Action::RenderView             0       0.16    
    Catalyst::Action::REST                   0.74    1.21    
    Catalyst::ActionRole::ACL                0       0.07    
    Catalyst::Plugin::Authentication         0       0.10023 
    Catalyst::Plugin::Session                0.35    0.43    
    Catalyst::Plugin::Session::State::Cookie 0       0.18    
    Catalyst::Runtime                        5.80013 5.90131 
    Catalyst::View::TT                       0       0.46    
    CatalystX::Component::Traits             0.13    0.19    
    CatalystX::InjectComponent               0       0.025   
    Class::Load                              0.20    0.25    
    File::Temp                               0       0.2311  
    HTML::FormHandler                        0.28001 0.40068 
    HTTP::Request::Common                    0       6.46    
    Moose                                    0       2.2207  
    MooseX::MethodAttributes                 0.18    0.32    
    MooseX::RelatedClassRoles                0.004   0.004   
    MooseX::Types                            0       0.50    
    MooseX::Types::Common                    0       0.001014
    namespace::autoclean                     0       0.29    
    SQL::Translator                          0       1.64    
    Test::Exception                          0       0.43    
    Test::More                               0.94    1.302199
    Try::Tiny                                0.24    0.31    

build_requires:

    Module                                   Need    Have    
    ---------------------------------------- ------- --------
    Catalyst::Action::RenderView             0       0.16    
    Catalyst::ActionRole::ACL                0       0.07    
    Catalyst::Plugin::Session::State::Cookie 0       0.18    
    CatalystX::InjectComponent               0       0.025   
    Class::Load                              0.20    0.25    
    ExtUtils::MakeMaker                      6.36    7.70    
    File::Temp                               0       0.2311  
    HTTP::Request::Common                    0       6.46    
    SQL::Translator                          0       1.64    
    Test::Exception                          0       0.43    
    Test::More                               0.94    1.302199

configure_requires:

    Module                                   Need    Have    
    ---------------------------------------- ------- --------
    ExtUtils::MakeMaker                      6.36    7.70    


------------------------------
ENVIRONMENT AND OTHER CONTEXT
------------------------------

Environment variables:

    AUTOMATED_TESTING = 1
    DATE_MANIP_TEST_DM5 = 1
    LC_ALL = C
    NONINTERACTIVE_TESTING = 1
    NO_NETWORK_TESTING = 1
    PATH = /home/cpan/bin/perl/bin:/home/cpan/bin:/sbin:/bin:/usr/sbin:/usr/bin:/usr/games:/usr/local/sbin:/usr/local/bin:/usr/pkg/sbin:/usr/pkg/bin:/home/cpan/bin
    PERL5LIB = 
    PERL5OPT = 
    PERL5_CPANPLUS_IS_RUNNING = 980581
    PERL5_CPAN_IS_RUNNING = 980581
    PERL_MM_USE_DEFAULT = 1
    PERL_USE_UNSAFE_INC = 1
    SHELL = /usr/local/bin/bash
    TERM = screen
    TMPDIR = /home/cpan/tmp

Perl special variables (and OS-specific diagnostics, for MSWin32):

    $^X = /home/cpan/bin/perl/bin/perl5.41.2
    $UID/$EUID = 1002 / 1002
    $GID = 1002 1002
    $EGID = 1002 1002

Perl module toolchain versions installed:

    Module              Have    
    ------------------- --------
    CPAN                2.36    
    CPAN::Meta          2.150010
    Cwd                 3.92    
    ExtUtils::CBuilder  0.280240
    ExtUtils::Command   7.70    
    ExtUtils::Install   2.22    
    ExtUtils::MakeMaker 7.70    
    ExtUtils::Manifest  1.75    
    ExtUtils::ParseXS   3.52    
    File::Spec          3.92    
    JSON                4.10    
    JSON::PP            4.16    
    Module::Build       0.4234  
    Module::Signature   0.88    
    Parse::CPAN::Meta   2.150010
    Test2               1.302199
    Test::Harness       3.48    
    Test::More          1.302199
    YAML                1.31    
    YAML::Syck          1.34    
    version             0.9932  


--

Summary of my perl5 (revision 5 version 41 subversion 2) configuration:
  Commit id: c43f2fd16a6517cc5028fffb8e6e474df98faf52
  Platform:
    osname=dragonfly
    osvers=6.4-release
    archname=x86_64-dragonfly-thread-multi
    uname='dragonfly cjg-dragonfly6 6.4-release dragonfly v6.4.0-release #54: fri dec 30 09:06:50 pst 2022 root@pkgbox64.dragonflybsd.org:usrobjusrsrcsysx86_64_generic x86_64 '
    config_args='-des -Dprefix=/home/cpan/bin/perl -Dscriptdir=/home/cpan/bin/perl/bin -Dusedevel -Duse64bitall -Duseithreads'
    hint=recommended
    useposix=true
    d_sigaction=define
    useithreads=define
    usemultiplicity=define
    use64bitint=define
    use64bitall=define
    uselongdouble=undef
    usemymalloc=n
    default_inc_excludes_dot=define
  Compiler:
    cc='cc'
    ccflags ='-DHAS_FPSETMASK -DHAS_FLOATINGPOINT_H -DNO_POSIX_2008_LOCALE -fwrapv -fno-strict-aliasing -pipe -fstack-protector-strong -I/usr/local/include -D_FORTIFY_SOURCE=2'
    optimize='-O2'
    cppflags='-DHAS_FPSETMASK -DHAS_FLOATINGPOINT_H -DNO_POSIX_2008_LOCALE -fwrapv -fno-strict-aliasing -pipe -fstack-protector-strong -I/usr/local/include'
    ccversion=''
    gccversion='8.3 [DragonFly] Release/2019-02-22'
    gccosandvers=''
    intsize=4
    longsize=8
    ptrsize=8
    doublesize=8
    byteorder=12345678
    doublekind=3
    d_longlong=define
    longlongsize=8
    d_longdbl=define
    longdblsize=16
    longdblkind=3
    ivtype='long'
    ivsize=8
    nvtype='double'
    nvsize=8
    Off_t='off_t'
    lseeksize=8
    alignbytes=8
    prototype=define
  Linker and Libraries:
    ld='cc'
    ldflags ='-pthread -Wl,-E  -fstack-protector-strong -L/usr/local/lib'
    libpth=/usr/lib /usr/local/lib
    libs=-lpthread -lgdbm -ldl -lm -lcrypt -lutil -lc
    perllibs=-lpthread -ldl -lm -lcrypt -lutil -lc
    libc=
    so=so
    useshrplib=false
    libperl=libperl.a
    gnulibc_version=''
  Dynamic Linking:
    dlsrc=dl_dlopen.xs
    dlext=so
    d_dlsymun=undef
    ccdlflags=' '
    cccdlflags='-DPIC -fPIC'
    lddlflags='-shared  -L/usr/local/lib -fstack-protector-strong'


Characteristics of this binary (from libperl): 
  Compile-time options:
    HAS_LONG_DOUBLE
    HAS_STRTOLD
    HAS_TIMES
    MULTIPLICITY
    PERLIO_LAYERS
    PERL_COPY_ON_WRITE
    PERL_DONT_CREATE_GVSV
    PERL_HASH_FUNC_SIPHASH13
    PERL_HASH_USE_SBOX32
    PERL_MALLOC_WRAP
    PERL_OP_PARENT
    PERL_PRESERVE_IVUV
    PERL_USE_DEVEL
    PERL_USE_SAFE_PUTENV
    USE_64_BIT_ALL
    USE_64_BIT_INT
    USE_ITHREADS
    USE_LARGE_FILES
    USE_LOCALE
    USE_LOCALE_COLLATE
    USE_LOCALE_CTYPE
    USE_LOCALE_NUMERIC
    USE_LOCALE_TIME
    USE_PERLIO
    USE_PERL_ATOF
    USE_REENTRANT_API
  Built under dragonfly
  Compiled at Jul 18 2024 02:00:40
  %ENV:
    PERL5LIB=""
    PERL5OPT=""
    PERL5_CPANPLUS_IS_RUNNING="980581"
    PERL5_CPAN_IS_RUNNING="980581"
    PERL_MM_USE_DEFAULT="1"
    PERL_USE_UNSAFE_INC="1"
  @INC:
    /home/cpan/bin/perl/lib/site_perl/5.41.2/x86_64-dragonfly-thread-multi
    /home/cpan/bin/perl/lib/site_perl/5.41.2
    /home/cpan/bin/perl/lib/5.41.2/x86_64-dragonfly-thread-multi
    /home/cpan/bin/perl/lib/5.41.2
    .