Search-Elasticsearch-Async v8.12 Perl 5 v5.14.4 x86_64-linux-ld

Status
Pass
From
Andreas J. König (ANDK)
Dist
Search-Elasticsearch-Async v8.12
Platform
Perl 5 v5.14.4 x86_64-linux-ld
Date
2024-02-06 06:34:46
ID
d1d4d04c-c4b9-11ee-9129-bc5ab91ee3c1
This distribution has been tested as part of the CPAN Testers
project, supporting the Perl programming language.  See
http://wiki.cpantesters.org/ for more information or email
questions to cpan-testers-discuss@perl.org


--
Dear Enrico Zimuel,

This is a computer-generated report for Search-Elasticsearch-Async-8.12
on perl 5.14.4, created by CPAN-Reporter-1.2019.

Thank you for uploading your work to CPAN.  Congratulations!
All tests were successful.

Sections of this report:

    * Tester comments
    * Program output
    * Prerequisites
    * Environment and other context

------------------------------
TESTER COMMENTS
------------------------------

Additional comments from tester:

this report is from an automated smoke testing program
and was not reviewed by a human for accuracy

------------------------------
PROGRAM OUTPUT
------------------------------

Output from '/usr/bin/make test':

PERL_DL_NONLAZY=1 "/home/sand/src/perl/repoperls/installed-perls/host/k93msid/v5.14.4/af11/bin/perl" "-MExtUtils::Command::MM" "-MTest::Harness" "-e" "undef *Test::Harness::Switches; test_harness(0, 'blib/lib', 'blib/arch')" t/*.t t/10_Basic_Async/*.t t/20_Serializer_Async/*.t t/30_Logger_Async/*.t t/40_Transport_Async/*.t t/50_Cxn_Pool_Async/*.t t/60_Cxn_Async/*.t t/Client_7_0_Async/*.t t/Client_8_0_Async/*.t
t/10_Basic_Async/10_load.t .......................... ok
t/20_Serializer_Async/10_load_cpanel.t .............. ok
t/20_Serializer_Async/11_load_xs.t .................. ok
t/20_Serializer_Async/12_load_pp.t .................. ok
t/20_Serializer_Async/13_preload_cpanel.t ........... ok
t/20_Serializer_Async/14_preload_xs.t ............... ok
t/20_Serializer_Async/20_xs_encode_decode.t ......... ok
t/20_Serializer_Async/21_xs_encode_bulk.t ........... ok
t/20_Serializer_Async/22_xs_encode_pretty.t ......... ok
t/20_Serializer_Async/30_cpanel_encode_decode.t ..... ok
t/20_Serializer_Async/31_cpanel_encode_bulk.t ....... ok
t/20_Serializer_Async/32_cpanel_encode_pretty.t ..... ok
t/20_Serializer_Async/40_pp_encode_decode.t ......... ok
t/20_Serializer_Async/41_pp_encode_bulk.t ........... ok
t/20_Serializer_Async/42_pp_encode_pretty.t ......... ok
Current cxns: ["http://localhost:9200"]
Forcing ping before next use on all live cxns
Ping [http://localhost:9200] before next request
t/30_Logger_Async/10_explicit.t ..................... ok
Current cxns: ["http://localhost:9200"]
Forcing ping before next use on all live cxns
Ping [http://localhost:9200] before next request
t/30_Logger_Async/20_implicit.t ..................... ok
t/30_Logger_Async/30_log_methods.t .................. ok
t/30_Logger_Async/40_trace_request.t ................ ok
t/30_Logger_Async/50_trace_response.t ............... ok
t/30_Logger_Async/60_trace_error.t .................. ok
t/30_Logger_Async/70_trace_comment.t ................ ok
t/30_Logger_Async/80_deprecation_methods.t .......... ok
t/40_Transport_Async/10_tidy_request.t .............. ok
t/40_Transport_Async/20_send_body_as.t .............. ok
t/40_Transport_Async/30_perform_request.t ........... ok
t/50_Cxn_Pool_Async/10_static_normal.t .............. ok
t/50_Cxn_Pool_Async/11_static_node_missing.t ........ ok
t/50_Cxn_Pool_Async/12_static_node_fails.t .......... ok
t/50_Cxn_Pool_Async/13_static_node_timesout.t ....... ok
t/50_Cxn_Pool_Async/14_static_both_nodes_timeout.t .. ok
t/50_Cxn_Pool_Async/15_static_both_nodes_fail.t ..... ok
t/50_Cxn_Pool_Async/16_static_nodes_starting.t ...... ok
t/50_Cxn_Pool_Async/17_static_runaway_nodes.t ....... ok
t/50_Cxn_Pool_Async/30_sniff_normal.t ............... ok
t/50_Cxn_Pool_Async/31_sniff_new_nodes.t ............ ok
t/50_Cxn_Pool_Async/32_sniff_node_fails.t ........... ok
t/50_Cxn_Pool_Async/33_sniff_both_nodes_fail.t ...... ok
t/50_Cxn_Pool_Async/34_sniff_node_timeout.t ......... ok
t/50_Cxn_Pool_Async/35_sniff_both_nodes_timeout.t ... ok
t/50_Cxn_Pool_Async/36_sniff_nodes_starting.t ....... ok
t/50_Cxn_Pool_Async/37_sniff_runaway_nodes.t ........ ok
t/50_Cxn_Pool_Async/38_bad_sniff.t .................. ok
t/50_Cxn_Pool_Async/39_sniff_max_content.t .......... ok
t/50_Cxn_Pool_Async/40_sniff_extract_host.t ......... ok
t/50_Cxn_Pool_Async/50_noping_normal.t .............. ok
t/50_Cxn_Pool_Async/51_noping_node_fails.t .......... ok
t/50_Cxn_Pool_Async/52_noping_node_timesout.t ....... ok
t/50_Cxn_Pool_Async/53_noping_all_nodes_fail.t ...... ok
t/50_Cxn_Pool_Async/54_noping_nodes_starting.t ...... ok
t/50_Cxn_Pool_Async/55_noping_runaway_nodes.t ....... ok
t/50_Cxn_Pool_Async/56_max_retries.t ................ ok
t/60_Cxn_Async/10_basic.t ........................... ok
t/60_Cxn_Async/20_process_response.t ................ ok
t/60_Cxn_Async/30_http.t ............................ ok
t/author-eol.t ...................................... skipped: these tests are for testing by the author
t/author-no-tabs.t .................................. skipped: these tests are for testing by the author
t/author-pod-syntax.t ............................... skipped: these tests are for testing by the author
t/Client_7_0_Async/00_print_version.t ............... skipped: No $ENV{CLIENT_VER} specified
t/Client_7_0_Async/10_live.t ........................ skipped: No $ENV{CLIENT_VER} specified
t/Client_7_0_Async/20_fork_aehttp.t ................. skipped: No $ENV{CLIENT_VER} specified
t/Client_7_0_Async/21_fork_mojo.t ................... skipped: No $ENV{CLIENT_VER} specified
t/Client_7_0_Async/30_bulk_add_action.t ............. skipped: No $ENV{CLIENT_VER} specified
t/Client_7_0_Async/31_bulk_helpers.t ................ skipped: No $ENV{CLIENT_VER} specified
t/Client_7_0_Async/32_bulk_flush.t .................. skipped: No $ENV{CLIENT_VER} specified
t/Client_7_0_Async/33_bulk_errors.t ................. skipped: No $ENV{CLIENT_VER} specified
t/Client_7_0_Async/34_bulk_cxn_errors.t ............. skipped: No $ENV{CLIENT_VER} specified
t/Client_7_0_Async/40_scroll.t ...................... skipped: No $ENV{CLIENT_VER} specified
t/Client_7_0_Async/60_auth_aehttp.t ................. skipped: AEHTTP - No https server specified in ES_SSL
t/Client_7_0_Async/61_auth_mojo.t ................... skipped: Mojo - No https server specified in ES_SSL
t/Client_8_0_Async/00_print_version.t ............... skipped: No $ENV{CLIENT_VER} specified
t/Client_8_0_Async/10_live.t ........................ skipped: No $ENV{CLIENT_VER} specified
t/Client_8_0_Async/20_fork_aehttp.t ................. skipped: No $ENV{CLIENT_VER} specified
t/Client_8_0_Async/21_fork_mojo.t ................... skipped: No $ENV{CLIENT_VER} specified
t/Client_8_0_Async/30_bulk_add_action.t ............. skipped: No $ENV{CLIENT_VER} specified
t/Client_8_0_Async/31_bulk_helpers.t ................ skipped: No $ENV{CLIENT_VER} specified
t/Client_8_0_Async/32_bulk_flush.t .................. skipped: No $ENV{CLIENT_VER} specified
t/Client_8_0_Async/33_bulk_errors.t ................. skipped: No $ENV{CLIENT_VER} specified
t/Client_8_0_Async/34_bulk_cxn_errors.t ............. skipped: No $ENV{CLIENT_VER} specified
t/Client_8_0_Async/40_scroll.t ...................... skipped: No $ENV{CLIENT_VER} specified
t/Client_8_0_Async/60_auth_aehttp.t ................. skipped: AEHTTP - No https server specified in ES_SSL
t/Client_8_0_Async/61_auth_mojo.t ................... skipped: Mojo - No https server specified in ES_SSL
All tests successful.
Files=82, Tests=501, 30 wallclock secs ( 0.17 usr  0.76 sys + 15.94 cusr  8.48 csys = 25.35 CPU)
Result: PASS

------------------------------
PREREQUISITES
------------------------------

Prerequisite modules loaded:

requires:

    Module                      Need Have     
    --------------------------- ---- ---------
    AnyEvent::HTTP              0    2.25     
    AnyEvent::TLS               0    7.17     
    Moo                         0    2.005005 
    Moo::Role                   0    2.005005 
    namespace::clean            0    0.27     
    parent                      0    0.241    
    Promises                    0.93 1.04     
    Scalar::Util                0    1.63     
    Search::Elasticsearch       8.00 8.12     
    Sub::Exporter               0    0.989    
    Time::HiRes                 0    1.9721_01
    Try::Tiny                   0    0.31     

build_requires:

    Module                      Need Have     
    --------------------------- ---- ---------
    AE                          0    7.17     
    Cpanel::JSON::XS            0    4.36     
    Data::Dumper                0    2.183    
    EV                          0    4.33     
    File::Temp                  0    0.2311   
    JSON::PP                    0    4.17_01  
    JSON::XS                    0    4.03     
    lib                         0    0.63     
    Log::Any::Adapter           0    1.716    
    Log::Any::Adapter::Callback 0.09 0.102    
    POSIX                       0    1.24     
    strict                      0    1.04     
    Test::Deep                  0    1.204    
    Test::Exception             0    0.43     
    Test::More                  0.98 1.302195 
    warnings                    0    1.12     

opt_requires:

    Module                      Need Have     
    --------------------------- ---- ---------
    URI::Escape::XS             0    0.14     


------------------------------
ENVIRONMENT AND OTHER CONTEXT
------------------------------

Environment variables:

    AUTOMATED_TESTING = 1
    LANG = en_US.UTF-8
    LANGUAGE = en_US:en
    PATH = /home/sand/bin:/usr/local/bin:/usr/bin:/bin:/usr/games:/usr/local/perl/bin:/usr/X11/bin:/sbin:/usr/sbin
    PERL5LIB = 
    PERL5OPT = 
    PERL5_CPANPLUS_IS_RUNNING = 3149710
    PERL5_CPAN_IS_RUNNING = 3149710
    PERL_CANARY_STABILITY_NOPROMPT = 1
    PERL_MM_USE_DEFAULT = 1
    PERL_USE_UNSAFE_INC = 1
    SHELL = /usr/bin/zsh
    TERM = screen

Perl special variables (and OS-specific diagnostics, for MSWin32):

    $^X = /home/sand/src/perl/repoperls/installed-perls/host/k93msid/v5.14.4/af11/bin/perl
    $UID/$EUID = 1005 / 1005
    $GID = 1005 1005
    $EGID = 1005 1005

Perl module toolchain versions installed:

    Module              Have    
    ------------------- --------
    CPAN                2.36    
    CPAN::Meta          2.150010
    Cwd                 3.75    
    ExtUtils::CBuilder  0.280236
    ExtUtils::Command   7.70    
    ExtUtils::Install   2.06    
    ExtUtils::MakeMaker 7.70    
    ExtUtils::Manifest  1.70    
    ExtUtils::ParseXS   3.51    
    File::Spec          3.75    
    JSON                4.10    
    JSON::PP            4.17_01 
    Module::Build       0.4234  
    Module::Signature   0.88    
    Parse::CPAN::Meta   2.150010
    Test2               1.302195
    Test::Harness       3.47    
    Test::More          1.302195
    YAML                1.30    
    YAML::Syck          1.34    
    version             0.9930  


--

Summary of my perl5 (revision 5 version 14 subversion 4) configuration:
  Derived from: 26c5c13a4ece9084f310610bb17fb2f24c72a73e
  Platform:
    osname=linux, osvers=6.1.0-7-amd64, archname=x86_64-linux-ld
    uname='linux k93msid 6.1.0-7-amd64 #1 smp preempt_dynamic debian 6.1.20-1 (2023-03-19) x86_64 gnulinux '
    config_args='-Dprefix=/home/sand/src/perl/repoperls/installed-perls/host/k93msid/v5.14.4/af11 -Dmyhostname=k93msid -Dinstallusrbinperl=n -Uversiononly -Dusedevel -des -Ui_db -Dlibswanted=cl pthread socket inet nsl gdbm dbm malloc dl ld sun m crypt sec util c cposix posix ucb BSD gdbm_compat -Uuseithreads -Duselongdouble -DEBUGGING=-g'
    hint=recommended, useposix=true, d_sigaction=define
    useithreads=undef, usemultiplicity=undef
    useperlio=define, d_sfio=undef, uselargefiles=define, usesocks=undef
    use64bitint=define, use64bitall=define, uselongdouble=define
    usemymalloc=n, bincompat5005=undef
  Compiler:
    cc='cc', ccflags ='-fwrapv -fno-strict-aliasing -pipe -fstack-protector -I/usr/local/include -D_LARGEFILE_SOURCE -D_FILE_OFFSET_BITS=64',
    optimize='-O2 -g',
    cppflags='-fwrapv -fno-strict-aliasing -pipe -fstack-protector -I/usr/local/include'
    ccversion='', gccversion='12.2.0', gccosandvers=''
    intsize=4, longsize=8, ptrsize=8, doublesize=8, byteorder=12345678
    d_longlong=define, longlongsize=8, d_longdbl=define, longdblsize=16
    ivtype='long', ivsize=8, nvtype='long double', nvsize=16, Off_t='off_t', lseeksize=8
    alignbytes=16, prototype=define
  Linker and Libraries:
    ld='cc', ldflags =' -fstack-protector -L/usr/local/lib'
    libpth=/usr/local/lib /lib/x86_64-linux-gnu /lib/../lib /usr/lib/x86_64-linux-gnu /usr/lib/../lib /lib /usr/lib /lib64 /usr/lib64
    libs=-lpthread -lnsl -ldl -lm -lcrypt -lutil -lc
    perllibs=-lpthread -lnsl -ldl -lm -lcrypt -lutil -lc
    libc=/lib/x86_64-linux-gnu/libc.so.6, so=so, useshrplib=false, libperl=libperl.a
    gnulibc_version='2.36'
  Dynamic Linking:
    dlsrc=dl_dlopen.xs, dlext=so, d_dlsymun=undef, ccdlflags='-Wl,-E'
    cccdlflags='-fPIC', lddlflags='-shared -O2 -g -L/usr/local/lib -fstack-protector'


Characteristics of this binary (from libperl): 
  Compile-time options: PERL_DONT_CREATE_GVSV PERL_MALLOC_WRAP
                        PERL_PRESERVE_IVUV PERL_USE_DEVEL USE_64_BIT_ALL
                        USE_64_BIT_INT USE_LARGE_FILES USE_LONG_DOUBLE
                        USE_PERLIO USE_PERL_ATOF
  Locally applied patches:
	uncommitted-changes
  Built under linux
  Compiled at Jul  2 2023 22:36:01
  %ENV:
    PERL5LIB=""
    PERL5OPT=""
    PERL5_CPANPLUS_IS_RUNNING="3149710"
    PERL5_CPAN_IS_RUNNING="3149710"
    PERL_CANARY_STABILITY_NOPROMPT="1"
    PERL_MM_USE_DEFAULT="1"
    PERL_USE_UNSAFE_INC="1"
  @INC:
    /home/sand/src/perl/repoperls/installed-perls/host/k93msid/v5.14.4/af11/lib/site_perl/5.14.4/x86_64-linux-ld
    /home/sand/src/perl/repoperls/installed-perls/host/k93msid/v5.14.4/af11/lib/site_perl/5.14.4
    /home/sand/src/perl/repoperls/installed-perls/host/k93msid/v5.14.4/af11/lib/5.14.4/x86_64-linux-ld
    /home/sand/src/perl/repoperls/installed-perls/host/k93msid/v5.14.4/af11/lib/5.14.4
    .