Report for Dist-Zilla-Config-Slicer-0.200

Back
From: metabase:user:8d44a2bc-b4ba-11e0-8d77-09d09eb71fc2
Subject: PASS Dist-Zilla-Config-Slicer-0.200 v5.18.2 GNU/Linux
Date: 2014-04-29T23:27:24Z

This distribution has been tested as part of the CPAN Testers
project, supporting the Perl programming language.  See
http://wiki.cpantesters.org/ for more information or email
questions to cpan-testers-discuss@perl.org


--
Dear Randy Stauner,

This is a computer-generated report for Dist-Zilla-Config-Slicer-0.200
on perl 5.18.2, created by CPAN-Reporter-1.2011.

Thank you for uploading your work to CPAN.  Congratulations!
All tests were successful.

Sections of this report:

    * Tester comments
    * Program output
    * Prerequisites
    * Environment and other context

------------------------------
TESTER COMMENTS
------------------------------

Additional comments from tester:

none provided

------------------------------
PROGRAM OUTPUT
------------------------------

Output from '/usr/bin/make test':

PERL_DL_NONLAZY=1 /home/mike/perl5/perlbrew/perls/perl-5.18.2/bin/perl "-MExtUtils::Command::MM" "-e" "test_harness(0, 'blib/lib', 'blib/arch')" t/*.t
t/00-compile.t ................ ok
# 
# 
# perl: v5.18.2 (wanted 5.006) on linux from /home/mike/perl5/perlbrew/perls/perl-5.18.2/bin/perl
# 
# Config::MVP::Slicer                           => 0.302      (want any version)
# Dist::Zilla::PluginBundle::Filter             => 5.015      (want any version)
# Dist::Zilla::Role::PluginBundle               => 5.015      (want any version)
# Dist::Zilla::Role::PluginBundle::Easy         => 5.015      (want any version)
# Dist::Zilla::Util                             => 5.015      (want 4)      
# ExtUtils::MakeMaker                           => 6.66       (want 6.30)   
# File::Find                                    => 1.23       (want any version)
# File::Temp                                    => 0.23       (want any version)
# Moose                                         => 2.1204     (want any version)
# Moose::Role                                   => 2.1204     (want any version)
# Test::More                                    => 1.001003   (want 0.96)   
# strict                                        => 1.07       (want any version)
# warnings                                      => 1.18       (want any version)
# 
# Thanks for using my code.  I hope it works for you.
# If not, please try and include this output in the bug report.
# That will help me reproduce the issue and solve you problem.
# 
t/000-report-versions-tiny.t .. ok
t/bundle-filter.t ............. ok
t/bundle-role.t ............... ok
t/slicer.t .................... ok
All tests successful.
Files=5, Tests=27,  2 wallclock secs ( 0.05 usr  0.00 sys +  2.63 cusr  0.18 csys =  2.86 CPU)
Result: PASS

------------------------------
PREREQUISITES
------------------------------

Prerequisite modules loaded:

requires:

    Module                                Need Have    
    ------------------------------------- ---- --------
    Config::MVP::Slicer                   0    0.302   
    Dist::Zilla::PluginBundle::Filter     0    5.015   
    Dist::Zilla::Util                     4    5.015   
    Moose                                 0    2.1204  
    Moose::Role                           0    2.1204  
    strict                                0    1.07    
    warnings                              0    1.18    

build_requires:

    Module                                Need Have    
    ------------------------------------- ---- --------
    Dist::Zilla::Role::PluginBundle       0    5.015   
    Dist::Zilla::Role::PluginBundle::Easy 0    5.015   
    File::Find                            0    1.23    
    File::Temp                            0    0.23    
    Test::More                            0.96 1.001003

configure_requires:

    Module                                Need Have    
    ------------------------------------- ---- --------
    ExtUtils::MakeMaker                   6.30 6.66    


------------------------------
ENVIRONMENT AND OTHER CONTEXT
------------------------------

Environment variables:

    LANG = en_CA.UTF-8
    LANGUAGE = en_CA:en
    PATH = /home/mike/.bin:/home/mike/perl5/perlbrew/bin:/home/mike/perl5/perlbrew/perls/perl-5.18.2/bin:/usr/lib/lightdm/lightdm:/usr/local/sbin:/usr/local/bin:/usr/sbin:/usr/bin:/sbin:/bin:/usr/games:/usr/local/games:/opt/perlbrew/bin
    PERL5LIB = 
    PERL5OPT = 
    PERL5_CPANPLUS_IS_RUNNING = 28061
    PERL5_CPAN_IS_RUNNING = 28061
    PERLBREW_BASHRC_VERSION = 0.67
    PERLBREW_HOME = /home/mike/.perlbrew
    PERLBREW_MANPATH = /home/mike/perl5/perlbrew/perls/perl-5.18.2/man
    PERLBREW_PATH = /home/mike/perl5/perlbrew/bin:/home/mike/perl5/perlbrew/perls/perl-5.18.2/bin
    PERLBREW_PERL = perl-5.18.2
    PERLBREW_ROOT = /home/mike/perl5/perlbrew
    PERLBREW_VERSION = 0.67
    PERLDOC = -MPod::Perldoc::ToMan
    PERL_CPANM_OPT = --mirror-only --mirror=https://cpan.metacpan.org --verbose
    SHELL = /bin/bash
    TERM = xterm

Perl special variables (and OS-specific diagnostics, for MSWin32):

    $^X = /home/mike/perl5/perlbrew/perls/perl-5.18.2/bin/perl
    $UID/$EUID = 1000 / 1000
    $GID = 1000 4 7 24 27 30 46 107 115 124 125 130 1000
    $EGID = 1000 4 7 24 27 30 46 107 115 124 125 130 1000

Perl module toolchain versions installed:

    Module              Have    
    ------------------- --------
    CPAN                2.00    
    CPAN::Meta          2.140640
    Cwd                 3.40    
    ExtUtils::CBuilder  0.280210
    ExtUtils::Command   1.17    
    ExtUtils::Install   1.59    
    ExtUtils::MakeMaker 6.66    
    ExtUtils::Manifest  1.63    
    ExtUtils::ParseXS   3.22    
    File::Spec          3.40    
    JSON                2.90    
    JSON::PP            2.27202 
    Module::Build       0.4205  
    Module::Signature   0.73    
    Parse::CPAN::Meta   1.4414  
    Test::Harness       3.30    
    Test::More          1.001003
    YAML                0.88    
    YAML::Syck          n/a     
    version             0.9902  


--

Summary of my perl5 (revision 5 version 18 subversion 2) configuration:
   
  Platform:
    osname=linux, osvers=3.11.0-15-generic, archname=x86_64-linux
    uname='linux charron 3.11.0-15-generic #23-ubuntu smp mon dec 9 18:17:04 utc 2013 x86_64 x86_64 x86_64 gnulinux '
    config_args='-de -Dprefix=/home/mike/perl5/perlbrew/perls/perl-5.18.2 -Aeval:scriptdir=/home/mike/perl5/perlbrew/perls/perl-5.18.2/bin'
    hint=recommended, useposix=true, d_sigaction=define
    useithreads=undef, usemultiplicity=undef
    useperlio=define, d_sfio=undef, uselargefiles=define, usesocks=undef
    use64bitint=define, use64bitall=define, uselongdouble=undef
    usemymalloc=n, bincompat5005=undef
  Compiler:
    cc='cc', ccflags ='-fno-strict-aliasing -pipe -fstack-protector -I/usr/local/include -D_LARGEFILE_SOURCE -D_FILE_OFFSET_BITS=64',
    optimize='-O2',
    cppflags='-fno-strict-aliasing -pipe -fstack-protector -I/usr/local/include'
    ccversion='', gccversion='4.8.1', gccosandvers=''
    intsize=4, longsize=8, ptrsize=8, doublesize=8, byteorder=12345678
    d_longlong=define, longlongsize=8, d_longdbl=define, longdblsize=16
    ivtype='long', ivsize=8, nvtype='double', nvsize=8, Off_t='off_t', lseeksize=8
    alignbytes=8, prototype=define
  Linker and Libraries:
    ld='cc', ldflags =' -fstack-protector -L/usr/local/lib'
    libpth=/usr/local/lib /lib/x86_64-linux-gnu /lib/../lib /usr/lib/x86_64-linux-gnu /usr/lib/../lib /lib /usr/lib
    libs=-lnsl -ldb -ldl -lm -lcrypt -lutil -lc
    perllibs=-lnsl -ldl -lm -lcrypt -lutil -lc
    libc=, so=so, useshrplib=false, libperl=libperl.a
    gnulibc_version='2.17'
  Dynamic Linking:
    dlsrc=dl_dlopen.xs, dlext=so, d_dlsymun=undef, ccdlflags='-Wl,-E'
    cccdlflags='-fPIC', lddlflags='-shared -O2 -L/usr/local/lib -fstack-protector'


Characteristics of this binary (from libperl): 
  Compile-time options: HAS_TIMES PERLIO_LAYERS PERL_DONT_CREATE_GVSV
                        PERL_HASH_FUNC_ONE_AT_A_TIME_HARD PERL_MALLOC_WRAP
                        PERL_PRESERVE_IVUV PERL_SAWAMPERSAND USE_64_BIT_ALL
                        USE_64_BIT_INT USE_LARGE_FILES USE_LOCALE
                        USE_LOCALE_COLLATE USE_LOCALE_CTYPE
                        USE_LOCALE_NUMERIC USE_PERLIO USE_PERL_ATOF
  Built under linux
  Compiled at Jan  7 2014 19:30:20
  %ENV:
    PERL5LIB=""
    PERL5OPT=""
    PERL5_CPANPLUS_IS_RUNNING="28061"
    PERL5_CPAN_IS_RUNNING="28061"
    PERLBREW_BASHRC_VERSION="0.67"
    PERLBREW_HOME="/home/mike/.perlbrew"
    PERLBREW_MANPATH="/home/mike/perl5/perlbrew/perls/perl-5.18.2/man"
    PERLBREW_PATH="/home/mike/perl5/perlbrew/bin:/home/mike/perl5/perlbrew/perls/perl-5.18.2/bin"
    PERLBREW_PERL="perl-5.18.2"
    PERLBREW_ROOT="/home/mike/perl5/perlbrew"
    PERLBREW_VERSION="0.67"
    PERLDOC="-MPod::Perldoc::ToMan"
    PERL_CPANM_OPT="--mirror-only --mirror=https://cpan.metacpan.org --verbose"
  @INC:
    /home/mike/perl5/perlbrew/perls/perl-5.18.2/lib/site_perl/5.18.2/x86_64-linux
    /home/mike/perl5/perlbrew/perls/perl-5.18.2/lib/site_perl/5.18.2
    /home/mike/perl5/perlbrew/perls/perl-5.18.2/lib/5.18.2/x86_64-linux
    /home/mike/perl5/perlbrew/perls/perl-5.18.2/lib/5.18.2
    .