Report for HTTP-Session2-1.09

Back
From: metabase:user:314402c4-2aae-11df-837a-5e0a49663a4f
Subject: PASS HTTP-Session2-1.09 v5.18.3 RC1 GNU/Linux
Date: 2014-09-17T21:51:46Z

This distribution has been tested as part of the CPAN Testers
project, supporting the Perl programming language.  See
http://wiki.cpantesters.org/ for more information or email
questions to cpan-testers-discuss@perl.org


--
Dear Tokuhiro Matsuno,

This is a computer-generated report for HTTP-Session2-1.09
on perl 5.18.3, created by CPAN-Reporter-1.2011.

Thank you for uploading your work to CPAN.  Congratulations!
All tests were successful.

Sections of this report:

    * Tester comments
    * Program output
    * Prerequisites
    * Environment and other context

------------------------------
TESTER COMMENTS
------------------------------

Additional comments from tester:

none provided

------------------------------
PROGRAM OUTPUT
------------------------------

Output from './Build test':

t/00_compile.t .............. ok
Secret string too short at /tmpfs/.cpan-build/HTTP-Session2-1.09-hvzm3d/blib/lib/HTTP/Session2/Base.pm line 79.
	HTTP::Session2::Base::__ANON__('HTTP::Session2::ServerStore=HASH(0x15a9ed0)', 's3cret') called at t/01_server_side.t line 23
	main::__ANON__('client -> server: request without cookie', 'CODE(0x15a9d80)') called at t/01_server_side.t line 25
	main::__ANON__() called at /opt/perl-5.18.3-RC1/lib/site_perl/5.18.3/Test/Builder.pm line 261
	Test::Builder::__ANON__() called at /opt/perl-5.18.3-RC1/lib/site_perl/5.18.3/Test/Builder.pm line 266
	eval {...} called at /opt/perl-5.18.3-RC1/lib/site_perl/5.18.3/Test/Builder.pm line 266
	Test::Builder::subtest('Test::Builder=HASH(0x10e7af0)', 'First request', 'CODE(0x13af7d0)') called at /opt/perl-5.18.3-RC1/lib/site_perl/5.18.3/Test/More.pm line 771
	Test::More::subtest('First request', 'CODE(0x13af7d0)') called at t/01_server_side.t line 11
	main::scenario('First request', 'CODE(0x13af7d0)') called at t/01_server_side.t line 31
Secret string too short at /tmpfs/.cpan-build/HTTP-Session2-1.09-hvzm3d/blib/lib/HTTP/Session2/Base.pm line 79.
	HTTP::Session2::Base::__ANON__('HTTP::Session2::ServerStore=HASH(0x15aa098)', 's3cret') called at t/01_server_side.t line 40
	main::__ANON__('client -> server: request without cookie', 'CODE(0x15a9f60)') called at t/01_server_side.t line 42
	main::__ANON__() called at /opt/perl-5.18.3-RC1/lib/site_perl/5.18.3/Test/Builder.pm line 261
	Test::Builder::__ANON__() called at /opt/perl-5.18.3-RC1/lib/site_perl/5.18.3/Test/Builder.pm line 266
	eval {...} called at /opt/perl-5.18.3-RC1/lib/site_perl/5.18.3/Test/Builder.pm line 266
	Test::Builder::subtest('Test::Builder=HASH(0x10e7af0)', 'Store something without login', 'CODE(0x12b5200)') called at /opt/perl-5.18.3-RC1/lib/site_perl/5.18.3/Test/More.pm line 771
	Test::More::subtest('Store something without login', 'CODE(0x12b5200)') called at t/01_server_side.t line 11
	main::scenario('Store something without login', 'CODE(0x12b5200)') called at t/01_server_side.t line 58
Secret string too short at /tmpfs/.cpan-build/HTTP-Session2-1.09-hvzm3d/blib/lib/HTTP/Session2/Base.pm line 79.
	HTTP::Session2::Base::__ANON__('HTTP::Session2::ServerStore=HASH(0x15a9cd8)', 's3cret') called at t/01_server_side.t line 70
	main::__ANON__('client -> server: request without cookie', 'CODE(0x15da578)') called at t/01_server_side.t line 72
	main::__ANON__() called at /opt/perl-5.18.3-RC1/lib/site_perl/5.18.3/Test/Builder.pm line 261
	Test::Builder::__ANON__() called at /opt/perl-5.18.3-RC1/lib/site_perl/5.18.3/Test/Builder.pm line 266
	eval {...} called at /opt/perl-5.18.3-RC1/lib/site_perl/5.18.3/Test/Builder.pm line 266
	Test::Builder::subtest('Test::Builder=HASH(0x10e7af0)', 'Login', 'CODE(0x12b56e0)') called at /opt/perl-5.18.3-RC1/lib/site_perl/5.18.3/Test/More.pm line 771
	Test::More::subtest('Login', 'CODE(0x12b56e0)') called at t/01_server_side.t line 11
	main::scenario('Login', 'CODE(0x12b56e0)') called at t/01_server_side.t line 96
Secret string too short at /tmpfs/.cpan-build/HTTP-Session2-1.09-hvzm3d/blib/lib/HTTP/Session2/Base.pm line 79.
	HTTP::Session2::Base::__ANON__('HTTP::Session2::ServerStore=HASH(0x10d7690)', 's3cret') called at t/01_server_side.t line 108
	main::__ANON__('client -> server: request without cookie', 'CODE(0x15df4b8)') called at t/01_server_side.t line 110
	main::__ANON__() called at /opt/perl-5.18.3-RC1/lib/site_perl/5.18.3/Test/Builder.pm line 261
	Test::Builder::__ANON__() called at /opt/perl-5.18.3-RC1/lib/site_perl/5.18.3/Test/Builder.pm line 266
	eval {...} called at /opt/perl-5.18.3-RC1/lib/site_perl/5.18.3/Test/Builder.pm line 266
	Test::Builder::subtest('Test::Builder=HASH(0x10e7af0)', 'In a login session', 'CODE(0x15990f0)') called at /opt/perl-5.18.3-RC1/lib/site_perl/5.18.3/Test/More.pm line 771
	Test::More::subtest('In a login session', 'CODE(0x15990f0)') called at t/01_server_side.t line 11
	main::scenario('In a login session', 'CODE(0x15990f0)') called at t/01_server_side.t line 124
Secret string too short at /tmpfs/.cpan-build/HTTP-Session2-1.09-hvzm3d/blib/lib/HTTP/Session2/Base.pm line 79.
	HTTP::Session2::Base::__ANON__('HTTP::Session2::ServerStore=HASH(0x15da4b8)', 's3cret') called at t/01_server_side.t line 131
	main::__ANON__('client -> server: request without cookie', 'CODE(0x15b0980)') called at t/01_server_side.t line 138
	main::__ANON__() called at /opt/perl-5.18.3-RC1/lib/site_perl/5.18.3/Test/Builder.pm line 261
	Test::Builder::__ANON__() called at /opt/perl-5.18.3-RC1/lib/site_perl/5.18.3/Test/Builder.pm line 266
	eval {...} called at /opt/perl-5.18.3-RC1/lib/site_perl/5.18.3/Test/Builder.pm line 266
	Test::Builder::subtest('Test::Builder=HASH(0x10e7af0)', 'Logout', 'CODE(0x15999d8)') called at /opt/perl-5.18.3-RC1/lib/site_perl/5.18.3/Test/More.pm line 771
	Test::More::subtest('Logout', 'CODE(0x15999d8)') called at t/01_server_side.t line 11
	main::scenario('Logout', 'CODE(0x15999d8)') called at t/01_server_side.t line 153
t/01_server_side.t .......... ok
Secret string too short at /tmpfs/.cpan-build/HTTP-Session2-1.09-hvzm3d/blib/lib/HTTP/Session2/Base.pm line 79.
	HTTP::Session2::Base::__ANON__('HTTP::Session2::ClientStore=HASH(0x2a60fe8)', 's3cret') called at t/02_client_side.t line 17
	main::__ANON__('client -> server: request without cookie', 'CODE(0x2a60ef8)') called at t/02_client_side.t line 22
	main::__ANON__() called at /opt/perl-5.18.3-RC1/lib/site_perl/5.18.3/Test/Builder.pm line 261
	Test::Builder::__ANON__() called at /opt/perl-5.18.3-RC1/lib/site_perl/5.18.3/Test/Builder.pm line 266
	eval {...} called at /opt/perl-5.18.3-RC1/lib/site_perl/5.18.3/Test/Builder.pm line 266
	Test::Builder::subtest('Test::Builder=HASH(0x25678a0)', 'First request', 'CODE(0x2a379c0)') called at /opt/perl-5.18.3-RC1/lib/site_perl/5.18.3/Test/More.pm line 771
	Test::More::subtest('First request', 'CODE(0x2a379c0)') called at t/02_client_side.t line 9
	main::scenario('First request', 'CODE(0x2a379c0)') called at t/02_client_side.t line 28
Secret string too short at /tmpfs/.cpan-build/HTTP-Session2-1.09-hvzm3d/blib/lib/HTTP/Session2/Base.pm line 79.
	HTTP::Session2::Base::__ANON__('HTTP::Session2::ClientStore=HASH(0x2a61108)', 's3cret') called at t/02_client_side.t line 33
	main::__ANON__('client -> server: request without cookie', 'CODE(0x2a610c0)') called at t/02_client_side.t line 38
	main::__ANON__() called at /opt/perl-5.18.3-RC1/lib/site_perl/5.18.3/Test/Builder.pm line 261
	Test::Builder::__ANON__() called at /opt/perl-5.18.3-RC1/lib/site_perl/5.18.3/Test/Builder.pm line 266
	eval {...} called at /opt/perl-5.18.3-RC1/lib/site_perl/5.18.3/Test/Builder.pm line 266
	Test::Builder::subtest('Test::Builder=HASH(0x25678a0)', 'Store something without login', 'CODE(0x2a46628)') called at /opt/perl-5.18.3-RC1/lib/site_perl/5.18.3/Test/More.pm line 771
	Test::More::subtest('Store something without login', 'CODE(0x2a46628)') called at t/02_client_side.t line 9
	main::scenario('Store something without login', 'CODE(0x2a46628)') called at t/02_client_side.t line 54
Do not use HTTP::Session2::ClientStore. Use HTTP::Session2::ServerStore or HTTP::Session2::ClientStore2 instead. at /tmpfs/.cpan-build/HTTP-Session2-1.09-hvzm3d/blib/lib/HTTP/Session2/ClientStore.pm line 25.
Secret string too short at /tmpfs/.cpan-build/HTTP-Session2-1.09-hvzm3d/blib/lib/HTTP/Session2/Base.pm line 79.
	HTTP::Session2::Base::__ANON__('HTTP::Session2::ClientStore=HASH(0x2a60be0)', 's3cret') called at t/02_client_side.t line 60
	main::__ANON__('client -> server: request without cookie', 'CODE(0x2a61468)') called at t/02_client_side.t line 66
	main::__ANON__() called at /opt/perl-5.18.3-RC1/lib/site_perl/5.18.3/Test/Builder.pm line 261
	Test::Builder::__ANON__() called at /opt/perl-5.18.3-RC1/lib/site_perl/5.18.3/Test/Builder.pm line 266
	eval {...} called at /opt/perl-5.18.3-RC1/lib/site_perl/5.18.3/Test/Builder.pm line 266
	Test::Builder::subtest('Test::Builder=HASH(0x25678a0)', 'Login', 'CODE(0x2a46a18)') called at /opt/perl-5.18.3-RC1/lib/site_perl/5.18.3/Test/More.pm line 771
	Test::More::subtest('Login', 'CODE(0x2a46a18)') called at t/02_client_side.t line 9
	main::scenario('Login', 'CODE(0x2a46a18)') called at t/02_client_side.t line 86
Do not use HTTP::Session2::ClientStore. Use HTTP::Session2::ServerStore or HTTP::Session2::ClientStore2 instead. at /tmpfs/.cpan-build/HTTP-Session2-1.09-hvzm3d/blib/lib/HTTP/Session2/ClientStore.pm line 35.
Do not use HTTP::Session2::ClientStore. Use HTTP::Session2::ServerStore or HTTP::Session2::ClientStore2 instead. at /tmpfs/.cpan-build/HTTP-Session2-1.09-hvzm3d/blib/lib/HTTP/Session2/ClientStore.pm line 25.
Secret string too short at /tmpfs/.cpan-build/HTTP-Session2-1.09-hvzm3d/blib/lib/HTTP/Session2/Base.pm line 79.
	HTTP::Session2::Base::__ANON__('HTTP::Session2::ClientStore=HASH(0x25577e8)', 's3cret') called at t/02_client_side.t line 92
	main::__ANON__('client -> server: request without cookie', 'CODE(0x27e9a48)') called at t/02_client_side.t line 98
	main::__ANON__() called at /opt/perl-5.18.3-RC1/lib/site_perl/5.18.3/Test/Builder.pm line 261
	Test::Builder::__ANON__() called at /opt/perl-5.18.3-RC1/lib/site_perl/5.18.3/Test/Builder.pm line 266
	eval {...} called at /opt/perl-5.18.3-RC1/lib/site_perl/5.18.3/Test/Builder.pm line 266
	Test::Builder::subtest('Test::Builder=HASH(0x25678a0)', 'In a login session', 'CODE(0x2a4fdc0)') called at /opt/perl-5.18.3-RC1/lib/site_perl/5.18.3/Test/More.pm line 771
	Test::More::subtest('In a login session', 'CODE(0x2a4fdc0)') called at t/02_client_side.t line 9
	main::scenario('In a login session', 'CODE(0x2a4fdc0)') called at t/02_client_side.t line 107
Do not use HTTP::Session2::ClientStore. Use HTTP::Session2::ServerStore or HTTP::Session2::ClientStore2 instead. at /tmpfs/.cpan-build/HTTP-Session2-1.09-hvzm3d/blib/lib/HTTP/Session2/ClientStore.pm line 35.
Do not use HTTP::Session2::ClientStore. Use HTTP::Session2::ServerStore or HTTP::Session2::ClientStore2 instead. at /tmpfs/.cpan-build/HTTP-Session2-1.09-hvzm3d/blib/lib/HTTP/Session2/ClientStore.pm line 25.
Secret string too short at /tmpfs/.cpan-build/HTTP-Session2-1.09-hvzm3d/blib/lib/HTTP/Session2/Base.pm line 79.
	HTTP::Session2::Base::__ANON__('HTTP::Session2::ClientStore=HASH(0x25509e0)', 's3cret') called at t/02_client_side.t line 112
	main::__ANON__('client -> server: request without cookie', 'CODE(0x2a92890)') called at t/02_client_side.t line 118
	main::__ANON__() called at /opt/perl-5.18.3-RC1/lib/site_perl/5.18.3/Test/Builder.pm line 261
	Test::Builder::__ANON__() called at /opt/perl-5.18.3-RC1/lib/site_perl/5.18.3/Test/Builder.pm line 266
	eval {...} called at /opt/perl-5.18.3-RC1/lib/site_perl/5.18.3/Test/Builder.pm line 266
	Test::Builder::subtest('Test::Builder=HASH(0x25678a0)', 'Logout', 'CODE(0x2a50498)') called at /opt/perl-5.18.3-RC1/lib/site_perl/5.18.3/Test/More.pm line 771
	Test::More::subtest('Logout', 'CODE(0x2a50498)') called at t/02_client_side.t line 9
	main::scenario('Logout', 'CODE(0x2a50498)') called at t/02_client_side.t line 131
t/02_client_side.t .......... ok
Secret string too short at /tmpfs/.cpan-build/HTTP-Session2-1.09-hvzm3d/blib/lib/HTTP/Session2/Base.pm line 79.
	HTTP::Session2::Base::__ANON__('HTTP::Session2::ServerStore=HASH(0x1c0e690)', 's3cret') called at t/03_mech.t line 121
	main::server_session('HASH(0x1c091a0)') called at t/03_mech.t line 17
	main::__ANON__('HASH(0x1c091a0)') called at /opt/perl-5.18.3-RC1/lib/site_perl/5.18.3/Test/WWW/Mechanize/PSGI.pm line 39
	Test::WWW::Mechanize::PSGI::try {...} () called at /opt/perl-5.18.3-RC1/lib/site_perl/5.18.3/Try/Tiny.pm line 81
	eval {...} called at /opt/perl-5.18.3-RC1/lib/site_perl/5.18.3/Try/Tiny.pm line 72
	Try::Tiny::try('CODE(0x1c08eb8)', 'Try::Tiny::Catch=REF(0xebf878)') called at /opt/perl-5.18.3-RC1/lib/site_perl/5.18.3/Test/WWW/Mechanize/PSGI.pm line 46
	Test::WWW::Mechanize::PSGI::simple_request('Test::WWW::Mechanize::PSGI=HASH(0x1ac1f60)', 'HTTP::Request=HASH(0x1bb5498)', undef, undef) called at /opt/perl-5.18.3-RC1/lib/site_perl/5.18.3/LWP/UserAgent.pm line 282
	LWP::UserAgent::request('Test::WWW::Mechanize::PSGI=HASH(0x1ac1f60)', 'HTTP::Request=HASH(0x1bb5498)') called at /opt/perl-5.18.3-RC1/lib/site_perl/5.18.3/WWW/Mechanize.pm line 2598
	WWW::Mechanize::_make_request('Test::WWW::Mechanize::PSGI=HASH(0x1ac1f60)', 'HTTP::Request=HASH(0x1bb5498)') called at /opt/perl-5.18.3-RC1/lib/site_perl/5.18.3/WWW/Mechanize.pm line 2312
	WWW::Mechanize::request('Test::WWW::Mechanize::PSGI=HASH(0x1ac1f60)', 'HTTP::Request=HASH(0x1bb5498)') called at /opt/perl-5.18.3-RC1/lib/site_perl/5.18.3/LWP/UserAgent.pm line 411
	LWP::UserAgent::get('Test::WWW::Mechanize::PSGI=HASH(0x1ac1f60)', '/') called at /opt/perl-5.18.3-RC1/lib/site_perl/5.18.3/WWW/Mechanize.pm line 407
	WWW::Mechanize::get('Test::WWW::Mechanize::PSGI=HASH(0x1ac1f60)', '/') called at /opt/perl-5.18.3-RC1/lib/site_perl/5.18.3/Test/WWW/Mechanize.pm line 159
	Test::WWW::Mechanize::get_ok('Test::WWW::Mechanize::PSGI=HASH(0x1ac1f60)', '/') called at t/03_mech.t line 74
Secret string too short at /tmpfs/.cpan-build/HTTP-Session2-1.09-hvzm3d/blib/lib/HTTP/Session2/Base.pm line 79.
	HTTP::Session2::Base::__ANON__('HTTP::Session2::ServerStore=HASH(0x1c18600)', 's3cret') called at t/03_mech.t line 121
	main::server_session('HASH(0x1c0f050)') called at t/03_mech.t line 17
	main::__ANON__('HASH(0x1c0f050)') called at /opt/perl-5.18.3-RC1/lib/site_perl/5.18.3/Test/WWW/Mechanize/PSGI.pm line 39
	Test::WWW::Mechanize::PSGI::try {...} () called at /opt/perl-5.18.3-RC1/lib/site_perl/5.18.3/Try/Tiny.pm line 81
	eval {...} called at /opt/perl-5.18.3-RC1/lib/site_perl/5.18.3/Try/Tiny.pm line 72
	Try::Tiny::try('CODE(0x1c0f068)', 'Try::Tiny::Catch=REF(0x1c0e558)') called at /opt/perl-5.18.3-RC1/lib/site_perl/5.18.3/Test/WWW/Mechanize/PSGI.pm line 46
	Test::WWW::Mechanize::PSGI::simple_request('Test::WWW::Mechanize::PSGI=HASH(0x1ac1f60)', 'HTTP::Request=HASH(0x1c0ec00)', undef, undef) called at /opt/perl-5.18.3-RC1/lib/site_perl/5.18.3/LWP/UserAgent.pm line 282
	LWP::UserAgent::request('Test::WWW::Mechanize::PSGI=HASH(0x1ac1f60)', 'HTTP::Request=HASH(0x1c0ec00)') called at /opt/perl-5.18.3-RC1/lib/site_perl/5.18.3/WWW/Mechanize.pm line 2598
	WWW::Mechanize::_make_request('Test::WWW::Mechanize::PSGI=HASH(0x1ac1f60)', 'HTTP::Request=HASH(0x1c0ec00)') called at /opt/perl-5.18.3-RC1/lib/site_perl/5.18.3/WWW/Mechanize.pm line 2312
	WWW::Mechanize::request('Test::WWW::Mechanize::PSGI=HASH(0x1ac1f60)', 'HTTP::Request=HASH(0x1c0ec00)') called at /opt/perl-5.18.3-RC1/lib/site_perl/5.18.3/LWP/UserAgent.pm line 419
	LWP::UserAgent::post('Test::WWW::Mechanize::PSGI=HASH(0x1ac1f60)', '/wishlist?foo', 'HASH(0x1776c58)') called at /opt/perl-5.18.3-RC1/lib/site_perl/5.18.3/Test/WWW/Mechanize.pm line 236
	Test::WWW::Mechanize::post_ok('Test::WWW::Mechanize::PSGI=HASH(0x1ac1f60)', '/wishlist?foo') called at t/03_mech.t line 75
Secret string too short at /tmpfs/.cpan-build/HTTP-Session2-1.09-hvzm3d/blib/lib/HTTP/Session2/Base.pm line 79.
	HTTP::Session2::Base::__ANON__('HTTP::Session2::ServerStore=HASH(0x1c18eb8)', 's3cret') called at t/03_mech.t line 121
	main::server_session('HASH(0x1c18ac8)') called at t/03_mech.t line 17
	main::__ANON__('HASH(0x1c18ac8)') called at /opt/perl-5.18.3-RC1/lib/site_perl/5.18.3/Test/WWW/Mechanize/PSGI.pm line 39
	Test::WWW::Mechanize::PSGI::try {...} () called at /opt/perl-5.18.3-RC1/lib/site_perl/5.18.3/Try/Tiny.pm line 81
	eval {...} called at /opt/perl-5.18.3-RC1/lib/site_perl/5.18.3/Try/Tiny.pm line 72
	Try::Tiny::try('CODE(0x1c18b58)', 'Try::Tiny::Catch=REF(0x1c0f338)') called at /opt/perl-5.18.3-RC1/lib/site_perl/5.18.3/Test/WWW/Mechanize/PSGI.pm line 46
	Test::WWW::Mechanize::PSGI::simple_request('Test::WWW::Mechanize::PSGI=HASH(0x1ac1f60)', 'HTTP::Request=HASH(0x1c0f0e0)', undef, undef) called at /opt/perl-5.18.3-RC1/lib/site_perl/5.18.3/LWP/UserAgent.pm line 282
	LWP::UserAgent::request('Test::WWW::Mechanize::PSGI=HASH(0x1ac1f60)', 'HTTP::Request=HASH(0x1c0f0e0)') called at /opt/perl-5.18.3-RC1/lib/site_perl/5.18.3/WWW/Mechanize.pm line 2598
	WWW::Mechanize::_make_request('Test::WWW::Mechanize::PSGI=HASH(0x1ac1f60)', 'HTTP::Request=HASH(0x1c0f0e0)') called at /opt/perl-5.18.3-RC1/lib/site_perl/5.18.3/WWW/Mechanize.pm line 2312
	WWW::Mechanize::request('Test::WWW::Mechanize::PSGI=HASH(0x1ac1f60)', 'HTTP::Request=HASH(0x1c0f0e0)') called at /opt/perl-5.18.3-RC1/lib/site_perl/5.18.3/LWP/UserAgent.pm line 411
	LWP::UserAgent::get('Test::WWW::Mechanize::PSGI=HASH(0x1ac1f60)', 'http://localhost/wishlist') called at /opt/perl-5.18.3-RC1/lib/site_perl/5.18.3/WWW/Mechanize.pm line 407
	WWW::Mechanize::get('Test::WWW::Mechanize::PSGI=HASH(0x1ac1f60)', '/wishlist') called at /opt/perl-5.18.3-RC1/lib/site_perl/5.18.3/Test/WWW/Mechanize.pm line 159
	Test::WWW::Mechanize::get_ok('Test::WWW::Mechanize::PSGI=HASH(0x1ac1f60)', '/wishlist') called at t/03_mech.t line 76
Secret string too short at /tmpfs/.cpan-build/HTTP-Session2-1.09-hvzm3d/blib/lib/HTTP/Session2/Base.pm line 79.
	HTTP::Session2::Base::__ANON__('HTTP::Session2::ServerStore=HASH(0x1c192f0)', 's3cret') called at t/03_mech.t line 121
	main::server_session('HASH(0x1c0f338)') called at t/03_mech.t line 17
	main::__ANON__('HASH(0x1c0f338)') called at /opt/perl-5.18.3-RC1/lib/site_perl/5.18.3/Test/WWW/Mechanize/PSGI.pm line 39
	Test::WWW::Mechanize::PSGI::try {...} () called at /opt/perl-5.18.3-RC1/lib/site_perl/5.18.3/Try/Tiny.pm line 81
	eval {...} called at /opt/perl-5.18.3-RC1/lib/site_perl/5.18.3/Try/Tiny.pm line 72
	Try::Tiny::try('CODE(0x1c18d38)', 'Try::Tiny::Catch=REF(0x1c18d20)') called at /opt/perl-5.18.3-RC1/lib/site_perl/5.18.3/Test/WWW/Mechanize/PSGI.pm line 46
	Test::WWW::Mechanize::PSGI::simple_request('Test::WWW::Mechanize::PSGI=HASH(0x1ac1f60)', 'HTTP::Request=HASH(0x1c18ab0)', undef, undef) called at /opt/perl-5.18.3-RC1/lib/site_perl/5.18.3/LWP/UserAgent.pm line 282
	LWP::UserAgent::request('Test::WWW::Mechanize::PSGI=HASH(0x1ac1f60)', 'HTTP::Request=HASH(0x1c18ab0)') called at /opt/perl-5.18.3-RC1/lib/site_perl/5.18.3/WWW/Mechanize.pm line 2598
	WWW::Mechanize::_make_request('Test::WWW::Mechanize::PSGI=HASH(0x1ac1f60)', 'HTTP::Request=HASH(0x1c18ab0)') called at /opt/perl-5.18.3-RC1/lib/site_perl/5.18.3/WWW/Mechanize.pm line 2312
	WWW::Mechanize::request('Test::WWW::Mechanize::PSGI=HASH(0x1ac1f60)', 'HTTP::Request=HASH(0x1c18ab0)') called at /opt/perl-5.18.3-RC1/lib/site_perl/5.18.3/LWP/UserAgent.pm line 419
	LWP::UserAgent::post('Test::WWW::Mechanize::PSGI=HASH(0x1ac1f60)', '/wishlist?bar') called at t/03_mech.t line 78
Secret string too short at /tmpfs/.cpan-build/HTTP-Session2-1.09-hvzm3d/blib/lib/HTTP/Session2/Base.pm line 79.
	HTTP::Session2::Base::__ANON__('HTTP::Session2::ServerStore=HASH(0x1c20bb0)', 's3cret') called at t/03_mech.t line 121
	main::server_session('HASH(0x1c18d20)') called at t/03_mech.t line 17
	main::__ANON__('HASH(0x1c18d20)') called at /opt/perl-5.18.3-RC1/lib/site_perl/5.18.3/Test/WWW/Mechanize/PSGI.pm line 39
	Test::WWW::Mechanize::PSGI::try {...} () called at /opt/perl-5.18.3-RC1/lib/site_perl/5.18.3/Try/Tiny.pm line 81
	eval {...} called at /opt/perl-5.18.3-RC1/lib/site_perl/5.18.3/Try/Tiny.pm line 72
	Try::Tiny::try('CODE(0x1c18e70)', 'Try::Tiny::Catch=REF(0x1c18f78)') called at /opt/perl-5.18.3-RC1/lib/site_perl/5.18.3/Test/WWW/Mechanize/PSGI.pm line 46
	Test::WWW::Mechanize::PSGI::simple_request('Test::WWW::Mechanize::PSGI=HASH(0x1ac1f60)', 'HTTP::Request=HASH(0x1c192d8)', undef, undef) called at /opt/perl-5.18.3-RC1/lib/site_perl/5.18.3/LWP/UserAgent.pm line 282
	LWP::UserAgent::request('Test::WWW::Mechanize::PSGI=HASH(0x1ac1f60)', 'HTTP::Request=HASH(0x1c192d8)') called at /opt/perl-5.18.3-RC1/lib/site_perl/5.18.3/WWW/Mechanize.pm line 2598
	WWW::Mechanize::_make_request('Test::WWW::Mechanize::PSGI=HASH(0x1ac1f60)', 'HTTP::Request=HASH(0x1c192d8)') called at /opt/perl-5.18.3-RC1/lib/site_perl/5.18.3/WWW/Mechanize.pm line 2312
	WWW::Mechanize::request('Test::WWW::Mechanize::PSGI=HASH(0x1ac1f60)', 'HTTP::Request=HASH(0x1c192d8)') called at /opt/perl-5.18.3-RC1/lib/site_perl/5.18.3/LWP/UserAgent.pm line 419
	LWP::UserAgent::post('Test::WWW::Mechanize::PSGI=HASH(0x1ac1f60)', '/wishlist?bar', 'HASH(0x1776c58)') called at /opt/perl-5.18.3-RC1/lib/site_perl/5.18.3/Test/WWW/Mechanize.pm line 236
	Test::WWW::Mechanize::post_ok('Test::WWW::Mechanize::PSGI=HASH(0x1ac1f60)', '/wishlist?bar') called at t/03_mech.t line 81
Secret string too short at /tmpfs/.cpan-build/HTTP-Session2-1.09-hvzm3d/blib/lib/HTTP/Session2/Base.pm line 79.
	HTTP::Session2::Base::__ANON__('HTTP::Session2::ServerStore=HASH(0x1c20e50)', 's3cret') called at t/03_mech.t line 121
	main::server_session('HASH(0x1c18f90)') called at t/03_mech.t line 17
	main::__ANON__('HASH(0x1c18f90)') called at /opt/perl-5.18.3-RC1/lib/site_perl/5.18.3/Test/WWW/Mechanize/PSGI.pm line 39
	Test::WWW::Mechanize::PSGI::try {...} () called at /opt/perl-5.18.3-RC1/lib/site_perl/5.18.3/Try/Tiny.pm line 81
	eval {...} called at /opt/perl-5.18.3-RC1/lib/site_perl/5.18.3/Try/Tiny.pm line 72
	Try::Tiny::try('CODE(0x1c19410)', 'Try::Tiny::Catch=REF(0x1c193f8)') called at /opt/perl-5.18.3-RC1/lib/site_perl/5.18.3/Test/WWW/Mechanize/PSGI.pm line 46
	Test::WWW::Mechanize::PSGI::simple_request('Test::WWW::Mechanize::PSGI=HASH(0x1ac1f60)', 'HTTP::Request=HASH(0x1c19038)', undef, undef) called at /opt/perl-5.18.3-RC1/lib/site_perl/5.18.3/LWP/UserAgent.pm line 282
	LWP::UserAgent::request('Test::WWW::Mechanize::PSGI=HASH(0x1ac1f60)', 'HTTP::Request=HASH(0x1c19038)') called at /opt/perl-5.18.3-RC1/lib/site_perl/5.18.3/WWW/Mechanize.pm line 2598
	WWW::Mechanize::_make_request('Test::WWW::Mechanize::PSGI=HASH(0x1ac1f60)', 'HTTP::Request=HASH(0x1c19038)') called at /opt/perl-5.18.3-RC1/lib/site_perl/5.18.3/WWW/Mechanize.pm line 2312
	WWW::Mechanize::request('Test::WWW::Mechanize::PSGI=HASH(0x1ac1f60)', 'HTTP::Request=HASH(0x1c19038)') called at /opt/perl-5.18.3-RC1/lib/site_perl/5.18.3/LWP/UserAgent.pm line 411
	LWP::UserAgent::get('Test::WWW::Mechanize::PSGI=HASH(0x1ac1f60)', 'http://localhost/wishlist') called at /opt/perl-5.18.3-RC1/lib/site_perl/5.18.3/WWW/Mechanize.pm line 407
	WWW::Mechanize::get('Test::WWW::Mechanize::PSGI=HASH(0x1ac1f60)', '/wishlist') called at /opt/perl-5.18.3-RC1/lib/site_perl/5.18.3/Test/WWW/Mechanize.pm line 159
	Test::WWW::Mechanize::get_ok('Test::WWW::Mechanize::PSGI=HASH(0x1ac1f60)', '/wishlist') called at t/03_mech.t line 82
Secret string too short at /tmpfs/.cpan-build/HTTP-Session2-1.09-hvzm3d/blib/lib/HTTP/Session2/Base.pm line 79.
	HTTP::Session2::Base::__ANON__('HTTP::Session2::ServerStore=HASH(0x1c214b0)', 's3cret') called at t/03_mech.t line 121
	main::server_session('HASH(0x1c20c28)') called at t/03_mech.t line 17
	main::__ANON__('HASH(0x1c20c28)') called at /opt/perl-5.18.3-RC1/lib/site_perl/5.18.3/Test/WWW/Mechanize/PSGI.pm line 39
	Test::WWW::Mechanize::PSGI::try {...} () called at /opt/perl-5.18.3-RC1/lib/site_perl/5.18.3/Try/Tiny.pm line 81
	eval {...} called at /opt/perl-5.18.3-RC1/lib/site_perl/5.18.3/Try/Tiny.pm line 72
	Try::Tiny::try('CODE(0x1c20b68)', 'Try::Tiny::Catch=REF(0x1c20ac0)') called at /opt/perl-5.18.3-RC1/lib/site_perl/5.18.3/Test/WWW/Mechanize/PSGI.pm line 46
	Test::WWW::Mechanize::PSGI::simple_request('Test::WWW::Mechanize::PSGI=HASH(0x1ac1f60)', 'HTTP::Request=HASH(0x1c18f18)', undef, undef) called at /opt/perl-5.18.3-RC1/lib/site_perl/5.18.3/LWP/UserAgent.pm line 282
	LWP::UserAgent::request('Test::WWW::Mechanize::PSGI=HASH(0x1ac1f60)', 'HTTP::Request=HASH(0x1c18f18)') called at /opt/perl-5.18.3-RC1/lib/site_perl/5.18.3/WWW/Mechanize.pm line 2598
	WWW::Mechanize::_make_request('Test::WWW::Mechanize::PSGI=HASH(0x1ac1f60)', 'HTTP::Request=HASH(0x1c18f18)') called at /opt/perl-5.18.3-RC1/lib/site_perl/5.18.3/WWW/Mechanize.pm line 2312
	WWW::Mechanize::request('Test::WWW::Mechanize::PSGI=HASH(0x1ac1f60)', 'HTTP::Request=HASH(0x1c18f18)') called at /opt/perl-5.18.3-RC1/lib/site_perl/5.18.3/LWP/UserAgent.pm line 419
	LWP::UserAgent::post('Test::WWW::Mechanize::PSGI=HASH(0x1ac1f60)', '/account/login?john', 'HASH(0x1776c58)') called at /opt/perl-5.18.3-RC1/lib/site_perl/5.18.3/Test/WWW/Mechanize.pm line 236
	Test::WWW::Mechanize::post_ok('Test::WWW::Mechanize::PSGI=HASH(0x1ac1f60)', '/account/login?john') called at t/03_mech.t line 84
Secret string too short at /tmpfs/.cpan-build/HTTP-Session2-1.09-hvzm3d/blib/lib/HTTP/Session2/Base.pm line 79.
	HTTP::Session2::Base::__ANON__('HTTP::Session2::ServerStore=HASH(0x1c25258)', 's3cret') called at t/03_mech.t line 121
	main::server_session('HASH(0x1c210c0)') called at t/03_mech.t line 17
	main::__ANON__('HASH(0x1c210c0)') called at /opt/perl-5.18.3-RC1/lib/site_perl/5.18.3/Test/WWW/Mechanize/PSGI.pm line 39
	Test::WWW::Mechanize::PSGI::try {...} () called at /opt/perl-5.18.3-RC1/lib/site_perl/5.18.3/Try/Tiny.pm line 81
	eval {...} called at /opt/perl-5.18.3-RC1/lib/site_perl/5.18.3/Try/Tiny.pm line 72
	Try::Tiny::try('CODE(0x1c20d90)', 'Try::Tiny::Catch=REF(0x1c20e08)') called at /opt/perl-5.18.3-RC1/lib/site_perl/5.18.3/Test/WWW/Mechanize/PSGI.pm line 46
	Test::WWW::Mechanize::PSGI::simple_request('Test::WWW::Mechanize::PSGI=HASH(0x1ac1f60)', 'HTTP::Request=HASH(0x1c20aa8)', undef, undef) called at /opt/perl-5.18.3-RC1/lib/site_perl/5.18.3/LWP/UserAgent.pm line 282
	LWP::UserAgent::request('Test::WWW::Mechanize::PSGI=HASH(0x1ac1f60)', 'HTTP::Request=HASH(0x1c20aa8)') called at /opt/perl-5.18.3-RC1/lib/site_perl/5.18.3/WWW/Mechanize.pm line 2598
	WWW::Mechanize::_make_request('Test::WWW::Mechanize::PSGI=HASH(0x1ac1f60)', 'HTTP::Request=HASH(0x1c20aa8)') called at /opt/perl-5.18.3-RC1/lib/site_perl/5.18.3/WWW/Mechanize.pm line 2312
	WWW::Mechanize::request('Test::WWW::Mechanize::PSGI=HASH(0x1ac1f60)', 'HTTP::Request=HASH(0x1c20aa8)') called at /opt/perl-5.18.3-RC1/lib/site_perl/5.18.3/LWP/UserAgent.pm line 411
	LWP::UserAgent::get('Test::WWW::Mechanize::PSGI=HASH(0x1ac1f60)', 'http://localhost/wishlist') called at /opt/perl-5.18.3-RC1/lib/site_perl/5.18.3/WWW/Mechanize.pm line 407
	WWW::Mechanize::get('Test::WWW::Mechanize::PSGI=HASH(0x1ac1f60)', '/wishlist') called at /opt/perl-5.18.3-RC1/lib/site_perl/5.18.3/Test/WWW/Mechanize.pm line 159
	Test::WWW::Mechanize::get_ok('Test::WWW::Mechanize::PSGI=HASH(0x1ac1f60)', '/wishlist', 'Wishlist is still available') called at t/03_mech.t line 85
Secret string too short at /tmpfs/.cpan-build/HTTP-Session2-1.09-hvzm3d/blib/lib/HTTP/Session2/Base.pm line 79.
	HTTP::Session2::Base::__ANON__('HTTP::Session2::ServerStore=HASH(0x1c25690)', 's3cret') called at t/03_mech.t line 121
	main::server_session('HASH(0x1c20be0)') called at t/03_mech.t line 17
	main::__ANON__('HASH(0x1c20be0)') called at /opt/perl-5.18.3-RC1/lib/site_perl/5.18.3/Test/WWW/Mechanize/PSGI.pm line 39
	Test::WWW::Mechanize::PSGI::try {...} () called at /opt/perl-5.18.3-RC1/lib/site_perl/5.18.3/Try/Tiny.pm line 81
	eval {...} called at /opt/perl-5.18.3-RC1/lib/site_perl/5.18.3/Try/Tiny.pm line 72
	Try::Tiny::try('CODE(0x1c0f008)', 'Try::Tiny::Catch=REF(0x1c21570)') called at /opt/perl-5.18.3-RC1/lib/site_perl/5.18.3/Test/WWW/Mechanize/PSGI.pm line 46
	Test::WWW::Mechanize::PSGI::simple_request('Test::WWW::Mechanize::PSGI=HASH(0x1ac1f60)', 'HTTP::Request=HASH(0x1c18588)', undef, undef) called at /opt/perl-5.18.3-RC1/lib/site_perl/5.18.3/LWP/UserAgent.pm line 282
	LWP::UserAgent::request('Test::WWW::Mechanize::PSGI=HASH(0x1ac1f60)', 'HTTP::Request=HASH(0x1c18588)') called at /opt/perl-5.18.3-RC1/lib/site_perl/5.18.3/WWW/Mechanize.pm line 2598
	WWW::Mechanize::_make_request('Test::WWW::Mechanize::PSGI=HASH(0x1ac1f60)', 'HTTP::Request=HASH(0x1c18588)') called at /opt/perl-5.18.3-RC1/lib/site_perl/5.18.3/WWW/Mechanize.pm line 2312
	WWW::Mechanize::request('Test::WWW::Mechanize::PSGI=HASH(0x1ac1f60)', 'HTTP::Request=HASH(0x1c18588)') called at /opt/perl-5.18.3-RC1/lib/site_perl/5.18.3/LWP/UserAgent.pm line 419
	LWP::UserAgent::post('Test::WWW::Mechanize::PSGI=HASH(0x1ac1f60)', '/wishlist?baz') called at t/03_mech.t line 87
Secret string too short at /tmpfs/.cpan-build/HTTP-Session2-1.09-hvzm3d/blib/lib/HTTP/Session2/Base.pm line 79.
	HTTP::Session2::Base::__ANON__('HTTP::Session2::ServerStore=HASH(0x1c25bd0)', 's3cret') called at t/03_mech.t line 121
	main::server_session('HASH(0x1c25090)') called at t/03_mech.t line 17
	main::__ANON__('HASH(0x1c25090)') called at /opt/perl-5.18.3-RC1/lib/site_perl/5.18.3/Test/WWW/Mechanize/PSGI.pm line 39
	Test::WWW::Mechanize::PSGI::try {...} () called at /opt/perl-5.18.3-RC1/lib/site_perl/5.18.3/Try/Tiny.pm line 81
	eval {...} called at /opt/perl-5.18.3-RC1/lib/site_perl/5.18.3/Try/Tiny.pm line 72
	Try::Tiny::try('CODE(0x1c21618)', 'Try::Tiny::Catch=REF(0x1c25390)') called at /opt/perl-5.18.3-RC1/lib/site_perl/5.18.3/Test/WWW/Mechanize/PSGI.pm line 46
	Test::WWW::Mechanize::PSGI::simple_request('Test::WWW::Mechanize::PSGI=HASH(0x1ac1f60)', 'HTTP::Request=HASH(0x1c252e8)', undef, undef) called at /opt/perl-5.18.3-RC1/lib/site_perl/5.18.3/LWP/UserAgent.pm line 282
	LWP::UserAgent::request('Test::WWW::Mechanize::PSGI=HASH(0x1ac1f60)', 'HTTP::Request=HASH(0x1c252e8)') called at /opt/perl-5.18.3-RC1/lib/site_perl/5.18.3/WWW/Mechanize.pm line 2598
	WWW::Mechanize::_make_request('Test::WWW::Mechanize::PSGI=HASH(0x1ac1f60)', 'HTTP::Request=HASH(0x1c252e8)') called at /opt/perl-5.18.3-RC1/lib/site_perl/5.18.3/WWW/Mechanize.pm line 2312
	WWW::Mechanize::request('Test::WWW::Mechanize::PSGI=HASH(0x1ac1f60)', 'HTTP::Request=HASH(0x1c252e8)') called at /opt/perl-5.18.3-RC1/lib/site_perl/5.18.3/LWP/UserAgent.pm line 419
	LWP::UserAgent::post('Test::WWW::Mechanize::PSGI=HASH(0x1ac1f60)', '/wishlist?baz', 'HASH(0x1776c58)') called at /opt/perl-5.18.3-RC1/lib/site_perl/5.18.3/Test/WWW/Mechanize.pm line 236
	Test::WWW::Mechanize::post_ok('Test::WWW::Mechanize::PSGI=HASH(0x1ac1f60)', '/wishlist?baz') called at t/03_mech.t line 90
Secret string too short at /tmpfs/.cpan-build/HTTP-Session2-1.09-hvzm3d/blib/lib/HTTP/Session2/Base.pm line 79.
	HTTP::Session2::Base::__ANON__('HTTP::Session2::ServerStore=HASH(0x1c25d80)', 's3cret') called at t/03_mech.t line 121
	main::server_session('HASH(0x1c25780)') called at t/03_mech.t line 17
	main::__ANON__('HASH(0x1c25780)') called at /opt/perl-5.18.3-RC1/lib/site_perl/5.18.3/Test/WWW/Mechanize/PSGI.pm line 39
	Test::WWW::Mechanize::PSGI::try {...} () called at /opt/perl-5.18.3-RC1/lib/site_perl/5.18.3/Try/Tiny.pm line 81
	eval {...} called at /opt/perl-5.18.3-RC1/lib/site_perl/5.18.3/Try/Tiny.pm line 72
	Try::Tiny::try('CODE(0x1c25ab0)', 'Try::Tiny::Catch=REF(0x1c253a8)') called at /opt/perl-5.18.3-RC1/lib/site_perl/5.18.3/Test/WWW/Mechanize/PSGI.pm line 46
	Test::WWW::Mechanize::PSGI::simple_request('Test::WWW::Mechanize::PSGI=HASH(0x1ac1f60)', 'HTTP::Request=HASH(0x1c257f8)', undef, undef) called at /opt/perl-5.18.3-RC1/lib/site_perl/5.18.3/LWP/UserAgent.pm line 282
	LWP::UserAgent::request('Test::WWW::Mechanize::PSGI=HASH(0x1ac1f60)', 'HTTP::Request=HASH(0x1c257f8)') called at /opt/perl-5.18.3-RC1/lib/site_perl/5.18.3/WWW/Mechanize.pm line 2598
	WWW::Mechanize::_make_request('Test::WWW::Mechanize::PSGI=HASH(0x1ac1f60)', 'HTTP::Request=HASH(0x1c257f8)') called at /opt/perl-5.18.3-RC1/lib/site_perl/5.18.3/WWW/Mechanize.pm line 2312
	WWW::Mechanize::request('Test::WWW::Mechanize::PSGI=HASH(0x1ac1f60)', 'HTTP::Request=HASH(0x1c257f8)') called at /opt/perl-5.18.3-RC1/lib/site_perl/5.18.3/LWP/UserAgent.pm line 411
	LWP::UserAgent::get('Test::WWW::Mechanize::PSGI=HASH(0x1ac1f60)', 'http://localhost/wishlist') called at /opt/perl-5.18.3-RC1/lib/site_perl/5.18.3/WWW/Mechanize.pm line 407
	WWW::Mechanize::get('Test::WWW::Mechanize::PSGI=HASH(0x1ac1f60)', '/wishlist') called at /opt/perl-5.18.3-RC1/lib/site_perl/5.18.3/Test/WWW/Mechanize.pm line 159
	Test::WWW::Mechanize::get_ok('Test::WWW::Mechanize::PSGI=HASH(0x1ac1f60)', '/wishlist', 'Wishlist is still available') called at t/03_mech.t line 91
Secret string too short at /tmpfs/.cpan-build/HTTP-Session2-1.09-hvzm3d/blib/lib/HTTP/Session2/Base.pm line 79.
	HTTP::Session2::Base::__ANON__('HTTP::Session2::ServerStore=HASH(0x1c29f98)', 's3cret') called at t/03_mech.t line 121
	main::server_session('HASH(0x1c25c60)') called at t/03_mech.t line 17
	main::__ANON__('HASH(0x1c25c60)') called at /opt/perl-5.18.3-RC1/lib/site_perl/5.18.3/Test/WWW/Mechanize/PSGI.pm line 39
	Test::WWW::Mechanize::PSGI::try {...} () called at /opt/perl-5.18.3-RC1/lib/site_perl/5.18.3/Try/Tiny.pm line 81
	eval {...} called at /opt/perl-5.18.3-RC1/lib/site_perl/5.18.3/Try/Tiny.pm line 72
	Try::Tiny::try('CODE(0x1c25cf0)', 'Try::Tiny::Catch=REF(0x1c25af8)') called at /opt/perl-5.18.3-RC1/lib/site_perl/5.18.3/Test/WWW/Mechanize/PSGI.pm line 46
	Test::WWW::Mechanize::PSGI::simple_request('Test::WWW::Mechanize::PSGI=HASH(0x1ac1f60)', 'HTTP::Request=HASH(0x1c29c68)', undef, undef) called at /opt/perl-5.18.3-RC1/lib/site_perl/5.18.3/LWP/UserAgent.pm line 282
	LWP::UserAgent::request('Test::WWW::Mechanize::PSGI=HASH(0x1ac1f60)', 'HTTP::Request=HASH(0x1c29c68)') called at /opt/perl-5.18.3-RC1/lib/site_perl/5.18.3/WWW/Mechanize.pm line 2598
	WWW::Mechanize::_make_request('Test::WWW::Mechanize::PSGI=HASH(0x1ac1f60)', 'HTTP::Request=HASH(0x1c29c68)') called at /opt/perl-5.18.3-RC1/lib/site_perl/5.18.3/WWW/Mechanize.pm line 2312
	WWW::Mechanize::request('Test::WWW::Mechanize::PSGI=HASH(0x1ac1f60)', 'HTTP::Request=HASH(0x1c29c68)') called at /opt/perl-5.18.3-RC1/lib/site_perl/5.18.3/LWP/UserAgent.pm line 411
	LWP::UserAgent::get('Test::WWW::Mechanize::PSGI=HASH(0x1ac1f60)', 'http://localhost/my/name') called at /opt/perl-5.18.3-RC1/lib/site_perl/5.18.3/WWW/Mechanize.pm line 407
	WWW::Mechanize::get('Test::WWW::Mechanize::PSGI=HASH(0x1ac1f60)', '/my/name') called at /opt/perl-5.18.3-RC1/lib/site_perl/5.18.3/Test/WWW/Mechanize.pm line 159
	Test::WWW::Mechanize::get_ok('Test::WWW::Mechanize::PSGI=HASH(0x1ac1f60)', '/my/name') called at t/03_mech.t line 93
Secret string too short at /tmpfs/.cpan-build/HTTP-Session2-1.09-hvzm3d/blib/lib/HTTP/Session2/Base.pm line 79.
	HTTP::Session2::Base::__ANON__('HTTP::Session2::ServerStore=HASH(0x1c2a5f8)', 's3cret') called at t/03_mech.t line 121
	main::server_session('HASH(0x1c2a538)') called at t/03_mech.t line 17
	main::__ANON__('HASH(0x1c2a538)') called at /opt/perl-5.18.3-RC1/lib/site_perl/5.18.3/Test/WWW/Mechanize/PSGI.pm line 39
	Test::WWW::Mechanize::PSGI::try {...} () called at /opt/perl-5.18.3-RC1/lib/site_perl/5.18.3/Try/Tiny.pm line 81
	eval {...} called at /opt/perl-5.18.3-RC1/lib/site_perl/5.18.3/Try/Tiny.pm line 72
	Try::Tiny::try('CODE(0x1c25d38)', 'Try::Tiny::Catch=REF(0x1c25e28)') called at /opt/perl-5.18.3-RC1/lib/site_perl/5.18.3/Test/WWW/Mechanize/PSGI.pm line 46
	Test::WWW::Mechanize::PSGI::simple_request('Test::WWW::Mechanize::PSGI=HASH(0x1ac1f60)', 'HTTP::Request=HASH(0x1c25ae0)', undef, undef) called at /opt/perl-5.18.3-RC1/lib/site_perl/5.18.3/LWP/UserAgent.pm line 282
	LWP::UserAgent::request('Test::WWW::Mechanize::PSGI=HASH(0x1ac1f60)', 'HTTP::Request=HASH(0x1c25ae0)') called at /opt/perl-5.18.3-RC1/lib/site_perl/5.18.3/WWW/Mechanize.pm line 2598
	WWW::Mechanize::_make_request('Test::WWW::Mechanize::PSGI=HASH(0x1ac1f60)', 'HTTP::Request=HASH(0x1c25ae0)') called at /opt/perl-5.18.3-RC1/lib/site_perl/5.18.3/WWW/Mechanize.pm line 2312
	WWW::Mechanize::request('Test::WWW::Mechanize::PSGI=HASH(0x1ac1f60)', 'HTTP::Request=HASH(0x1c25ae0)') called at /opt/perl-5.18.3-RC1/lib/site_perl/5.18.3/LWP/UserAgent.pm line 419
	LWP::UserAgent::post('Test::WWW::Mechanize::PSGI=HASH(0x1ac1f60)', '/account/logout?john') called at t/03_mech.t line 97
Secret string too short at /tmpfs/.cpan-build/HTTP-Session2-1.09-hvzm3d/blib/lib/HTTP/Session2/Base.pm line 79.
	HTTP::Session2::Base::__ANON__('HTTP::Session2::ClientStore=HASH(0x1c0f020)', 's3cret') called at t/03_mech.t line 127
	main::client_session('HASH(0x1c18bb8)') called at t/03_mech.t line 17
	main::__ANON__('HASH(0x1c18bb8)') called at /opt/perl-5.18.3-RC1/lib/site_perl/5.18.3/Test/WWW/Mechanize/PSGI.pm line 39
	Test::WWW::Mechanize::PSGI::try {...} () called at /opt/perl-5.18.3-RC1/lib/site_perl/5.18.3/Try/Tiny.pm line 81
	eval {...} called at /opt/perl-5.18.3-RC1/lib/site_perl/5.18.3/Try/Tiny.pm line 72
	Try::Tiny::try('CODE(0x1c0eed0)', 'Try::Tiny::Catch=REF(0x1c2a3b8)') called at /opt/perl-5.18.3-RC1/lib/site_perl/5.18.3/Test/WWW/Mechanize/PSGI.pm line 46
	Test::WWW::Mechanize::PSGI::simple_request('Test::WWW::Mechanize::PSGI=HASH(0x1c25e40)', 'HTTP::Request=HASH(0x1c2a280)', undef, undef) called at /opt/perl-5.18.3-RC1/lib/site_perl/5.18.3/LWP/UserAgent.pm line 282
	LWP::UserAgent::request('Test::WWW::Mechanize::PSGI=HASH(0x1c25e40)', 'HTTP::Request=HASH(0x1c2a280)') called at /opt/perl-5.18.3-RC1/lib/site_perl/5.18.3/WWW/Mechanize.pm line 2598
	WWW::Mechanize::_make_request('Test::WWW::Mechanize::PSGI=HASH(0x1c25e40)', 'HTTP::Request=HASH(0x1c2a280)') called at /opt/perl-5.18.3-RC1/lib/site_perl/5.18.3/WWW/Mechanize.pm line 2312
	WWW::Mechanize::request('Test::WWW::Mechanize::PSGI=HASH(0x1c25e40)', 'HTTP::Request=HASH(0x1c2a280)') called at /opt/perl-5.18.3-RC1/lib/site_perl/5.18.3/LWP/UserAgent.pm line 411
	LWP::UserAgent::get('Test::WWW::Mechanize::PSGI=HASH(0x1c25e40)', '/') called at /opt/perl-5.18.3-RC1/lib/site_perl/5.18.3/WWW/Mechanize.pm line 407
	WWW::Mechanize::get('Test::WWW::Mechanize::PSGI=HASH(0x1c25e40)', '/') called at /opt/perl-5.18.3-RC1/lib/site_perl/5.18.3/Test/WWW/Mechanize.pm line 159
	Test::WWW::Mechanize::get_ok('Test::WWW::Mechanize::PSGI=HASH(0x1c25e40)', '/') called at t/03_mech.t line 74
Secret string too short at /tmpfs/.cpan-build/HTTP-Session2-1.09-hvzm3d/blib/lib/HTTP/Session2/Base.pm line 79.
	HTTP::Session2::Base::__ANON__('HTTP::Session2::ClientStore=HASH(0x1c19140)', 's3cret') called at t/03_mech.t line 127
	main::client_session('HASH(0x1c191b8)') called at t/03_mech.t line 17
	main::__ANON__('HASH(0x1c191b8)') called at /opt/perl-5.18.3-RC1/lib/site_perl/5.18.3/Test/WWW/Mechanize/PSGI.pm line 39
	Test::WWW::Mechanize::PSGI::try {...} () called at /opt/perl-5.18.3-RC1/lib/site_perl/5.18.3/Try/Tiny.pm line 81
	eval {...} called at /opt/perl-5.18.3-RC1/lib/site_perl/5.18.3/Try/Tiny.pm line 72
	Try::Tiny::try('CODE(0x1c190b0)', 'Try::Tiny::Catch=REF(0x1c19230)') called at /opt/perl-5.18.3-RC1/lib/site_perl/5.18.3/Test/WWW/Mechanize/PSGI.pm line 46
	Test::WWW::Mechanize::PSGI::simple_request('Test::WWW::Mechanize::PSGI=HASH(0x1c25e40)', 'HTTP::Request=HASH(0x1c0eab0)', undef, undef) called at /opt/perl-5.18.3-RC1/lib/site_perl/5.18.3/LWP/UserAgent.pm line 282
	LWP::UserAgent::request('Test::WWW::Mechanize::PSGI=HASH(0x1c25e40)', 'HTTP::Request=HASH(0x1c0eab0)') called at /opt/perl-5.18.3-RC1/lib/site_perl/5.18.3/WWW/Mechanize.pm line 2598
	WWW::Mechanize::_make_request('Test::WWW::Mechanize::PSGI=HASH(0x1c25e40)', 'HTTP::Request=HASH(0x1c0eab0)') called at /opt/perl-5.18.3-RC1/lib/site_perl/5.18.3/WWW/Mechanize.pm line 2312
	WWW::Mechanize::request('Test::WWW::Mechanize::PSGI=HASH(0x1c25e40)', 'HTTP::Request=HASH(0x1c0eab0)') called at /opt/perl-5.18.3-RC1/lib/site_perl/5.18.3/LWP/UserAgent.pm line 419
	LWP::UserAgent::post('Test::WWW::Mechanize::PSGI=HASH(0x1c25e40)', '/wishlist?foo', 'HASH(0x1776c58)') called at /opt/perl-5.18.3-RC1/lib/site_perl/5.18.3/Test/WWW/Mechanize.pm line 236
	Test::WWW::Mechanize::post_ok('Test::WWW::Mechanize::PSGI=HASH(0x1c25e40)', '/wishlist?foo') called at t/03_mech.t line 75
Do not use HTTP::Session2::ClientStore. Use HTTP::Session2::ServerStore or HTTP::Session2::ClientStore2 instead. at /tmpfs/.cpan-build/HTTP-Session2-1.09-hvzm3d/blib/lib/HTTP/Session2/ClientStore.pm line 25.
Secret string too short at /tmpfs/.cpan-build/HTTP-Session2-1.09-hvzm3d/blib/lib/HTTP/Session2/Base.pm line 79.
	HTTP::Session2::Base::__ANON__('HTTP::Session2::ClientStore=HASH(0x1c20c58)', 's3cret') called at t/03_mech.t line 127
	main::client_session('HASH(0x1c194e8)') called at t/03_mech.t line 17
	main::__ANON__('HASH(0x1c194e8)') called at /opt/perl-5.18.3-RC1/lib/site_perl/5.18.3/Test/WWW/Mechanize/PSGI.pm line 39
	Test::WWW::Mechanize::PSGI::try {...} () called at /opt/perl-5.18.3-RC1/lib/site_perl/5.18.3/Try/Tiny.pm line 81
	eval {...} called at /opt/perl-5.18.3-RC1/lib/site_perl/5.18.3/Try/Tiny.pm line 72
	Try::Tiny::try('CODE(0x1c091b8)', 'Try::Tiny::Catch=REF(0x1c185a0)') called at /opt/perl-5.18.3-RC1/lib/site_perl/5.18.3/Test/WWW/Mechanize/PSGI.pm line 46
	Test::WWW::Mechanize::PSGI::simple_request('Test::WWW::Mechanize::PSGI=HASH(0x1c25e40)', 'HTTP::Request=HASH(0x1c18ea0)', undef, undef) called at /opt/perl-5.18.3-RC1/lib/site_perl/5.18.3/LWP/UserAgent.pm line 282
	LWP::UserAgent::request('Test::WWW::Mechanize::PSGI=HASH(0x1c25e40)', 'HTTP::Request=HASH(0x1c18ea0)') called at /opt/perl-5.18.3-RC1/lib/site_perl/5.18.3/WWW/Mechanize.pm line 2598
	WWW::Mechanize::_make_request('Test::WWW::Mechanize::PSGI=HASH(0x1c25e40)', 'HTTP::Request=HASH(0x1c18ea0)') called at /opt/perl-5.18.3-RC1/lib/site_perl/5.18.3/WWW/Mechanize.pm line 2312
	WWW::Mechanize::request('Test::WWW::Mechanize::PSGI=HASH(0x1c25e40)', 'HTTP::Request=HASH(0x1c18ea0)') called at /opt/perl-5.18.3-RC1/lib/site_perl/5.18.3/LWP/UserAgent.pm line 411
	LWP::UserAgent::get('Test::WWW::Mechanize::PSGI=HASH(0x1c25e40)', 'http://localhost/wishlist') called at /opt/perl-5.18.3-RC1/lib/site_perl/5.18.3/WWW/Mechanize.pm line 407
	WWW::Mechanize::get('Test::WWW::Mechanize::PSGI=HASH(0x1c25e40)', '/wishlist') called at /opt/perl-5.18.3-RC1/lib/site_perl/5.18.3/Test/WWW/Mechanize.pm line 159
	Test::WWW::Mechanize::get_ok('Test::WWW::Mechanize::PSGI=HASH(0x1c25e40)', '/wishlist') called at t/03_mech.t line 76
Do not use HTTP::Session2::ClientStore. Use HTTP::Session2::ServerStore or HTTP::Session2::ClientStore2 instead. at /tmpfs/.cpan-build/HTTP-Session2-1.09-hvzm3d/blib/lib/HTTP/Session2/ClientStore.pm line 35.
Secret string too short at /tmpfs/.cpan-build/HTTP-Session2-1.09-hvzm3d/blib/lib/HTTP/Session2/Base.pm line 79.
	HTTP::Session2::Base::__ANON__('HTTP::Session2::ClientStore=HASH(0x1c255d0)', 's3cret') called at t/03_mech.t line 127
	main::client_session('HASH(0x1c20898)') called at t/03_mech.t line 17
	main::__ANON__('HASH(0x1c20898)') called at /opt/perl-5.18.3-RC1/lib/site_perl/5.18.3/Test/WWW/Mechanize/PSGI.pm line 39
	Test::WWW::Mechanize::PSGI::try {...} () called at /opt/perl-5.18.3-RC1/lib/site_perl/5.18.3/Try/Tiny.pm line 81
	eval {...} called at /opt/perl-5.18.3-RC1/lib/site_perl/5.18.3/Try/Tiny.pm line 72
	Try::Tiny::try('CODE(0x1c25120)', 'Try::Tiny::Catch=REF(0x1c21468)') called at /opt/perl-5.18.3-RC1/lib/site_perl/5.18.3/Test/WWW/Mechanize/PSGI.pm line 46
	Test::WWW::Mechanize::PSGI::simple_request('Test::WWW::Mechanize::PSGI=HASH(0x1c25e40)', 'HTTP::Request=HASH(0x1c20a00)', undef, undef) called at /opt/perl-5.18.3-RC1/lib/site_perl/5.18.3/LWP/UserAgent.pm line 282
	LWP::UserAgent::request('Test::WWW::Mechanize::PSGI=HASH(0x1c25e40)', 'HTTP::Request=HASH(0x1c20a00)') called at /opt/perl-5.18.3-RC1/lib/site_perl/5.18.3/WWW/Mechanize.pm line 2598
	WWW::Mechanize::_make_request('Test::WWW::Mechanize::PSGI=HASH(0x1c25e40)', 'HTTP::Request=HASH(0x1c20a00)') called at /opt/perl-5.18.3-RC1/lib/site_perl/5.18.3/WWW/Mechanize.pm line 2312
	WWW::Mechanize::request('Test::WWW::Mechanize::PSGI=HASH(0x1c25e40)', 'HTTP::Request=HASH(0x1c20a00)') called at /opt/perl-5.18.3-RC1/lib/site_perl/5.18.3/LWP/UserAgent.pm line 419
	LWP::UserAgent::post('Test::WWW::Mechanize::PSGI=HASH(0x1c25e40)', '/wishlist?bar') called at t/03_mech.t line 78
Do not use HTTP::Session2::ClientStore. Use HTTP::Session2::ServerStore or HTTP::Session2::ClientStore2 instead. at /tmpfs/.cpan-build/HTTP-Session2-1.09-hvzm3d/blib/lib/HTTP/Session2/ClientStore.pm line 35.
Secret string too short at /tmpfs/.cpan-build/HTTP-Session2-1.09-hvzm3d/blib/lib/HTTP/Session2/Base.pm line 79.
	HTTP::Session2::Base::__ANON__('HTTP::Session2::ClientStore=HASH(0x1c25450)', 's3cret') called at t/03_mech.t line 127
	main::client_session('HASH(0x1c20e98)') called at t/03_mech.t line 17
	main::__ANON__('HASH(0x1c20e98)') called at /opt/perl-5.18.3-RC1/lib/site_perl/5.18.3/Test/WWW/Mechanize/PSGI.pm line 39
	Test::WWW::Mechanize::PSGI::try {...} () called at /opt/perl-5.18.3-RC1/lib/site_perl/5.18.3/Try/Tiny.pm line 81
	eval {...} called at /opt/perl-5.18.3-RC1/lib/site_perl/5.18.3/Try/Tiny.pm line 72
	Try::Tiny::try('CODE(0x1c20fe8)', 'Try::Tiny::Catch=REF(0x1c20ec8)') called at /opt/perl-5.18.3-RC1/lib/site_perl/5.18.3/Test/WWW/Mechanize/PSGI.pm line 46
	Test::WWW::Mechanize::PSGI::simple_request('Test::WWW::Mechanize::PSGI=HASH(0x1c25e40)', 'HTTP::Request=HASH(0x1c20e38)', undef, undef) called at /opt/perl-5.18.3-RC1/lib/site_perl/5.18.3/LWP/UserAgent.pm line 282
	LWP::UserAgent::request('Test::WWW::Mechanize::PSGI=HASH(0x1c25e40)', 'HTTP::Request=HASH(0x1c20e38)') called at /opt/perl-5.18.3-RC1/lib/site_perl/5.18.3/WWW/Mechanize.pm line 2598
	WWW::Mechanize::_make_request('Test::WWW::Mechanize::PSGI=HASH(0x1c25e40)', 'HTTP::Request=HASH(0x1c20e38)') called at /opt/perl-5.18.3-RC1/lib/site_perl/5.18.3/WWW/Mechanize.pm line 2312
	WWW::Mechanize::request('Test::WWW::Mechanize::PSGI=HASH(0x1c25e40)', 'HTTP::Request=HASH(0x1c20e38)') called at /opt/perl-5.18.3-RC1/lib/site_perl/5.18.3/LWP/UserAgent.pm line 419
	LWP::UserAgent::post('Test::WWW::Mechanize::PSGI=HASH(0x1c25e40)', '/wishlist?bar', 'HASH(0x1776c58)') called at /opt/perl-5.18.3-RC1/lib/site_perl/5.18.3/Test/WWW/Mechanize.pm line 236
	Test::WWW::Mechanize::post_ok('Test::WWW::Mechanize::PSGI=HASH(0x1c25e40)', '/wishlist?bar') called at t/03_mech.t line 81
Do not use HTTP::Session2::ClientStore. Use HTTP::Session2::ServerStore or HTTP::Session2::ClientStore2 instead. at /tmpfs/.cpan-build/HTTP-Session2-1.09-hvzm3d/blib/lib/HTTP/Session2/ClientStore.pm line 35.
Do not use HTTP::Session2::ClientStore. Use HTTP::Session2::ServerStore or HTTP::Session2::ClientStore2 instead. at /tmpfs/.cpan-build/HTTP-Session2-1.09-hvzm3d/blib/lib/HTTP/Session2/ClientStore.pm line 25.
Secret string too short at /tmpfs/.cpan-build/HTTP-Session2-1.09-hvzm3d/blib/lib/HTTP/Session2/Base.pm line 79.
	HTTP::Session2::Base::__ANON__('HTTP::Session2::ClientStore=HASH(0x1c29b30)', 's3cret') called at t/03_mech.t line 127
	main::client_session('HASH(0x1c25048)') called at t/03_mech.t line 17
	main::__ANON__('HASH(0x1c25048)') called at /opt/perl-5.18.3-RC1/lib/site_perl/5.18.3/Test/WWW/Mechanize/PSGI.pm line 39
	Test::WWW::Mechanize::PSGI::try {...} () called at /opt/perl-5.18.3-RC1/lib/site_perl/5.18.3/Try/Tiny.pm line 81
	eval {...} called at /opt/perl-5.18.3-RC1/lib/site_perl/5.18.3/Try/Tiny.pm line 72
	Try::Tiny::try('CODE(0x1c19218)', 'Try::Tiny::Catch=REF(0x1c255e8)') called at /opt/perl-5.18.3-RC1/lib/site_perl/5.18.3/Test/WWW/Mechanize/PSGI.pm line 46
	Test::WWW::Mechanize::PSGI::simple_request('Test::WWW::Mechanize::PSGI=HASH(0x1c25e40)', 'HTTP::Request=HASH(0x1c25b40)', undef, undef) called at /opt/perl-5.18.3-RC1/lib/site_perl/5.18.3/LWP/UserAgent.pm line 282
	LWP::UserAgent::request('Test::WWW::Mechanize::PSGI=HASH(0x1c25e40)', 'HTTP::Request=HASH(0x1c25b40)') called at /opt/perl-5.18.3-RC1/lib/site_perl/5.18.3/WWW/Mechanize.pm line 2598
	WWW::Mechanize::_make_request('Test::WWW::Mechanize::PSGI=HASH(0x1c25e40)', 'HTTP::Request=HASH(0x1c25b40)') called at /opt/perl-5.18.3-RC1/lib/site_perl/5.18.3/WWW/Mechanize.pm line 2312
	WWW::Mechanize::request('Test::WWW::Mechanize::PSGI=HASH(0x1c25e40)', 'HTTP::Request=HASH(0x1c25b40)') called at /opt/perl-5.18.3-RC1/lib/site_perl/5.18.3/LWP/UserAgent.pm line 411
	LWP::UserAgent::get('Test::WWW::Mechanize::PSGI=HASH(0x1c25e40)', 'http://localhost/wishlist') called at /opt/perl-5.18.3-RC1/lib/site_perl/5.18.3/WWW/Mechanize.pm line 407
	WWW::Mechanize::get('Test::WWW::Mechanize::PSGI=HASH(0x1c25e40)', '/wishlist') called at /opt/perl-5.18.3-RC1/lib/site_perl/5.18.3/Test/WWW/Mechanize.pm line 159
	Test::WWW::Mechanize::get_ok('Test::WWW::Mechanize::PSGI=HASH(0x1c25e40)', '/wishlist') called at t/03_mech.t line 82
Do not use HTTP::Session2::ClientStore. Use HTTP::Session2::ServerStore or HTTP::Session2::ClientStore2 instead. at /tmpfs/.cpan-build/HTTP-Session2-1.09-hvzm3d/blib/lib/HTTP/Session2/ClientStore.pm line 35.
Secret string too short at /tmpfs/.cpan-build/HTTP-Session2-1.09-hvzm3d/blib/lib/HTTP/Session2/Base.pm line 79.
	HTTP::Session2::Base::__ANON__('HTTP::Session2::ClientStore=HASH(0x1c2a388)', 's3cret') called at t/03_mech.t line 127
	main::client_session('HASH(0x1c18b10)') called at t/03_mech.t line 17
	main::__ANON__('HASH(0x1c18b10)') called at /opt/perl-5.18.3-RC1/lib/site_perl/5.18.3/Test/WWW/Mechanize/PSGI.pm line 39
	Test::WWW::Mechanize::PSGI::try {...} () called at /opt/perl-5.18.3-RC1/lib/site_perl/5.18.3/Try/Tiny.pm line 81
	eval {...} called at /opt/perl-5.18.3-RC1/lib/site_perl/5.18.3/Try/Tiny.pm line 72
	Try::Tiny::try('CODE(0x1c20d90)', 'Try::Tiny::Catch=REF(0x1c25a38)') called at /opt/perl-5.18.3-RC1/lib/site_perl/5.18.3/Test/WWW/Mechanize/PSGI.pm line 46
	Test::WWW::Mechanize::PSGI::simple_request('Test::WWW::Mechanize::PSGI=HASH(0x1c25e40)', 'HTTP::Request=HASH(0x1c25138)', undef, undef) called at /opt/perl-5.18.3-RC1/lib/site_perl/5.18.3/LWP/UserAgent.pm line 282
	LWP::UserAgent::request('Test::WWW::Mechanize::PSGI=HASH(0x1c25e40)', 'HTTP::Request=HASH(0x1c25138)') called at /opt/perl-5.18.3-RC1/lib/site_perl/5.18.3/WWW/Mechanize.pm line 2598
	WWW::Mechanize::_make_request('Test::WWW::Mechanize::PSGI=HASH(0x1c25e40)', 'HTTP::Request=HASH(0x1c25138)') called at /opt/perl-5.18.3-RC1/lib/site_perl/5.18.3/WWW/Mechanize.pm line 2312
	WWW::Mechanize::request('Test::WWW::Mechanize::PSGI=HASH(0x1c25e40)', 'HTTP::Request=HASH(0x1c25138)') called at /opt/perl-5.18.3-RC1/lib/site_perl/5.18.3/LWP/UserAgent.pm line 419
	LWP::UserAgent::post('Test::WWW::Mechanize::PSGI=HASH(0x1c25e40)', '/account/login?john', 'HASH(0x1776c58)') called at /opt/perl-5.18.3-RC1/lib/site_perl/5.18.3/Test/WWW/Mechanize.pm line 236
	Test::WWW::Mechanize::post_ok('Test::WWW::Mechanize::PSGI=HASH(0x1c25e40)', '/account/login?john') called at t/03_mech.t line 84
Do not use HTTP::Session2::ClientStore. Use HTTP::Session2::ServerStore or HTTP::Session2::ClientStore2 instead. at /tmpfs/.cpan-build/HTTP-Session2-1.09-hvzm3d/blib/lib/HTTP/Session2/ClientStore.pm line 35.
Do not use HTTP::Session2::ClientStore. Use HTTP::Session2::ServerStore or HTTP::Session2::ClientStore2 instead. at /tmpfs/.cpan-build/HTTP-Session2-1.09-hvzm3d/blib/lib/HTTP/Session2/ClientStore.pm line 35.
Do not use HTTP::Session2::ClientStore. Use HTTP::Session2::ServerStore or HTTP::Session2::ClientStore2 instead. at /tmpfs/.cpan-build/HTTP-Session2-1.09-hvzm3d/blib/lib/HTTP/Session2/ClientStore.pm line 25.
Secret string too short at /tmpfs/.cpan-build/HTTP-Session2-1.09-hvzm3d/blib/lib/HTTP/Session2/Base.pm line 79.
	HTTP::Session2::Base::__ANON__('HTTP::Session2::ClientStore=HASH(0x1b47378)', 's3cret') called at t/03_mech.t line 127
	main::client_session('HASH(0x111f208)') called at t/03_mech.t line 17
	main::__ANON__('HASH(0x111f208)') called at /opt/perl-5.18.3-RC1/lib/site_perl/5.18.3/Test/WWW/Mechanize/PSGI.pm line 39
	Test::WWW::Mechanize::PSGI::try {...} () called at /opt/perl-5.18.3-RC1/lib/site_perl/5.18.3/Try/Tiny.pm line 81
	eval {...} called at /opt/perl-5.18.3-RC1/lib/site_perl/5.18.3/Try/Tiny.pm line 72
	Try::Tiny::try('CODE(0x1c2a400)', 'Try::Tiny::Catch=REF(0x1c25cc0)') called at /opt/perl-5.18.3-RC1/lib/site_perl/5.18.3/Test/WWW/Mechanize/PSGI.pm line 46
	Test::WWW::Mechanize::PSGI::simple_request('Test::WWW::Mechanize::PSGI=HASH(0x1c25e40)', 'HTTP::Request=HASH(0x1c25b28)', undef, undef) called at /opt/perl-5.18.3-RC1/lib/site_perl/5.18.3/LWP/UserAgent.pm line 282
	LWP::UserAgent::request('Test::WWW::Mechanize::PSGI=HASH(0x1c25e40)', 'HTTP::Request=HASH(0x1c25b28)') called at /opt/perl-5.18.3-RC1/lib/site_perl/5.18.3/WWW/Mechanize.pm line 2598
	WWW::Mechanize::_make_request('Test::WWW::Mechanize::PSGI=HASH(0x1c25e40)', 'HTTP::Request=HASH(0x1c25b28)') called at /opt/perl-5.18.3-RC1/lib/site_perl/5.18.3/WWW/Mechanize.pm line 2312
	WWW::Mechanize::request('Test::WWW::Mechanize::PSGI=HASH(0x1c25e40)', 'HTTP::Request=HASH(0x1c25b28)') called at /opt/perl-5.18.3-RC1/lib/site_perl/5.18.3/LWP/UserAgent.pm line 411
	LWP::UserAgent::get('Test::WWW::Mechanize::PSGI=HASH(0x1c25e40)', 'http://localhost/wishlist') called at /opt/perl-5.18.3-RC1/lib/site_perl/5.18.3/WWW/Mechanize.pm line 407
	WWW::Mechanize::get('Test::WWW::Mechanize::PSGI=HASH(0x1c25e40)', '/wishlist') called at /opt/perl-5.18.3-RC1/lib/site_perl/5.18.3/Test/WWW/Mechanize.pm line 159
	Test::WWW::Mechanize::get_ok('Test::WWW::Mechanize::PSGI=HASH(0x1c25e40)', '/wishlist', 'Wishlist is still available') called at t/03_mech.t line 85
Do not use HTTP::Session2::ClientStore. Use HTTP::Session2::ServerStore or HTTP::Session2::ClientStore2 instead. at /tmpfs/.cpan-build/HTTP-Session2-1.09-hvzm3d/blib/lib/HTTP/Session2/ClientStore.pm line 35.
Secret string too short at /tmpfs/.cpan-build/HTTP-Session2-1.09-hvzm3d/blib/lib/HTTP/Session2/Base.pm line 79.
	HTTP::Session2::Base::__ANON__('HTTP::Session2::ClientStore=HASH(0xed8e78)', 's3cret') called at t/03_mech.t line 127
	main::client_session('HASH(0x1c25a08)') called at t/03_mech.t line 17
	main::__ANON__('HASH(0x1c25a08)') called at /opt/perl-5.18.3-RC1/lib/site_perl/5.18.3/Test/WWW/Mechanize/PSGI.pm line 39
	Test::WWW::Mechanize::PSGI::try {...} () called at /opt/perl-5.18.3-RC1/lib/site_perl/5.18.3/Try/Tiny.pm line 81
	eval {...} called at /opt/perl-5.18.3-RC1/lib/site_perl/5.18.3/Try/Tiny.pm line 72
	Try::Tiny::try('CODE(0x1c25f78)', 'Try::Tiny::Catch=REF(0x1b6efa8)') called at /opt/perl-5.18.3-RC1/lib/site_perl/5.18.3/Test/WWW/Mechanize/PSGI.pm line 46
	Test::WWW::Mechanize::PSGI::simple_request('Test::WWW::Mechanize::PSGI=HASH(0x1c25e40)', 'HTTP::Request=HASH(0x1c25bb8)', undef, undef) called at /opt/perl-5.18.3-RC1/lib/site_perl/5.18.3/LWP/UserAgent.pm line 282
	LWP::UserAgent::request('Test::WWW::Mechanize::PSGI=HASH(0x1c25e40)', 'HTTP::Request=HASH(0x1c25bb8)') called at /opt/perl-5.18.3-RC1/lib/site_perl/5.18.3/WWW/Mechanize.pm line 2598
	WWW::Mechanize::_make_request('Test::WWW::Mechanize::PSGI=HASH(0x1c25e40)', 'HTTP::Request=HASH(0x1c25bb8)') called at /opt/perl-5.18.3-RC1/lib/site_perl/5.18.3/WWW/Mechanize.pm line 2312
	WWW::Mechanize::request('Test::WWW::Mechanize::PSGI=HASH(0x1c25e40)', 'HTTP::Request=HASH(0x1c25bb8)') called at /opt/perl-5.18.3-RC1/lib/site_perl/5.18.3/LWP/UserAgent.pm line 419
	LWP::UserAgent::post('Test::WWW::Mechanize::PSGI=HASH(0x1c25e40)', '/wishlist?baz') called at t/03_mech.t line 87
Do not use HTTP::Session2::ClientStore. Use HTTP::Session2::ServerStore or HTTP::Session2::ClientStore2 instead. at /tmpfs/.cpan-build/HTTP-Session2-1.09-hvzm3d/blib/lib/HTTP/Session2/ClientStore.pm line 35.
Secret string too short at /tmpfs/.cpan-build/HTTP-Session2-1.09-hvzm3d/blib/lib/HTTP/Session2/Base.pm line 79.
	HTTP::Session2::Base::__ANON__('HTTP::Session2::ClientStore=HASH(0x1c212b8)', 's3cret') called at t/03_mech.t line 127
	main::client_session('HASH(0x1ad1038)') called at t/03_mech.t line 17
	main::__ANON__('HASH(0x1ad1038)') called at /opt/perl-5.18.3-RC1/lib/site_perl/5.18.3/Test/WWW/Mechanize/PSGI.pm line 39
	Test::WWW::Mechanize::PSGI::try {...} () called at /opt/perl-5.18.3-RC1/lib/site_perl/5.18.3/Try/Tiny.pm line 81
	eval {...} called at /opt/perl-5.18.3-RC1/lib/site_perl/5.18.3/Try/Tiny.pm line 72
	Try::Tiny::try('CODE(0x1c21420)', 'Try::Tiny::Catch=REF(0x1b54a68)') called at /opt/perl-5.18.3-RC1/lib/site_perl/5.18.3/Test/WWW/Mechanize/PSGI.pm line 46
	Test::WWW::Mechanize::PSGI::simple_request('Test::WWW::Mechanize::PSGI=HASH(0x1c25e40)', 'HTTP::Request=HASH(0x1b3b720)', undef, undef) called at /opt/perl-5.18.3-RC1/lib/site_perl/5.18.3/LWP/UserAgent.pm line 282
	LWP::UserAgent::request('Test::WWW::Mechanize::PSGI=HASH(0x1c25e40)', 'HTTP::Request=HASH(0x1b3b720)') called at /opt/perl-5.18.3-RC1/lib/site_perl/5.18.3/WWW/Mechanize.pm line 2598
	WWW::Mechanize::_make_request('Test::WWW::Mechanize::PSGI=HASH(0x1c25e40)', 'HTTP::Request=HASH(0x1b3b720)') called at /opt/perl-5.18.3-RC1/lib/site_perl/5.18.3/WWW/Mechanize.pm line 2312
	WWW::Mechanize::request('Test::WWW::Mechanize::PSGI=HASH(0x1c25e40)', 'HTTP::Request=HASH(0x1b3b720)') called at /opt/perl-5.18.3-RC1/lib/site_perl/5.18.3/LWP/UserAgent.pm line 419
	LWP::UserAgent::post('Test::WWW::Mechanize::PSGI=HASH(0x1c25e40)', '/wishlist?baz', 'HASH(0x1776c58)') called at /opt/perl-5.18.3-RC1/lib/site_perl/5.18.3/Test/WWW/Mechanize.pm line 236
	Test::WWW::Mechanize::post_ok('Test::WWW::Mechanize::PSGI=HASH(0x1c25e40)', '/wishlist?baz') called at t/03_mech.t line 90
Do not use HTTP::Session2::ClientStore. Use HTTP::Session2::ServerStore or HTTP::Session2::ClientStore2 instead. at /tmpfs/.cpan-build/HTTP-Session2-1.09-hvzm3d/blib/lib/HTTP/Session2/ClientStore.pm line 35.
Do not use HTTP::Session2::ClientStore. Use HTTP::Session2::ServerStore or HTTP::Session2::ClientStore2 instead. at /tmpfs/.cpan-build/HTTP-Session2-1.09-hvzm3d/blib/lib/HTTP/Session2/ClientStore.pm line 25.
Secret string too short at /tmpfs/.cpan-build/HTTP-Session2-1.09-hvzm3d/blib/lib/HTTP/Session2/Base.pm line 79.
	HTTP::Session2::Base::__ANON__('HTTP::Session2::ClientStore=HASH(0x1c2a550)', 's3cret') called at t/03_mech.t line 127
	main::client_session('HASH(0x1c2e810)') called at t/03_mech.t line 17
	main::__ANON__('HASH(0x1c2e810)') called at /opt/perl-5.18.3-RC1/lib/site_perl/5.18.3/Test/WWW/Mechanize/PSGI.pm line 39
	Test::WWW::Mechanize::PSGI::try {...} () called at /opt/perl-5.18.3-RC1/lib/site_perl/5.18.3/Try/Tiny.pm line 81
	eval {...} called at /opt/perl-5.18.3-RC1/lib/site_perl/5.18.3/Try/Tiny.pm line 72
	Try::Tiny::try('CODE(0x1c2a958)', 'Try::Tiny::Catch=REF(0x1c2a7f0)') called at /opt/perl-5.18.3-RC1/lib/site_perl/5.18.3/Test/WWW/Mechanize/PSGI.pm line 46
	Test::WWW::Mechanize::PSGI::simple_request('Test::WWW::Mechanize::PSGI=HASH(0x1c25e40)', 'HTTP::Request=HASH(0x1c2e5a0)', undef, undef) called at /opt/perl-5.18.3-RC1/lib/site_perl/5.18.3/LWP/UserAgent.pm line 282
	LWP::UserAgent::request('Test::WWW::Mechanize::PSGI=HASH(0x1c25e40)', 'HTTP::Request=HASH(0x1c2e5a0)') called at /opt/perl-5.18.3-RC1/lib/site_perl/5.18.3/WWW/Mechanize.pm line 2598
	WWW::Mechanize::_make_request('Test::WWW::Mechanize::PSGI=HASH(0x1c25e40)', 'HTTP::Request=HASH(0x1c2e5a0)') called at /opt/perl-5.18.3-RC1/lib/site_perl/5.18.3/WWW/Mechanize.pm line 2312
	WWW::Mechanize::request('Test::WWW::Mechanize::PSGI=HASH(0x1c25e40)', 'HTTP::Request=HASH(0x1c2e5a0)') called at /opt/perl-5.18.3-RC1/lib/site_perl/5.18.3/LWP/UserAgent.pm line 411
	LWP::UserAgent::get('Test::WWW::Mechanize::PSGI=HASH(0x1c25e40)', 'http://localhost/wishlist') called at /opt/perl-5.18.3-RC1/lib/site_perl/5.18.3/WWW/Mechanize.pm line 407
	WWW::Mechanize::get('Test::WWW::Mechanize::PSGI=HASH(0x1c25e40)', '/wishlist') called at /opt/perl-5.18.3-RC1/lib/site_perl/5.18.3/Test/WWW/Mechanize.pm line 159
	Test::WWW::Mechanize::get_ok('Test::WWW::Mechanize::PSGI=HASH(0x1c25e40)', '/wishlist', 'Wishlist is still available') called at t/03_mech.t line 91
Do not use HTTP::Session2::ClientStore. Use HTTP::Session2::ServerStore or HTTP::Session2::ClientStore2 instead. at /tmpfs/.cpan-build/HTTP-Session2-1.09-hvzm3d/blib/lib/HTTP/Session2/ClientStore.pm line 35.
Secret string too short at /tmpfs/.cpan-build/HTTP-Session2-1.09-hvzm3d/blib/lib/HTTP/Session2/Base.pm line 79.
	HTTP::Session2::Base::__ANON__('HTTP::Session2::ClientStore=HASH(0x1c2ea20)', 's3cret') called at t/03_mech.t line 127
	main::client_session('HASH(0x1c2eca8)') called at t/03_mech.t line 17
	main::__ANON__('HASH(0x1c2eca8)') called at /opt/perl-5.18.3-RC1/lib/site_perl/5.18.3/Test/WWW/Mechanize/PSGI.pm line 39
	Test::WWW::Mechanize::PSGI::try {...} () called at /opt/perl-5.18.3-RC1/lib/site_perl/5.18.3/Try/Tiny.pm line 81
	eval {...} called at /opt/perl-5.18.3-RC1/lib/site_perl/5.18.3/Try/Tiny.pm line 72
	Try::Tiny::try('CODE(0x1c25c00)', 'Try::Tiny::Catch=REF(0x1c2a328)') called at /opt/perl-5.18.3-RC1/lib/site_perl/5.18.3/Test/WWW/Mechanize/PSGI.pm line 46
	Test::WWW::Mechanize::PSGI::simple_request('Test::WWW::Mechanize::PSGI=HASH(0x1c25e40)', 'HTTP::Request=HASH(0x1c25660)', undef, undef) called at /opt/perl-5.18.3-RC1/lib/site_perl/5.18.3/LWP/UserAgent.pm line 282
	LWP::UserAgent::request('Test::WWW::Mechanize::PSGI=HASH(0x1c25e40)', 'HTTP::Request=HASH(0x1c25660)') called at /opt/perl-5.18.3-RC1/lib/site_perl/5.18.3/WWW/Mechanize.pm line 2598
	WWW::Mechanize::_make_request('Test::WWW::Mechanize::PSGI=HASH(0x1c25e40)', 'HTTP::Request=HASH(0x1c25660)') called at /opt/perl-5.18.3-RC1/lib/site_perl/5.18.3/WWW/Mechanize.pm line 2312
	WWW::Mechanize::request('Test::WWW::Mechanize::PSGI=HASH(0x1c25e40)', 'HTTP::Request=HASH(0x1c25660)') called at /opt/perl-5.18.3-RC1/lib/site_perl/5.18.3/LWP/UserAgent.pm line 411
	LWP::UserAgent::get('Test::WWW::Mechanize::PSGI=HASH(0x1c25e40)', 'http://localhost/my/name') called at /opt/perl-5.18.3-RC1/lib/site_perl/5.18.3/WWW/Mechanize.pm line 407
	WWW::Mechanize::get('Test::WWW::Mechanize::PSGI=HASH(0x1c25e40)', '/my/name') called at /opt/perl-5.18.3-RC1/lib/site_perl/5.18.3/Test/WWW/Mechanize.pm line 159
	Test::WWW::Mechanize::get_ok('Test::WWW::Mechanize::PSGI=HASH(0x1c25e40)', '/my/name') called at t/03_mech.t line 93
Do not use HTTP::Session2::ClientStore. Use HTTP::Session2::ServerStore or HTTP::Session2::ClientStore2 instead. at /tmpfs/.cpan-build/HTTP-Session2-1.09-hvzm3d/blib/lib/HTTP/Session2/ClientStore.pm line 35.
Secret string too short at /tmpfs/.cpan-build/HTTP-Session2-1.09-hvzm3d/blib/lib/HTTP/Session2/Base.pm line 79.
	HTTP::Session2::Base::__ANON__('HTTP::Session2::ClientStore=HASH(0x1c2edc8)', 's3cret') called at t/03_mech.t line 127
	main::client_session('HASH(0x1c2a940)') called at t/03_mech.t line 17
	main::__ANON__('HASH(0x1c2a940)') called at /opt/perl-5.18.3-RC1/lib/site_perl/5.18.3/Test/WWW/Mechanize/PSGI.pm line 39
	Test::WWW::Mechanize::PSGI::try {...} () called at /opt/perl-5.18.3-RC1/lib/site_perl/5.18.3/Try/Tiny.pm line 81
	eval {...} called at /opt/perl-5.18.3-RC1/lib/site_perl/5.18.3/Try/Tiny.pm line 72
	Try::Tiny::try('CODE(0x1c2eb58)', 'Try::Tiny::Catch=REF(0x1c2eb70)') called at /opt/perl-5.18.3-RC1/lib/site_perl/5.18.3/Test/WWW/Mechanize/PSGI.pm line 46
	Test::WWW::Mechanize::PSGI::simple_request('Test::WWW::Mechanize::PSGI=HASH(0x1c25e40)', 'HTTP::Request=HASH(0x1c2a6b8)', undef, undef) called at /opt/perl-5.18.3-RC1/lib/site_perl/5.18.3/LWP/UserAgent.pm line 282
	LWP::UserAgent::request('Test::WWW::Mechanize::PSGI=HASH(0x1c25e40)', 'HTTP::Request=HASH(0x1c2a6b8)') called at /opt/perl-5.18.3-RC1/lib/site_perl/5.18.3/WWW/Mechanize.pm line 2598
	WWW::Mechanize::_make_request('Test::WWW::Mechanize::PSGI=HASH(0x1c25e40)', 'HTTP::Request=HASH(0x1c2a6b8)') called at /opt/perl-5.18.3-RC1/lib/site_perl/5.18.3/WWW/Mechanize.pm line 2312
	WWW::Mechanize::request('Test::WWW::Mechanize::PSGI=HASH(0x1c25e40)', 'HTTP::Request=HASH(0x1c2a6b8)') called at /opt/perl-5.18.3-RC1/lib/site_perl/5.18.3/LWP/UserAgent.pm line 419
	LWP::UserAgent::post('Test::WWW::Mechanize::PSGI=HASH(0x1c25e40)', '/account/logout?john') called at t/03_mech.t line 97
Do not use HTTP::Session2::ClientStore. Use HTTP::Session2::ServerStore or HTTP::Session2::ClientStore2 instead. at /tmpfs/.cpan-build/HTTP-Session2-1.09-hvzm3d/blib/lib/HTTP/Session2/ClientStore.pm line 35.
Do not use HTTP::Session2::ClientStore. Use HTTP::Session2::ServerStore or HTTP::Session2::ClientStore2 instead. at /tmpfs/.cpan-build/HTTP-Session2-1.09-hvzm3d/blib/lib/HTTP/Session2/ClientStore.pm line 35.
t/03_mech.t ................. ok
Do not use HTTP::Session2::ClientStore. Use HTTP::Session2::ServerStore or HTTP::Session2::ClientStore2 instead. at /tmpfs/.cpan-build/HTTP-Session2-1.09-hvzm3d/blib/lib/HTTP/Session2/ClientStore.pm line 25.
t/04_plack_response.t ....... ok
Secret string too short at /tmpfs/.cpan-build/HTTP-Session2-1.09-hvzm3d/blib/lib/HTTP/Session2/Base.pm line 79.
	HTTP::Session2::Base::__ANON__('HTTP::Session2::ClientStore=HASH(0x2c03860)', 's3cret') called at t/05_keep_me_signed_in.t line 15
Do not use HTTP::Session2::ClientStore. Use HTTP::Session2::ServerStore or HTTP::Session2::ClientStore2 instead. at /tmpfs/.cpan-build/HTTP-Session2-1.09-hvzm3d/blib/lib/HTTP/Session2/ClientStore.pm line 25.
t/05_keep_me_signed_in.t .... ok
Secret string too short at /tmpfs/.cpan-build/HTTP-Session2-1.09-hvzm3d/blib/lib/HTTP/Session2/Base.pm line 79.
	HTTP::Session2::Base::__ANON__('HTTP::Session2::Base=HASH(0x12b7db8)', 'i am secret') called at t/06_base_abstract.t line 7
t/06_base_abstract.t ........ ok
Secret string too short at /tmpfs/.cpan-build/HTTP-Session2-1.09-hvzm3d/blib/lib/HTTP/Session2/Base.pm line 79.
	HTTP::Session2::Base::__ANON__('HTTP::Session2::ClientStore=HASH(0x1214fb0)', 'secret') called at t/07_client_store.t line 23
	main::__ANON__() called at /opt/perl-5.18.3-RC1/lib/site_perl/5.18.3/Test/Builder.pm line 261
	Test::Builder::__ANON__() called at /opt/perl-5.18.3-RC1/lib/site_perl/5.18.3/Test/Builder.pm line 266
	eval {...} called at /opt/perl-5.18.3-RC1/lib/site_perl/5.18.3/Test/Builder.pm line 266
	Test::Builder::subtest('Test::Builder=HASH(0x929318)', 'get/set/remove', 'CODE(0xdfd070)') called at /opt/perl-5.18.3-RC1/lib/site_perl/5.18.3/Test/More.pm line 771
	Test::More::subtest('get/set/remove', 'CODE(0xdfd070)') called at t/07_client_store.t line 31
Secret string too short at /tmpfs/.cpan-build/HTTP-Session2-1.09-hvzm3d/blib/lib/HTTP/Session2/Base.pm line 79.
	HTTP::Session2::Base::__ANON__('HTTP::Session2::ClientStore=HASH(0x906dd0)', 'secret') called at t/07_client_store.t line 35
	main::__ANON__() called at /opt/perl-5.18.3-RC1/lib/site_perl/5.18.3/Test/Builder.pm line 261
	Test::Builder::__ANON__() called at /opt/perl-5.18.3-RC1/lib/site_perl/5.18.3/Test/Builder.pm line 266
	eval {...} called at /opt/perl-5.18.3-RC1/lib/site_perl/5.18.3/Test/Builder.pm line 266
	Test::Builder::subtest('Test::Builder=HASH(0x929318)', 'validate_token', 'CODE(0x120b8a0)') called at /opt/perl-5.18.3-RC1/lib/site_perl/5.18.3/Test/More.pm line 771
	Test::More::subtest('validate_token', 'CODE(0x120b8a0)') called at t/07_client_store.t line 71
Do not use HTTP::Session2::ClientStore. Use HTTP::Session2::ServerStore or HTTP::Session2::ClientStore2 instead. at /tmpfs/.cpan-build/HTTP-Session2-1.09-hvzm3d/blib/lib/HTTP/Session2/ClientStore.pm line 25.
Secret string too short at /tmpfs/.cpan-build/HTTP-Session2-1.09-hvzm3d/blib/lib/HTTP/Session2/Base.pm line 79.
	HTTP::Session2::Base::__ANON__('HTTP::Session2::ClientStore=HASH(0x121f640)', 'secret') called at t/07_client_store.t line 51
	main::__ANON__() called at /opt/perl-5.18.3-RC1/lib/site_perl/5.18.3/Test/Builder.pm line 261
	Test::Builder::__ANON__() called at /opt/perl-5.18.3-RC1/lib/site_perl/5.18.3/Test/Builder.pm line 266
	eval {...} called at /opt/perl-5.18.3-RC1/lib/site_perl/5.18.3/Test/Builder.pm line 266
	Test::Builder::subtest('Test::Builder=HASH(0x929318)', 'bad', 'CODE(0x12157c0)') called at /opt/perl-5.18.3-RC1/lib/site_perl/5.18.3/Test/More.pm line 771
	Test::More::subtest('bad', 'CODE(0x12157c0)') called at t/07_client_store.t line 57
	main::__ANON__() called at /opt/perl-5.18.3-RC1/lib/site_perl/5.18.3/Test/Builder.pm line 261
	Test::Builder::__ANON__() called at /opt/perl-5.18.3-RC1/lib/site_perl/5.18.3/Test/Builder.pm line 266
	eval {...} called at /opt/perl-5.18.3-RC1/lib/site_perl/5.18.3/Test/Builder.pm line 266
	Test::Builder::subtest('Test::Builder=HASH(0x929318)', 'validate_token', 'CODE(0x120b8a0)') called at /opt/perl-5.18.3-RC1/lib/site_perl/5.18.3/Test/More.pm line 771
	Test::More::subtest('validate_token', 'CODE(0x120b8a0)') called at t/07_client_store.t line 71
Do not use HTTP::Session2::ClientStore. Use HTTP::Session2::ServerStore or HTTP::Session2::ClientStore2 instead. at /tmpfs/.cpan-build/HTTP-Session2-1.09-hvzm3d/blib/lib/HTTP/Session2/ClientStore.pm line 35.
Secret string too short at /tmpfs/.cpan-build/HTTP-Session2-1.09-hvzm3d/blib/lib/HTTP/Session2/Base.pm line 79.
	HTTP::Session2::Base::__ANON__('HTTP::Session2::ClientStore=HASH(0x121f820)', 'secret') called at t/07_client_store.t line 65
	main::__ANON__() called at /opt/perl-5.18.3-RC1/lib/site_perl/5.18.3/Test/Builder.pm line 261
	Test::Builder::__ANON__() called at /opt/perl-5.18.3-RC1/lib/site_perl/5.18.3/Test/Builder.pm line 266
	eval {...} called at /opt/perl-5.18.3-RC1/lib/site_perl/5.18.3/Test/Builder.pm line 266
	Test::Builder::subtest('Test::Builder=HASH(0x929318)', 'good', 'CODE(0x12157c0)') called at /opt/perl-5.18.3-RC1/lib/site_perl/5.18.3/Test/More.pm line 771
	Test::More::subtest('good', 'CODE(0x12157c0)') called at t/07_client_store.t line 70
	main::__ANON__() called at /opt/perl-5.18.3-RC1/lib/site_perl/5.18.3/Test/Builder.pm line 261
	Test::Builder::__ANON__() called at /opt/perl-5.18.3-RC1/lib/site_perl/5.18.3/Test/Builder.pm line 266
	eval {...} called at /opt/perl-5.18.3-RC1/lib/site_perl/5.18.3/Test/Builder.pm line 266
	Test::Builder::subtest('Test::Builder=HASH(0x929318)', 'validate_token', 'CODE(0x120b8a0)') called at /opt/perl-5.18.3-RC1/lib/site_perl/5.18.3/Test/More.pm line 771
	Test::More::subtest('validate_token', 'CODE(0x120b8a0)') called at t/07_client_store.t line 71
Do not use HTTP::Session2::ClientStore. Use HTTP::Session2::ServerStore or HTTP::Session2::ClientStore2 instead. at /tmpfs/.cpan-build/HTTP-Session2-1.09-hvzm3d/blib/lib/HTTP/Session2/ClientStore.pm line 35.
Secret string too short at /tmpfs/.cpan-build/HTTP-Session2-1.09-hvzm3d/blib/lib/HTTP/Session2/Base.pm line 79.
	HTTP::Session2::Base::__ANON__('HTTP::Session2::ClientStore=HASH(0x1214db8)', 'secret') called at t/07_client_store.t line 76
	main::__ANON__() called at /opt/perl-5.18.3-RC1/lib/site_perl/5.18.3/Test/Builder.pm line 261
	Test::Builder::__ANON__() called at /opt/perl-5.18.3-RC1/lib/site_perl/5.18.3/Test/Builder.pm line 266
	eval {...} called at /opt/perl-5.18.3-RC1/lib/site_perl/5.18.3/Test/Builder.pm line 266
	Test::Builder::subtest('Test::Builder=HASH(0x929318)', 'ignore_old', 'CODE(0x120bee8)') called at /opt/perl-5.18.3-RC1/lib/site_perl/5.18.3/Test/More.pm line 771
	Test::More::subtest('ignore_old', 'CODE(0x120bee8)') called at t/07_client_store.t line 106
Do not use HTTP::Session2::ClientStore. Use HTTP::Session2::ServerStore or HTTP::Session2::ClientStore2 instead. at /tmpfs/.cpan-build/HTTP-Session2-1.09-hvzm3d/blib/lib/HTTP/Session2/ClientStore.pm line 25.
Secret string too short at /tmpfs/.cpan-build/HTTP-Session2-1.09-hvzm3d/blib/lib/HTTP/Session2/Base.pm line 79.
	HTTP::Session2::Base::__ANON__('HTTP::Session2::ClientStore=HASH(0x121f4c0)', 'secret') called at t/07_client_store.t line 87
	main::__ANON__() called at /opt/perl-5.18.3-RC1/lib/site_perl/5.18.3/Test/Builder.pm line 261
	Test::Builder::__ANON__() called at /opt/perl-5.18.3-RC1/lib/site_perl/5.18.3/Test/Builder.pm line 266
	eval {...} called at /opt/perl-5.18.3-RC1/lib/site_perl/5.18.3/Test/Builder.pm line 266
	Test::Builder::subtest('Test::Builder=HASH(0x929318)', 'ignore_old disabled', 'CODE(0x11d9908)') called at /opt/perl-5.18.3-RC1/lib/site_perl/5.18.3/Test/More.pm line 771
	Test::More::subtest('ignore_old disabled', 'CODE(0x11d9908)') called at t/07_client_store.t line 95
	main::__ANON__() called at /opt/perl-5.18.3-RC1/lib/site_perl/5.18.3/Test/Builder.pm line 261
	Test::Builder::__ANON__() called at /opt/perl-5.18.3-RC1/lib/site_perl/5.18.3/Test/Builder.pm line 266
	eval {...} called at /opt/perl-5.18.3-RC1/lib/site_perl/5.18.3/Test/Builder.pm line 266
	Test::Builder::subtest('Test::Builder=HASH(0x929318)', 'ignore_old', 'CODE(0x120bee8)') called at /opt/perl-5.18.3-RC1/lib/site_perl/5.18.3/Test/More.pm line 771
	Test::More::subtest('ignore_old', 'CODE(0x120bee8)') called at t/07_client_store.t line 106
Do not use HTTP::Session2::ClientStore. Use HTTP::Session2::ServerStore or HTTP::Session2::ClientStore2 instead. at /tmpfs/.cpan-build/HTTP-Session2-1.09-hvzm3d/blib/lib/HTTP/Session2/ClientStore.pm line 35.
Secret string too short at /tmpfs/.cpan-build/HTTP-Session2-1.09-hvzm3d/blib/lib/HTTP/Session2/Base.pm line 79.
	HTTP::Session2::Base::__ANON__('HTTP::Session2::ClientStore=HASH(0x121f4d8)', 'secret') called at t/07_client_store.t line 97
	main::__ANON__() called at /opt/perl-5.18.3-RC1/lib/site_perl/5.18.3/Test/Builder.pm line 261
	Test::Builder::__ANON__() called at /opt/perl-5.18.3-RC1/lib/site_perl/5.18.3/Test/Builder.pm line 266
	eval {...} called at /opt/perl-5.18.3-RC1/lib/site_perl/5.18.3/Test/Builder.pm line 266
	Test::Builder::subtest('Test::Builder=HASH(0x929318)', 'ignore_old enabled', 'CODE(0x11d9908)') called at /opt/perl-5.18.3-RC1/lib/site_perl/5.18.3/Test/More.pm line 771
	Test::More::subtest('ignore_old enabled', 'CODE(0x11d9908)') called at t/07_client_store.t line 105
	main::__ANON__() called at /opt/perl-5.18.3-RC1/lib/site_perl/5.18.3/Test/Builder.pm line 261
	Test::Builder::__ANON__() called at /opt/perl-5.18.3-RC1/lib/site_perl/5.18.3/Test/Builder.pm line 266
	eval {...} called at /opt/perl-5.18.3-RC1/lib/site_perl/5.18.3/Test/Builder.pm line 266
	Test::Builder::subtest('Test::Builder=HASH(0x929318)', 'ignore_old', 'CODE(0x120bee8)') called at /opt/perl-5.18.3-RC1/lib/site_perl/5.18.3/Test/More.pm line 771
	Test::More::subtest('ignore_old', 'CODE(0x120bee8)') called at t/07_client_store.t line 106
t/07_client_store.t ......... ok
Secret string too short at /tmpfs/.cpan-build/HTTP-Session2-1.09-hvzm3d/blib/lib/HTTP/Session2/Base.pm line 79.
	HTTP::Session2::Base::__ANON__('HTTP::Session2::Expired=HASH(0x1b69dd8)', 33333) called at t/08_expired.t line 7
t/08_expired.t .............. ok
# /dev/urandom available
# /dev/urandom(1): ETpRIobWDxMN6fdWpYVz7abO4DdpOV3
# /dev/urandom(2): vxJyn5mni7k5xmsV_qq3Hv15rXDl3Bn
# perl:            f50c7604dcaaa17a2f46f69008b8cc7
t/09_random.t ............... ok
t/11_secret_string.t ........ ok
Secret string too short at /tmpfs/.cpan-build/HTTP-Session2-1.09-hvzm3d/blib/lib/HTTP/Session2/Base.pm line 79.
	HTTP::Session2::Base::__ANON__('HTTP::Session2::ClientStore2=HASH(0x11ff248)', 's3cret') called at t/client_store2/01_basic.t line 24
	main::__ANON__('client -> server: request without cookie', 'CODE(0x11f79e0)') called at t/client_store2/01_basic.t line 30
	main::__ANON__() called at /opt/perl-5.18.3-RC1/lib/site_perl/5.18.3/Test/Builder.pm line 261
	Test::Builder::__ANON__() called at /opt/perl-5.18.3-RC1/lib/site_perl/5.18.3/Test/Builder.pm line 266
	eval {...} called at /opt/perl-5.18.3-RC1/lib/site_perl/5.18.3/Test/Builder.pm line 266
	Test::Builder::subtest('Test::Builder=HASH(0xc71ad0)', 'First request', 'CODE(0xc3afc8)') called at /opt/perl-5.18.3-RC1/lib/site_perl/5.18.3/Test/More.pm line 771
	Test::More::subtest('First request', 'CODE(0xc3afc8)') called at t/client_store2/01_basic.t line 9
	main::scenario('First request', 'CODE(0xc3afc8)') called at t/client_store2/01_basic.t line 36
Secret string too short at /tmpfs/.cpan-build/HTTP-Session2-1.09-hvzm3d/blib/lib/HTTP/Session2/Base.pm line 79.
	HTTP::Session2::Base::__ANON__('HTTP::Session2::ClientStore2=HASH(0x11ff2f0)', 's3cret') called at t/client_store2/01_basic.t line 41
	main::__ANON__('client -> server: request without cookie', 'CODE(0x11ff3e0)') called at t/client_store2/01_basic.t line 47
	main::__ANON__() called at /opt/perl-5.18.3-RC1/lib/site_perl/5.18.3/Test/Builder.pm line 261
	Test::Builder::__ANON__() called at /opt/perl-5.18.3-RC1/lib/site_perl/5.18.3/Test/Builder.pm line 266
	eval {...} called at /opt/perl-5.18.3-RC1/lib/site_perl/5.18.3/Test/Builder.pm line 266
	Test::Builder::subtest('Test::Builder=HASH(0xc71ad0)', 'Store something without login', 'CODE(0xc3afc8)') called at /opt/perl-5.18.3-RC1/lib/site_perl/5.18.3/Test/More.pm line 771
	Test::More::subtest('Store something without login', 'CODE(0xc3afc8)') called at t/client_store2/01_basic.t line 9
	main::scenario('Store something without login', 'CODE(0xc3afc8)') called at t/client_store2/01_basic.t line 63
Secret string too short at /tmpfs/.cpan-build/HTTP-Session2-1.09-hvzm3d/blib/lib/HTTP/Session2/Base.pm line 79.
	HTTP::Session2::Base::__ANON__('HTTP::Session2::ClientStore2=HASH(0x122dfc0)', 's3cret') called at t/client_store2/01_basic.t line 69
	main::__ANON__('client -> server: request without cookie', 'CODE(0x122d630)') called at t/client_store2/01_basic.t line 76
	main::__ANON__() called at /opt/perl-5.18.3-RC1/lib/site_perl/5.18.3/Test/Builder.pm line 261
	Test::Builder::__ANON__() called at /opt/perl-5.18.3-RC1/lib/site_perl/5.18.3/Test/Builder.pm line 266
	eval {...} called at /opt/perl-5.18.3-RC1/lib/site_perl/5.18.3/Test/Builder.pm line 266
	Test::Builder::subtest('Test::Builder=HASH(0xc71ad0)', 'Login', 'CODE(0xc3afc8)') called at /opt/perl-5.18.3-RC1/lib/site_perl/5.18.3/Test/More.pm line 771
	Test::More::subtest('Login', 'CODE(0xc3afc8)') called at t/client_store2/01_basic.t line 9
	main::scenario('Login', 'CODE(0xc3afc8)') called at t/client_store2/01_basic.t line 96
Ciphertext does not begin with a valid header for 'salt' header mode at /tmpfs/.cpan-build/HTTP-Session2-1.09-hvzm3d/blib/lib/HTTP/Session2/ClientStore2.pm line 81.
Ciphertext does not begin with a valid header for 'salt' header mode at /tmpfs/.cpan-build/HTTP-Session2-1.09-hvzm3d/blib/lib/HTTP/Session2/ClientStore2.pm line 81.
Secret string too short at /tmpfs/.cpan-build/HTTP-Session2-1.09-hvzm3d/blib/lib/HTTP/Session2/Base.pm line 79.
	HTTP::Session2::Base::__ANON__('HTTP::Session2::ClientStore2=HASH(0x122df18)', 's3cret') called at t/client_store2/01_basic.t line 102
	main::__ANON__('client -> server: request without cookie', 'CODE(0xc71968)') called at t/client_store2/01_basic.t line 109
	main::__ANON__() called at /opt/perl-5.18.3-RC1/lib/site_perl/5.18.3/Test/Builder.pm line 261
	Test::Builder::__ANON__() called at /opt/perl-5.18.3-RC1/lib/site_perl/5.18.3/Test/Builder.pm line 266
	eval {...} called at /opt/perl-5.18.3-RC1/lib/site_perl/5.18.3/Test/Builder.pm line 266
	Test::Builder::subtest('Test::Builder=HASH(0xc71ad0)', 'In a login session', 'CODE(0xc3afc8)') called at /opt/perl-5.18.3-RC1/lib/site_perl/5.18.3/Test/More.pm line 771
	Test::More::subtest('In a login session', 'CODE(0xc3afc8)') called at t/client_store2/01_basic.t line 9
	main::scenario('In a login session', 'CODE(0xc3afc8)') called at t/client_store2/01_basic.t line 118
Ciphertext does not begin with a valid header for 'salt' header mode at /tmpfs/.cpan-build/HTTP-Session2-1.09-hvzm3d/blib/lib/HTTP/Session2/ClientStore2.pm line 81.
Secret string too short at /tmpfs/.cpan-build/HTTP-Session2-1.09-hvzm3d/blib/lib/HTTP/Session2/Base.pm line 79.
	HTTP::Session2::Base::__ANON__('HTTP::Session2::ClientStore2=HASH(0x11f7c38)', 's3cret') called at t/client_store2/01_basic.t line 123
	main::__ANON__('client -> server: request without cookie', 'CODE(0x11ff4b8)') called at t/client_store2/01_basic.t line 130
	main::__ANON__() called at /opt/perl-5.18.3-RC1/lib/site_perl/5.18.3/Test/Builder.pm line 261
	Test::Builder::__ANON__() called at /opt/perl-5.18.3-RC1/lib/site_perl/5.18.3/Test/Builder.pm line 266
	eval {...} called at /opt/perl-5.18.3-RC1/lib/site_perl/5.18.3/Test/Builder.pm line 266
	Test::Builder::subtest('Test::Builder=HASH(0xc71ad0)', 'Logout', 'CODE(0xc3afc8)') called at /opt/perl-5.18.3-RC1/lib/site_perl/5.18.3/Test/More.pm line 771
	Test::More::subtest('Logout', 'CODE(0xc3afc8)') called at t/client_store2/01_basic.t line 9
	main::scenario('Logout', 'CODE(0xc3afc8)') called at t/client_store2/01_basic.t line 143
Ciphertext does not begin with a valid header for 'salt' header mode at /tmpfs/.cpan-build/HTTP-Session2-1.09-hvzm3d/blib/lib/HTTP/Session2/ClientStore2.pm line 81.
t/client_store2/01_basic.t .. ok
t/client_store2/02_mech.t ... ok
t/client_store2/03_colon.t .. ok
All tests successful.
Files=14, Tests=83,  1 wallclock secs ( 0.07 usr  0.09 sys +  0.90 cusr  0.28 csys =  1.34 CPU)
Result: PASS

------------------------------
PREREQUISITES
------------------------------

Prerequisite modules loaded:

requires:

    Module                     Need     Have    
    -------------------------- -------- --------
    Cookie::Baker              0        0.03    
    Crypt::CBC                 0        2.33    
    Data::MessagePack          0        0.48    
    Digest::HMAC               0        1.03    
    Digest::SHA                0        5.84_02 
    Digest::SHA1               0        2.13    
    MIME::Base64               3.11     3.13    
    Mouse                      0        2.3.0   
    parent                     0        0.225   
    perl                       5.008005 5.018003
    Time::HiRes                0        1.9725  

build_requires:

    Module                     Need     Have    
    -------------------------- -------- --------
    Crypt::Rijndael            0        1.12    
    Plack::Request             0        1.0031  
    Plack::Response            0        1.0031  
    Test::More                 0.98     1.001006
    Test::WWW::Mechanize::PSGI 0        0.35    

configure_requires:

    Module                     Need     Have    
    -------------------------- -------- --------
    Module::Build              0.38     0.4210  


------------------------------
ENVIRONMENT AND OTHER CONTEXT
------------------------------

Environment variables:

    DBIC_NO_WARN_BAD_PERL = 1
    LANG = C
    LC_ALL = de_DE.UTF-8
    PATH = /usr/local/bin:/usr/bin:/bin:/usr/local/sbin:/usr/sbin:/sbin:/home/eserte/bin/linux-gnu:/home/eserte/bin/sh:/home/eserte/bin:/usr/games:/home/eserte/devel:/home/eserte/src/srezic-misc/scripts
    PERL5LIB = 
    PERL5OPT = 
    PERL5_CPANPLUS_IS_RUNNING = 15526
    PERL5_CPAN_IS_RUNNING = 15526
    PERL5_CPAN_IS_RUNNING_IN_RECURSION = 15414,15526
    PERLDOC = -MPod::Perldoc::ToTextOverstrike
    PERL_BATCH = yes
    PERL_CPAN_REPORTER_CONFIG = /var/tmp/cpansmoker-1001/33ge76wEiy_config.ini
    PERL_EXTUTILS_AUTOINSTALL = --defaultdeps
    PERL_HTML_DISPLAY_CLASS = HTML::Display::Mozilla
    PERL_PARALLEL_SMOKER = yes
    SHELL = /bin/zsh
    TERM = screen
    TMPDIR = /var/tmp/cpansmoker-1001

Perl special variables (and OS-specific diagnostics, for MSWin32):

    $^X = /bbbike/perl-5.18.3-RC1/bin/perl
    $UID/$EUID = 1001 / 1001
    $GID = 1001 109 1001
    $EGID = 1001 109 1001

Perl module toolchain versions installed:

    Module              Have    
    ------------------- --------
    CPAN                2.00    
    CPAN::Meta          2.142060
    Cwd                 3.40    
    ExtUtils::CBuilder  0.280210
    ExtUtils::Command   1.17    
    ExtUtils::Install   1.59    
    ExtUtils::MakeMaker 6.66    
    ExtUtils::Manifest  1.63    
    ExtUtils::ParseXS   3.24    
    File::Spec          3.40    
    JSON                2.90    
    JSON::PP            2.27202 
    Module::Build       0.4210  
    Module::Signature   n/a     
    Parse::CPAN::Meta   1.4414  
    Test::Harness       3.33    
    Test::More          1.001006
    YAML                1.11    
    YAML::Syck          1.27    
    version             0.9902  


--

Summary of my perl5 (revision 5 version 18 subversion 3) configuration:
   
  Platform:
    osname=linux, osvers=3.2.0-4-amd64, archname=x86_64-linux
    uname='linux eserte 3.2.0-4-amd64 #1 smp debian 3.2.60-1+deb7u3 x86_64 gnulinux '
    config_args='-ds -e -Dprefix=/opt/perl-5.18.3-RC1'
    hint=recommended, useposix=true, d_sigaction=define
    useithreads=undef, usemultiplicity=undef
    useperlio=define, d_sfio=undef, uselargefiles=define, usesocks=undef
    use64bitint=define, use64bitall=define, uselongdouble=undef
    usemymalloc=n, bincompat5005=undef
  Compiler:
    cc='cc', ccflags ='-fno-strict-aliasing -pipe -fstack-protector -I/usr/local/include -D_LARGEFILE_SOURCE -D_FILE_OFFSET_BITS=64',
    optimize='-O2',
    cppflags='-fno-strict-aliasing -pipe -fstack-protector -I/usr/local/include'
    ccversion='', gccversion='4.7.2', gccosandvers=''
    intsize=4, longsize=8, ptrsize=8, doublesize=8, byteorder=12345678
    d_longlong=define, longlongsize=8, d_longdbl=define, longdblsize=16
    ivtype='long', ivsize=8, nvtype='double', nvsize=8, Off_t='off_t', lseeksize=8
    alignbytes=8, prototype=define
  Linker and Libraries:
    ld='cc', ldflags =' -fstack-protector -L/usr/local/lib'
    libpth=/usr/local/lib /lib/x86_64-linux-gnu /lib/../lib /usr/lib/x86_64-linux-gnu /usr/lib/../lib /lib /usr/lib
    libs=-lnsl -ldb -ldl -lm -lcrypt -lutil -lc
    perllibs=-lnsl -ldl -lm -lcrypt -lutil -lc
    libc=, so=so, useshrplib=false, libperl=libperl.a
    gnulibc_version='2.13'
  Dynamic Linking:
    dlsrc=dl_dlopen.xs, dlext=so, d_dlsymun=undef, ccdlflags='-Wl,-E'
    cccdlflags='-fPIC', lddlflags='-shared -O2 -L/usr/local/lib -fstack-protector'


Characteristics of this binary (from libperl): 
  Compile-time options: HAS_TIMES PERLIO_LAYERS PERL_DONT_CREATE_GVSV
                        PERL_HASH_FUNC_ONE_AT_A_TIME_HARD PERL_MALLOC_WRAP
                        PERL_PRESERVE_IVUV PERL_SAWAMPERSAND USE_64_BIT_ALL
                        USE_64_BIT_INT USE_LARGE_FILES USE_LOCALE
                        USE_LOCALE_COLLATE USE_LOCALE_CTYPE
                        USE_LOCALE_NUMERIC USE_PERLIO USE_PERL_ATOF
  Locally applied patches:
	RC1
  Built under linux
  Compiled at Sep 17 2014 20:38:44
  %ENV:
    PERL5LIB=""
    PERL5OPT=""
    PERL5_CPANPLUS_IS_RUNNING="15526"
    PERL5_CPAN_IS_RUNNING="15526"
    PERL5_CPAN_IS_RUNNING_IN_RECURSION="15414,15526"
    PERLDOC="-MPod::Perldoc::ToTextOverstrike"
    PERL_BATCH="yes"
    PERL_CPAN_REPORTER_CONFIG="/var/tmp/cpansmoker-1001/33ge76wEiy_config.ini"
    PERL_EXTUTILS_AUTOINSTALL="--defaultdeps"
    PERL_HTML_DISPLAY_CLASS="HTML::Display::Mozilla"
    PERL_PARALLEL_SMOKER="yes"
  @INC:
    /opt/perl-5.18.3-RC1/lib/site_perl/5.18.3/x86_64-linux
    /opt/perl-5.18.3-RC1/lib/site_perl/5.18.3
    /opt/perl-5.18.3-RC1/lib/5.18.3/x86_64-linux
    /opt/perl-5.18.3-RC1/lib/5.18.3
    .