Spreadsheet-ParseXLSX v0.36 Perl 5 v5.41.13 OpenBSD.amd64-openbsd

Status
Pass
From
Carlos Guevara
Dist
Spreadsheet-ParseXLSX v0.36
Platform
Perl 5 v5.41.13 OpenBSD.amd64-openbsd
Date
2025-05-27 07:25:51
ID
d19c614c-3acb-11f0-8fc4-d9d4b25648cc
This distribution has been tested as part of the CPAN Testers
project, supporting the Perl programming language.  See
http://wiki.cpantesters.org/ for more information or email
questions to cpan-testers-discuss@perl.org


--
Dear Michael Daum,

This is a computer-generated report for Spreadsheet-ParseXLSX-0.36
on perl 5.41.13, created by CPAN-Reporter-1.2020.

Thank you for uploading your work to CPAN.  Congratulations!
All tests were successful.

Sections of this report:

    * Tester comments
    * Program output
    * Prerequisites
    * Environment and other context

------------------------------
TESTER COMMENTS
------------------------------

Additional comments from tester:

this report is from an automated smoke testing program
and was not reviewed by a human for accuracy

------------------------------
PROGRAM OUTPUT
------------------------------

Output from '/usr/bin/make test':

PERL_DL_NONLAZY=1 "/home/cpan/bin/perl/bin/perl5.41.13" "-MExtUtils::Command::MM" "-MTest::Harness" "-e" "undef *Test::Harness::Switches; test_harness(0, 'blib/lib', 'blib/arch')" t/*.t
t/00-compile.t ............. ok
t/author-critic.t .......... skipped: these tests are for testing by the author
t/author-eol.t ............. skipped: these tests are for testing by the author
t/author-no-tabs.t ......... skipped: these tests are for testing by the author
t/author-pod-coverage.t .... skipped: these tests are for testing by the author
t/author-pod-syntax.t ...... skipped: these tests are for testing by the author
t/basic.t .................. ok
t/bug-10.t ................. ok
t/bug-11.t ................. ok
t/bug-12.t ................. ok
t/bug-13.t ................. ok
t/bug-14.t ................. ok
t/bug-15.t ................. ok
t/bug-16.t ................. ok
t/bug-17.t ................. ok
t/bug-2.t .................. ok
t/bug-29.t ................. ok
t/bug-3.t .................. ok
t/bug-32.t ................. ok
t/bug-38.t ................. ok
t/bug-4.t .................. ok
t/bug-41.t ................. ok
t/bug-5.t .................. ok
t/bug-57.t ................. ok
t/bug-6-2.t ................ ok
t/bug-6.t .................. ok
t/bug-61.t ................. ok
t/bug-7.t .................. ok
t/bug-72.t ................. ok
t/bug-8.t .................. ok
t/bug-md-10.t .............. ok
t/bug-md-11.t .............. ok
t/bug-md-7.t ............... ok
t/cell-to-row-col.t ........ ok
t/column-formats.t ......... ok
t/encryption.t ............. ok
t/garbage-collect.t ........ ok
t/hidden-row-and-column.t .. ok
t/hidden-sheet.t ........... ok
t/hyperlinks.t ............. ok
t/page-Setup.t ............. ok
t/rich.t ................... ok
t/tab-color.t .............. ok
t/target-abspath.t ......... ok
All tests successful.

Test Summary Report
-------------------
t/hyperlinks.t           (Wstat: 0 Tests: 58 Failed: 0)
  TODO passed:   47-49, 51-53, 55-57
Files=44, Tests=1288, 68 wallclock secs ( 0.17 usr  0.10 sys + 64.86 cusr  2.35 csys = 67.48 CPU)
Result: PASS

------------------------------
PREREQUISITES
------------------------------

Prerequisite modules loaded:

requires:

    Module                             Need  Have    
    ---------------------------------- ----- --------
    Archive::Zip                       1.34  1.68    
    Crypt::Mode::CBC                   0     0.086   
    Crypt::Mode::ECB                   0     0.086   
    Digest::SHA                        0     6.04    
    Encode                             0     3.21    
    File::Temp                         0     0.2311  
    Graphics::ColorUtils               0     0.17    
    MIME::Base64                       0     3.16_01 
    OLE::Storage_Lite                  0     0.22    
    perl                               5.010 5.041013
    Scalar::Util                       0     1.68_01 
    Spreadsheet::ParseExcel            0     0.66    
    Spreadsheet::ParseExcel::Cell      0     0.66    
    Spreadsheet::ParseExcel::Worksheet 0     0.66    
    XML::Twig                          0     3.53    

build_requires:

    Module                             Need  Have    
    ---------------------------------- ----- --------
    Data::Dumper                       0     2.192   
    ExtUtils::MakeMaker                0     7.76    
    File::Spec                         0     3.94    
    IO::Handle                         0     1.55    
    IPC::Open3                         0     1.24    
    Spreadsheet::ParseExcel::Utility   0     0.66    
    Test::More                         0.88  1.302214

configure_requires:

    Module                             Need  Have    
    ---------------------------------- ----- --------
    ExtUtils::MakeMaker                0     7.76    


------------------------------
ENVIRONMENT AND OTHER CONTEXT
------------------------------

Environment variables:

    AUTOMATED_TESTING = 1
    DATE_MANIP_TEST_DM5 = 1
    LC_ALL = C
    NONINTERACTIVE_TESTING = 1
    NO_NETWORK_TESTING = 1
    PATH = /home/cpan/bin/perl/bin:/home/cpan/bin:/home/cpan/bin:/bin:/sbin:/usr/bin:/usr/sbin:/usr/X11R6/bin:/usr/local/bin:/usr/local/sbin
    PERL5LIB = 
    PERL5OPT = 
    PERL5_CPANPLUS_IS_RUNNING = 36717
    PERL5_CPAN_IS_RUNNING = 36717
    PERL_MM_USE_DEFAULT = 1
    PERL_USE_UNSAFE_INC = 1
    SHELL = /usr/local/bin/bash
    TERM = screen
    TMPDIR = /home/cpan/tmp

Perl special variables (and OS-specific diagnostics, for MSWin32):

    $^X = /home/cpan/bin/perl/bin/perl5.41.13
    $UID/$EUID = 1001 / 1001
    $GID = 1001 1001
    $EGID = 1001 1001

Perl module toolchain versions installed:

    Module              Have    
    ------------------- --------
    CPAN                2.38    
    CPAN::Meta          2.150010
    Cwd                 3.94    
    ExtUtils::CBuilder  0.280241
    ExtUtils::Command   7.76    
    ExtUtils::Install   2.22    
    ExtUtils::MakeMaker 7.76    
    ExtUtils::Manifest  1.75    
    ExtUtils::ParseXS   3.57    
    File::Spec          3.94    
    JSON                4.10    
    JSON::PP            4.16    
    Module::Build       0.4234  
    Module::Signature   0.89    
    Parse::CPAN::Meta   2.150010
    Test2               1.302214
    Test::Harness       3.52    
    Test::More          1.302214
    YAML                1.31    
    YAML::Syck          1.34    
    version             0.9933  


--

Summary of my perl5 (revision 5 version 41 subversion 13) configuration:
  Commit id: 79d4169d029dd93108c936e14e4ce01b1bd0973c
  Platform:
    osname=openbsd
    osvers=7.7
    archname=OpenBSD.amd64-openbsd
    uname='openbsd cjg-openbsd7 7.7 generic#0 amd64 '
    config_args='-des -Dprefix=/home/cpan/bin/perl -Dscriptdir=/home/cpan/bin/perl/bin -Dusedevel -Duse64bitall'
    hint=recommended
    useposix=true
    d_sigaction=define
    useithreads=undef
    usemultiplicity=undef
    use64bitint=define
    use64bitall=define
    uselongdouble=undef
    usemymalloc=n
    default_inc_excludes_dot=define
  Compiler:
    cc='cc'
    ccflags ='-DNO_LOCALE_NUMERIC -DNO_LOCALE_COLLATE -DNO_LOCALE_MONETARY -DNO_LOCALE_TIME -DNO_LOCALE_MESSAGES -DLIBC_HANDLES_MISMATCHED_CTYPE -fno-strict-aliasing -pipe -fstack-protector-strong -I/usr/local/include'
    optimize='-O2'
    cppflags='-DNO_LOCALE_NUMERIC -DNO_LOCALE_COLLATE -DNO_LOCALE_MONETARY -DNO_LOCALE_TIME -DNO_LOCALE_MESSAGES -DLIBC_HANDLES_MISMATCHED_CTYPE -fno-strict-aliasing -pipe -fstack-protector-strong -I/usr/local/include'
    ccversion=''
    gccversion='OpenBSD Clang 16.0.6'
    gccosandvers=''
    intsize=4
    longsize=8
    ptrsize=8
    doublesize=8
    byteorder=12345678
    doublekind=3
    d_longlong=define
    longlongsize=8
    d_longdbl=define
    longdblsize=16
    longdblkind=3
    ivtype='long'
    ivsize=8
    nvtype='double'
    nvsize=8
    Off_t='off_t'
    lseeksize=8
    alignbytes=8
    prototype=define
  Linker and Libraries:
    ld='cc'
    ldflags ='-Wl,-E  -fstack-protector-strong -L/usr/local/lib'
    libpth=/usr/lib/clang/16/lib /usr/lib /usr/local/lib
    libs=-lpthread -lm -lutil -lc
    perllibs=-lpthread -lm -lutil -lc
    libc=/usr/lib/libc.so.100.3
    so=so
    useshrplib=false
    libperl=libperl.a
    gnulibc_version=''
  Dynamic Linking:
    dlsrc=dl_dlopen.xs
    dlext=so
    d_dlsymun=undef
    ccdlflags=' '
    cccdlflags='-DPIC -fPIC '
    lddlflags='-shared -fPIC  -L/usr/local/lib -fstack-protector-strong'


Characteristics of this binary (from libperl): 
  Compile-time options:
    HAS_LONG_DOUBLE
    HAS_STRTOLD
    HAS_TIMES
    PERLIO_LAYERS
    PERL_COPY_ON_WRITE
    PERL_DONT_CREATE_GVSV
    PERL_HASH_FUNC_SIPHASH13
    PERL_HASH_USE_SBOX32
    PERL_MALLOC_WRAP
    PERL_OP_PARENT
    PERL_PRESERVE_IVUV
    PERL_USE_DEVEL
    PERL_USE_SAFE_PUTENV
    USE_64_BIT_ALL
    USE_64_BIT_INT
    USE_LARGE_FILES
    USE_LOCALE
    USE_LOCALE_CTYPE
    USE_PERLIO
    USE_PERL_ATOF
  Built under openbsd
  Compiled at May 26 2025 22:20:28
  %ENV:
    PERL5LIB=""
    PERL5OPT=""
    PERL5_CPANPLUS_IS_RUNNING="36717"
    PERL5_CPAN_IS_RUNNING="36717"
    PERL_MM_USE_DEFAULT="1"
    PERL_USE_UNSAFE_INC="1"
  @INC:
    /home/cpan/bin/perl/lib/site_perl/5.41.13/OpenBSD.amd64-openbsd
    /home/cpan/bin/perl/lib/site_perl/5.41.13
    /home/cpan/bin/perl/lib/5.41.13/OpenBSD.amd64-openbsd
    /home/cpan/bin/perl/lib/5.41.13
    .