JSON-PP v4.16 Perl 5 v5.39.2 x86_64-linux

Status
Pass
From
Carlos Guevara
Dist
JSON-PP v4.16
Platform
Perl 5 v5.39.2 x86_64-linux
Date
2023-08-09 11:42:28
ID
d19597d6-36a9-11ee-8f05-afc5e4e5412c
This distribution has been tested as part of the CPAN Testers
project, supporting the Perl programming language.  See
http://wiki.cpantesters.org/ for more information or email
questions to cpan-testers-discuss@perl.org


--
Dear Kenichi Ishigaki,

This is a computer-generated report for JSON-PP-4.16
on perl 5.39.2, created by CPAN-Reporter-1.2019.

Thank you for uploading your work to CPAN.  Congratulations!
All tests were successful.

Sections of this report:

    * Tester comments
    * Program output
    * Prerequisites
    * Environment and other context

------------------------------
TESTER COMMENTS
------------------------------

Additional comments from tester:

this report is from an automated smoke testing program
and was not reviewed by a human for accuracy

------------------------------
PROGRAM OUTPUT
------------------------------

Output from '/usr/bin/make test':

PERL_DL_NONLAZY=1 "/home/cpan/bin/perl/bin/perl5.39.2" "-MExtUtils::Command::MM" "-MTest::Harness" "-e" "undef *Test::Harness::Switches; test_harness(0, 'blib/lib', 'blib/arch')" t/*.t
t/000_load.t .......................... ok
t/001_utf8.t .......................... ok
t/002_error.t ......................... ok
t/003_types.t ......................... ok
t/004_dwiw_encode.t ................... ok
t/005_dwiw_decode.t ................... ok
t/006_pc_pretty.t ..................... ok
t/007_pc_esc.t ........................ ok
t/008_pc_base.t ....................... ok
t/009_pc_extra_number.t ............... ok
t/010_pc_keysort.t .................... ok
t/011_pc_expo.t ....................... ok
t/012_blessed.t ....................... ok
t/013_limit.t ......................... ok
t/014_latin1.t ........................ ok
t/015_prefix.t ........................ ok
t/016_tied.t .......................... ok
t/017_relaxed.t ....................... ok
t/018_json_checker.t .................. ok
t/019_incr.t .......................... ok
t/020_faihu.t ......................... ok
t/020_unknown.t ....................... ok
t/021_evans.t ......................... ok
t/022_comment_at_eof.t ................ ok
t/052_object.t ........................ ok
t/099_binary00.t ...................... ok
t/099_binary01.t ...................... ok
t/099_binary02.t ...................... ok
t/099_binary03.t ...................... ok
t/099_binary04.t ...................... ok
t/099_binary05.t ...................... ok
t/099_binary06.t ...................... ok
t/099_binary07.t ...................... ok
t/099_binary08.t ...................... ok
t/099_binary09.t ...................... ok
t/099_binary10.t ...................... ok
t/099_binary11.t ...................... ok
t/099_binary12.t ...................... ok
t/099_binary13.t ...................... ok
t/099_binary14.t ...................... ok
t/099_binary15.t ...................... ok
t/104_sortby.t ........................ ok
t/105_esc_slash.t ..................... ok
t/106_allow_barekey.t ................. ok
t/107_allow_singlequote.t ............. ok
t/108_decode.t ........................ ok
t/109_encode.t ........................ ok
t/110_bignum.t ........................ ok
t/112_upgrade.t ....................... ok
t/113_overloaded_eq.t ................. ok
t/114_decode_prefix.t ................. ok
t/115_tie_ixhash.t .................... ok
t/116_incr_parse_fixed.t .............. ok
t/117_numbers.t ....................... ok
t/118_boolean_values.t ................ ok
t/119_incr_parse_utf8.t ............... ok
t/120_incr_parse_truncated.t .......... ok
t/core_bools.t ........................ ok
t/gh_28_json_test_suite.t ............. ok
t/gh_29_trailing_false_value.t ........ ok
t/rt_116998_wrong_character_offset.t .. ok
t/rt_122270_old_xs_boolean.t .......... ok
t/rt_90071_incr_parse.t ............... ok
t/zero-mojibake.t ..................... ok
All tests successful.
Files=64, Tests=25888, 95 wallclock secs ( 3.31 usr  0.37 sys + 86.69 cusr  3.77 csys = 94.14 CPU)
Result: PASS

------------------------------
PREREQUISITES
------------------------------

Prerequisite modules loaded:

requires:

    Module              Need Have    
    ------------------- ---- --------
    Scalar::Util        1.08 1.63    
    Test::More          0    1.302195

build_requires:

    Module              Need Have    
    ------------------- ---- --------
    ExtUtils::MakeMaker 0    7.70    

configure_requires:

    Module              Need Have    
    ------------------- ---- --------
    ExtUtils::MakeMaker 0    7.70    


------------------------------
ENVIRONMENT AND OTHER CONTEXT
------------------------------

Environment variables:

    AUTOMATED_TESTING = 1
    DATE_MANIP_TEST_DM5 = 1
    LANG = C.UTF-8
    LC_COLLATE = C
    NONINTERACTIVE_TESTING = 1
    NO_NETWORK_TESTING = 1
    PATH = /home/cpan/bin/perl/bin:/usr/local/sbin:/usr/local/bin:/usr/sbin:/usr/bin:/sbin:/bin
    PERL5LIB = /home/cpan/.cpan/build/FindBin-1.53-0/blib/arch:/home/cpan/.cpan/build/FindBin-1.53-0/blib/lib:/home/cpan/.cpan/build/Exporter-5.77-0/blib/arch:/home/cpan/.cpan/build/Exporter-5.77-0/blib/lib:/home/cpan/.cpan/build/Text-Tabs+Wrap-2023.0511-0/blib/arch:/home/cpan/.cpan/build/Text-Tabs+Wrap-2023.0511-0/blib/lib:/home/cpan/.cpan/build/Test-Simple-1.302195-5/blib/arch:/home/cpan/.cpan/build/Test-Simple-1.302195-5/blib/lib:/home/cpan/.cpan/build/IO-Compress-2.206-5/blib/arch:/home/cpan/.cpan/build/IO-Compress-2.206-5/blib/lib:/home/cpan/.cpan/build/File-pushd-1.016-1/blib/arch:/home/cpan/.cpan/build/File-pushd-1.016-1/blib/lib
    PERL5OPT = 
    PERL5_CPANPLUS_IS_RUNNING = 7837
    PERL5_CPAN_IS_RUNNING = 7837
    PERL_MM_USE_DEFAULT = 1
    PERL_USE_UNSAFE_INC = 1
    SHELL = /bin/bash
    TERM = screen

Perl special variables (and OS-specific diagnostics, for MSWin32):

    $^X = /home/cpan/bin/perl/bin/perl5.39.2
    $UID/$EUID = 1001 / 1001
    $GID = 1001 1001
    $EGID = 1001 1001

Perl module toolchain versions installed:

    Module              Have    
    ------------------- --------
    CPAN                2.36    
    CPAN::Meta          2.150010
    Cwd                 3.90    
    ExtUtils::CBuilder  0.280239
    ExtUtils::Command   7.70    
    ExtUtils::Install   2.22    
    ExtUtils::MakeMaker 7.70    
    ExtUtils::Manifest  1.75    
    ExtUtils::ParseXS   3.51    
    File::Spec          3.90    
    JSON                n/a     
    JSON::PP            4.16    
    Module::Build       0.4234  
    Module::Signature   n/a     
    Parse::CPAN::Meta   2.150010
    Test2               1.302195
    Test::Harness       3.44    
    Test::More          1.302195
    YAML                n/a     
    YAML::Syck          n/a     
    version             0.9929  


--

Summary of my perl5 (revision 5 version 39 subversion 2) configuration:
  Commit id: d9dc5fe738695a076787b70f8768b8327b88c148
  Platform:
    osname=linux
    osvers=5.15.124-0-lts
    archname=x86_64-linux
    uname='linux cjg-alpine3 5.15.124-0-lts #1-alpine smp fri, 04 aug 2023 07:18:29 +0000 x86_64 linux '
    config_args='-des -Dprefix=/home/cpan/bin/perl -Dscriptdir=/home/cpan/bin/perl/bin -Dusedevel -Duse64bitall'
    hint=recommended
    useposix=true
    d_sigaction=define
    useithreads=undef
    usemultiplicity=undef
    use64bitint=define
    use64bitall=define
    uselongdouble=undef
    usemymalloc=n
    default_inc_excludes_dot=define
  Compiler:
    cc='cc'
    ccflags ='-D_GNU_SOURCE -fwrapv -fno-strict-aliasing -pipe -fstack-protector-strong -D_LARGEFILE_SOURCE -D_FILE_OFFSET_BITS=64'
    optimize='-O2'
    cppflags='-D_GNU_SOURCE -fwrapv -fno-strict-aliasing -pipe -fstack-protector-strong'
    ccversion=''
    gccversion='12.2.1 20220924'
    gccosandvers=''
    intsize=4
    longsize=8
    ptrsize=8
    doublesize=8
    byteorder=12345678
    doublekind=3
    d_longlong=define
    longlongsize=8
    d_longdbl=define
    longdblsize=16
    longdblkind=3
    ivtype='long'
    ivsize=8
    nvtype='double'
    nvsize=8
    Off_t='off_t'
    lseeksize=8
    alignbytes=8
    prototype=define
  Linker and Libraries:
    ld='cc'
    ldflags =' -fstack-protector-strong -L/usr/local/lib'
    libpth=/usr/lib /usr/local/lib /lib
    libs=-lpthread -ldb -ldl -lm -lcrypt -lutil -lc
    perllibs=-lpthread -ldl -lm -lcrypt -lutil -lc
    libc=/usr/lib/libc.a
    so=so
    useshrplib=false
    libperl=libperl.a
    gnulibc_version=''
  Dynamic Linking:
    dlsrc=dl_dlopen.xs
    dlext=so
    d_dlsymun=undef
    ccdlflags='-Wl,-E'
    cccdlflags='-fPIC'
    lddlflags='-shared -O2 -L/usr/local/lib -fstack-protector-strong'


Characteristics of this binary (from libperl): 
  Compile-time options:
    HAS_LONG_DOUBLE
    HAS_STRTOLD
    HAS_TIMES
    PERLIO_LAYERS
    PERL_COPY_ON_WRITE
    PERL_DONT_CREATE_GVSV
    PERL_HASH_FUNC_SIPHASH13
    PERL_HASH_USE_SBOX32
    PERL_MALLOC_WRAP
    PERL_OP_PARENT
    PERL_PRESERVE_IVUV
    PERL_USE_DEVEL
    PERL_USE_SAFE_PUTENV
    USE_64_BIT_ALL
    USE_64_BIT_INT
    USE_LARGE_FILES
    USE_LOCALE
    USE_LOCALE_COLLATE
    USE_LOCALE_CTYPE
    USE_LOCALE_NUMERIC
    USE_LOCALE_TIME
    USE_PERLIO
    USE_PERL_ATOF
  Built under linux
  Compiled at Aug  9 2023 06:29:54
  %ENV:
    PERL5LIB="/home/cpan/.cpan/build/FindBin-1.53-0/blib/arch:/home/cpan/.cpan/build/FindBin-1.53-0/blib/lib:/home/cpan/.cpan/build/Exporter-5.77-0/blib/arch:/home/cpan/.cpan/build/Exporter-5.77-0/blib/lib:/home/cpan/.cpan/build/Text-Tabs+Wrap-2023.0511-0/blib/arch:/home/cpan/.cpan/build/Text-Tabs+Wrap-2023.0511-0/blib/lib:/home/cpan/.cpan/build/Test-Simple-1.302195-5/blib/arch:/home/cpan/.cpan/build/Test-Simple-1.302195-5/blib/lib:/home/cpan/.cpan/build/IO-Compress-2.206-5/blib/arch:/home/cpan/.cpan/build/IO-Compress-2.206-5/blib/lib:/home/cpan/.cpan/build/File-pushd-1.016-1/blib/arch:/home/cpan/.cpan/build/File-pushd-1.016-1/blib/lib"
    PERL5OPT=""
    PERL5_CPANPLUS_IS_RUNNING="7837"
    PERL5_CPAN_IS_RUNNING="7837"
    PERL_MM_USE_DEFAULT="1"
    PERL_USE_UNSAFE_INC="1"
  @INC:
    /home/cpan/.cpan/build/FindBin-1.53-0/blib/arch
    /home/cpan/.cpan/build/FindBin-1.53-0/blib/lib
    /home/cpan/.cpan/build/Exporter-5.77-0/blib/arch
    /home/cpan/.cpan/build/Exporter-5.77-0/blib/lib
    /home/cpan/.cpan/build/Text-Tabs+Wrap-2023.0511-0/blib/arch
    /home/cpan/.cpan/build/Text-Tabs+Wrap-2023.0511-0/blib/lib
    /home/cpan/.cpan/build/Test-Simple-1.302195-5/blib/arch
    /home/cpan/.cpan/build/Test-Simple-1.302195-5/blib/lib
    /home/cpan/.cpan/build/IO-Compress-2.206-5/blib/arch
    /home/cpan/.cpan/build/IO-Compress-2.206-5/blib/lib
    /home/cpan/.cpan/build/File-pushd-1.016-1/blib/arch
    /home/cpan/.cpan/build/File-pushd-1.016-1/blib/lib
    /home/cpan/bin/perl/lib/site_perl/5.39.2/x86_64-linux
    /home/cpan/bin/perl/lib/site_perl/5.39.2
    /home/cpan/bin/perl/lib/5.39.2/x86_64-linux
    /home/cpan/bin/perl/lib/5.39.2
    .