Crypt-Perl v0.38 Perl 5 v5.32.1 x86_64-linux-thread-multi

Status
Pass
From
David Cantrell (DCANTRELL)
Dist
Crypt-Perl v0.38
Platform
Perl 5 v5.32.1 x86_64-linux-thread-multi
Date
2022-10-18 14:19:03
ID
d18f9fb8-4eef-11ed-b4b7-e2dbb78f9d9f
This distribution has been tested as part of the CPAN Testers
project, supporting the Perl programming language.  See
http://wiki.cpantesters.org/ for more information or email
questions to cpan-testers-discuss@perl.org


--
Dear Felipe Gasper,

This is a computer-generated report for Crypt-Perl-0.38
on perl 5.32.1, created by CPAN-Reporter-1.2018.

Thank you for uploading your work to CPAN.  Congratulations!
All tests were successful.

Sections of this report:

    * Tester comments
    * Program output
    * Prerequisites
    * Environment and other context

------------------------------
TESTER COMMENTS
------------------------------

Additional comments from tester:

this report is from an automated smoke testing program
and was not reviewed by a human for accuracy

------------------------------
PROGRAM OUTPUT
------------------------------

Output from '/usr/bin/make test':

PERL_DL_NONLAZY=1 "/home/david/cpantesting/perl-5.32.1/bin/perl" "-MExtUtils::Command::MM" "-MTest::Harness" "-e" "undef *Test::Harness::Switches; test_harness(0, 'blib/lib', 'blib/arch')" t/*.t
# Looking for OpenSSL binary …
# Found OpenSSL: /usr/bin/openssl
# OpenSSL 1.1.1n  15 Mar 2022
# options:  bn(64,64) rc4(8x,char) des(int) blowfish(ptr) 
# compiler: gcc -fPIC -pthread -m64 -Wa,--noexecstack -Wall -Wa,--noexecstack -g -O2 -ffile-prefix-map=/build/openssl-qQYEec/openssl-1.1.1n=. -fstack-protector-strong -Wformat -Werror=format-security -DOPENSSL_USE_NODELETE -DL_ENDIAN -DOPENSSL_PIC -DOPENSSL_CPUID_OBJ -DOPENSSL_IA32_SSE2 -DOPENSSL_BN_ASM_MONT -DOPENSSL_BN_ASM_MONT5 -DOPENSSL_BN_ASM_GF2m -DSHA1_ASM -DSHA256_ASM -DSHA512_ASM -DKECCAK1600_ASM -DRC4_ASM -DMD5_ASM -DAESNI_ASM -DVPAES_ASM -DGHASH_ASM -DECP_NISTZ256_ASM -DX25519_ASM -DPOLY1305_ASM -DNDEBUG -Wdate-time -D_FORTIFY_SOURCE=2
t/Crypt-Perl-ASN1-BitString.t ..................... ok
# Math::BigInt 1.999818 (backend: Math::BigInt::Calc 1.999818)
t/Crypt-Perl-BigInt.t ............................. ok
# Math::BigInt 1.999818 (backend: Math::BigInt::Calc 1.999818)
# Math::BigInt::Calc 1.999818
t/Crypt-Perl-ECDSA-Deterministic.t ................ ok
t/Crypt-Perl-ECDSA-EC-Point.t ..................... ok
# Looking for OpenSSL binary …
# Found OpenSSL: /usr/bin/openssl
# OpenSSL 1.1.1n  15 Mar 2022
# options:  bn(64,64) rc4(8x,char) des(int) blowfish(ptr) 
# compiler: gcc -fPIC -pthread -m64 -Wa,--noexecstack -Wall -Wa,--noexecstack -g -O2 -ffile-prefix-map=/build/openssl-qQYEec/openssl-1.1.1n=. -fstack-protector-strong -Wformat -Werror=format-security -DOPENSSL_USE_NODELETE -DL_ENDIAN -DOPENSSL_PIC -DOPENSSL_CPUID_OBJ -DOPENSSL_IA32_SSE2 -DOPENSSL_BN_ASM_MONT -DOPENSSL_BN_ASM_MONT5 -DOPENSSL_BN_ASM_GF2m -DSHA1_ASM -DSHA256_ASM -DSHA512_ASM -DKECCAK1600_ASM -DRC4_ASM -DMD5_ASM -DAESNI_ASM -DVPAES_ASM -DGHASH_ASM -DECP_NISTZ256_ASM -DX25519_ASM -DPOLY1305_ASM -DNDEBUG -Wdate-time -D_FORTIFY_SOURCE=2
# Skipping “c2pnb163v1” (Crypt::Perl::X::ECDSA::NoCurveForOID) …
# Skipping “c2pnb163v2” (Crypt::Perl::X::ECDSA::NoCurveForOID) …
# Skipping “c2pnb163v3” (Crypt::Perl::X::ECDSA::NoCurveForOID) …
# Skipping “c2pnb176v1” (Crypt::Perl::X::ECDSA::NoCurveForOID) …
# Skipping “c2pnb208w1” (Crypt::Perl::X::ECDSA::NoCurveForOID) …
# Skipping “c2pnb272w1” (Crypt::Perl::X::ECDSA::NoCurveForOID) …
# Skipping “c2pnb304w1” (Crypt::Perl::X::ECDSA::NoCurveForOID) …
# Skipping “c2pnb368w1” (Crypt::Perl::X::ECDSA::NoCurveForOID) …
# Skipping “c2tnb191v1” (Crypt::Perl::X::ECDSA::NoCurveForOID) …
# Skipping “c2tnb191v2” (Crypt::Perl::X::ECDSA::NoCurveForOID) …
# Skipping “c2tnb191v3” (Crypt::Perl::X::ECDSA::NoCurveForOID) …
# Skipping “c2tnb239v1” (Crypt::Perl::X::ECDSA::NoCurveForOID) …
# Skipping “c2tnb239v2” (Crypt::Perl::X::ECDSA::NoCurveForOID) …
# Skipping “c2tnb239v3” (Crypt::Perl::X::ECDSA::NoCurveForOID) …
# Skipping “c2tnb359v1” (Crypt::Perl::X::ECDSA::NoCurveForOID) …
# Skipping “c2tnb431r1” (Crypt::Perl::X::ECDSA::NoCurveForOID) …
# Skipping “sect113r1” (Crypt::Perl::X::ECDSA::NoCurveForOID) …
# Skipping “sect113r2” (Crypt::Perl::X::ECDSA::NoCurveForOID) …
# Skipping “sect131r1” (Crypt::Perl::X::ECDSA::NoCurveForOID) …
# Skipping “sect131r2” (Crypt::Perl::X::ECDSA::NoCurveForOID) …
# Skipping “sect163k1” (Crypt::Perl::X::ECDSA::NoCurveForOID) …
# Skipping “sect163r1” (Crypt::Perl::X::ECDSA::NoCurveForOID) …
# Skipping “sect163r2” (Crypt::Perl::X::ECDSA::NoCurveForOID) …
# Skipping “sect193r1” (Crypt::Perl::X::ECDSA::NoCurveForOID) …
# Skipping “sect193r2” (Crypt::Perl::X::ECDSA::NoCurveForOID) …
# Skipping “sect233k1” (Crypt::Perl::X::ECDSA::NoCurveForOID) …
# Skipping “sect233r1” (Crypt::Perl::X::ECDSA::NoCurveForOID) …
# Skipping “sect239k1” (Crypt::Perl::X::ECDSA::NoCurveForOID) …
# Skipping “sect283k1” (Crypt::Perl::X::ECDSA::NoCurveForOID) …
# Skipping “sect283r1” (Crypt::Perl::X::ECDSA::NoCurveForOID) …
# Skipping “sect409k1” (Crypt::Perl::X::ECDSA::NoCurveForOID) …
# Skipping “sect409r1” (Crypt::Perl::X::ECDSA::NoCurveForOID) …
# Skipping “sect571k1” (Crypt::Perl::X::ECDSA::NoCurveForOID) …
# Skipping “sect571r1” (Crypt::Perl::X::ECDSA::NoCurveForOID) …
# Skipping “wap_wsg_idm_ecid_wtls1” (Crypt::Perl::X::ECDSA::NoCurveForOID) …
# Skipping “wap_wsg_idm_ecid_wtls10” (Crypt::Perl::X::ECDSA::NoCurveForOID) …
# Skipping “wap_wsg_idm_ecid_wtls11” (Crypt::Perl::X::ECDSA::NoCurveForOID) …
# Skipping “wap_wsg_idm_ecid_wtls3” (Crypt::Perl::X::ECDSA::NoCurveForOID) …
# Skipping “wap_wsg_idm_ecid_wtls4” (Crypt::Perl::X::ECDSA::NoCurveForOID) …
# Skipping “wap_wsg_idm_ecid_wtls5” (Crypt::Perl::X::ECDSA::NoCurveForOID) …
# Math::BigInt 1.999818 (backend: Math::BigInt::Calc 1.999818)
# XXX NOTE: This test can take a while and/or spew a lot of text.
# Skipping “c2pnb163v1” (Crypt::Perl::X::ECDSA::NoCurveForOID) …
# Skipping “c2pnb163v2” (Crypt::Perl::X::ECDSA::NoCurveForOID) …
# Skipping “c2pnb163v3” (Crypt::Perl::X::ECDSA::NoCurveForOID) …
# Skipping “c2pnb176v1” (Crypt::Perl::X::ECDSA::NoCurveForOID) …
# Skipping “c2pnb208w1” (Crypt::Perl::X::ECDSA::NoCurveForOID) …
# Skipping “c2pnb272w1” (Crypt::Perl::X::ECDSA::NoCurveForOID) …
# Skipping “c2pnb304w1” (Crypt::Perl::X::ECDSA::NoCurveForOID) …
# Skipping “c2pnb368w1” (Crypt::Perl::X::ECDSA::NoCurveForOID) …
# Skipping “c2tnb191v1” (Crypt::Perl::X::ECDSA::NoCurveForOID) …
# Skipping “c2tnb191v2” (Crypt::Perl::X::ECDSA::NoCurveForOID) …
# Skipping “c2tnb191v3” (Crypt::Perl::X::ECDSA::NoCurveForOID) …
# Skipping “c2tnb239v1” (Crypt::Perl::X::ECDSA::NoCurveForOID) …
# Skipping “c2tnb239v2” (Crypt::Perl::X::ECDSA::NoCurveForOID) …
# Skipping “c2tnb239v3” (Crypt::Perl::X::ECDSA::NoCurveForOID) …
# Skipping “c2tnb359v1” (Crypt::Perl::X::ECDSA::NoCurveForOID) …
# Skipping “c2tnb431r1” (Crypt::Perl::X::ECDSA::NoCurveForOID) …
# Skipping “sect113r1” (Crypt::Perl::X::ECDSA::NoCurveForOID) …
# Skipping “sect113r2” (Crypt::Perl::X::ECDSA::NoCurveForOID) …
# Skipping “sect131r1” (Crypt::Perl::X::ECDSA::NoCurveForOID) …
# Skipping “sect131r2” (Crypt::Perl::X::ECDSA::NoCurveForOID) …
# Skipping “sect163k1” (Crypt::Perl::X::ECDSA::NoCurveForOID) …
# Skipping “sect163r1” (Crypt::Perl::X::ECDSA::NoCurveForOID) …
# Skipping “sect163r2” (Crypt::Perl::X::ECDSA::NoCurveForOID) …
# Skipping “sect193r1” (Crypt::Perl::X::ECDSA::NoCurveForOID) …
# Skipping “sect193r2” (Crypt::Perl::X::ECDSA::NoCurveForOID) …
# Skipping “sect233k1” (Crypt::Perl::X::ECDSA::NoCurveForOID) …
# Skipping “sect233r1” (Crypt::Perl::X::ECDSA::NoCurveForOID) …
# Skipping “sect239k1” (Crypt::Perl::X::ECDSA::NoCurveForOID) …
# Skipping “sect283k1” (Crypt::Perl::X::ECDSA::NoCurveForOID) …
# Skipping “sect283r1” (Crypt::Perl::X::ECDSA::NoCurveForOID) …
# Skipping “sect409k1” (Crypt::Perl::X::ECDSA::NoCurveForOID) …
# Skipping “sect409r1” (Crypt::Perl::X::ECDSA::NoCurveForOID) …
# Skipping “sect571k1” (Crypt::Perl::X::ECDSA::NoCurveForOID) …
# Skipping “sect571r1” (Crypt::Perl::X::ECDSA::NoCurveForOID) …
# Skipping “wap_wsg_idm_ecid_wtls1” (Crypt::Perl::X::ECDSA::NoCurveForOID) …
# Skipping “wap_wsg_idm_ecid_wtls10” (Crypt::Perl::X::ECDSA::NoCurveForOID) …
# Skipping “wap_wsg_idm_ecid_wtls11” (Crypt::Perl::X::ECDSA::NoCurveForOID) …
# Skipping “wap_wsg_idm_ecid_wtls3” (Crypt::Perl::X::ECDSA::NoCurveForOID) …
# Skipping “wap_wsg_idm_ecid_wtls4” (Crypt::Perl::X::ECDSA::NoCurveForOID) …
# Skipping “wap_wsg_idm_ecid_wtls5” (Crypt::Perl::X::ECDSA::NoCurveForOID) …
# curve: brainpoolP160r1
# curve: brainpoolP160t1
# curve: brainpoolP192r1
# curve: brainpoolP192t1
# curve: brainpoolP224r1
# curve: brainpoolP224t1
# curve: brainpoolP256r1
# curve: brainpoolP256t1
# curve: brainpoolP320r1
# curve: brainpoolP320t1
# curve: brainpoolP384r1
# curve: brainpoolP384t1
# curve: brainpoolP512r1
# curve: brainpoolP512t1
# curve: prime192v1
# curve: prime192v2
# curve: prime192v3
# curve: prime239v1
# curve: prime239v2
# curve: prime239v3
# curve: prime256v1
# curve: secp112r1
read EC key
writing EC key
# curve: secp112r2
# curve: secp128r1
# curve: secp128r2
# curve: secp160k1
# curve: secp160r1
# curve: secp160r2
# curve: secp192k1
# curve: secp224k1
# curve: secp224r1
# curve: secp256k1
# curve: secp384r1
# curve: secp521r1
# curve: wap_wsg_idm_ecid_wtls12
# curve: wap_wsg_idm_ecid_wtls6
# curve: wap_wsg_idm_ecid_wtls7
# curve: wap_wsg_idm_ecid_wtls8
# curve: wap_wsg_idm_ecid_wtls9
t/Crypt-Perl-ECDSA-Generate.t ..................... ok
# Math::BigInt 1.999818 (backend: Math::BigInt::Calc 1.999818)
t/Crypt-Perl-ECDSA-Math.t ......................... ok
# Looking for OpenSSL binary …
# Found OpenSSL: /usr/bin/openssl
# OpenSSL 1.1.1n  15 Mar 2022
# options:  bn(64,64) rc4(8x,char) des(int) blowfish(ptr) 
# compiler: gcc -fPIC -pthread -m64 -Wa,--noexecstack -Wall -Wa,--noexecstack -g -O2 -ffile-prefix-map=/build/openssl-qQYEec/openssl-1.1.1n=. -fstack-protector-strong -Wformat -Werror=format-security -DOPENSSL_USE_NODELETE -DL_ENDIAN -DOPENSSL_PIC -DOPENSSL_CPUID_OBJ -DOPENSSL_IA32_SSE2 -DOPENSSL_BN_ASM_MONT -DOPENSSL_BN_ASM_MONT5 -DOPENSSL_BN_ASM_GF2m -DSHA1_ASM -DSHA256_ASM -DSHA512_ASM -DKECCAK1600_ASM -DRC4_ASM -DMD5_ASM -DAESNI_ASM -DVPAES_ASM -DGHASH_ASM -DECP_NISTZ256_ASM -DX25519_ASM -DPOLY1305_ASM -DNDEBUG -Wdate-time -D_FORTIFY_SOURCE=2
# Math::BigInt 1.999818 (backend: Math::BigInt::Calc 1.999818)
t/Crypt-Perl-ECDSA-Parse.t ........................ ok
# Looking for OpenSSL binary …
# Found OpenSSL: /usr/bin/openssl
# OpenSSL 1.1.1n  15 Mar 2022
# options:  bn(64,64) rc4(8x,char) des(int) blowfish(ptr) 
# compiler: gcc -fPIC -pthread -m64 -Wa,--noexecstack -Wall -Wa,--noexecstack -g -O2 -ffile-prefix-map=/build/openssl-qQYEec/openssl-1.1.1n=. -fstack-protector-strong -Wformat -Werror=format-security -DOPENSSL_USE_NODELETE -DL_ENDIAN -DOPENSSL_PIC -DOPENSSL_CPUID_OBJ -DOPENSSL_IA32_SSE2 -DOPENSSL_BN_ASM_MONT -DOPENSSL_BN_ASM_MONT5 -DOPENSSL_BN_ASM_GF2m -DSHA1_ASM -DSHA256_ASM -DSHA512_ASM -DKECCAK1600_ASM -DRC4_ASM -DMD5_ASM -DAESNI_ASM -DVPAES_ASM -DGHASH_ASM -DECP_NISTZ256_ASM -DX25519_ASM -DPOLY1305_ASM -DNDEBUG -Wdate-time -D_FORTIFY_SOURCE=2
# Math::BigInt 1.999818 (backend: Math::BigInt::Calc 1.999818)
# ---------- This test takes a while and spews a lot of text.
# Message: [Hello-0.606532751672553]
# brainpoolP160r1 (named_curve, compressed public point)
# Random Sig: 302d02150098e38c5fc6ac372af42a11c881554fe20d2bb93e02147393e3449da464f993dbf9cf1110d88d69873dc2
# Deterministic Sig: 302e021500dd27ff1b01d823bbefd89d3626a4a7a3b0f2f980021500d225079b6f9ec4d61d9738e153189d2ed0af7c73
# brainpoolP160t1 (named_curve, compressed public point)
# Random Sig: 302c021471fb134728d9addda7d4ad751e4d2816250d206002143f416641e36368e82a6ea0d018cd13c3ea2bd1b5
# Deterministic Sig: 302d021500cdce25cf110c56ab44b4ac0c0c90e583c914d329021469ffc47c285c29e2cb377b9b4cf849ef86f0b955
# brainpoolP192r1 (named_curve, compressed public point)
# Random Sig: 303502190089af97b10e59d41793c64895baf2e01893a05df405e32acb02180f3f0a79e243e1f3fbff9ae9393372f801a9111727a83dfa
# Deterministic Sig: 3035021854fe220f73f885bf7c85bbfd8fcb46269c140fecbaa5e98d021900910dd0ec29069f4eb63be6b7a0697f3e3cd1fc386f113512
# brainpoolP192t1 (named_curve, compressed public point)
# Random Sig: 303502181757455deeda002d53772f840165b6cd835b1699b53865e3021900837b81967f188dda77afdb068bc397bb03591cecfdabee0c
# Deterministic Sig: 303402180a13146bdb5aefdfb2eee80df56aabdd5e64d87fcab034f602183fc5c3b206b446008271b59fcf72f308f84c2327c2cc33c1
# brainpoolP224r1 (named_curve, compressed public point)
# Random Sig: 303d021d00b08ca4735d56f544d664547feb988cd8e9fc2a4c05e45de555db6646021c304dc73409dd32d49592a45a95e81a1a3ef14448efd4a1f6ae86c79f
# Deterministic Sig: 303e021d00c3dc6dfa415a2cdd45a48962da4d16dbef07126fa6e60a1bc8639ad1021d00a2dbc3e42cc1646c82f2e59c147492210b2aeab7d6e17c8380ef9339
# brainpoolP224t1 (named_curve, compressed public point)
# Random Sig: 303c021c3098e5d3cd9dc032a8ad9ed330a47cbbe627ca03e5deb482fe56f4b1021c2e776a71fec2cd7240af644cb2e1d724b84a48b12b834394bc11c5db
# Deterministic Sig: 303e021d00a96d6186d547f086774a88763dc9d12d324ecf071a7950c6e42258cb021d00a6d02ab13f335b9243c8cfd5883fb939d6e76206c6868d56e4172989
# brainpoolP256r1 (named_curve, compressed public point)
# Random Sig: 30440220050094e16a9c165f2c014ffc366f0d7cd6a1307f9736cd12f8b254438f31f1a602201613d9452520c0c45ebc437ed1872e350c64f706db1a1239ce2c6b80b9a0afc5
# Deterministic Sig: 304502205745888f57a9de8e39dfd811a5493fb512f3d4ae3e1ed5c49fac8aa9942792c00221008bc8e1c077cab0779af84d4da7fe2cd50f1961eaed064006a87f650e70814501
# brainpoolP256t1 (named_curve, compressed public point)
# Random Sig: 304402202e006ce8a4ccc7cc84c4756f596328dd15c13159bbeebb3c7ff500434723a2b702203f7418c7d5c6291ec72590748b2f618ae0792bd01e76f1a1538d357822d64acd
# Deterministic Sig: 3045022100806e6b938a15c4c98230a29f7c678fe5fffa728bc41573d18e4e8c62304d457a02206cb8c802ee82e7e49a3ffc578459952c42f8c115ac9eb217b8d8456866012980
# brainpoolP320r1 (named_curve, compressed public point)
# Random Sig: 305402283c05bf1ba4d0c010f5b4f7df1b33ed7b8327a26c2f26e01dbcf642996f3993ca177de7593f1912ae0228020465010b537ea114749c5f8f7da62cb5901731719f3fa4088b7072116226d381892df0f8960373
# Deterministic Sig: 3056022900ac02aec7bed7be9f23da84c31f857b1fb0c1812631a1c952db6bbfbbce2a47a6b0e83cc14f3fd609022900af4f421e7b00dfeef284d889f9f027ca8c92600f351d74112684b1e5580e1148c14a0a2cc5289def
# brainpoolP320t1 (named_curve, compressed public point)
# Random Sig: 305502284f3d8b297129d8fb9d3f4590a1ff511ea0d99e21abf21b5a1f3ba336288a81f99b78078a1a4e39fe0229009a85330a937920c832d4c9d0db3b91a52735686b5a56910dba5728e94f65e9f1137498f5ebc99cbf
# Deterministic Sig: 3056022900cf2be0e6994ed4bebb2f337eba16018dbd1fca3bbd471dfd8fa7ec66144c444800a5d0ccf5ace2af022900bbe99e9ec9475f04efd8e175741f6b002a36dcec7a36f367a3d1e7647ea73e118b817443b860b4a3
# brainpoolP384r1 (named_curve, compressed public point)
# Random Sig: 30640230448bdd8e525fb89a6f0f8d40b5f6fde50276218084aa351e0f68fccc58fb4b51f0f6f8f0a54742b9867238ec624cfd2202307071e21628362edcadb5edd9e7a0ea335fc2fb8df664dcbaeda6bb6ba28bc47aed40d96b37c5fc016ba3bf2833397d32
# Deterministic Sig: 3064023017e10b609c2f10286ef4e8ee3d4a998833b69396ccae2942c54388a7c4f7d4e332de68d79c2f827075f641dcd9bb8530023020538ca1c182dd4440fdb12c393df3b901c78cb47a5d6a603adc24cd4b6112e5977d7f4cb9cdc2abe4caf6fdb583aea5
# brainpoolP384t1 (named_curve, compressed public point)
# Random Sig: 30640230030bde87813f2348c3a631426eca432985d4fdfd084647b6d4e71c3c70d782d8cec5b334acc859a5f0231c7b62b342c802301d0aea3db107f61409b266d4ddc0017fa3de12fd8c06a29b566acba37c7ea4e2189fafcde0a459e8c60fdc7f86abade7
# Deterministic Sig: 30650231008878ce417b3f86992b01cd501a55f2e9942fb81301b2b4e838215a25b730c157a7172f704560a27045ee9cbd80e1e32d0230598763a3cf73cf43db9ee701acca5e5bf96c4f006f25ed849f56fec815039beb3c605db95c558a0c88ab271409d569c8
# brainpoolP512r1 (named_curve, compressed public point)
# Random Sig: 30818502402eeb45f8e6766c76e09206b535eecaaac1250b3d556c4015747d8bdea55298da34ad741afed203d5ea770a349cd184a046d046086ef428063f5f088a0150c0f602410096dfa2a6c1f67830e42d6c919b3ff2cd5c2c68b6b03b08eb356440ebb0f127e9ab144580de5d349781f5277754971127697d4a10c2138494d21fedd433200e41
# Deterministic Sig: 30818402407577abff05775fa462e6557108bce67e43f4f1f85c36e14a20bd97714b01048b162bc66d4638e03e139e74f35677b3eb1871d44102a69d8a640372623434d93602400e849fc27766ff505d9a920c8db3d096f42271e56e85dc0088d971a795067f469b9ed47d35124d0a220cc286612057ef99dee520704c7f7ee4dce34fcff99a00
# brainpoolP512t1 (named_curve, compressed public point)
# Random Sig: 308185024038da5ea1bf946e952f7cad77d1bd0f3a00d65cfe9459db94c1e2265e578f593c0093fb5c046e6406012a52cde7c0c01b84cabbfd1199d755605bc4306dea9b0f024100953f30c505923ff2ec4b4ce2c309573fd3a088a2c84d07e8f2b1cfaae9cb6b435c55604789ac11f6b461a78230d2a226fbd7c9af8cc238efbc19bb5ba4537786
# Deterministic Sig: 3081860241008d3b9b31f4ad8d2f941ebd9f1b7a5407333c9dddc43c74a1e64326c8772c0cf19bb780542fd20b2bd8164071acc79c9eb45fdd7e8eb3295d3ad04f4be45c27b60241008374925e82df9cb56382812685a20b115ba59815e12ed3c73b24346097758f457709e2a883bebc65a1b094a1d076e15b5dbf139f7f72be9ccdc6449c420e2354
# c2pnb163v1 (named_curve, compressed public point)
# c2pnb163v2 (named_curve, compressed public point)
# c2pnb163v3 (named_curve, compressed public point)
# c2pnb176v1 (named_curve, compressed public point)
# c2pnb208w1 (named_curve, compressed public point)
# c2pnb272w1 (named_curve, compressed public point)
# c2pnb304w1 (named_curve, compressed public point)
# c2pnb368w1 (named_curve, compressed public point)
# c2tnb191v1 (named_curve, compressed public point)
# c2tnb191v2 (named_curve, compressed public point)
# c2tnb191v3 (named_curve, compressed public point)
# c2tnb239v1 (named_curve, compressed public point)
# c2tnb239v2 (named_curve, compressed public point)
# c2tnb239v3 (named_curve, compressed public point)
# c2tnb359v1 (named_curve, compressed public point)
# c2tnb431r1 (named_curve, compressed public point)
# prime192v1 (named_curve, compressed public point)
# Random Sig: 3035021900c6febb0d34629691faf41bea4cc475342089bb742317c5b002187ab29d2f5a745cf1185696e301426562d88ad28d1b3b797e
# Deterministic Sig: 30350219009b612e724c9b61db9c4ea1977ab133531ccddcd24071be70021816cc3e84dcb6c2685cda0094e85f485ccb02406b3eb30f7e
# prime192v2 (named_curve, compressed public point)
# Random Sig: 303502182022469b7e7f3fb66e1bcc01ef4ca82dca037510eb9d7dde02190087bc09ce2c5a807e1ebd0400efc3a88bb647a35f64c2cb36
# Deterministic Sig: 303602190099bcc4de7510bc8f734de3e7ab1d9d75b605fda5aaa23188021900ec81e58ffb552a7f5cf46825ec44fc10b59a9caf634255ee
# prime192v3 (named_curve, compressed public point)
# Random Sig: 303502184010521246aef910fef270dd8804508986232b22b25da671021900d60d9783a818f1a5cdf3edcceb03f14e308c9e4fc6a75c4d
# Deterministic Sig: 303402185a7867d1fc2cf4d1764dd5245022e87e4a1039bd50405e8702182df025842af87c19cd91e513468c5fc5b45a3df82c8d7a28
# prime239v1 (named_curve, compressed public point)
# Random Sig: 3040021e3057b20626c78521d79ec3dcd798b01640ac3cc921b49588e141cd8f139c021e7aa3b27ef04dffc156d316d90c61844c04638072a2c937e449014961af6c
# Deterministic Sig: 3040021e7f49dd8bec59e96bb0297cb413ef36a03d002a8bf40bff7a7fb9258e9685021e35866da776ef91c95b551f44ab821740489a4ce7d0bac3d5c3b27e0b5e96
# prime239v2 (named_curve, compressed public point)
# Random Sig: 3040021e118f155f8713ff1cdc34766cc808f60cf6b04f76adadb66f5a5e8d0bdd3f021e61ae1f29f22a2f7975c9a2ea7a91f15d843d30e472750d44a5b35d93c343
# Deterministic Sig: 3040021e18b9e4cd30b0fb66de7a9b38d194315ae4e17887f5b28b6e11ca6699f6c8021e494a495221d8ff4f1752f0401430871052cd814efee6ee7a1438477f230e
# prime239v3 (named_curve, compressed public point)
# Random Sig: 3040021e31f9d5d8635aacc53c79940dd38dfe91f5dcb6ff81bfa1314f5553382807021e0a9d524d48043bb991cd924fe3400826c92a9a372fd0142198dca673011c
# Deterministic Sig: 3040021e1e8f66a990b03b5e55d8daea7822ef9b31dde8afb581a6a617516bf6fdda021e3e4721ad373bb666c9d0d25081c484583b471ceea655f3d1aa0ad8be29e9
# prime256v1 (named_curve, compressed public point)
# Random Sig: 3045022100b29f34b6eb4850c024344d643163504dc305f6406a7c3aec6fcb858e3a985c2702206ebb0dc74df043a437525dd2d85d635732db5ebbef7cbe7deb1e8e51a190d140
# Deterministic Sig: 30450221009c940235b621feee9a5c4b9cadab3d4846faca1b363ab2be8d45febe2d519cee02205e6504cfd6cbabaa34a8b694612cb8a0b9aef4029267f24677165a13166d5094
# secp112r1 (named_curve, compressed public point)
# secp112r2 (named_curve, compressed public point)
# secp128r1 (named_curve, compressed public point)
# secp128r2 (named_curve, compressed public point)
# secp160k1 (named_curve, compressed public point)
# Random Sig: 302c02146549dbdd7ed562c6fa8e252b634dea45b04b9fc402142aaa20effa427470f2355ff3a6598f248c63c748
# Deterministic Sig: 302e021500ece8b1493d4c5d3aacdef4db5656ec798126f6580215008a33fa7e14d35684fbd1155cad007e6c4700b949
# secp160r1 (named_curve, compressed public point)
# Random Sig: 302c02141e1c28844f26a2941c32d7fd87bf498759b8812302141521efc5fee850c04d8ce376a04b377908c402c6
# Deterministic Sig: 302c02141bd4815804d8bdaacb10b240669d1c43ca46eda502144225eb93a3afa36590e3c71d8a77f1d9b1163532
# secp160r2 (named_curve, compressed public point)
# Random Sig: 302d021500819c781c64197b5ec32b50749db951e932055b71021476ff602d0fc3e8184b143a7e4e09256af2c36e06
# Deterministic Sig: 302e021500bc01ac238f8e62e3f46723f055abe0f513472c41021500ff904f009a04a4296420fbb32621ac8554240f40
# secp192k1 (named_curve, compressed public point)
# Random Sig: 303502185d8013c05d37ec8178f913457a59394c71df226dd8e47f5c0219009eff9491dded20c8fae4801594a8f87ecfb180d311af7842
# Deterministic Sig: 3035021900a138c2c34b82388437259e8c2fca782967f0842bf88edba4021874e929d37168082eead14a660a997bbb542d1546190f0b29
# secp224k1 (named_curve, compressed public point)
# Random Sig: 303c021c6103c7d7371bde76b1ddb8320ee8aec35835cc994536b3871902fd17021c2e3cf3550b1d29408aa6479f84d11a254ad49306fc7ac8ebe0b0bf51
# Deterministic Sig: 303d021d00cd27209e320f2df4e934fc0ed8693c72bd6ae6fb7952339fe3c2be05021c79cef60a5b16039e7af78fd3b215486794f768e11aa5633cc837c76b
# secp224r1 (named_curve, compressed public point)
# Random Sig: 303c021c2f94ecabb02b554848c244d566aff4d29c02c5c716efa183ed3e074c021c23ec6257f510417c8ab79d82c351dc66595473568bdce41e57baead7
# Deterministic Sig: 303d021d00a2dd29d094f9304580d04e5192e738b7216cb2acae75822a0966c676021c46571c299120b9b4204e6ae6ce0d90f2d67e047e8cb4a598e0529475
# secp256k1 (named_curve, compressed public point)
# Random Sig: 304402204a0c8d401fa3ea1c8438404f5f49c17ffdf63d0addf6e9413fbd7fe7488116ca02200f8c2005c067cea3c7cf64c73192afe25a07d444fd644c80e323ad832a84648a
# Deterministic Sig: 304502204ce5b9172223bd6a1cd1faf1f8d186d1fc9750f19336300f0c45782e13458830022100ea86679b7c8de14056f35ac38eaf70a2ab0e68f6d052a421a9e70e713b1a9f3b
# secp384r1 (named_curve, compressed public point)
# Random Sig: 306502310090c560d37c66973c34f82d01c03be6a083349239adabc3fee5ab1cd62d325bdf21efc3d41d93ebfb081ddfafad865d1402307ac3692094bb2a735fd59f5c82b04fe6103e281996121dfd717248aef6b8c181ab0adfaae149d231471c7f873d0ea90f
# Deterministic Sig: 306502301e7f9a38d6a6e3ef93999fd4c1508d67460df3c52d971fa16f9f5f7e1cf6de0b0e7293e7a932eea3f7776ad24ce912270231009984e8bef1af822e4e94eb5525e2daa900a86c7f8aaba5387841933cbe22e140a93217e2efb21a328ba635d6dbf3ed3c
# secp521r1 (named_curve, compressed public point)
# Random Sig: 3081880242019912cf8a33917e68af60e11b4437c1f8c392f1d6cbd02e06e86365109acb259d21a429339a20058376bf3a79b4b0b3d6384372b64d13c162ecb29277fdbbe754f4024200b865e5b11d574808776e7e5428435e3f164d0de835ef6065e35f3e627cdc42b3ace1b5b16f1701e6c0e9303518b106bb61ac45961252fa4c8b847cdd0ebffb85f6
# Deterministic Sig: 30818702416717e0ab3407f7c644f13026878349ef484c0f954ef97e8dfa75c2a8cba9ad01eaa960f8a77b8af485ba8dfb6a75cd4ccad96846e380a2fe9fd1331aa86e0f16af024201801cfd39ac0d377671e751a9764019f3f5403a0fcbcea0e6a0334674db9922ddd362d705bc4f7e723b18d5714c6f2b4421fd131a60ce3fac80d3157f3b15db2ddf
# sect113r1 (named_curve, compressed public point)
# sect113r2 (named_curve, compressed public point)
# sect131r1 (named_curve, compressed public point)
# sect131r2 (named_curve, compressed public point)
# sect163k1 (named_curve, compressed public point)
# sect163r1 (named_curve, compressed public point)
# sect163r2 (named_curve, compressed public point)
# sect193r1 (named_curve, compressed public point)
# sect193r2 (named_curve, compressed public point)
# sect233k1 (named_curve, compressed public point)
# sect233r1 (named_curve, compressed public point)
# sect239k1 (named_curve, compressed public point)
# sect283k1 (named_curve, compressed public point)
# sect283r1 (named_curve, compressed public point)
# sect409k1 (named_curve, compressed public point)
# sect409r1 (named_curve, compressed public point)
# sect571k1 (named_curve, compressed public point)
# sect571r1 (named_curve, compressed public point)
# wap-wsg-idm-ecid-wtls1 (named_curve, compressed public point)
# wap-wsg-idm-ecid-wtls10 (named_curve, compressed public point)
# wap-wsg-idm-ecid-wtls11 (named_curve, compressed public point)
# wap-wsg-idm-ecid-wtls12 (named_curve, compressed public point)
# Random Sig: 303c021c24a3c771820bf4cec4311d4f690d1c7f7db7e84aa80d852baf373f1d021c555f28c340dfcd6d6a4b13fe16328a4d2808b36776f8b9c403072dab
# Deterministic Sig: 303d021d00b3a00d6cc51dc3d4376bd8e679524e7524d41e14a140c42d0a432130021c6079dea51779d6115e517b251a7c26260ff4e37fac1bd39b29d4deac
# wap-wsg-idm-ecid-wtls3 (named_curve, compressed public point)
# wap-wsg-idm-ecid-wtls4 (named_curve, compressed public point)
# wap-wsg-idm-ecid-wtls5 (named_curve, compressed public point)
# wap-wsg-idm-ecid-wtls6 (named_curve, compressed public point)
# wap-wsg-idm-ecid-wtls7 (named_curve, compressed public point)
# Random Sig: 302c02140876ba3301f8abf1227afe92c208744aee89120a02141a8f341443efce790e1845d9dbdf1f160f0c4737
# Deterministic Sig: 302c0214472cb7e9a05d32acd2e2271d4ec24777a7706b6402142e6f0381b56273d826e21e9ad29bdc5eb9266b59
# wap-wsg-idm-ecid-wtls8 (named_curve, compressed public point)
# wap-wsg-idm-ecid-wtls9 (named_curve, compressed public point)
# Random Sig: 302d021412af455507070827557f555b1915ae0a0efd561002150098d56c62ceed6fb8f095cf7b253f4acd6cfe755d
# Deterministic Sig: 302d021424814c514f45fa281ebc3c7dfe93a2a3a45c806b021500ac876b1c5e9905a1b406efbe9ae9e586457b1c33
# brainpoolP160r1 (named_curve, uncompressed public point)
# Random Sig: 302c02144533f1d7de8f0f1a2c5aad9de1a802e772722780021452b2a7f16b485a9792312fe5f0d7fb3c9680f445
# Deterministic Sig: 302d021415cb6b31c8c1e97fd6eac766778c2d36b299efb7021500bfaeaea9ef9485da8ce9a2c85ffb29db399d632f
# brainpoolP160t1 (named_curve, uncompressed public point)
# Random Sig: 302d0214345a9c500a03eb66013be3e462c3ab0aa718a67402150080092594483d5d0f1659a1ff1a04f2d518fe4b7b
# Deterministic Sig: 302c02141b17f7b15275d0f59ef72d665992b535a930052b0214372e265e6e2f18658e1248330e12a54d268b01dd
# brainpoolP192r1 (named_curve, uncompressed public point)
# Random Sig: 30350218201e8f654bce1a0618e522a94dc9ce9be660e568c1dc008f02190085c27e8ef836d9bb7d30c2eeb3e97f1721bd2602b56c5b12
# Deterministic Sig: 303402182dc8e3646cb9f1ed4ee09239d0182a8ef6b104324a30cffe021814b28b85e4ecb283102a1f61ced925d762c1b42ee520825e
# brainpoolP192t1 (named_curve, uncompressed public point)
# Random Sig: 303502190087e396956b612432b35460900321cba83854a84576b8e467021813ed65e9cf79142d065cb326c38774da96388715949c2985
# Deterministic Sig: 303502190088c91310c1ccf6e64a23f6f16086b332ff7f9aa0b270dceb021830f3fda39f10f622a48791cee7dc7d7d4cc9bbca30577d22
# brainpoolP224r1 (named_curve, uncompressed public point)
# Random Sig: 303c021c188f54d5e0e9ce7fb83e15b130cf4090097df4e91ca1ab11955a79aa021c7e175b64c0edd6b71097760914dbd4efa8c98233b28cb17149bc5ca1
# Deterministic Sig: 303c021c636978d2cd0b2ef6de485ab59cc719a54628924d3e689a3548b2f4f8021c24aca1efac63548370a73c4f69090f750972786972d4fc2bfff81e14
# brainpoolP224t1 (named_curve, uncompressed public point)
# Random Sig: 303c021c1801cddadd8864a469b65066a9eaf223824cb19667c00b1756161157021c403643238d1b832867d35e8e5d5051948b1cbd75e38aaa5c1e383f21
# Deterministic Sig: 303d021d00d3bedd5d2dcae01c98ad3e680b09a43b0d998c27d58e472ff51a24da021c0936d1ed8805ed9d8afb0292e5c527bd829982b0b03218ae864786c2
# brainpoolP256r1 (named_curve, uncompressed public point)
# Random Sig: 30450221009f348120cc773831cb0154f0c41961913d77936ff235438cb7204aa376e8fc1f02203eaa7b86f4aeafbb4f176bc580494ca512287357e6eac714dcdaec60df7f7a53
# Deterministic Sig: 304402205d834f1b5aab6643931a237c56c778cc7c898616c4d33b86957e81165baa8d3a0220636a5b777ce741b4ac7507e55617590bec2e0e20ae4728dc9aec95e1ff1b3899
# brainpoolP256t1 (named_curve, uncompressed public point)
# Random Sig: 304502210097a2dc98716a69ea2d0c0387c7618f62444cc3095c8a4b40c8e182fc9f57f093022072dcb43a9ad87dde15d8854fcccb459554de7edb56633bdd18eed14692236198
# Deterministic Sig: 304502210096d16d61b0c36677d8e931caf69ada05e913b2b0e7996b89c42c70c98eea970c02201568d7aa23e2b9072ade56d4633bcf6daf5d70d6c1116d2b1b0d163c3d48f9fc
# brainpoolP320r1 (named_curve, uncompressed public point)
# Random Sig: 3055022806d9955e612468d9be70b2624f97b2eafee214c791db6c6655c4154854f14177f7e74d57797f6821022900d15ec91c145679d109b6198bfbb04aa91f80383e95cd2c108c2b799a016b0dce6ff89e8c62357358
# Deterministic Sig: 3055022900d134b7b8e241c679213c540f83c6c93c8818564122d5c87f08268b1391aaa90aee4bb27a02dd72a10228180e2e6be2307b3922f3696d66c688f5986ba3d45d46ec131c591cd3ab9eed4b5a5f7f5678837994
# brainpoolP320t1 (named_curve, uncompressed public point)
# Random Sig: 305402283fdf97ebe8451951496d527cee29fb697d8465470a378035dc7573b284ec8f83b58804519837f0380228112767fd8d0db983ec3c249541e457ec8386e568e2a838f5b42853425d3524297f3588f00e1902a6
# Deterministic Sig: 305402283ebfeaeebf87f1b9b4aa368d579f7c13a761168e928824f1bd4bb42784cb72f7013437199633cab00228373a62a5e92186d781fe3bbe7e4ca04d060aab3749bd37fd200c67ba4cfeda329f6b5b298530e074
# brainpoolP384r1 (named_curve, uncompressed public point)
# Random Sig: 30640230153f35cdde732a7608fc3b2e0b79813b248916cc549de73315767cf192eb0f81270927b1d7eaaec4478e4b294168e8f202301de6be25f8a373d2b3680376727e031b8fff05cb9182bf0f3dcf34ba4d4b887efc3597f3c5111c46fb6f22415947123f
# Deterministic Sig: 306402306617f3acb807d6080ac7bd1ae6b2473b0c9e826227bdd0e27508dd13198c335b352a5d2a68231fd9bbf5c52b8424404f0230661bfd9d3375cd86d1b6b659d0083b1e1c017a88d770f8d1246854c449a62150161863b0dd71640b50f5701972be6132
# brainpoolP384t1 (named_curve, uncompressed public point)
# Random Sig: 306402301745db93802b2daf1fce750628ef39c7e7893ad130b2480b99e3915c870719a4a20af3e0794edcb0f396c08e4dcb8b5c023047fc25ad33954b36aeef6197d0d51abf4ef2bc8a3dc701f15e81b61e7e377d960e16aef4fd2776815911b900e1e00b68
# Deterministic Sig: 306402305f07e93a0acd7282bc4a6225d19ca5927598d294c33f77253f077164efc251e3e6d346fa4f948bb6856b9b56f55855fc0230160594d0a8b821877ec65c165f1369695f922d28e8d2b90f7fa8c36e1d7c2272cf0edc9d9fb0c3a5077a67fcea09da66
# brainpoolP512r1 (named_curve, uncompressed public point)
# Random Sig: 3081840240729fc7a0b3c266b2e6f73be86c3ad9ea3f2fe3d181546e250ccfa0b9fa393633e63519acd7126b9ca8583b39b0ea0520eb6b57130e8bed4d069d49e486e2d38e02403c568a993cb8faad0983ab51028a48fd035f722be8a445cdd391543afc6332d3746163444ae13b374e7793efe379ae25d1bf64dcb152455eb683777940efe2c1
# Deterministic Sig: 30818402404bb8aaefce9f1b8e818315aa3d93078be9eb9a4309ac9566decccdf477031ddb26b4ad761d6ea757baf5c7c3c3fd1bc8670f4e7661b19c84c33c041db7ed194002400fd2864344973d90d45351c4f31e652f48feb2128aea5139c32b022fefc903a87111c953a91dafaedff57cebbcc8c3ed7ba60fda4229ae3e81194d9e9e436201
# brainpoolP512t1 (named_curve, uncompressed public point)
# Random Sig: 3081840240433aa34f9e0f009aa005659fcab9b0fac3ceab5abf8f27540bf243de00cd600343dc7646a7bf2dd43a13238e08053fef93a59f78939895056b0c5c0b1c994b4a024067450c063d1324f498f4871f14fb79fca92a34509376b5023973cf33490c8cac46033d4eaa1f86845bb4ab5d668a2edc10e95d93bfa98b0ada2f45584baf8c0f
# Deterministic Sig: 3081840240234a2623c701a324e67ea28cf2225728baf39ab014d96aaa685da61e4aba863eba7388f0423af2c75af9b3530e7348a2955b2bf7e6a4a7046e8357e709b534b502407e25c6babca1495bff48645d803add8818a1fc7eae24366f405063ca8111e7fc3c204092e9722f4f91223111e4afb12ea191518a90a424d42dbad594ef7f4ddc
# c2pnb163v1 (named_curve, uncompressed public point)
# c2pnb163v2 (named_curve, uncompressed public point)
# c2pnb163v3 (named_curve, uncompressed public point)
# c2pnb176v1 (named_curve, uncompressed public point)
# c2pnb208w1 (named_curve, uncompressed public point)
# c2pnb272w1 (named_curve, uncompressed public point)
# c2pnb304w1 (named_curve, uncompressed public point)
# c2pnb368w1 (named_curve, uncompressed public point)
# c2tnb191v1 (named_curve, uncompressed public point)
# c2tnb191v2 (named_curve, uncompressed public point)
# c2tnb191v3 (named_curve, uncompressed public point)
# c2tnb239v1 (named_curve, uncompressed public point)
# c2tnb239v2 (named_curve, uncompressed public point)
# c2tnb239v3 (named_curve, uncompressed public point)
# c2tnb359v1 (named_curve, uncompressed public point)
# c2tnb431r1 (named_curve, uncompressed public point)
# prime192v1 (named_curve, uncompressed public point)
# Random Sig: 3035021900a276c8df9f77071cf2301f939ffd74d8f20990267e36abc3021820368a4ceefce53becbfc3c76303ef6863bbb09d24551e03
# Deterministic Sig: 303402183cf0f3784ef431cc1258408d78c59792387ad1b3bac1754a0218396fec2853ca4c583c166166cf09222edb194d620b318478
# prime192v2 (named_curve, uncompressed public point)
# Random Sig: 3036021900f88c450f9901f1bab59086ecc525a4f8ba4c992c9622052b021900a8a2542cddbb6aadbf82c718a95491e2ca148fa3e502787b
# Deterministic Sig: 3035021900e000d0768ae94cd105eadfe469a5d6715fd114d42fbcae87021877e211338ed3f80d7126eec917de3dce49e4842a67119749
# prime192v3 (named_curve, uncompressed public point)
# Random Sig: 3036021900b4acf431e747967d99dc438ca99c5bf41d04a5b9a53d485302190090b26a34faa2034bea6f69143d573eaa719f5f8ff1613d0f
# Deterministic Sig: 303602190087ec26d397b3f430e21fb0d3efb91c196cf0f9491878942a021900c7c2f2f9e861f9596b31d010016ba15863508927551c553d
# prime239v1 (named_curve, uncompressed public point)
# Random Sig: 3040021e5566bd3c8cff0a77a63e075535e176fa09742ea90ebbb73d7686a0598176021e1e014d98ff76a314f57b6473bacf64707f8b41548b54a0b383d4310d4820
# Deterministic Sig: 3040021e48d6a1376ed8ea1f84947d788c393f1793aa566571625552a3e4094c61df021e3254f9872dc69b2ff882f7002e3d857cc78c37e2c5ef8f3834917a6f03c9
# prime239v2 (named_curve, uncompressed public point)
# Random Sig: 3040021e277c8b91672bfa6d6c001e173438eebca09ad2c7b8890e9c9a86bc76f88d021e2a60961e8f5894a4d8d86f6c5420f1f77160991f959220bb0e04994ba554
# Deterministic Sig: 3040021e79a7ba5e105466d01f4da121455ca106d51ca1bd3566d66d51965e32e294021e068bbcdb67ebdeae265766745f7c943242f8e39971b42d1f939d995e23f4
# prime239v3 (named_curve, uncompressed public point)
# Random Sig: 3040021e760c30558a7b74002a435fa5619b92fe9aecb85ccebd09ef1f00913ba0e5021e6f9bd4bad0fb8935ddc1175fa5cf07cf50e65fce39d2b0798d052d1e1e5f
# Deterministic Sig: 3040021e4b5e687a46bde17a6ea4f3dfcee705bbdd37ec31a930f6fda7da71a2801a021e05dba6575128d00dd4bd1ff4a882901135686acbc4291459d8734faa4339
# prime256v1 (named_curve, uncompressed public point)
# Random Sig: 304502205e78444150c0881ae5eb5a19dbc0c63cefbac97e2ffef6149073c8c2b8dd1d01022100f58bcb695e1d1707b14346f3260093e2faa5399c9fa21dd750c4e307e757cc41
# Deterministic Sig: 30450220075d9ccdc7a71db3ba13b6df2aebb93d16650355e7aa123827c70916140f4a68022100ca61abb20782adff29e2e2af06c2185560811716b376a3bb953a7ed0ebe75dc1
# secp112r1 (named_curve, uncompressed public point)
# secp112r2 (named_curve, uncompressed public point)
# secp128r1 (named_curve, uncompressed public point)
# secp128r2 (named_curve, uncompressed public point)
# secp160k1 (named_curve, uncompressed public point)
# Random Sig: 302e0215008b9c42a80fbe3aa216806d635bfb089e14a4d323021500c03463d3aaf871247b1e3a393051fb0ed3d8011b
# Deterministic Sig: 302d021500f3ef6f01df13203f9949e9590710fe7955ec33080214779e4bdcd247e1f9d3d54774d38f931c80347139
# secp160r1 (named_curve, uncompressed public point)
# Random Sig: 302e021500a36d96a04c98bc38165cf25ee95ffaf4dcb1f030021500a4eab2098dffac6e1d7c76dfa85149c9d505e684
# Deterministic Sig: 302d021500a1dd9d5838e36368fab4c848db8ba0451295e5a50214026d2e88b7401eabba6b3fb2981f2c467e4dcc26
# secp160r2 (named_curve, uncompressed public point)
# Random Sig: 302d021500f26b7d92c5184c9fde2197b66883490c36b7d19b021439bd1062c236a54fe0f329a1561bf577d3a3a78e
# Deterministic Sig: 302d021500c0eee911b277c7ccee0a2c47df382984537ac45902142e4ae863faaf7e26960bfd96fe231372383babaf
# secp192k1 (named_curve, uncompressed public point)
# Random Sig: 303402180fadf6009aa8bd9ead80bee2d6e78f973e761d43ac2f077102183e32ed2b8bbd51dccbe5efae9113c084ec493c7cf9e557b6
# Deterministic Sig: 3036021900d3e9ffdd8fcb1a69fbb6dacaac7135d49c9951d07894f5470219008b0e13605fad9a94384779be1715aa8c05c3d4d90dd5576e
# secp224k1 (named_curve, uncompressed public point)
# Random Sig: 303e021d00cd5cc494aba00779aa72ef3c275aa34d9f7a6e8daf94e2133a175cbe021d0095fb09b772f2dfe82e7fee31517bcd22414c01e8fc3354c12d3e5f13
# Deterministic Sig: 303e021d00b362005155fe15bd243cf37c31f2dd56e053e2d3740c0dae74cea7bf021d00b84f7095a3592e076ae29b12ca4f0559e9ee2d5f7e781222212a26da
# secp224r1 (named_curve, uncompressed public point)
# Random Sig: 303e021d008bb5f714f598f919fbf7703452fccc7c7a6c125e856e270647dea55d021d00d4eaeb265a0d7deaec05fbe34dea520fe5b152b5d8e0f1fe4e9624a1
# Deterministic Sig: 303c021c0e8f408e3c01b320efd592328a604bab15f7608e775e7ab151d0050b021c4345b40a7b26d8cf6c237decb6e9ac4438956aa50501540f2c359590
# secp256k1 (named_curve, uncompressed public point)
# Random Sig: 304502206e12fbba08b73bfea150fe583a9da67f733a4582029224230152066cd014ca7002210098801b5b68f7dd3e5fb8e5b5a78f8d2088c144eabd80ec1fc532a22589dbd507
# Deterministic Sig: 3046022100dc32184e1da04321dc219474c41913ff2034d1c9e53d52fdbe86a9b4d9ed6310022100891c08ae194a23e71f4d1e310a72a85c2d3443753438cca8929681aea61615ea
# secp384r1 (named_curve, uncompressed public point)
# Random Sig: 30650231008c1b3f5f6da550db0aeb1fcaf3233de86ab0e7fef437a63a4fcef32822d82ad7213513e91a72c35d3ddb68e7793672210230358eea4cda07d7e1566fe902e97f2977889b99ae66457405093a27f869f63d739a2b12d64884585ea8dff6c63dba8349
# Deterministic Sig: 306502303e01be50a978ac07fe57e369cec44697b1e586cf11281167cc75f58e05e058c3aaea862553869efdd653683ee0e82834023100c17b1ef2e018478360aae6b85a640be7ce36d4fecc4c5d49c4ecf553278d2d2f6cac7d772da0ca2fdefb134d16d4712e
# secp521r1 (named_curve, uncompressed public point)
# Random Sig: 308187024200ee517755764fea0330effa6ab71f72be91db464aa173a4bfc5696f41289cd5c8471ffb3f56077d398e125e63ad0dd6591e1768d1e3b3be4ee3cb6469c101bcd36c024155c3b63c8cc4e6801d48fb15120c3acc029a424e0aad08e3883fd8d22cb9975567d41b1cfcc83f052fdaeb3e5b48e856113d37f47328adea23ac72d6637b0b75ca
# Deterministic Sig: 3081860241148a42d04f57cc518f8397074deca394967846192ec4a9141f2664bfbf20837420b37e38d576e6055f546a0e0f45cedc5849de3d15131e5f83afee50cb5bffa4cf0241379e48ac7511d2fa2b72832f0232c5df0fd6c78695cfbf98518829072d7442d3f7144ffa600e3d90e93f0b9ad333582717708f14fa023a10d7262f3a8b1d792568
# sect113r1 (named_curve, uncompressed public point)
# sect113r2 (named_curve, uncompressed public point)
# sect131r1 (named_curve, uncompressed public point)
# sect131r2 (named_curve, uncompressed public point)
# sect163k1 (named_curve, uncompressed public point)
# sect163r1 (named_curve, uncompressed public point)
# sect163r2 (named_curve, uncompressed public point)
# sect193r1 (named_curve, uncompressed public point)
# sect193r2 (named_curve, uncompressed public point)
# sect233k1 (named_curve, uncompressed public point)
# sect233r1 (named_curve, uncompressed public point)
# sect239k1 (named_curve, uncompressed public point)
# sect283k1 (named_curve, uncompressed public point)
# sect283r1 (named_curve, uncompressed public point)
# sect409k1 (named_curve, uncompressed public point)
# sect409r1 (named_curve, uncompressed public point)
# sect571k1 (named_curve, uncompressed public point)
# sect571r1 (named_curve, uncompressed public point)
# wap-wsg-idm-ecid-wtls1 (named_curve, uncompressed public point)
# wap-wsg-idm-ecid-wtls10 (named_curve, uncompressed public point)
# wap-wsg-idm-ecid-wtls11 (named_curve, uncompressed public point)
# wap-wsg-idm-ecid-wtls12 (named_curve, uncompressed public point)
# Random Sig: 303e021d008f05e437881a9e03b735f2cdcfa0bb52caad86b5b316b67260257f47021d00aa9966c2f6960da2b05b3d9694528be9090a7c0e8e93b8b18fc18fb2
# Deterministic Sig: 303c021c168f64de99a8935f25df1ed30739a6ce4538f66105504413b87bdce5021c0fd9b4235c357ba9c6de69111c4a4913aa05ff8cb7cc3296596ace51
# wap-wsg-idm-ecid-wtls3 (named_curve, uncompressed public point)
# wap-wsg-idm-ecid-wtls4 (named_curve, uncompressed public point)
# wap-wsg-idm-ecid-wtls5 (named_curve, uncompressed public point)
# wap-wsg-idm-ecid-wtls6 (named_curve, uncompressed public point)
# wap-wsg-idm-ecid-wtls7 (named_curve, uncompressed public point)
# Random Sig: 302d021500843fb8db49fa520ce981d672e1a3cc823ebf8c4f0214418e4555ceaa3587e40499a167b2da06339d5570
# Deterministic Sig: 302c02142697dcb459ef19e9a4df57538190a7c247b0bda50214669d2e78c578e2f1e203eb52678d70f6984ad2f4
# wap-wsg-idm-ecid-wtls8 (named_curve, uncompressed public point)
# wap-wsg-idm-ecid-wtls9 (named_curve, uncompressed public point)
# Random Sig: 302d02142ed206dac0d1cfaa490904d4753ec5c574fec378021500d0e3a4387c18629ebff4d2071172a7d5a564f7f9
# Deterministic Sig: 302d0215009b258a6e2230f11faee75e21ef93405332faaa560214681233fdd78be3a5042bd6b5b280ed7e6ecbe3b5
# brainpoolP160r1 (named_curve, hybrid public point)
# Random Sig: 302c021448b358b0c0526e84e3869f15ca8fc18543c9c60202143ae54d62198bfeecc51ecd2e34c7dd0e540a9353
# Deterministic Sig: 302d02143443636218081808765d9877ad91329bb5ae2d4e0215008c00419998ee60ea3c27538ce1004fee703ef5d8
# brainpoolP160t1 (named_curve, hybrid public point)
# Random Sig: 302d0214765001445219d3a9a6a076bde5e73a7969c547b0021500e7c9b6a34961b819ff4dd91f71a8373fc677ad69
# Deterministic Sig: 302e021500d30097517b187b240310c4d87b754f8bea577af5021500b3b37fd6e6181d1a036b4acd1f06f7d070d26ab5
# brainpoolP192r1 (named_curve, hybrid public point)
# Random Sig: 303402187e44add9e667213099dbb6abc6005d617501d6244907efd5021852acb87aa371d74d19beb294a37ee3e6b53da24878fd4604
# Deterministic Sig: 303402185f4c6a1a4617c249d6cb0c6476ff4b3f7c90ae993908a54f02180202164d84902d54876b58e4c1f06b8697df8d4ab69c98e9
# brainpoolP192t1 (named_curve, hybrid public point)
# Random Sig: 30340218761ccb1bfcb1c160cf3518510d89f8fe23f1e9b5c2e7d4b802184070229907468a6db5b2580436c353b4b66030d8161131a3
# Deterministic Sig: 3035021900bcfbdefed3f3efc83c4fe6276663a6e632d5d64557ceff2c0218170b8b570f4078176bbb0ccf5d39302badd17310622d24d7
# brainpoolP224r1 (named_curve, hybrid public point)
# Random Sig: 303c021c7c2551717fa0af7b6ef64d236e11bf3326a30f4c499c9ea377648f7f021c4ce74a13462d98312c263104d7e5aa07575dec16d21f655b5ce63f59
# Deterministic Sig: 303c021c17960892fd4317afebe515ade69d4d5b293bed1c7f34d446067043e5021c29ba608d5394e9152bcb4f173889f6f4d1bb36a1871894c44e0c1e24
# brainpoolP224t1 (named_curve, hybrid public point)
# Random Sig: 303c021c16dd3ac3c7161912483534f5dbe8af9d30e9a52a6651e2e49643d9ac021c22454590ce448644ce5ef62215c795c1855e0c8fbce25d144b139141
# Deterministic Sig: 303c021c393847505015a144298257c90dcd98bd5175e686205d087263040df1021c69ed9a6b930840372448f9e1a6138726e2eb6de371258695c82d3e4b
# brainpoolP256r1 (named_curve, hybrid public point)
# Random Sig: 304402204eac1daa152e0ba37f42dc385ab52320a4f86827efce2e4ba7d66cd689cc7303022020704a0a388bc1f1eadf7bffb03cfcccbc0cbf49adccab83318dbba9ae3f0e5f
# Deterministic Sig: 30440220021d655d447900f6778e70c2965398af330773a3e48a35b9803f9f2619de20fb02201d9592bdf45565f98d8b5c6356474aa755d4a53a0040c3649d648afc0812197f
# brainpoolP256t1 (named_curve, hybrid public point)
# Random Sig: 30440220792e7f8c3599a6547cdd5c81fdb0f72ff61925eb58aed78baf177f7c6f88564d02202459f7cfe9314808775973f51addab6c791e6da405de7b66adc5f1968ce50e3b
# Deterministic Sig: 30450221008773eca00799cd9a747f6b319a7ee0331971b31dbe129aa1d11189aaa24b9f8a02202c1ab2d6c11f5789670d11ad7cced70d7c7164ad4d715da8af25abcf5fb09670
# brainpoolP320r1 (named_curve, hybrid public point)
# Random Sig: 3055022900af3aa2ff5f6329ec5dedd4a91fcabaadf57ccf67e84d951034615408b1a1fb9299ffe7945d34f3a8022873b4970bdc0bddcb6d5487473344a45613422e0bcdc57d56e3a492e08c36c1fb1c800cea4adf7095
# Deterministic Sig: 305502284ed5c96c42d7e8010317f538d7d03cceef3f755c972c5c3d51e74da726f85399365cb2a7b67f17b8022900a4964fdc327333e10fa10b14a014687aea4bc1712fe2c641ab3c0d16767efc72050cd939df9f5b7b
# brainpoolP320t1 (named_curve, hybrid public point)
# Random Sig: 30540228658c424dd7ec41153f7f924784fb5f656c74533b6d9a743effd22ccb9d1b6e1aa5feca689282aab90228103164bf36f4f56c4633a976175e9a39ea6b4549e2c1092e94fb1c0b93c9061fd9ea0c70fc990950
# Deterministic Sig: 3055022900ba731f3d690a33dcd5d4909bfe76c88e06829d98ba53a06d714352e433cb8fc1e1f7d9b3214299b002285e8a5a27749dc421b0353fa37f73d9c2df12c4c09bcad3329c7446832d158b0ce5fc8b4a7f52c318
# brainpoolP384r1 (named_curve, hybrid public point)
# Random Sig: 306402300a869af8c87088bb24cc554374bb714fdaaa17a04e68229ff1c6366b406c5ba79e80e8013d8e15e48f511a8231a94ac8023019ba92ca9d92f150fbe4fea4c9c2c523232a1d015b6aa2e9ea8a4f3f2128f76cfc192e660a1fd8705b49dcb89d5be791
# Deterministic Sig: 3064023056b57f5edfbf1311934704ead9b9060b6bf2de734906baa79f763f0ad30e6f473113e0c8c6704a45256e7078b7f87e9f0230207019bee56f512b196223ecb713f9f4c0b3146eb0343c8bf8fef29db3f1a942fc492cd1003c79b91fcf70061a99c5bf
# brainpoolP384t1 (named_curve, hybrid public point)
# Random Sig: 306402307a4ed0d85782504a6fcde475c3af3704e640633cceb8d5414f6945505e8cc88718707fb91ce49383d511b8eedb66841802305861fdf4be02035cb7cef6ee9c09be3bc3dc49319246d82eae8dd2f06e6d610fed1efa5e2909d56a87f6590a0e3d5deb
# Deterministic Sig: 306402303d5fc34b447a645c2cb824115e3dba56637140fda10579230e153b4bf426d281b0ceb47d7450b203549e238b2d4ebbe302306a023288f33c01dae162b0810cf012652de49cd2f1d598a5a64be172f3cdff32fcdcfd6500d27b12fb996b68f0ba1876
# brainpoolP512r1 (named_curve, hybrid public point)
# Random Sig: 30818602410084ea52110a8eb63e1c48a35b21fd03fb95ec4b0fa6c5af3c55dfd886c4752fbdf49546203cadccbef80edb77c46f186433c63a39ad924aee54c77c598fe335b30241009d8b71f6d48ae2d5dde6cdedf7645412389da567e8eaa1319d7f4b32105e3b7296e0befd7bbb39a1effdbe38be8801bffb317123647771947f47a6e345ed3c54
# Deterministic Sig: 3081850241008899af90c9cdffe2090e87ec757748e2b27f33b6198b4433c54181f777c8082510f887c17f44bd618b47ee25bd15188b007fd3c4beb9afc8be2e2c9b48480c80024006bbab411a130d13ed179734d9d83da466c0a682a069c4cf44eba1f25835aa05c7417a044af62d49abb89ddeca1f13b83102e05d372f9fbff7fa9fb0719153e6
# brainpoolP512t1 (named_curve, hybrid public point)
# Random Sig: 3081840240558dd041419dc401a119a991d2f64d6cdfb3637498c93cae725cc121cd9d1ef821c9fe42b7204b62a63bc66f9b9cc45b541912bc9d86a4e704c1d7e961a6025002401736f10108350300d3c9593a08a7e27c4eba9869e5affb3d5ae3f4f7b3f576784c682dc95dd85e85c30a9cee538c569c2799fcf55196f4ab4af6c0d2ece0bcdb
# Deterministic Sig: 308184024060d0db9cddb63b24b16357a6cb87e5bce8fed22e94986a6a0897ad264fa8f369ce0bc551d60fd1302388d562a8b902f9d3dbabea7ca46c4ea62b9c9f394ff0ae0240501cbfd3e76ed6314d6ec1ba99e11c9b6cf70d0d260b2590998d7369bb4f7defbb30e7f21665a26be00d2a1ad3736a683c157ac373f771596ada9cba35ab1330
# c2pnb163v1 (named_curve, hybrid public point)
# c2pnb163v2 (named_curve, hybrid public point)
# c2pnb163v3 (named_curve, hybrid public point)
# c2pnb176v1 (named_curve, hybrid public point)
# c2pnb208w1 (named_curve, hybrid public point)
# c2pnb272w1 (named_curve, hybrid public point)
# c2pnb304w1 (named_curve, hybrid public point)
# c2pnb368w1 (named_curve, hybrid public point)
# c2tnb191v1 (named_curve, hybrid public point)
# c2tnb191v2 (named_curve, hybrid public point)
# c2tnb191v3 (named_curve, hybrid public point)
# c2tnb239v1 (named_curve, hybrid public point)
# c2tnb239v2 (named_curve, hybrid public point)
# c2tnb239v3 (named_curve, hybrid public point)
# c2tnb359v1 (named_curve, hybrid public point)
# c2tnb431r1 (named_curve, hybrid public point)
# prime192v1 (named_curve, hybrid public point)
# Random Sig: 3034021828bd8402fc35cf7fe5e7d6f69ab9b2695fcf7aa7cb3da3c202185120a670fe7020157d648cfc2f97435447a8f1ca19496dfd
# Deterministic Sig: 3035021848e882af5aeb6b5a36235272906a15f6a786273f61e48905021900bc4a2bc385a3593452e2cc8d77e30bcfca38896e08e5ebe7
# prime192v2 (named_curve, hybrid public point)
# Random Sig: 3034021869413c22ad40a4d6cc1f17e17f0f7f40ab2535403c6037c102185f7974d1e14fe7c1a2759fbf8f574f646dfcf80eb5a8aaf8
# Deterministic Sig: 303402182e0fa5a6147872e7ef7954582a1f7c576dd6232300031249021878f0a507a3b061d6e02e313f9308ee67a8846085aaf24543
# prime192v3 (named_curve, hybrid public point)
# Random Sig: 30340218608d90cd90936d415ba8c94dbfca356e254a386285e351bc02180cad9a702f1c5737b1355a623a3a7655a0f266d2d36598c4
# Deterministic Sig: 30340218612d18c5811d7c9ee6cd3ca34cf78502fd1e5db636e6e6e002184f0a253c9067b6a76d7e5bed4c3744f4ffc08a95208b5b6e
# prime239v1 (named_curve, hybrid public point)
# Random Sig: 3040021e05e7c6c0d2d58c03992c00558f00fd8553ae8f31c54063ec0410c53b9761021e1480940d83b41f2f5b4551777c4cf28d40eb01cff9b5c13a8d107da0e28f
# Deterministic Sig: 3040021e7d979b7f41361fa194db0bfc1c40312b9690c447b76db28341b59b18ac89021e7b50ae1878b0516be9834a871b6bc4ae5cbd5dd91827653dfa9c59540922
# prime239v2 (named_curve, hybrid public point)
# Random Sig: 3040021e7e84429b6f303357ccb8eeff3cf8da1b7d243556b6b80d30d7596b05a86e021e5108f596587c79660efdb2d0ce4a8d77f3462895a8883af80bdaea8d1fe1
# Deterministic Sig: 3040021e3faed860061dc96a08786f619484774050d4fafd82a6735439b4ad9e2f80021e2a1f18042115c6ab40e4704c8df09aa30b4cbf740c9d2477dc8ed410c4e0
# prime239v3 (named_curve, hybrid public point)
# Random Sig: 3040021e0f2881a841c96d2b38011091be207c95f2a94f00a8e24ba4c4831cf3976a021e538312fe97db053c6bfac92f814b282705f134fb46a232c4c5b685fe3ea2
# Deterministic Sig: 3040021e6f78fd9cb505e7394ade8179f01055ca972a1fb72958da604c6ead6d4041021e28069b8fdc3fcc788548fca8dc264241b68a742f476f12bbded0d4be1e7b
# prime256v1 (named_curve, hybrid public point)
# Random Sig: 3044022069dbe0d9ece95bb7cb1330edbe36d74f4e45cd99a36decc402abb46ec210fe2b02202edf0b22d8502a2840583cc67e173b071fe01539fc0af050ce6fc67cefa2b2bc
# Deterministic Sig: 304402204f46acd62b7db3b95d4e1a3468361ecd0798b27324b5a25a141eb9683a060f4202203dbc7a8d8242973b2a726b1d59fbc93fa419de76da97a8901f900949d3c28073
# secp112r1 (named_curve, hybrid public point)
# secp112r2 (named_curve, hybrid public point)
# secp128r1 (named_curve, hybrid public point)
# secp128r2 (named_curve, hybrid public point)
# secp160k1 (named_curve, hybrid public point)
# Random Sig: 302d021412eb5e9727c51ca09cbab58cdd286cc3e8303c93021500898d256b14373719ae8efc760a1b765be5155ce4
# Deterministic Sig: 302e021500d4ddbc873ac0dca6ec9166ba472b43606842baa7021500e65d1f44d1e85e28e2c59a480472f0e6fe81212c
# secp160r1 (named_curve, hybrid public point)
# Random Sig: 302c02144c4712533ce5ef2fcd820b0460e8ec1d460e4e7102144cc515f223feb429885b5acbccecbe77a0c09aed
# Deterministic Sig: 302d0214554d45af950d3126e1700589c95bd280a5612b840215009ddb08f78eef72d42daacb61f589d3ae6fa8b5b1
# secp160r2 (named_curve, hybrid public point)
# Random Sig: 302d0214780a1e0f79d9cf4b6a82f42303e339d38955d7ac021500d9a25d9132ce4efd16f5b0a98bbaf33535a39c98
# Deterministic Sig: 302d021500e0e7db77729efc0622e71f75cd63c498ebabb13c02142faa0ffe178a54ba13e176c8ceb09cf79a034f95
# secp192k1 (named_curve, hybrid public point)
# Random Sig: 3035021900ebcdb25f6f46c195fa8d7ee72b43ff2ab296791358b0e5f70218060a93c044e5904406abf08a0d886b32dde4ecc51cb38c92
# Deterministic Sig: 3035021900facd9bf8c752b0e4188b447f98e227a58ec6e55d7372295f0218601b5eee8c4589c2e8f1f0bd952b4f958df12dfd2ac8ef20
# secp224k1 (named_curve, hybrid public point)
# Random Sig: 303e021d00b68d267e808b57baf0b55840349bc81f6c4225ae369d996e83fc3eee021d00a4f2f37389b58dd6a52e071c4af9c225e3eb7dabac38c96b6a27d659
# Deterministic Sig: 303e021d0094950f87dfc43fc6900f17cf607b36a14a36074f8835af52ba5e928b021d0088d571d0e4f8730b0b529362f384e1b8fa41fc51fc1e14cfb9e6fba3
# secp224r1 (named_curve, hybrid public point)
# Random Sig: 303e021d00aa0c5d1d3ef18764ba80f787cc5a6f05b5b3634c5e024a702081b564021d00d61ab15a0fe5da39e380f7e9eaf5b90e14b8000098441bd885df7c6a
# Deterministic Sig: 303c021c4c9ff383b759d33d016225e0f562da10a5d3a1b898a7ae63d831283d021c1f0d03e85d64f3a138e71c9a8492949ab70d90b6d6294d5555cc47b4
# secp256k1 (named_curve, hybrid public point)
# Random Sig: 3045022012de8e79ee3a922c879a7106999b90c496d9c0916d293ce9a379bff4b9b986fd022100a121d65fe3eb4b610a285fafdc636408d01ab10ea3397106b0576a083dfb3a0d
# Deterministic Sig: 304402205f4a0eeea17fd81d48965b9e26a3d76babe064d7dbe925f62ef9710c8a2798ac0220728b30643987e2bf1a5ed3d10e2d9bc84c31af278f960a2136b5cc41c494a500
# secp384r1 (named_curve, hybrid public point)
# Random Sig: 306402302d2c1f2a07eb88d2407eb714749d2eadf0639a930133beb358797fa49f8073d255295eacba89e2909ff5c8adf4190b0c023052d72592734ec3122c34299d602ee1dbdbb605d0362b38e64894ad59500b0927b7dbd502c7827cfcc6538e23b4be86d1
# Deterministic Sig: 30650230560fdeb93bd0f2b92bcb340c34313a748cbf80a4956314bc65e7f40efd8ea44a8cc7aa2e03bd0544b05b391d0708bb7802310091d04f58dd0407362843410da8c4224441bdcb2f121b527a9ce18b015bfdaffc044bb9097b67a0b3e87674f21f207824
# secp521r1 (named_curve, hybrid public point)
# Random Sig: 3081880242008d2e923342f5217d74ef137a9f665e1ac1245f39ad5a79c75862bd69bf7161b059103b76ac352597420332d22212e83c9a7d9a9eef80b16cd356fd5dd1beae6c29024201aea093d51c79d2987bbea7a5ee606962ba59d0da83eba1cdd36bf69a4806d699c875b7a24a831daea1d03704bebdf32a2d697a6cd7f8540d6128450843dc611092
# Deterministic Sig: 30818602416dbe88ed11cb6b0eb94391b82f34031686820734a032c977b8fcc505ccd08cfc9abb8943d85b0f7ad49e80a2271c15dd8784ee002b0db4185ab5d1edfb5f39b7550241254e56305a5072a3a7b3e01ee3dedb904792a2e5022d115422f533e26853223955efa3610f129a3c88af08b5c96a578329ba299d4d6dfe8f1f472f16c632a9f7ab
# sect113r1 (named_curve, hybrid public point)
# sect113r2 (named_curve, hybrid public point)
# sect131r1 (named_curve, hybrid public point)
# sect131r2 (named_curve, hybrid public point)
# sect163k1 (named_curve, hybrid public point)
# sect163r1 (named_curve, hybrid public point)
# sect163r2 (named_curve, hybrid public point)
# sect193r1 (named_curve, hybrid public point)
# sect193r2 (named_curve, hybrid public point)
# sect233k1 (named_curve, hybrid public point)
# sect233r1 (named_curve, hybrid public point)
# sect239k1 (named_curve, hybrid public point)
# sect283k1 (named_curve, hybrid public point)
# sect283r1 (named_curve, hybrid public point)
# sect409k1 (named_curve, hybrid public point)
# sect409r1 (named_curve, hybrid public point)
# sect571k1 (named_curve, hybrid public point)
# sect571r1 (named_curve, hybrid public point)
# wap-wsg-idm-ecid-wtls1 (named_curve, hybrid public point)
# wap-wsg-idm-ecid-wtls10 (named_curve, hybrid public point)
# wap-wsg-idm-ecid-wtls11 (named_curve, hybrid public point)
# wap-wsg-idm-ecid-wtls12 (named_curve, hybrid public point)
# Random Sig: 303d021d00df5271e15256e71b5000645fb57ec563f305b1d4bdeebd47039c48e6021c08beeda03998aee14d864fff3cb06c229e5ad0563676293dc510cfe5
# Deterministic Sig: 303d021c651a1c03205c486e54ec21f2ac7155e221e59c48b8a1d7fbdfcc5e2b021d009829e76cd11d0207e63d8029e786130f3d10f1b87e0a1280a261dc35
# wap-wsg-idm-ecid-wtls3 (named_curve, hybrid public point)
# wap-wsg-idm-ecid-wtls4 (named_curve, hybrid public point)
# wap-wsg-idm-ecid-wtls5 (named_curve, hybrid public point)
# wap-wsg-idm-ecid-wtls6 (named_curve, hybrid public point)
# wap-wsg-idm-ecid-wtls7 (named_curve, hybrid public point)
# Random Sig: 302d021500a3d3c0e48dd8a99b0f534345c661329a40b0e1e902146a241d7316d848162ade9a29dbf1c4f7bfe75da3
# Deterministic Sig: 302d02146049d07cdb11f2d5623bf90a8e86a03bc0117d57021500be8f6592bb64f4424b45706f55688424b2eab571
# wap-wsg-idm-ecid-wtls8 (named_curve, hybrid public point)
# wap-wsg-idm-ecid-wtls9 (named_curve, hybrid public point)
# Random Sig: 302e021500ed4d12bb6556747ccdc4f0b3c571ca49c741a18802150094c66d1cf30c2f535b659dd29615b893c2f1a21e
# Deterministic Sig: 302d021435b25c2a9f89d48fc575e4601db753f7449cf1ff021500fdf24651566f036fc373671196d3b4dca5382b6f
# brainpoolP160r1 (explicit, compressed public point)
# Random Sig: 302c02144e9952d56434c15450c749c1f79b3ff9e82bcd5d021442c831854234003778bd61c5af3aedd7e7567fb4
# Deterministic Sig: 302d021500d15c537ed53e59cdb72f2997fd6569cd0f8203f0021433cd6cb59b4e9235a52cc16baf4a5787fd48fa19
# brainpoolP160t1 (explicit, compressed public point)
# Random Sig: 302d021500a709a0ddc2b1603017f42b76482952cf297ef2f402142a85003d2cb5bcb35695a4a21e2442b7e94c7358
# Deterministic Sig: 302c02145d22d343f799edd5c73188be53817bd9c78ada6d0214752d2cb88a6418403a0d5db813aab5ae0ee002dc
# brainpoolP192r1 (explicit, compressed public point)
# Random Sig: 30350218330cf368bba9d19b19f750678eee4f5bfecf78acf00b9fa202190082121de14bc0bcbf3d52cf9528145df7b3a2399922d290ca
# Deterministic Sig: 3035021900b62c0ac1bab0d01594c1c4c3f2982b0efc3a835e07b91ea202182b04c789a8b3d1ffe6231dc0efb54621b3c472b49c7af047
# brainpoolP192t1 (explicit, compressed public point)
# Random Sig: 303402180d2f8e76f24887e5767357dc7b4a1b65069ebbe379e788d002182be8ae3d9c29b5f0d36215f46e3e874dc1a7317c20fd79cf
# Deterministic Sig: 30340218594e73d379271fc13aecc08dfd89dbecbe02e74ad223469402186fa045c022fd14d460ba29971079b1a432ca0b03fa1ccaca
# brainpoolP224r1 (explicit, compressed public point)
# Random Sig: 303d021c343b8941f6979c06ceb27a96c3a3fbc944257b906f464ac778485b50021d00b2493f7cf4c0ee404d909357f70dd6302ad9c891947631ee5dfce7ee
# Deterministic Sig: 303e021d0093614fef9ecb0c7c8318b71839073e6766ab70214237e9f10ff0fe8b021d00b4f7e1b8d84f7799a15d2a977535c5927dc7fcdb9872ed856489ef22
# brainpoolP224t1 (explicit, compressed public point)
# Random Sig: 303d021c0bc3af3efc891d6d5127cf308416d07ab51ebc3a63252c8b22d56217021d00a35d8c57b9152283f1120fc91b69e4794aa60599db8f65257475c37b
# Deterministic Sig: 303d021d0095f0f8550cfe5ff2336958f871b753e5e6e8866f492e7f0d924a7692021c36fe85e6e07fc133fe4d38a749779615e3b44f0430f389526a663a25
# brainpoolP256r1 (explicit, compressed public point)
# Random Sig: 30440220324e152a70017be92fd321c2eb04a8a5a8b0b0aaab4427c616caf04e890ceae002201529fc23ceab6525bb161a878cc4978b34d9cb29b3d733d634c8fe7fa0481b6c
# Deterministic Sig: 30450220145d270b7b2b1cd89dcda36e70efddeeead522d9ddff70b33062105d3b20cb2b02210097bea029134525aab89cfc48a703bc27bf9387ddc55b0888a654957248242796
# brainpoolP256t1 (explicit, compressed public point)
# Random Sig: 304402200e4be1a4cefc8e86259ef6f6eac1565cbfa4a30d61e4be80d1cec66809640ec9022027a9a83dcc748a12a0085a046ee6840fea629bc45dc3a97f268dc276475acf6b
# Deterministic Sig: 3044022010e8373f113362fa9c22763bddb5f49469a07263bc80631a3e8d272201c99bb5022002ee0adc9e777ee8e75459b42ff6f78268b32f627da9820c5edb80da96330d95
# brainpoolP320r1 (explicit, compressed public point)
# Random Sig: 3055022900b68f69d102d35426736e6f238e31276e4902d74049ed05c6f5b4ded37011aed0ea73cc146e21218c022867b09febcc9f77f474a81e6e9eb5bb6ddd62581db97b87698feb4c825e345b9de5e969ab626eaafc
# Deterministic Sig: 305502282ba29abee28dc4b828e11648863896dedad63b0e71a3c09db575fe0bb8c936b9afd3f575a8f3ebf0022900d02dd7523a617cb5cd6f334e25ff1b01a5c5c3fe37d6ee31e98ad2cbe3beed8042adf376fcde0901
# brainpoolP320t1 (explicit, compressed public point)
# Random Sig: 305402284fd0e065c53efb18333e5ec730f15748337c341b5a3fb6d29c8ded96a362c732592427c7f7a56b29022808773de335c6a857174483caed8bd5ff52465746cc8e32a94b72b9ab05830c9e0b78d25af7f39f74
# Deterministic Sig: 3054022859fa0ca296d5895d1f2aba472e8559f8535d869df4480b6790959cf9121b683fed110ad435ff9f7102280d1e848035a69154c699d2b952c2819b864a61f9b473a0a0d3d85189ce263e3e0965fd044cda1a74
# brainpoolP384r1 (explicit, compressed public point)
# Random Sig: 3064023077ee8dca5b6930d191768bee257a239bb57226891713e80137478eb152194835f86099b648e7a0b4a0bd1cb64f079f8002306c1547c3b6bd20c05b792264888a195edfb2c0489b2f00f19039bd6fc2acbbacf2ff266be53f255013465a75e09c3044
# Deterministic Sig: 306402300faae254c99828c8eb23f7aa416b50194406a9b139dbf61a49cd68d21c6a8a38f13451ae5da876514edae2724e63fff102304e608ed639aa8b2f0b67f9c29a166dafd3ec909712922bd7403e9bf3c2841869ef11f36cbbf9b35ba6f0d595c2006585
# brainpoolP384t1 (explicit, compressed public point)
# Random Sig: 306402303f3d77bd499144835f09d5f6003e2931352b9d692c38871685790df2b26eb86b74c378bcfcbbb36f996223b2d78194d902302fd2c5314596815c6a7bd27c232ddedfed7b11f64a67f43d823f1180381d4fd4cd9256e9ceb710826e48560fc31b86a4
# Deterministic Sig: 306502304db97551089c08f786da27a3297792de6def9701da016c8955747b7a501eb78831fa94e5185454c3e2f3277fa6c76ac1023100801886bf562cbcad76df4b7ca021a97fb4cb5f2234ab62f5d953724afd5add807e907f2993e4853cfe7175dd450afbb3
# brainpoolP512r1 (explicit, compressed public point)
# Random Sig: 30818502407353b59f49df76a765ee50be0664e8bf179f5e184302a1b4de48c28158fc3e245ae2c6d274504dd91871df0ba0b02340dbef5d9dca8e3ec2832c8f31d5525a73024100a28b66dc681d84fe60d30d14b5449b6bfa83695d167d6e0d68abdb5178680482c669585359024ec76761d429b7a02a8fa656386f709a62d16969190f49bd9b6c
# Deterministic Sig: 3081850241008dd4fa9dc8c685884e6973e52f3ced28ab636f6c54c7766e8f33679c101db63bc6661d0a124a55f895ab98bfa40c9f782ec285a0c2dd1b500eb3d264918584160240644d9ca8898ecf165a6f57cede5d16386e00756505af40d4e7afa04be98f4e412cdfc942b22f14be901c71145c2d8fde8ada3c5adf49eafdff94da7b54c767d7
# brainpoolP512t1 (explicit, compressed public point)
# Random Sig: 308184024016394ee1a5c82ceb21ed307f60fd047c6a4431e0572d71cef3708dce46563da0476fa46bdf6dfbcf3fdfcab8e8a671eef1a3b97ac053367c9f19c8c77483a47302405691d3687ee159b937b5024f24785b9d18c6f65db14716d974e348672c9fcc0f720fb5988a9bfbd44c19133d3ad9493c96dbd362a4fa51317ab8f11038d6d3d3
# Deterministic Sig: 308185024029ce2259241e341d963e8268b344644993307f51cd686893cf031c969023d392d3d7ada1126d96d80fb279d6580f1a1ba9d17ca0d014cea4b07f61cb65e708b90241009067bfccafcc7b01157262c1a9704a1be9b52127d8b8fc3f5bff13422ae1b471bb4d5e854d82b65eef801b44a82c07e65c6baa9880b039b44f8c50141ab406a4
# c2pnb163v1 (explicit, compressed public point)
# c2pnb163v2 (explicit, compressed public point)
# c2pnb163v3 (explicit, compressed public point)
# c2pnb176v1 (explicit, compressed public point)
# c2pnb208w1 (explicit, compressed public point)
# c2pnb272w1 (explicit, compressed public point)
# c2pnb304w1 (explicit, compressed public point)
# c2pnb368w1 (explicit, compressed public point)
# c2tnb191v1 (explicit, compressed public point)
# c2tnb191v2 (explicit, compressed public point)
# c2tnb191v3 (explicit, compressed public point)
# c2tnb239v1 (explicit, compressed public point)
# c2tnb239v2 (explicit, compressed public point)
# c2tnb239v3 (explicit, compressed public point)
# c2tnb359v1 (explicit, compressed public point)
# c2tnb431r1 (explicit, compressed public point)
# prime192v1 (explicit, compressed public point)
# Random Sig: 30350218795cbd94ba931e85c3dd23496c08bdc9d4efb8237a6ef531021900aef5669cabf0e49322e9b4d6c3bb51b8b1d7d39d9a1a4d80
# Deterministic Sig: 3035021900deb85d15823656b8498340a42852352757df4a550a94486b0218033f5456c9385ed671df00d130036fa4b285cf24c611beac
# prime192v2 (explicit, compressed public point)
# Random Sig: 303402184c5c98d23278e74f98dedd8f5d9dceff34dd478ffb017ed102183fd141c73a31c60baa57df0bde7fbbb18643c82ad710661b
# Deterministic Sig: 303602190080217f333a810dfbf1112cdb3146c77d0e4fd0c9843d4963021900be2466611d38a1311fdbeb458f137b3680ba215418a9d4f7
# prime192v3 (explicit, compressed public point)
# Random Sig: 3036021900a126a89760d89765b2b1658254ed2c201b948d9612e54a36021900d000c008eb60b7ad8791d65b73589b06b3df8781fbb91f2d
# Deterministic Sig: 30340218574744f1b69485adbb25f9b027087ab1bac29db74374b23c02184b7065992c877fdea24390b04730ee2e298117b0c24bc8b6
# prime239v1 (explicit, compressed public point)
# Random Sig: 3040021e58cda0dae109937e8cb98b0b832004324c66304f4f9991d1c98b4bb39b76021e72b734ef6f14110ffb9d13d57f52cce48ca3234017c49ffc45cfe1ba3b2f
# Deterministic Sig: 3040021e7cb3df2ff0b168732df0b37d07c53c4b4fe70d82fb70c4aef7f19e9d1524021e638813674a533d152feadb7621eeb1eee7eeaed350a617ff9b6da19cd72e
# prime239v2 (explicit, compressed public point)
# Random Sig: 3040021e3d5a08e4d19e188582b25efc8c709dd12d23c69666130f52c907469a6327021e54c324701c8e6807f2bde41c6f5352ca3ef563da7acba6cf01a44a41c6a7
# Deterministic Sig: 3040021e67f8bf57c9d9789c6616c97352089cf8062ada42b6534c5b6be500a1c9d1021e011a990ac7256e88ecdb05e2081581df69dffe09f026066855b20e91202d
# prime239v3 (explicit, compressed public point)
# Random Sig: 3040021e28b78f5aec26f9520de7e65e8dacdd4ba1f2d244f14377b5f828d659b71b021e12af6502c3718289c5073c2e443094827d020f42e2db4ac1faea73f3bdf9
# Deterministic Sig: 3040021e5f5307fb64ba749cde3e51107588565514e49e39d8277c4f7b452a5f7e34021e0f5d52c1d76a16f925f8e722a34ad0047bdc812e56ef046197a7581dea65
# prime256v1 (explicit, compressed public point)
# Random Sig: 304402202abc7a72a4ecd00e902dc28c4a9ec64b28f9ddf28882e38a203012ce0b9309fb022046d9fd7aa0b32623bd4d6c8a1feff3c77050e4c155b398f4663fadd0fd026c78
# Deterministic Sig: 3045022100dc42dda63f4b27be9a284fbb2c05e3d17389d7f15b24bfe22a04470cca14db8b02204325bd80a15a7c8d4f8104271e43a1ed5cd83546207308bbac1dc3344f760350
# secp112r1 (explicit, compressed public point)
# secp112r2 (explicit, compressed public point)
# secp128r1 (explicit, compressed public point)
# secp128r2 (explicit, compressed public point)
# secp160k1 (explicit, compressed public point)
# Random Sig: 302c02143c072d1cc8a837c294a5117a87cd5c16fc1df65a021438661606fa1b693a420c62a5cf0fcb6602135722
# Deterministic Sig: 302d0214430ac66c22bbe0af69cb009ddd9b188f45eba20802150081b45be18d954e5a247f12bc3d0f7d671bd0dff0
# secp160r1 (explicit, compressed public point)
# Random Sig: 302e0215009c086fdcf175d12d32163b46d540135c976199eb021500fdf32f5a40ea53fc6738c4a27d331a3d2428c84d
# Deterministic Sig: 302d021500d9ed11edf23453e3c651685732a6ee8a2649339d021468007b35ae9eed13c8f9e6c19465d90a807202af
# secp160r2 (explicit, compressed public point)
# Random Sig: 302d0214604f143e45ad98797f9f4e68f2e76f329c2ddd55021500e9e436f9f2654a0fa020ec3224f095ddc4798114
# Deterministic Sig: 302c0214492b5caf280bbe21b6f72b1f94898943fd6dc3e402140ad1f6f52e637a341aeab44561f246e71c709d0c
# secp192k1 (explicit, compressed public point)
# Random Sig: 3035021900dd73eb016d098e91f046ef0a16fee43f48f7e3f1929aede202186a63f278304dc7a48b4deae48a18bff6c5421ba84946f6c6
# Deterministic Sig: 3035021873e995318a02a5ef7cda21c0583ad573b1b3b5981dd5e45f021900e25464e2f30766a60c4a32f18f3e08907ca3870f2a2129c0
# secp224k1 (explicit, compressed public point)
# Random Sig: 303c021c23406caa30171a189554746c3346b6eb9df71ee4edc8c3f50b552264021c027ae54d743f2376d6a2212cebb73c4a5b62af8a05ddd5d29413e918
# Deterministic Sig: 303d021d00956937d56e298639e9c0486f55f5218261752b98be75644630479ca5021c6e9e0d2ff4799da00e13fedbcf774b89e92cb5babb70e70c8eeee781
# secp224r1 (explicit, compressed public point)
# Random Sig: 303d021d00c4d6f98622b2892738f43e8d599df315908d345a528c92e759bff318021c734be45793fe9f9cb5997de890508015e545521572dee35102315d37
# Deterministic Sig: 303c021c4b32bc6fb225cca660ef6032cc1de65179be233c5ba7cb3c17b29e86021c553065160994008b0ffc51b059fe8eef78d6477bcad267a1574b8c2b
# secp256k1 (explicit, compressed public point)
# Random Sig: 3045022100c298917c780680f644f5a89362da31c2d1fd62b279212b31b29657957ece1abd022017a8d4c20af5da2dbef8a7079e872de56bcb650daee643f847d160539fbb439e
# Deterministic Sig: 3046022100acfb145b59ac05eb9f560c0e0b3f216dad08973f54547f0cc408550e8d7f4059022100e35172b6b25e4a344f0c31c23cdf3b64f852d77c6b9e68034689be5c75b78360
# secp384r1 (explicit, compressed public point)
# Random Sig: 306402300f4e55750e4c0e54aa4bcce2eb94378042303526c9ca62003484b53718711f288a05a19a1ae9bad99c2f6b8b22ef52e00230788b9317686a688b8dc05bf3cd264552f23a67aa3512359ffba01e19d1f11b64d8b07aab94d1349e6cb3fb302a2193bd
# Deterministic Sig: 306402301a37c86d96c5d97b8bde8ffe472631f0172c95786214d2779ee4ba7ba3c437bbfc75f3f5f2cf47d254479707dd5e452302306c6a7c866a7740c1aecd852af1a8fd0567cd4a6ca565f3045d2020170ef7f23c1b9a7100c345de41ad50481b632938ff
# secp521r1 (explicit, compressed public point)
# Random Sig: 308188024201cc9987c80801988113f25e506615f33c141a9835e92c28b8228ff41965d757e56141bbdfe4e8e7079ac2d8cd1423743e39a0d60dc4b23ffa46f8ffff2f68b9ebac024200fe4cfe95ea8459c0e489dd3e212d9e10b820b51aabb48f5135cd251d209f08737b41fe8c53cf6badaeff2ba7914de252f840e7e252fee931c9998fa9c209de0197
# Deterministic Sig: 308188024201db8bce7a26f957518f597e5e9dfc9a3b1030dd02487ad5750af42db1505c9229b1a3644a4665259371959327abab2704e9b3550969847287bd0a5d9f20cbb9fc1102420190973d215600e0ef075dbff1d27740804729a8808b69659a55793478051bb8a8f3f6b3b963b89c597f3ddcb192f814acdfaabd98c0ceff568eb8bf78780aeedd7a
# sect113r1 (explicit, compressed public point)
# sect113r2 (explicit, compressed public point)
# sect131r1 (explicit, compressed public point)
# sect131r2 (explicit, compressed public point)
# sect163k1 (explicit, compressed public point)
# sect163r1 (explicit, compressed public point)
# sect163r2 (explicit, compressed public point)
# sect193r1 (explicit, compressed public point)
# sect193r2 (explicit, compressed public point)
# sect233k1 (explicit, compressed public point)
# sect233r1 (explicit, compressed public point)
# sect239k1 (explicit, compressed public point)
# sect283k1 (explicit, compressed public point)
# sect283r1 (explicit, compressed public point)
# sect409k1 (explicit, compressed public point)
# sect409r1 (explicit, compressed public point)
# sect571k1 (explicit, compressed public point)
# sect571r1 (explicit, compressed public point)
# wap-wsg-idm-ecid-wtls1 (explicit, compressed public point)
# wap-wsg-idm-ecid-wtls10 (explicit, compressed public point)
# wap-wsg-idm-ecid-wtls11 (explicit, compressed public point)
# wap-wsg-idm-ecid-wtls12 (explicit, compressed public point)
# Random Sig: 303d021d009e2d1a16f76ec4d9815f33a3cd0dbe9d86a7f249531e815026807d3a021c36726381e945dbb9155558ec09fef0f7148f9de828a8a5ec022b3be8
# Deterministic Sig: 303d021c5c33477af47a0c1e366717ff658aee4daf1cba858fab046b66ccefde021d00beb98a897b8d0daf44904bad59049e69827563af296d482502042321
# wap-wsg-idm-ecid-wtls3 (explicit, compressed public point)
# wap-wsg-idm-ecid-wtls4 (explicit, compressed public point)
# wap-wsg-idm-ecid-wtls5 (explicit, compressed public point)
# wap-wsg-idm-ecid-wtls6 (explicit, compressed public point)
# wap-wsg-idm-ecid-wtls7 (explicit, compressed public point)
# Random Sig: 302d021500b6fd62b28889c288ea4491dc4764a6e236f11ed40214425704b8a064abbe2a8b588de661d3f57f96a7ab
# Deterministic Sig: 302e021500e23923bf5af3d11c5c4cb1995289c7b63f8166ee02150082dc8a68c9f3e6ebc82efab20c7edb02621af1b0
# wap-wsg-idm-ecid-wtls8 (explicit, compressed public point)
# wap-wsg-idm-ecid-wtls9 (explicit, compressed public point)
# Random Sig: 302e0215008d000601c6830cc962a1762e93e05de6557c4414021500b51a50a597135b78efc4001e4facdb767f9496b8
# Deterministic Sig: 302d021473ba89da6f0f18046b19441c094ce17eb21ed1f9021500fae13e2cef63fdbd4bd26cce263c0272e89aded2
# brainpoolP160r1 (explicit, uncompressed public point)
# Random Sig: 302d021500c3071a379faa932effd41f4423673b216c0ba62d02145d9205d6f273b992e0c501af9350f6ca7ffdc81d
# Deterministic Sig: 302e0215009c84c4ccbe58f6eea408431ad683e5d86a051a2f0215009d4ec908c343f033e7e53bf3aeb2890a01e5d1fa
# brainpoolP160t1 (explicit, uncompressed public point)
# Random Sig: 302d02146b37291aef2e3785b41e351d731a995d5611db90021500e26e32a3e7b5fa392ea5e4420cb33e23242b2620
# Deterministic Sig: 302d021500dd7bd3491312973532c755d4194401261936779d021475d3d396dca9da05e9e780af8e6d9cbb57e518d1
# brainpoolP192r1 (explicit, uncompressed public point)
# Random Sig: 3036021900a4adc7f4fb6e9afa2b809bb58deba55fcb9ab1f3398f673d021900b857f366ef4f32ce1f111df7403da3f98ca857341e6ecc36
# Deterministic Sig: 303502180539a421f4808cb026ee93e8a0a7002c94adf237c31b4f58021900b3ea0499f54d40a17007765515e26d44647dba8659be982e
# brainpoolP192t1 (explicit, uncompressed public point)
# Random Sig: 3036021900b9c15d80e0095c19c2df9799d6f735d2da84c45a25c112f702190082a774357780551b60f1ef552c794de921c4d0f005934f36
# Deterministic Sig: 303402184643c67b8c4464fe5dce35d97007c267076c17646ab0f85e02185530b3a2711cae21fde8d18e3637cb7493c1969e046a4006
# brainpoolP224r1 (explicit, uncompressed public point)
# Random Sig: 303e021d009fb921be1e50f108b31284e4a8492b6b4e04bbcd2b8186e0472d4391021d00b2fddee170389f2a641123f77c0589eb5e7e471ef9271537f8a360d8
# Deterministic Sig: 303d021c1cc082a73c89a0e2de9c01e9c73f180378f1435a204e6a6838f6e2e8021d00c538c7130cf8644a151c6183db1e73fd5a9ef40b0aad0f6ee6b9e124
# brainpoolP224t1 (explicit, uncompressed public point)
# Random Sig: 303d021d00b8a2f5207599de47f0d9ad6d60d5e6c3c18f76a1ee56b8ff558be528021c1374ff6cd449e91bf3c76b2501857bf35a919fb86ea8fb9f3db522e2
# Deterministic Sig: 303e021d00c95fc1fa8ab71d01117e59c7c1d7e2a4f56070a9f60f8f073f1c6dc3021d00c7947231bf09bab907dd59222a6aa28d89c271641247b2bd03807111
# brainpoolP256r1 (explicit, uncompressed public point)
# Random Sig: 30450220581092f87a142634541d7a2aef2228a4a607bc47aec7e5054cfa75254e5288800221008cef02732d4e38bc2ef6f816265d608b56e16e0310d168adf40d5ea092b5cf1a
# Deterministic Sig: 3044022007f87725acc39e17f7c5a3012f983fb02e20e4404c5b907f71a73c3a2c62948b0220175aa0387e505b3faaa888d101d3578b6e970689131f35f507a61e477288d197
# brainpoolP256t1 (explicit, uncompressed public point)
# Random Sig: 3045022100a8ac5e781b652241c6ad517571cb680a4028fc3e79120824f0df96d7ea0c7b8b022038aa998f1068a13aab0c2e28b8e363c947de2e1b2626b2f921b7e6ae84a11d81
# Deterministic Sig: 3044022076645994bae4f4edaae92ecf34588512509d14202fac3fab238ecea7444962480220065180f609f570174c8dc350da5504112b0082edb84e7355209e4f860f33a1dd
# brainpoolP320r1 (explicit, uncompressed public point)
# Random Sig: 30550229008c333f26fdd83779dd9eccc74d7525145886948a21dd0e21399f243728964e820946ef315e5bae6402285944319ffc39ee0af4da193c30c659a89a50f66442acaf0276e9c03881bb88bacc2c4375f9ad889e
# Deterministic Sig: 30550229009b54f3d732651f952c04dc06c7c0ab44deef3ac89903ce290e88df531368e71758ae7b01faea4c5702283bda7f5c9c1b5eb4d5b18df34a18f9d273d281f413be455f7580cc05f3f61379c79a33a6a6d926fb
# brainpoolP320t1 (explicit, uncompressed public point)
# Random Sig: 305402285381c8ad4b3cd52a55d92ce794a22bb1973e95db6b444f1ac9f67001f54f44e4d1feb85afdd5ead7022810fb408106ea3e2bd0bdc31ea9a7635b19aee9725f4a7ee7f5834d3828a37eea2120a75e72dbf340
# Deterministic Sig: 305502285f150ed2939c3d5c91987db3ede345f0d1cf46d605b37696c85c4fb854ecf5b009ca40eeb29a3e8d022900a7db64c73f2e1f4fc9633aaa1a410e002220f8bad88f37865075062e7b2e850edf0a1daba0534884
# brainpoolP384r1 (explicit, uncompressed public point)
# Random Sig: 30640230761a21a4a78bcffa746a28b5b5bd9f6b5d2604825b17bfb9de882b4c5bd1a529c790faea5557e05ac364f863978bd9a4023067a26e07e218a204401487afcded19754a54bb168abd94de80db97dcaa93e77aaad0c2860b53b12a52e30096e3d4223d
# Deterministic Sig: 306402304a7a721c8c437aa136f39a87aedeeae07f475aead2933dffa7a3249bf71b79ad76b3b7f684558a5a0b0a15acb459209b0230091682f069a4f5e1b594c7a085958032002c9a5f0b9c6e165b22875421053b59f12fa65ecaef106c41b4fad5528b33ce
# brainpoolP384t1 (explicit, uncompressed public point)
# Random Sig: 306402305ad7c056452298e4473c3ea4e763f5a83d772f6582031cf8e22425ee98342b056573dc5ab830c1568915d6025b9b9fdf02300b5a86160b19fe5cfec9214dfc41844677e64c5adcba6d9ec7c1974b1e9e92f31ee63d10f16a5f189582470f8af59e54
# Deterministic Sig: 306402307ec5ae8e30c022390459f08e7728564d90210dbfd6112f15915afe556f0a0606c187015d71efcf75c11c129e99198a08023020f634dd4fc9345222ae07ee41dd314702d7d3840db962b77ec9545b57560bf88f6b273f070efe73fae6065faec3c352
# brainpoolP512r1 (explicit, uncompressed public point)
# Random Sig: 3081850241009628dcdcb3828b36e4ff5771412aff393ca7ecb644f1fdccce85b5c3ef0b9d654945466b255f61ddf1c99a7840a41df2ea0d0375a47acfa020e5dbfa9167e0e602405d9b8d7e3e54daa7e887ca3a7c0570e1f424517f7d852d0f90c828f63b693d1eb2a6bd72fdb907b010d555aa3a59cf726da07a2ca64e1762978d61110a38f093
# Deterministic Sig: 30818402403433db6f030b621495302608f9b39370702a99ed1418ac8423b30acf7c1a7289bb874e200de98bc59095fc0ba174954b7e36d40aefc641c4d17f67d9a9eaf75b02407329be7f308c3fc682321d6f01ecd37e31ab1d7332e83413302bc40af226d0159900b048fffc6c5bac4d17a0111ae32ec057abdbd292f911be3ba124cff8f669
# brainpoolP512t1 (explicit, uncompressed public point)
# Random Sig: 30818402405f46d9231e3251741f395d67a0199cb5e60dc9ca7770321a33456fae405ef5e224827b442b199c94f5fcf880b1c38348478b417672c857b22916a55ec49e3aeb0240621ec7e02346a1fb52054c01908a548ebbf53e59d5d06caeb8ac24903041e90a6c1dab514b53846fbd72b365c755ecfae25fa9d9d8d371ec4ac12fe12644f26e
# Deterministic Sig: 3081840240699d213ea5657f1a15868691b5121c124a6f5f326c968d18c2cb46a341a9cdf0e26231372d96ccc1f51253b9cae8c14b64ad186e8f2b5491b77919c34938cf1002407c68dcf194401f5987d8361f51ed1714387ccecd04bea0555ce2bd8e87363093fb7dba1fb0c1f5de8046f23de0da58ad6ad824e1fccd4eb58c0c0cd48d3dcf7c
# c2pnb163v1 (explicit, uncompressed public point)
# c2pnb163v2 (explicit, uncompressed public point)
# c2pnb163v3 (explicit, uncompressed public point)
# c2pnb176v1 (explicit, uncompressed public point)
# c2pnb208w1 (explicit, uncompressed public point)
# c2pnb272w1 (explicit, uncompressed public point)
# c2pnb304w1 (explicit, uncompressed public point)
# c2pnb368w1 (explicit, uncompressed public point)
# c2tnb191v1 (explicit, uncompressed public point)
# c2tnb191v2 (explicit, uncompressed public point)
# c2tnb191v3 (explicit, uncompressed public point)
# c2tnb239v1 (explicit, uncompressed public point)
# c2tnb239v2 (explicit, uncompressed public point)
# c2tnb239v3 (explicit, uncompressed public point)
# c2tnb359v1 (explicit, uncompressed public point)
# c2tnb431r1 (explicit, uncompressed public point)
# prime192v1 (explicit, uncompressed public point)
# Random Sig: 3035021900d9c80f172adddfc82e773a280354c6d268ca2fcdcc5e1bd4021822805f8923b97fe129f9806bfc65231f778d45e5755f8ab2
# Deterministic Sig: 303502190094ba1244af1b1f7bbb61a2df82eeb86c09cb234c407d41d402183d0aab5216382458363603ba44c7f9baf4b89a65fd31d4b3
# prime192v2 (explicit, uncompressed public point)
# Random Sig: 3036021900f92bc31026d9de0507848c2bd06ed18f7ecb6f63ad577eec021900f6372e0c739e59b1ba5400f181779cc4bde72fad54e7aa5f
# Deterministic Sig: 3035021900a77595d41acfbef834b52d38d1b6814ea5ead307da592ca3021819c46912495f476696fbc9213f24e7f8a8c60c5417ef001f
# prime192v3 (explicit, uncompressed public point)
# Random Sig: 3035021900806c108ca268d13271c4a7cf8abb8bc4e7d68516149d9923021859d36f2ebb66973f4e7f9a30311e3e2a4f0991a680274230
# Deterministic Sig: 30340218624c7b309d202016f6768595d721d5e65e5cb317099031520218438bbdd6ab7af227095dd4155955985a870f6d32f6e8da7a
# prime239v1 (explicit, uncompressed public point)
# Random Sig: 3040021e64c07e5e5e8f59c5bf2b5e2c3d18508a04cb056b96d94a44861da806cd25021e5ce9f86484229f9f18243d512d8b9189fc7cc94f284684e57c3f26156233
# Deterministic Sig: 3040021e0e2f7affea37a989c252ee75db276a796a84a08c33506aaf24e4536795cb021e2a71620c443867de8e5619a6f618bb7f50fc3b969c13ea8fd9451dd40391
# prime239v2 (explicit, uncompressed public point)
# Random Sig: 3040021e07747a172ac4520aefb26ad051fa5f145e7cb2cbf7164174205193ceda35021e5d8377dfeb550760834a862cc957b7b6361bf2f3bedd1ac76b1c5eb8da6d
# Deterministic Sig: 3040021e301c171e93f9bcd000eb253a00ba85d55fdf5db05c26cbd87d137b83c82c021e62465bf988bbcd31bde64d62728457b71d31cfc856af3e622c19260713fb
# prime239v3 (explicit, uncompressed public point)
# Random Sig: 3040021e6bfcaa3905578ef855f984ccc680799f2af8facdd1727336745b4d7c2a10021e1ac9986140b332deeed8bfe2b69749570899b6e6d834fce3a105f426c156
# Deterministic Sig: 3040021e5aa682e9f88e58e7e3e5c33e79eb6e453a8760db46aeae652d21de1441e9021e24651f090311c8b80be42e9fdd7de2699b739e64043167662a730028e1fa
# prime256v1 (explicit, uncompressed public point)
# Random Sig: 3045022005e943e79f3a40354d23cef32e761d109f8c68041095a9030b1045e7d263768902210092b6bd6faf013689cc5dd38e7d19d52e2c2c19add40c872e6f8abf1a3a6e4051
# Deterministic Sig: 3046022100bd743b011c5c079879763cf773a58779b919f70d3f7d294e6c9013bc071bf9e7022100a1c0289a18f113618e9e5e15221d284d912af0804ecce4d5c97364d4c31028ea
# secp112r1 (explicit, uncompressed public point)
# secp112r2 (explicit, uncompressed public point)
# secp128r1 (explicit, uncompressed public point)
# secp128r2 (explicit, uncompressed public point)
# secp160k1 (explicit, uncompressed public point)
# Random Sig: 302e021500ffccfd50b7db96310c6148a208eb1757633bc503021500b9b68b219a3441aa6728b6a236f0ef65940ce058
# Deterministic Sig: 302c021404cc0f23585e97a73bfffcaec4b4b93ae4d245a502147b5cf3bc1e966b933725189f00546dbeb918e262
# secp160r1 (explicit, uncompressed public point)
# Random Sig: 302c0214714ddf67ee642f6820c2b50c3b1372e063de4f4902143340a4ed9f58d021e23ddc58c1ecc1d0a0d8c0e7
# Deterministic Sig: 302d02147c0ff0c8c27a996a057d564fd542f0d210e7ca4502150086feb5b56591783be656eff4179f05bacda499b1
# secp160r2 (explicit, uncompressed public point)
# Random Sig: 302e02150097157cf241d9f15ab539b6bd9e19ecf7af82d47702150092a23f24bc2c67f8c8f1f831c33bf74b8a38c77f
# Deterministic Sig: 302e021500bb9fabe4c0170ef33f6d6a4882b0fe2b340780b3021500c47df4855190cee724a882b71186b0bc4f10cae5
# secp192k1 (explicit, uncompressed public point)
# Random Sig: 303602190087cd3a2007a7a53e534ebacbe55313a00ad5e6bafbdff303021900f7d5feaec63c08757ef250914c4fef0c691af95a4ae1a2f2
# Deterministic Sig: 3034021808bb51bcaa5fdbe762da49d21c1388525531263dc933f2cf021863e6435df29e32eddb3144ed4a17c856670871078fd1ea3c
# secp224k1 (explicit, uncompressed public point)
# Random Sig: 303d021c0b595e91e66a10d2408e1e74b7efe5ca2aa097067630c11e99be9d34021d00d5686caecc3c25e225343f1e1490f94017857f01e152be6f90fbb1d0
# Deterministic Sig: 303d021d00cd4e540f80e6cad22595d2340d54b63c2a6f90758c8610594c3a1364021c16db287d6dc698d0b08fc08c665547a2b2bb96b1cc095d569ca0e6b7
# secp224r1 (explicit, uncompressed public point)
# Random Sig: 303e021d00ca04571a6ed1b700094ff8277af3abb764df66bd9fb0e3f057d16f0a021d00e48c92cd8805de0a80962352745c71b7f2c07f39b790308a4f196446
# Deterministic Sig: 303e021d00c018a1a26b52b353f7b93670deec6a8288fd6ae95b8ca04af003d564021d00cec12edd2493145486294d7ebd16f35bbb9cc91ccbf4662f21b81ab9
# secp256k1 (explicit, uncompressed public point)
# Random Sig: 304502206fc3efcfb6fc29f824cb9d8003aba37984eed87be1b2695aa56818e10bb50a5e022100c99ee24c071173675816e3bdff668d2e4137ed99efd6dace30b69ac5c93fe90a
# Deterministic Sig: 3045022036a84352c47f45279e9ca77697667a9d2c29f059c8855b1336a3bcd989dc303d022100ef503e04566126a89e2d45dfc38a896a935a3ec594eb8a75b22f1ac6a2f9426a
# secp384r1 (explicit, uncompressed public point)
# Random Sig: 3064023054f94614f5af615edb310659276fdbfff034c44671c7178cc1bfb9bad8c6a7cfb88b1a71e7a7d64ebabd242af20faaf6023028fed373f4d3ca6d6bfef5f16e40bec560ded356be7078552dbe05796d47d2bfbeb53049d8f7cfbdef4617b22a2df16f
# Deterministic Sig: 306502305f8ca281955e3605b95221dd8c7d8d16e6bf6cb197707d4a50704e9ca194037798504616aa08e455d250f85d24a02cee023100a5a6b08b41f38e145b555e3cb1560d3d515002ea4d392df9a167403ecb228d543b098c8cee32b8252fde0bcd57d09e48
# secp521r1 (explicit, uncompressed public point)
# Random Sig: 30818702413ea203f074cc7801c3a26f763d36d5ff59c135adb1f6a49ed4466b3fc0c995f6bb173227b1b4c368a5ef31203823c74d6587814750f1687befa0bd3d80ff0581da024201dde3efe5e7f425691f0093c0c412db6189b99d5c71402845736848ee0bf920f4ff06158061dee0da81bfafa579593b762608d80e1a52dd78568d970d6ff4f9769e
# Deterministic Sig: 308187024200d39f6cd5f34dbafa8cd4c1f5c0cb17005d2919e1da7e28744fe32d1bace84193badd9957473c8105594abab7ca57a808f34ad094b753641d2e3dd57028e1617a20024120b2fd123090222e0fc94a68eebc66150fde6d7995026605b4cda61e61f408c94fe63268f7b772034bb3573fff9d28703e6ae332c37366417cea19b095e24eedb8
# sect113r1 (explicit, uncompressed public point)
# sect113r2 (explicit, uncompressed public point)
# sect131r1 (explicit, uncompressed public point)
# sect131r2 (explicit, uncompressed public point)
# sect163k1 (explicit, uncompressed public point)
# sect163r1 (explicit, uncompressed public point)
# sect163r2 (explicit, uncompressed public point)
# sect193r1 (explicit, uncompressed public point)
# sect193r2 (explicit, uncompressed public point)
# sect233k1 (explicit, uncompressed public point)
# sect233r1 (explicit, uncompressed public point)
# sect239k1 (explicit, uncompressed public point)
# sect283k1 (explicit, uncompressed public point)
# sect283r1 (explicit, uncompressed public point)
# sect409k1 (explicit, uncompressed public point)
# sect409r1 (explicit, uncompressed public point)
# sect571k1 (explicit, uncompressed public point)
# sect571r1 (explicit, uncompressed public point)
# wap-wsg-idm-ecid-wtls1 (explicit, uncompressed public point)
# wap-wsg-idm-ecid-wtls10 (explicit, uncompressed public point)
# wap-wsg-idm-ecid-wtls11 (explicit, uncompressed public point)
# wap-wsg-idm-ecid-wtls12 (explicit, uncompressed public point)
# Random Sig: 303d021c33f9a9ad10eb7d0afb4c9663cd9d225db607edec779dc8b083d36a70021d00cf8cacec83581a3313004d1be2ada7f4b8ce2e6180f2100119469181
# Deterministic Sig: 303d021d00f715933079ee6e7930c6a0585cd720fd23d758547e8908ede7bf8f9a021c7b7e43d4d89b3ec63efcfb4cad2494ab7404be787478df2de1b322d5
# wap-wsg-idm-ecid-wtls3 (explicit, uncompressed public point)
# wap-wsg-idm-ecid-wtls4 (explicit, uncompressed public point)
# wap-wsg-idm-ecid-wtls5 (explicit, uncompressed public point)
# wap-wsg-idm-ecid-wtls6 (explicit, uncompressed public point)
# wap-wsg-idm-ecid-wtls7 (explicit, uncompressed public point)
# Random Sig: 302d021500a1d89279306c4d41cd6ea7fe2f6d09514d951c79021442c052ff047ca70ca2a5e195b26e69d4d092d164
# Deterministic Sig: 302d02144983615e1e04b6ec14bfa937f4824705ddd49c99021500c5599f17d89cd0d197abb454da29d53c981d2e47
# wap-wsg-idm-ecid-wtls8 (explicit, uncompressed public point)
# wap-wsg-idm-ecid-wtls9 (explicit, uncompressed public point)
# Random Sig: 302e02150091ea5fc1da9c227570e8be94cb38d595c828f077021500ba26ec749ab3e0b61e353489951a919fdd61069d
# Deterministic Sig: 302c0214321e7bfc2df8e532b0f39f078ac3d10494876d2e021469641092bf072d73901a1bd4d7c3da051f15d477
# brainpoolP160r1 (explicit, hybrid public point)
# Random Sig: 302c02143220f4a00e66702b1f6b0be6a95f58e25aab8c330214652c1136d2f5dacee77f674f4ab4005543db8d43
# Deterministic Sig: 302d021500d51bf4c4db8af00596a5a6b2771bc6e67b27631d02140e9b320d78a05fcf7925cfb50a250219083b8954
# brainpoolP160t1 (explicit, hybrid public point)
# Random Sig: 302c0214683302814425e3fb18ed19918e207d5b151d27a9021470267e80b158c16797386dab5129afc214ad83df
# Deterministic Sig: 302c02142d8a48faa2042fe4cabc50c37c3ae110d67548580214527981c43257b55512322b9450945e612c7ce426
# brainpoolP192r1 (explicit, hybrid public point)
# Random Sig: 303502181c21a1639553b78b7baa9cb07b3eefa8cecd5ddfa81b1d69021900c1dc4a49ca7ec5db9da0df539c5ea14ebb44880b78c68adf
# Deterministic Sig: 30360219009cc30b034f18bb0f8ee26f8795eabf40421523aadbbf90770219008db661fe53ed1af7740fec9fdd368269076b43bba8a62ce9
# brainpoolP192t1 (explicit, hybrid public point)
# Random Sig: 3035021900bf85ed1c71a0034061ce17f36bd48cfee758057a495b04370218289e863b7c63d4e18e99d718c18d255f5b681f14d5f65254
# Deterministic Sig: 303402185e5f86c02fa74843883bab1bafd2d58a3fab3b20dfab103c02181e9ebd4355885d91ee20012202e8b5df0c7269697bfd69c7
# brainpoolP224r1 (explicit, hybrid public point)
# Random Sig: 303c021c179c3f8bd23ce1ed03e3277add83a081703284e31c670dc9ee2b5b65021c7778027dee64231e3df8a1832eac323e2850393c8f108635f174a447
# Deterministic Sig: 303c021c7643c3b803f5c98e4a15ed2e88f8693f7fa31841a90aa991cd56a161021c23bd89b5e4b0b7604e29a60156ca180b9453f04b6c31e211bad51f0b
# brainpoolP224t1 (explicit, hybrid public point)
# Random Sig: 303d021c089d16fb2fc3882ad267ef32f5795964b5b7d8501db5b27cd99dd67f021d00cf1310d32793a7cad051d4d869e17d4a3458fe285af436cb30c96630
# Deterministic Sig: 303d021c445a701150f63afd2ce61803e74c8b962228eda4112212a82410f239021d00987c23fe552fb08d3ae7ff193c63cd152ea56be28bb52a586d0368eb
# brainpoolP256r1 (explicit, hybrid public point)
# Random Sig: 304402204ea2dbeb1979f0f551c590d2fa8815f03e5c42945a836c6666b1d42747de2226022004a880637015e3f3f7a6ca883b5db89822fb535b504737e2a030b17748516187
# Deterministic Sig: 304402204a85c7e8bb35dcb1db9618d388109b1f06765f6f91f2eebcd60bbeeb76a600a6022006d68df1f4904d7f7d3a3605ddf56bcc33e218d9bb6c20bb36ec15fcb59a6e49
# brainpoolP256t1 (explicit, hybrid public point)
# Random Sig: 304402202ea0c3a5d89ae0777e67a3e48473ce6a06381803df0c59cb55880f05a6c4809b02206ff242015aba5d2ca48ef3443f316afaa870b99972bc3df129b07dcf104720ea
# Deterministic Sig: 304502200762537703224ca987e8b9700fbcc1c328b06644fca5bd64eaa5dd936962b5860221009f6d28aa2b03e67a5e166b3c4732f02414ba965a1e99a7750dc98d005c5581a5
# brainpoolP320r1 (explicit, hybrid public point)
# Random Sig: 30550228579952fe6315449224c9aa335113dd192d8610dcc90deb9a2af15cc19f82d9e839e801c789236f04022900c2a8201e9ca1f48750b49a2e0ee284fd5e7661bf27fbd233bb3f4b82cc15ca6faf55a60713cd8c5a
# Deterministic Sig: 3055022870690d32213540afe3cb5dfbdcc345260c60159078b74ad8d1d3acb9e4558d4ac1094190742561d7022900a87ea5cffedacc50f7a9cff7462162e96d050ba9a839d203d74042e6e05f9d6998e3cdcdb5bbee5c
# brainpoolP320t1 (explicit, hybrid public point)
# Random Sig: 3055022900922562d27cb5b22c6b6a0201369c430d7c411ea5721dfae13727133423083989669fc81c1a1dfb8102280d890e697c02a76cf12f04a442d72e951bf7fc3c4c8ae6fbbdf9c4c329e8d0d1db8fac7545760c2f
# Deterministic Sig: 3055022900c2329f1e1546b08222f8e78a9a75c11361a84f48e137823010041a018850f367e7bac2dbd8f22ea902284efd5b0ac175e7cb859cfa3d158be9cbdbbd50b3d525f6293f6fb42d0d94624caaa3b078d3202c8c
# brainpoolP384r1 (explicit, hybrid public point)
# Random Sig: 30640230135c6a4ed25a8bdabad8854e5f149bc3a4957b992290988f0b7b1796ca64fd03e87bf91168d43b1cbea239eb8d263fe202301808f30d6926cffe15f42b6e993e4c4f4e2e2a3704cc302589ccec8b30acc8d6698fc903d508e2a5f4e5f0ad1492c438
# Deterministic Sig: 306402306e762f87f0046bfa8b6c9a93b006f2dacac7aa3fd4b322e400459cda984228ecc787c76eb3de9e0677648df457b191a502307913e9d4b31fe62c4ae24ccd428eca7013a76248add7206692aaecf65474c17c0f70b0098fa656b8a61c0d27ab30d29f
# brainpoolP384t1 (explicit, hybrid public point)
# Random Sig: 3064023075ddbd456365bed6cc3638274a0a754927ee3b55043518c2a3847c4e4933e0b61454b21dcd4620723bc5786efe07b4fc0230468c338deffc5d11565aff8e4b792a6fff89edafe7fd1660b665a16f40cf25df9c5751bf35200afd7f4c6f8a6dd09f04
# Deterministic Sig: 306502304d3fa2d8c49bc113db8c64bc16484b78363b12935a2292f8851dcb6ecd8334d472b17a55e26f8a4d535c6c1494361f26023100819fde10c59983065382ba84a30113b2ebae26eb1322f37cde6a2ef3d0a0eb3c32d8591334fc6b8f5e7e3c1562c340c3
# brainpoolP512r1 (explicit, hybrid public point)
# Random Sig: 308184024045ffcbf12a31e0559c50474bdbf05a3beaf07ca86de121e3471f4b9c3c116a81cf7a8f55dedea19fc16458788452e7440303753eb5f33a1ffcaa00fc389f73870240236da27da2f9882874b737420b975f5e230a7e66a2de826cb769e91798e10fe61e5c7bde80f34704634c7ee7a232e0188bacec1d907caa3ccffed5f5384c3932
# Deterministic Sig: 3081840240245857e741ca78977555e66100abb98d53f0315be7b0c186bf48241c430ae9a16c8338f8180a481572e5896c15aab5f3b7c865d7ff319670f5ea96e44eda346a02405201f31f6b3d4150f4b5266aa819192041415b2a4b98f21749e9cfb3969c94825573fd08b983b124186df79bd5b1ccd5ebc229e1ec0ddbd8fb01dfc686066e1e
# brainpoolP512t1 (explicit, hybrid public point)
# Random Sig: 3081840240293bf6c6d178e337fc62bf9962d32c445df2668d2ad7f0bef59133d31b8acd3b543b462028fd9b11f262be80534f181002cfd5821298f4f804b12f03647ae4830240031204e34dd94703a26722fbe7bca99f05d7c61f0726b1608a7150b5c0f6ec0c248d7be7db4d0256747668d48322ae237a01805a873adc949f669a2138124bab
# Deterministic Sig: 308184024013f98e227c1e99f7f090d5f32dc829726f666e13e1f68d17e948499fd090f542a870fd72117860282d3dc386fef95344fb4f7c56db328c3ca535b98d7991fb4d02403d695066a263d9892c57dd044b94c5a2581fe591df203878b6efaa99e9091ff6e23139d639533b39af3b4a62ee859bd0bc5cd0db9564012a1f7ea491a761793c
# c2pnb163v1 (explicit, hybrid public point)
# c2pnb163v2 (explicit, hybrid public point)
# c2pnb163v3 (explicit, hybrid public point)
# c2pnb176v1 (explicit, hybrid public point)
# c2pnb208w1 (explicit, hybrid public point)
# c2pnb272w1 (explicit, hybrid public point)
# c2pnb304w1 (explicit, hybrid public point)
# c2pnb368w1 (explicit, hybrid public point)
# c2tnb191v1 (explicit, hybrid public point)
# c2tnb191v2 (explicit, hybrid public point)
# c2tnb191v3 (explicit, hybrid public point)
# c2tnb239v1 (explicit, hybrid public point)
# c2tnb239v2 (explicit, hybrid public point)
# c2tnb239v3 (explicit, hybrid public point)
# c2tnb359v1 (explicit, hybrid public point)
# c2tnb431r1 (explicit, hybrid public point)
# prime192v1 (explicit, hybrid public point)
# Random Sig: 3034021865a683ed0d3b1b25c08b1c5cfd2ca13170794ebac46035cf021839691c1ceed2c2d58e439a5e94a0a19f2e5dba96f4a97dd5
# Deterministic Sig: 3036021900890568de476199a131b8868926a64c3d616ee1d9943f2e60021900993624093ef87e08362062233ea64384de3b70fb9340704a
# prime192v2 (explicit, hybrid public point)
# Random Sig: 303402187109e4e6b18e30b7fd4019b8469ee239e2496bf135f4962102186c6b958d969e9e1f48445e9225380f462007667630abfac6
# Deterministic Sig: 3035021900bb5804d32a20566c08e78e1fc98151db5a95a55c968e62bf02186728acd860fcf9e2dd1dc8c303b7d4bb47fbee2f396a100f
# prime192v3 (explicit, hybrid public point)
# Random Sig: 303602190092815a690f77805686e266e793aef9f3143e3facdc399774021900c8504773ef2a904b4c17de19755bfa972f4f873c69ccf633
# Deterministic Sig: 3035021845d7950a51a3456d131d0501ccc96567245aafd7d01abdfc021900cea9c6b29db3560eeece32f234a5a454fb497f9e9b4019f3
# prime239v1 (explicit, hybrid public point)
# Random Sig: 3040021e3dcfaa775a394618502ee0da887839fbfbd74dcaec35facc7bc395d67d8e021e3a7544b954dd30def8aea031fda359bd789a2fdfd39b8b9b032aca96e3b7
# Deterministic Sig: 3040021e32ca5a52ff8e9cd1fe4b44617be897f2ef2376248ee1be274c195eca4f67021e4f3a5edb01586bf588f50f21b2c94db93224caeb5afa5699a98e706ca8cb
# prime239v2 (explicit, hybrid public point)
# Random Sig: 3040021e433b973618f8d259cbf6b0b905181e903ab60f1a0fcdf6ae8993749f136f021e21a36dd5a7b68a781b7860095ac8f3418c07f8d6d99401d5f252dfbb2827
# Deterministic Sig: 3040021e7652b83171b0115080a3689a9777b3d63ec58921f6da1214d2cdee87fbde021e1fd89a65bdb437d8d488bda5b806bb1aa871edfea5462bcd32cd308519c7
# prime239v3 (explicit, hybrid public point)
# Random Sig: 3040021e509274887be9606678ce318e9f393ce2654077ea1cf2ea55dd0a6e7f6cd5021e701020c2b5dcc3c33492c2c79201a1dbf19709f7c41b960d027682d82bff
# Deterministic Sig: 3040021e578f5c07dea1bf06dae8a3df7194acc4bd991b49a3f3a4c2735b12bcfefe021e1fc666e9c2b87c576da6a4325a01c7b3b1316aa23fce2792d7e3d8eca778
# prime256v1 (explicit, hybrid public point)
# Random Sig: 3045022100d94c0c810c44f7838a13093f901c8383d929956f0e912773828e00a3457fecbf022015b35e9efbab95dc1ca330702c338f3fbe7e669e40e1d2c66cdb05fff0c44382
# Deterministic Sig: 304502202c6f75bdf1e39afb338b258e63e8ef9c14fa5a2ee49be4d3c7d0fedf3f69b6d5022100e14f7277d0437a6eff169934c5239a007bea32665148a6ea9771fd6b22056014
# secp112r1 (explicit, hybrid public point)
# secp112r2 (explicit, hybrid public point)
# secp128r1 (explicit, hybrid public point)
# secp128r2 (explicit, hybrid public point)
# secp160k1 (explicit, hybrid public point)
# Random Sig: 302d021500af44fd5138dbb1ead8bdedf79d68cb5e5841973f021416c036d161b422ee567ad8be860dea5316a76fdf
# Deterministic Sig: 302e021500a2e87173513feef003989bfaa553248d5595a43e021500e792a97e968849df190a76ada96f6c0a1669d6f7
# secp160r1 (explicit, hybrid public point)
# Random Sig: 302e021500a76fcf5f24dd6860ef47dce41fa443b816b5bb99021500d2ed1091fbb9b36a0bfeb28953bbf536f1a9e739
# Deterministic Sig: 302c0214462b000649a5423fa3cc9896655c09ea4f165c2402145a97380bd5489f905e6ad6fa069f3c97f7af575a
# secp160r2 (explicit, hybrid public point)
# Random Sig: 302e0215009b2fb5179aff0f0b4626105c920c4a9ca2343a31021500c7c125740d9bea34fbd84716db22ab9535fef0ea
# Deterministic Sig: 302c021441194482f5df02486ec28542fab3aa3cc657d36302147cfc0500c22a2be554363374c31354a022a4eb5b
# secp192k1 (explicit, hybrid public point)
# Random Sig: 3036021900ab5cfce36a9ba2bf8268bbfc5c426feac841b69f28b9d627021900b620e676ac01a1f1c312a7100d221782de9ca397deda9fa2
# Deterministic Sig: 3036021900b5d7c5391f68d31a9e3fa20e035a8f4472c4d17908894d5702190096eab71099393dc39b5be897682adb4c9d0621acd8ec5d88
# secp224k1 (explicit, hybrid public point)
# Random Sig: 303e021d00f7b997bb1023db8438a3e7ac46fe30f6a1bb55f9490791c9642ce2cd021d00e2b0dc13b9e190995dc4a2d764cf3be7e92e5a150776d59032462dc2
# Deterministic Sig: 303e021d00b3b3a5dfc649e003cb35f041d9e7df39e147ab645b4e33cdc61330aa021d00fc69c5c8efe615691aea8bbf550937edffcb94cb20aaaaeed3b8b124
# secp224r1 (explicit, hybrid public point)
# Random Sig: 303d021c24b3c10f6dbe62775d187ff87c5d03982f9e0fa4901dea1dc339ecba021d00f200b9ef03ef8bc88147c3f66732d8a71bd4200c4ff892295e567cce
# Deterministic Sig: 303d021c3398196e26e43485b76f3b2d7fe10af04a6a066c5f62bec516977e25021d00fc6eb877007c44db01c8c53e51d6c2faaea7bb85d5915fbe9ffa7afa
# secp256k1 (explicit, hybrid public point)
# Random Sig: 3045022016a4f31166d5a92dc912d63698caf5a9f93b5ecc32df7cf125bdd3b8cf60031b022100b24949467e94de67194a8b3046456fa765d9e1fc6de41b166f410055e3a8c26c
# Deterministic Sig: 304402206c7cc6fcc2486e6642ef56729460ddc69b35c0902d17adc6ff46c564996f69b5022047fb7b90d9f38f9513795c6632fe2dccf1fd2433325c4c4b0f41488b5b0109fe
# secp384r1 (explicit, hybrid public point)
# Random Sig: 3066023100d9328cea16f7d8bbf43732f83828e7bfdb16a0e94f8d6f751835861a10c5d29bd7d5b52bf4b38e0e358d7d036e1d01660231008795eb03245b2155fc2e7a774c5ea89939fd69524d7daedb5c8615ab6489a2c8a44a01a1cdfaa997cc7e6c4c56138dce
# Deterministic Sig: 306402303274b0de3ed6032bc74319234994e9482c1ee9bdd9288318a899f45437bb69d33ef4985f56ce16bb9463fb627a8c781c02301f4454e5774394fe06685e203fbd4bde8beb3b37f3bea6419188d29367f7f3b6efc6bab3926b3039a1414f2e7d19bffe
# secp521r1 (explicit, hybrid public point)
# Random Sig: 30818602413b67da3936d17ae7443b3707a37e0a9e85e7a359a34c05b8ac23accae8ffc2e81ff38cd3789110c57070c62a5a2be701fd116ad37080be221a8d8e23c384daa0540241719159a291d03592c10ec2466f781b7f0dd5063203cb6cf763a43c10b94c428167e350875bcb9922832e4f0a5c7d33a27e447d774146f6ff05fc459ef0f2cd61e1
# Deterministic Sig: 308188024200ea178a0f9ab4b3ba626195dd949bc3789c1775799423a8fa977312a8c14d478e541a25ecaac3acbe72e37a6b8ef79e3d432e5bf01c9793eb4be3143607ff2cfe8a024201c8cae04e9dfa1b1089334328bfbc6927f28103995c9a5b0454dd7078ebc84898a6d10041cd87f3f9bda076b05cf115e1d3b4d837669a40a3cb2036748fc3a57368
# sect113r1 (explicit, hybrid public point)
# sect113r2 (explicit, hybrid public point)
# sect131r1 (explicit, hybrid public point)
# sect131r2 (explicit, hybrid public point)
# sect163k1 (explicit, hybrid public point)
# sect163r1 (explicit, hybrid public point)
# sect163r2 (explicit, hybrid public point)
# sect193r1 (explicit, hybrid public point)
# sect193r2 (explicit, hybrid public point)
# sect233k1 (explicit, hybrid public point)
# sect233r1 (explicit, hybrid public point)
# sect239k1 (explicit, hybrid public point)
# sect283k1 (explicit, hybrid public point)
# sect283r1 (explicit, hybrid public point)
# sect409k1 (explicit, hybrid public point)
# sect409r1 (explicit, hybrid public point)
# sect571k1 (explicit, hybrid public point)
# sect571r1 (explicit, hybrid public point)
# wap-wsg-idm-ecid-wtls1 (explicit, hybrid public point)
# wap-wsg-idm-ecid-wtls10 (explicit, hybrid public point)
# wap-wsg-idm-ecid-wtls11 (explicit, hybrid public point)
# wap-wsg-idm-ecid-wtls12 (explicit, hybrid public point)
# Random Sig: 303e021d00f48ae06fa8ecf3b6227223e8f714383c09bac8b53dcc59ba44c97f63021d00d33b8a6cf91617632afc18458802574458fb810d93a45255901d6fdb
# Deterministic Sig: 303d021d00f4205f52dacba06af1a10d3047810e93e96a2eb70095743fc8ff4f29021c45ec673bbe898361be0d1624e1c6126e39f8bfafd5f64ce00688efec
# wap-wsg-idm-ecid-wtls3 (explicit, hybrid public point)
# wap-wsg-idm-ecid-wtls4 (explicit, hybrid public point)
# wap-wsg-idm-ecid-wtls5 (explicit, hybrid public point)
# wap-wsg-idm-ecid-wtls6 (explicit, hybrid public point)
# wap-wsg-idm-ecid-wtls7 (explicit, hybrid public point)
# Random Sig: 302c021413c58c552170088252c92bc79626e9672c9984f102142c40cc1136293f62258adc87a89a08679cb00d73
# Deterministic Sig: 302c02146767c66d3a0baa0a870eb0e91b172924fb71893f02145fa2bf03787dde173363537dc188e1b6eca18849
# wap-wsg-idm-ecid-wtls8 (explicit, hybrid public point)
# wap-wsg-idm-ecid-wtls9 (explicit, hybrid public point)
# Random Sig: 302d021500989c94d229a6884f1cef6c5d43779b54d6d323880214667e882094a023719f6c3a92c3fa7fe06068b6e9
# Deterministic Sig: 302d021500fcb4fca37cb3fec392aeeae0fa627483c98571be021463a84a8ed3b8e4c02fefbf9c59619ee5a88ee019
# {
#   'c2pnb163v1 (explicit, compressed public point)' => 'Crypt::Perl::X::ECDSA::CharacteristicTwoUnsupported',
#   'c2pnb163v1 (explicit, hybrid public point)' => 'Crypt::Perl::X::ECDSA::CharacteristicTwoUnsupported',
#   'c2pnb163v1 (explicit, uncompressed public point)' => 'Crypt::Perl::X::ECDSA::CharacteristicTwoUnsupported',
#   'c2pnb163v1 (named_curve, compressed public point)' => 'Crypt::Perl::X::ECDSA::NoCurveForOID',
#   'c2pnb163v1 (named_curve, hybrid public point)' => 'Crypt::Perl::X::ECDSA::NoCurveForOID',
#   'c2pnb163v1 (named_curve, uncompressed public point)' => 'Crypt::Perl::X::ECDSA::NoCurveForOID',
#   'c2pnb163v2 (explicit, compressed public point)' => 'Crypt::Perl::X::ECDSA::CharacteristicTwoUnsupported',
#   'c2pnb163v2 (explicit, hybrid public point)' => 'Crypt::Perl::X::ECDSA::CharacteristicTwoUnsupported',
#   'c2pnb163v2 (explicit, uncompressed public point)' => 'Crypt::Perl::X::ECDSA::CharacteristicTwoUnsupported',
#   'c2pnb163v2 (named_curve, compressed public point)' => 'Crypt::Perl::X::ECDSA::NoCurveForOID',
#   'c2pnb163v2 (named_curve, hybrid public point)' => 'Crypt::Perl::X::ECDSA::NoCurveForOID',
#   'c2pnb163v2 (named_curve, uncompressed public point)' => 'Crypt::Perl::X::ECDSA::NoCurveForOID',
#   'c2pnb163v3 (explicit, compressed public point)' => 'Crypt::Perl::X::ECDSA::CharacteristicTwoUnsupported',
#   'c2pnb163v3 (explicit, hybrid public point)' => 'Crypt::Perl::X::ECDSA::CharacteristicTwoUnsupported',
#   'c2pnb163v3 (explicit, uncompressed public point)' => 'Crypt::Perl::X::ECDSA::CharacteristicTwoUnsupported',
#   'c2pnb163v3 (named_curve, compressed public point)' => 'Crypt::Perl::X::ECDSA::NoCurveForOID',
#   'c2pnb163v3 (named_curve, hybrid public point)' => 'Crypt::Perl::X::ECDSA::NoCurveForOID',
#   'c2pnb163v3 (named_curve, uncompressed public point)' => 'Crypt::Perl::X::ECDSA::NoCurveForOID',
#   'c2pnb176v1 (explicit, compressed public point)' => 'Crypt::Perl::X::ECDSA::CharacteristicTwoUnsupported',
#   'c2pnb176v1 (explicit, hybrid public point)' => 'Crypt::Perl::X::ECDSA::CharacteristicTwoUnsupported',
#   'c2pnb176v1 (explicit, uncompressed public point)' => 'Crypt::Perl::X::ECDSA::CharacteristicTwoUnsupported',
#   'c2pnb176v1 (named_curve, compressed public point)' => 'Crypt::Perl::X::ECDSA::NoCurveForOID',
#   'c2pnb176v1 (named_curve, hybrid public point)' => 'Crypt::Perl::X::ECDSA::NoCurveForOID',
#   'c2pnb176v1 (named_curve, uncompressed public point)' => 'Crypt::Perl::X::ECDSA::NoCurveForOID',
#   'c2pnb208w1 (explicit, compressed public point)' => 'Crypt::Perl::X::ECDSA::CharacteristicTwoUnsupported',
#   'c2pnb208w1 (explicit, hybrid public point)' => 'Crypt::Perl::X::ECDSA::CharacteristicTwoUnsupported',
#   'c2pnb208w1 (explicit, uncompressed public point)' => 'Crypt::Perl::X::ECDSA::CharacteristicTwoUnsupported',
#   'c2pnb208w1 (named_curve, compressed public point)' => 'Crypt::Perl::X::ECDSA::NoCurveForOID',
#   'c2pnb208w1 (named_curve, hybrid public point)' => 'Crypt::Perl::X::ECDSA::NoCurveForOID',
#   'c2pnb208w1 (named_curve, uncompressed public point)' => 'Crypt::Perl::X::ECDSA::NoCurveForOID',
#   'c2pnb272w1 (explicit, compressed public point)' => 'Crypt::Perl::X::ECDSA::CharacteristicTwoUnsupported',
#   'c2pnb272w1 (explicit, hybrid public point)' => 'Crypt::Perl::X::ECDSA::CharacteristicTwoUnsupported',
#   'c2pnb272w1 (explicit, uncompressed public point)' => 'Crypt::Perl::X::ECDSA::CharacteristicTwoUnsupported',
#   'c2pnb272w1 (named_curve, compressed public point)' => 'Crypt::Perl::X::ECDSA::NoCurveForOID',
#   'c2pnb272w1 (named_curve, hybrid public point)' => 'Crypt::Perl::X::ECDSA::NoCurveForOID',
#   'c2pnb272w1 (named_curve, uncompressed public point)' => 'Crypt::Perl::X::ECDSA::NoCurveForOID',
#   'c2pnb304w1 (explicit, compressed public point)' => 'Crypt::Perl::X::ECDSA::CharacteristicTwoUnsupported',
#   'c2pnb304w1 (explicit, hybrid public point)' => 'Crypt::Perl::X::ECDSA::CharacteristicTwoUnsupported',
#   'c2pnb304w1 (explicit, uncompressed public point)' => 'Crypt::Perl::X::ECDSA::CharacteristicTwoUnsupported',
#   'c2pnb304w1 (named_curve, compressed public point)' => 'Crypt::Perl::X::ECDSA::NoCurveForOID',
#   'c2pnb304w1 (named_curve, hybrid public point)' => 'Crypt::Perl::X::ECDSA::NoCurveForOID',
#   'c2pnb304w1 (named_curve, uncompressed public point)' => 'Crypt::Perl::X::ECDSA::NoCurveForOID',
#   'c2pnb368w1 (explicit, compressed public point)' => 'Crypt::Perl::X::ECDSA::CharacteristicTwoUnsupported',
#   'c2pnb368w1 (explicit, hybrid public point)' => 'Crypt::Perl::X::ECDSA::CharacteristicTwoUnsupported',
#   'c2pnb368w1 (explicit, uncompressed public point)' => 'Crypt::Perl::X::ECDSA::CharacteristicTwoUnsupported',
#   'c2pnb368w1 (named_curve, compressed public point)' => 'Crypt::Perl::X::ECDSA::NoCurveForOID',
#   'c2pnb368w1 (named_curve, hybrid public point)' => 'Crypt::Perl::X::ECDSA::NoCurveForOID',
#   'c2pnb368w1 (named_curve, uncompressed public point)' => 'Crypt::Perl::X::ECDSA::NoCurveForOID',
#   'c2tnb191v1 (explicit, compressed public point)' => 'Crypt::Perl::X::ECDSA::CharacteristicTwoUnsupported',
#   'c2tnb191v1 (explicit, hybrid public point)' => 'Crypt::Perl::X::ECDSA::CharacteristicTwoUnsupported',
#   'c2tnb191v1 (explicit, uncompressed public point)' => 'Crypt::Perl::X::ECDSA::CharacteristicTwoUnsupported',
#   'c2tnb191v1 (named_curve, compressed public point)' => 'Crypt::Perl::X::ECDSA::NoCurveForOID',
#   'c2tnb191v1 (named_curve, hybrid public point)' => 'Crypt::Perl::X::ECDSA::NoCurveForOID',
#   'c2tnb191v1 (named_curve, uncompressed public point)' => 'Crypt::Perl::X::ECDSA::NoCurveForOID',
#   'c2tnb191v2 (explicit, compressed public point)' => 'Crypt::Perl::X::ECDSA::CharacteristicTwoUnsupported',
#   'c2tnb191v2 (explicit, hybrid public point)' => 'Crypt::Perl::X::ECDSA::CharacteristicTwoUnsupported',
#   'c2tnb191v2 (explicit, uncompressed public point)' => 'Crypt::Perl::X::ECDSA::CharacteristicTwoUnsupported',
#   'c2tnb191v2 (named_curve, compressed public point)' => 'Crypt::Perl::X::ECDSA::NoCurveForOID',
#   'c2tnb191v2 (named_curve, hybrid public point)' => 'Crypt::Perl::X::ECDSA::NoCurveForOID',
#   'c2tnb191v2 (named_curve, uncompressed public point)' => 'Crypt::Perl::X::ECDSA::NoCurveForOID',
#   'c2tnb191v3 (explicit, compressed public point)' => 'Crypt::Perl::X::ECDSA::CharacteristicTwoUnsupported',
#   'c2tnb191v3 (explicit, hybrid public point)' => 'Crypt::Perl::X::ECDSA::CharacteristicTwoUnsupported',
#   'c2tnb191v3 (explicit, uncompressed public point)' => 'Crypt::Perl::X::ECDSA::CharacteristicTwoUnsupported',
#   'c2tnb191v3 (named_curve, compressed public point)' => 'Crypt::Perl::X::ECDSA::NoCurveForOID',
#   'c2tnb191v3 (named_curve, hybrid public point)' => 'Crypt::Perl::X::ECDSA::NoCurveForOID',
#   'c2tnb191v3 (named_curve, uncompressed public point)' => 'Crypt::Perl::X::ECDSA::NoCurveForOID',
#   'c2tnb239v1 (explicit, compressed public point)' => 'Crypt::Perl::X::ECDSA::CharacteristicTwoUnsupported',
#   'c2tnb239v1 (explicit, hybrid public point)' => 'Crypt::Perl::X::ECDSA::CharacteristicTwoUnsupported',
#   'c2tnb239v1 (explicit, uncompressed public point)' => 'Crypt::Perl::X::ECDSA::CharacteristicTwoUnsupported',
#   'c2tnb239v1 (named_curve, compressed public point)' => 'Crypt::Perl::X::ECDSA::NoCurveForOID',
#   'c2tnb239v1 (named_curve, hybrid public point)' => 'Crypt::Perl::X::ECDSA::NoCurveForOID',
#   'c2tnb239v1 (named_curve, uncompressed public point)' => 'Crypt::Perl::X::ECDSA::NoCurveForOID',
#   'c2tnb239v2 (explicit, compressed public point)' => 'Crypt::Perl::X::ECDSA::CharacteristicTwoUnsupported',
#   'c2tnb239v2 (explicit, hybrid public point)' => 'Crypt::Perl::X::ECDSA::CharacteristicTwoUnsupported',
#   'c2tnb239v2 (explicit, uncompressed public point)' => 'Crypt::Perl::X::ECDSA::CharacteristicTwoUnsupported',
#   'c2tnb239v2 (named_curve, compressed public point)' => 'Crypt::Perl::X::ECDSA::NoCurveForOID',
#   'c2tnb239v2 (named_curve, hybrid public point)' => 'Crypt::Perl::X::ECDSA::NoCurveForOID',
#   'c2tnb239v2 (named_curve, uncompressed public point)' => 'Crypt::Perl::X::ECDSA::NoCurveForOID',
#   'c2tnb239v3 (explicit, compressed public point)' => 'Crypt::Perl::X::ECDSA::CharacteristicTwoUnsupported',
#   'c2tnb239v3 (explicit, hybrid public point)' => 'Crypt::Perl::X::ECDSA::CharacteristicTwoUnsupported',
#   'c2tnb239v3 (explicit, uncompressed public point)' => 'Crypt::Perl::X::ECDSA::CharacteristicTwoUnsupported',
#   'c2tnb239v3 (named_curve, compressed public point)' => 'Crypt::Perl::X::ECDSA::NoCurveForOID',
#   'c2tnb239v3 (named_curve, hybrid public point)' => 'Crypt::Perl::X::ECDSA::NoCurveForOID',
#   'c2tnb239v3 (named_curve, uncompressed public point)' => 'Crypt::Perl::X::ECDSA::NoCurveForOID',
#   'c2tnb359v1 (explicit, compressed public point)' => 'Crypt::Perl::X::ECDSA::CharacteristicTwoUnsupported',
#   'c2tnb359v1 (explicit, hybrid public point)' => 'Crypt::Perl::X::ECDSA::CharacteristicTwoUnsupported',
#   'c2tnb359v1 (explicit, uncompressed public point)' => 'Crypt::Perl::X::ECDSA::CharacteristicTwoUnsupported',
#   'c2tnb359v1 (named_curve, compressed public point)' => 'Crypt::Perl::X::ECDSA::NoCurveForOID',
#   'c2tnb359v1 (named_curve, hybrid public point)' => 'Crypt::Perl::X::ECDSA::NoCurveForOID',
#   'c2tnb359v1 (named_curve, uncompressed public point)' => 'Crypt::Perl::X::ECDSA::NoCurveForOID',
#   'c2tnb431r1 (explicit, compressed public point)' => 'Crypt::Perl::X::ECDSA::CharacteristicTwoUnsupported',
#   'c2tnb431r1 (explicit, hybrid public point)' => 'Crypt::Perl::X::ECDSA::CharacteristicTwoUnsupported',
#   'c2tnb431r1 (explicit, uncompressed public point)' => 'Crypt::Perl::X::ECDSA::CharacteristicTwoUnsupported',
#   'c2tnb431r1 (named_curve, compressed public point)' => 'Crypt::Perl::X::ECDSA::NoCurveForOID',
#   'c2tnb431r1 (named_curve, hybrid public point)' => 'Crypt::Perl::X::ECDSA::NoCurveForOID',
#   'c2tnb431r1 (named_curve, uncompressed public point)' => 'Crypt::Perl::X::ECDSA::NoCurveForOID',
#   'secp112r1 (explicit, compressed public point)' => 'Crypt::Perl::X::TooLongToSign',
#   'secp112r1 (explicit, hybrid public point)' => 'Crypt::Perl::X::TooLongToSign',
#   'secp112r1 (explicit, uncompressed public point)' => 'Crypt::Perl::X::TooLongToSign',
#   'secp112r1 (named_curve, compressed public point)' => 'Crypt::Perl::X::TooLongToSign',
#   'secp112r1 (named_curve, hybrid public point)' => 'Crypt::Perl::X::TooLongToSign',
#   'secp112r1 (named_curve, uncompressed public point)' => 'Crypt::Perl::X::TooLongToSign',
#   'secp112r2 (explicit, compressed public point)' => 'Crypt::Perl::X::TooLongToSign',
#   'secp112r2 (explicit, hybrid public point)' => 'Crypt::Perl::X::TooLongToSign',
#   'secp112r2 (explicit, uncompressed public point)' => 'Crypt::Perl::X::TooLongToSign',
#   'secp112r2 (named_curve, compressed public point)' => 'Crypt::Perl::X::TooLongToSign',
#   'secp112r2 (named_curve, hybrid public point)' => 'Crypt::Perl::X::TooLongToSign',
#   'secp112r2 (named_curve, uncompressed public point)' => 'Crypt::Perl::X::TooLongToSign',
#   'secp128r1 (explicit, compressed public point)' => 'Crypt::Perl::X::TooLongToSign',
#   'secp128r1 (explicit, hybrid public point)' => 'Crypt::Perl::X::TooLongToSign',
#   'secp128r1 (explicit, uncompressed public point)' => 'Crypt::Perl::X::TooLongToSign',
#   'secp128r1 (named_curve, compressed public point)' => 'Crypt::Perl::X::TooLongToSign',
#   'secp128r1 (named_curve, hybrid public point)' => 'Crypt::Perl::X::TooLongToSign',
#   'secp128r1 (named_curve, uncompressed public point)' => 'Crypt::Perl::X::TooLongToSign',
#   'secp128r2 (explicit, compressed public point)' => 'Crypt::Perl::X::TooLongToSign',
#   'secp128r2 (explicit, hybrid public point)' => 'Crypt::Perl::X::TooLongToSign',
#   'secp128r2 (explicit, uncompressed public point)' => 'Crypt::Perl::X::TooLongToSign',
#   'secp128r2 (named_curve, compressed public point)' => 'Crypt::Perl::X::TooLongToSign',
#   'secp128r2 (named_curve, hybrid public point)' => 'Crypt::Perl::X::TooLongToSign',
#   'secp128r2 (named_curve, uncompressed public point)' => 'Crypt::Perl::X::TooLongToSign',
#   'sect113r1 (explicit, compressed public point)' => 'Crypt::Perl::X::ECDSA::CharacteristicTwoUnsupported',
#   'sect113r1 (explicit, hybrid public point)' => 'Crypt::Perl::X::ECDSA::CharacteristicTwoUnsupported',
#   'sect113r1 (explicit, uncompressed public point)' => 'Crypt::Perl::X::ECDSA::CharacteristicTwoUnsupported',
#   'sect113r1 (named_curve, compressed public point)' => 'Crypt::Perl::X::ECDSA::NoCurveForOID',
#   'sect113r1 (named_curve, hybrid public point)' => 'Crypt::Perl::X::ECDSA::NoCurveForOID',
#   'sect113r1 (named_curve, uncompressed public point)' => 'Crypt::Perl::X::ECDSA::NoCurveForOID',
#   'sect113r2 (explicit, compressed public point)' => 'Crypt::Perl::X::ECDSA::CharacteristicTwoUnsupported',
#   'sect113r2 (explicit, hybrid public point)' => 'Crypt::Perl::X::ECDSA::CharacteristicTwoUnsupported',
#   'sect113r2 (explicit, uncompressed public point)' => 'Crypt::Perl::X::ECDSA::CharacteristicTwoUnsupported',
#   'sect113r2 (named_curve, compressed public point)' => 'Crypt::Perl::X::ECDSA::NoCurveForOID',
#   'sect113r2 (named_curve, hybrid public point)' => 'Crypt::Perl::X::ECDSA::NoCurveForOID',
#   'sect113r2 (named_curve, uncompressed public point)' => 'Crypt::Perl::X::ECDSA::NoCurveForOID',
#   'sect131r1 (explicit, compressed public point)' => 'Crypt::Perl::X::ECDSA::CharacteristicTwoUnsupported',
#   'sect131r1 (explicit, hybrid public point)' => 'Crypt::Perl::X::ECDSA::CharacteristicTwoUnsupported',
#   'sect131r1 (explicit, uncompressed public point)' => 'Crypt::Perl::X::ECDSA::CharacteristicTwoUnsupported',
#   'sect131r1 (named_curve, compressed public point)' => 'Crypt::Perl::X::ECDSA::NoCurveForOID',
#   'sect131r1 (named_curve, hybrid public point)' => 'Crypt::Perl::X::ECDSA::NoCurveForOID',
#   'sect131r1 (named_curve, uncompressed public point)' => 'Crypt::Perl::X::ECDSA::NoCurveForOID',
#   'sect131r2 (explicit, compressed public point)' => 'Crypt::Perl::X::ECDSA::CharacteristicTwoUnsupported',
#   'sect131r2 (explicit, hybrid public point)' => 'Crypt::Perl::X::ECDSA::CharacteristicTwoUnsupported',
#   'sect131r2 (explicit, uncompressed public point)' => 'Crypt::Perl::X::ECDSA::CharacteristicTwoUnsupported',
#   'sect131r2 (named_curve, compressed public point)' => 'Crypt::Perl::X::ECDSA::NoCurveForOID',
#   'sect131r2 (named_curve, hybrid public point)' => 'Crypt::Perl::X::ECDSA::NoCurveForOID',
#   'sect131r2 (named_curve, uncompressed public point)' => 'Crypt::Perl::X::ECDSA::NoCurveForOID',
#   'sect163k1 (explicit, compressed public point)' => 'Crypt::Perl::X::ECDSA::CharacteristicTwoUnsupported',
#   'sect163k1 (explicit, hybrid public point)' => 'Crypt::Perl::X::ECDSA::CharacteristicTwoUnsupported',
#   'sect163k1 (explicit, uncompressed public point)' => 'Crypt::Perl::X::ECDSA::CharacteristicTwoUnsupported',
#   'sect163k1 (named_curve, compressed public point)' => 'Crypt::Perl::X::ECDSA::NoCurveForOID',
#   'sect163k1 (named_curve, hybrid public point)' => 'Crypt::Perl::X::ECDSA::NoCurveForOID',
#   'sect163k1 (named_curve, uncompressed public point)' => 'Crypt::Perl::X::ECDSA::NoCurveForOID',
#   'sect163r1 (explicit, compressed public point)' => 'Crypt::Perl::X::ECDSA::CharacteristicTwoUnsupported',
#   'sect163r1 (explicit, hybrid public point)' => 'Crypt::Perl::X::ECDSA::CharacteristicTwoUnsupported',
#   'sect163r1 (explicit, uncompressed public point)' => 'Crypt::Perl::X::ECDSA::CharacteristicTwoUnsupported',
#   'sect163r1 (named_curve, compressed public point)' => 'Crypt::Perl::X::ECDSA::NoCurveForOID',
#   'sect163r1 (named_curve, hybrid public point)' => 'Crypt::Perl::X::ECDSA::NoCurveForOID',
#   'sect163r1 (named_curve, uncompressed public point)' => 'Crypt::Perl::X::ECDSA::NoCurveForOID',
#   'sect163r2 (explicit, compressed public point)' => 'Crypt::Perl::X::ECDSA::CharacteristicTwoUnsupported',
#   'sect163r2 (explicit, hybrid public point)' => 'Crypt::Perl::X::ECDSA::CharacteristicTwoUnsupported',
#   'sect163r2 (explicit, uncompressed public point)' => 'Crypt::Perl::X::ECDSA::CharacteristicTwoUnsupported',
#   'sect163r2 (named_curve, compressed public point)' => 'Crypt::Perl::X::ECDSA::NoCurveForOID',
#   'sect163r2 (named_curve, hybrid public point)' => 'Crypt::Perl::X::ECDSA::NoCurveForOID',
#   'sect163r2 (named_curve, uncompressed public point)' => 'Crypt::Perl::X::ECDSA::NoCurveForOID',
#   'sect193r1 (explicit, compressed public point)' => 'Crypt::Perl::X::ECDSA::CharacteristicTwoUnsupported',
#   'sect193r1 (explicit, hybrid public point)' => 'Crypt::Perl::X::ECDSA::CharacteristicTwoUnsupported',
#   'sect193r1 (explicit, uncompressed public point)' => 'Crypt::Perl::X::ECDSA::CharacteristicTwoUnsupported',
#   'sect193r1 (named_curve, compressed public point)' => 'Crypt::Perl::X::ECDSA::NoCurveForOID',
#   'sect193r1 (named_curve, hybrid public point)' => 'Crypt::Perl::X::ECDSA::NoCurveForOID',
#   'sect193r1 (named_curve, uncompressed public point)' => 'Crypt::Perl::X::ECDSA::NoCurveForOID',
#   'sect193r2 (explicit, compressed public point)' => 'Crypt::Perl::X::ECDSA::CharacteristicTwoUnsupported',
#   'sect193r2 (explicit, hybrid public point)' => 'Crypt::Perl::X::ECDSA::CharacteristicTwoUnsupported',
#   'sect193r2 (explicit, uncompressed public point)' => 'Crypt::Perl::X::ECDSA::CharacteristicTwoUnsupported',
#   'sect193r2 (named_curve, compressed public point)' => 'Crypt::Perl::X::ECDSA::NoCurveForOID',
#   'sect193r2 (named_curve, hybrid public point)' => 'Crypt::Perl::X::ECDSA::NoCurveForOID',
#   'sect193r2 (named_curve, uncompressed public point)' => 'Crypt::Perl::X::ECDSA::NoCurveForOID',
#   'sect233k1 (explicit, compressed public point)' => 'Crypt::Perl::X::ECDSA::CharacteristicTwoUnsupported',
#   'sect233k1 (explicit, hybrid public point)' => 'Crypt::Perl::X::ECDSA::CharacteristicTwoUnsupported',
#   'sect233k1 (explicit, uncompressed public point)' => 'Crypt::Perl::X::ECDSA::CharacteristicTwoUnsupported',
#   'sect233k1 (named_curve, compressed public point)' => 'Crypt::Perl::X::ECDSA::NoCurveForOID',
#   'sect233k1 (named_curve, hybrid public point)' => 'Crypt::Perl::X::ECDSA::NoCurveForOID',
#   'sect233k1 (named_curve, uncompressed public point)' => 'Crypt::Perl::X::ECDSA::NoCurveForOID',
#   'sect233r1 (explicit, compressed public point)' => 'Crypt::Perl::X::ECDSA::CharacteristicTwoUnsupported',
#   'sect233r1 (explicit, hybrid public point)' => 'Crypt::Perl::X::ECDSA::CharacteristicTwoUnsupported',
#   'sect233r1 (explicit, uncompressed public point)' => 'Crypt::Perl::X::ECDSA::CharacteristicTwoUnsupported',
#   'sect233r1 (named_curve, compressed public point)' => 'Crypt::Perl::X::ECDSA::NoCurveForOID',
#   'sect233r1 (named_curve, hybrid public point)' => 'Crypt::Perl::X::ECDSA::NoCurveForOID',
#   'sect233r1 (named_curve, uncompressed public point)' => 'Crypt::Perl::X::ECDSA::NoCurveForOID',
#   'sect239k1 (explicit, compressed public point)' => 'Crypt::Perl::X::ECDSA::CharacteristicTwoUnsupported',
#   'sect239k1 (explicit, hybrid public point)' => 'Crypt::Perl::X::ECDSA::CharacteristicTwoUnsupported',
#   'sect239k1 (explicit, uncompressed public point)' => 'Crypt::Perl::X::ECDSA::CharacteristicTwoUnsupported',
#   'sect239k1 (named_curve, compressed public point)' => 'Crypt::Perl::X::ECDSA::NoCurveForOID',
#   'sect239k1 (named_curve, hybrid public point)' => 'Crypt::Perl::X::ECDSA::NoCurveForOID',
#   'sect239k1 (named_curve, uncompressed public point)' => 'Crypt::Perl::X::ECDSA::NoCurveForOID',
#   'sect283k1 (explicit, compressed public point)' => 'Crypt::Perl::X::ECDSA::CharacteristicTwoUnsupported',
#   'sect283k1 (explicit, hybrid public point)' => 'Crypt::Perl::X::ECDSA::CharacteristicTwoUnsupported',
#   'sect283k1 (explicit, uncompressed public point)' => 'Crypt::Perl::X::ECDSA::CharacteristicTwoUnsupported',
#   'sect283k1 (named_curve, compressed public point)' => 'Crypt::Perl::X::ECDSA::NoCurveForOID',
#   'sect283k1 (named_curve, hybrid public point)' => 'Crypt::Perl::X::ECDSA::NoCurveForOID',
#   'sect283k1 (named_curve, uncompressed public point)' => 'Crypt::Perl::X::ECDSA::NoCurveForOID',
#   'sect283r1 (explicit, compressed public point)' => 'Crypt::Perl::X::ECDSA::CharacteristicTwoUnsupported',
#   'sect283r1 (explicit, hybrid public point)' => 'Crypt::Perl::X::ECDSA::CharacteristicTwoUnsupported',
#   'sect283r1 (explicit, uncompressed public point)' => 'Crypt::Perl::X::ECDSA::CharacteristicTwoUnsupported',
#   'sect283r1 (named_curve, compressed public point)' => 'Crypt::Perl::X::ECDSA::NoCurveForOID',
#   'sect283r1 (named_curve, hybrid public point)' => 'Crypt::Perl::X::ECDSA::NoCurveForOID',
#   'sect283r1 (named_curve, uncompressed public point)' => 'Crypt::Perl::X::ECDSA::NoCurveForOID',
#   'sect409k1 (explicit, compressed public point)' => 'Crypt::Perl::X::ECDSA::CharacteristicTwoUnsupported',
#   'sect409k1 (explicit, hybrid public point)' => 'Crypt::Perl::X::ECDSA::CharacteristicTwoUnsupported',
#   'sect409k1 (explicit, uncompressed public point)' => 'Crypt::Perl::X::ECDSA::CharacteristicTwoUnsupported',
#   'sect409k1 (named_curve, compressed public point)' => 'Crypt::Perl::X::ECDSA::NoCurveForOID',
#   'sect409k1 (named_curve, hybrid public point)' => 'Crypt::Perl::X::ECDSA::NoCurveForOID',
#   'sect409k1 (named_curve, uncompressed public point)' => 'Crypt::Perl::X::ECDSA::NoCurveForOID',
#   'sect409r1 (explicit, compressed public point)' => 'Crypt::Perl::X::ECDSA::CharacteristicTwoUnsupported',
#   'sect409r1 (explicit, hybrid public point)' => 'Crypt::Perl::X::ECDSA::CharacteristicTwoUnsupported',
#   'sect409r1 (explicit, uncompressed public point)' => 'Crypt::Perl::X::ECDSA::CharacteristicTwoUnsupported',
#   'sect409r1 (named_curve, compressed public point)' => 'Crypt::Perl::X::ECDSA::NoCurveForOID',
#   'sect409r1 (named_curve, hybrid public point)' => 'Crypt::Perl::X::ECDSA::NoCurveForOID',
#   'sect409r1 (named_curve, uncompressed public point)' => 'Crypt::Perl::X::ECDSA::NoCurveForOID',
#   'sect571k1 (explicit, compressed public point)' => 'Crypt::Perl::X::ECDSA::CharacteristicTwoUnsupported',
#   'sect571k1 (explicit, hybrid public point)' => 'Crypt::Perl::X::ECDSA::CharacteristicTwoUnsupported',
#   'sect571k1 (explicit, uncompressed public point)' => 'Crypt::Perl::X::ECDSA::CharacteristicTwoUnsupported',
#   'sect571k1 (named_curve, compressed public point)' => 'Crypt::Perl::X::ECDSA::NoCurveForOID',
#   'sect571k1 (named_curve, hybrid public point)' => 'Crypt::Perl::X::ECDSA::NoCurveForOID',
#   'sect571k1 (named_curve, uncompressed public point)' => 'Crypt::Perl::X::ECDSA::NoCurveForOID',
#   'sect571r1 (explicit, compressed public point)' => 'Crypt::Perl::X::ECDSA::CharacteristicTwoUnsupported',
#   'sect571r1 (explicit, hybrid public point)' => 'Crypt::Perl::X::ECDSA::CharacteristicTwoUnsupported',
#   'sect571r1 (explicit, uncompressed public point)' => 'Crypt::Perl::X::ECDSA::CharacteristicTwoUnsupported',
#   'sect571r1 (named_curve, compressed public point)' => 'Crypt::Perl::X::ECDSA::NoCurveForOID',
#   'sect571r1 (named_curve, hybrid public point)' => 'Crypt::Perl::X::ECDSA::NoCurveForOID',
#   'sect571r1 (named_curve, uncompressed public point)' => 'Crypt::Perl::X::ECDSA::NoCurveForOID',
#   'wap-wsg-idm-ecid-wtls1 (explicit, compressed public point)' => 'Crypt::Perl::X::ECDSA::CharacteristicTwoUnsupported',
#   'wap-wsg-idm-ecid-wtls1 (explicit, hybrid public point)' => 'Crypt::Perl::X::ECDSA::CharacteristicTwoUnsupported',
#   'wap-wsg-idm-ecid-wtls1 (explicit, uncompressed public point)' => 'Crypt::Perl::X::ECDSA::CharacteristicTwoUnsupported',
#   'wap-wsg-idm-ecid-wtls1 (named_curve, compressed public point)' => 'Crypt::Perl::X::ECDSA::NoCurveForOID',
#   'wap-wsg-idm-ecid-wtls1 (named_curve, hybrid public point)' => 'Crypt::Perl::X::ECDSA::NoCurveForOID',
#   'wap-wsg-idm-ecid-wtls1 (named_curve, uncompressed public point)' => 'Crypt::Perl::X::ECDSA::NoCurveForOID',
#   'wap-wsg-idm-ecid-wtls10 (explicit, compressed public point)' => 'Crypt::Perl::X::ECDSA::CharacteristicTwoUnsupported',
#   'wap-wsg-idm-ecid-wtls10 (explicit, hybrid public point)' => 'Crypt::Perl::X::ECDSA::CharacteristicTwoUnsupported',
#   'wap-wsg-idm-ecid-wtls10 (explicit, uncompressed public point)' => 'Crypt::Perl::X::ECDSA::CharacteristicTwoUnsupported',
#   'wap-wsg-idm-ecid-wtls10 (named_curve, compressed public point)' => 'Crypt::Perl::X::ECDSA::NoCurveForOID',
#   'wap-wsg-idm-ecid-wtls10 (named_curve, hybrid public point)' => 'Crypt::Perl::X::ECDSA::NoCurveForOID',
#   'wap-wsg-idm-ecid-wtls10 (named_curve, uncompressed public point)' => 'Crypt::Perl::X::ECDSA::NoCurveForOID',
#   'wap-wsg-idm-ecid-wtls11 (explicit, compressed public point)' => 'Crypt::Perl::X::ECDSA::CharacteristicTwoUnsupported',
#   'wap-wsg-idm-ecid-wtls11 (explicit, hybrid public point)' => 'Crypt::Perl::X::ECDSA::CharacteristicTwoUnsupported',
#   'wap-wsg-idm-ecid-wtls11 (explicit, uncompressed public point)' => 'Crypt::Perl::X::ECDSA::CharacteristicTwoUnsupported',
#   'wap-wsg-idm-ecid-wtls11 (named_curve, compressed public point)' => 'Crypt::Perl::X::ECDSA::NoCurveForOID',
#   'wap-wsg-idm-ecid-wtls11 (named_curve, hybrid public point)' => 'Crypt::Perl::X::ECDSA::NoCurveForOID',
#   'wap-wsg-idm-ecid-wtls11 (named_curve, uncompressed public point)' => 'Crypt::Perl::X::ECDSA::NoCurveForOID',
#   'wap-wsg-idm-ecid-wtls3 (explicit, compressed public point)' => 'Crypt::Perl::X::ECDSA::CharacteristicTwoUnsupported',
#   'wap-wsg-idm-ecid-wtls3 (explicit, hybrid public point)' => 'Crypt::Perl::X::ECDSA::CharacteristicTwoUnsupported',
#   'wap-wsg-idm-ecid-wtls3 (explicit, uncompressed public point)' => 'Crypt::Perl::X::ECDSA::CharacteristicTwoUnsupported',
#   'wap-wsg-idm-ecid-wtls3 (named_curve, compressed public point)' => 'Crypt::Perl::X::ECDSA::NoCurveForOID',
#   'wap-wsg-idm-ecid-wtls3 (named_curve, hybrid public point)' => 'Crypt::Perl::X::ECDSA::NoCurveForOID',
#   'wap-wsg-idm-ecid-wtls3 (named_curve, uncompressed public point)' => 'Crypt::Perl::X::ECDSA::NoCurveForOID',
#   'wap-wsg-idm-ecid-wtls4 (explicit, compressed public point)' => 'Crypt::Perl::X::ECDSA::CharacteristicTwoUnsupported',
#   'wap-wsg-idm-ecid-wtls4 (explicit, hybrid public point)' => 'Crypt::Perl::X::ECDSA::CharacteristicTwoUnsupported',
#   'wap-wsg-idm-ecid-wtls4 (explicit, uncompressed public point)' => 'Crypt::Perl::X::ECDSA::CharacteristicTwoUnsupported',
#   'wap-wsg-idm-ecid-wtls4 (named_curve, compressed public point)' => 'Crypt::Perl::X::ECDSA::NoCurveForOID',
#   'wap-wsg-idm-ecid-wtls4 (named_curve, hybrid public point)' => 'Crypt::Perl::X::ECDSA::NoCurveForOID',
#   'wap-wsg-idm-ecid-wtls4 (named_curve, uncompressed public point)' => 'Crypt::Perl::X::ECDSA::NoCurveForOID',
#   'wap-wsg-idm-ecid-wtls5 (explicit, compressed public point)' => 'Crypt::Perl::X::ECDSA::CharacteristicTwoUnsupported',
#   'wap-wsg-idm-ecid-wtls5 (explicit, hybrid public point)' => 'Crypt::Perl::X::ECDSA::CharacteristicTwoUnsupported',
#   'wap-wsg-idm-ecid-wtls5 (explicit, uncompressed public point)' => 'Crypt::Perl::X::ECDSA::CharacteristicTwoUnsupported',
#   'wap-wsg-idm-ecid-wtls5 (named_curve, compressed public point)' => 'Crypt::Perl::X::ECDSA::NoCurveForOID',
#   'wap-wsg-idm-ecid-wtls5 (named_curve, hybrid public point)' => 'Crypt::Perl::X::ECDSA::NoCurveForOID',
#   'wap-wsg-idm-ecid-wtls5 (named_curve, uncompressed public point)' => 'Crypt::Perl::X::ECDSA::NoCurveForOID',
#   'wap-wsg-idm-ecid-wtls6 (explicit, compressed public point)' => 'Crypt::Perl::X::TooLongToSign',
#   'wap-wsg-idm-ecid-wtls6 (explicit, hybrid public point)' => 'Crypt::Perl::X::TooLongToSign',
#   'wap-wsg-idm-ecid-wtls6 (explicit, uncompressed public point)' => 'Crypt::Perl::X::TooLongToSign',
#   'wap-wsg-idm-ecid-wtls6 (named_curve, compressed public point)' => 'Crypt::Perl::X::TooLongToSign',
#   'wap-wsg-idm-ecid-wtls6 (named_curve, hybrid public point)' => 'Crypt::Perl::X::TooLongToSign',
#   'wap-wsg-idm-ecid-wtls6 (named_curve, uncompressed public point)' => 'Crypt::Perl::X::TooLongToSign',
#   'wap-wsg-idm-ecid-wtls8 (explicit, compressed public point)' => 'Crypt::Perl::X::TooLongToSign',
#   'wap-wsg-idm-ecid-wtls8 (explicit, hybrid public point)' => 'Crypt::Perl::X::TooLongToSign',
#   'wap-wsg-idm-ecid-wtls8 (explicit, uncompressed public point)' => 'Crypt::Perl::X::TooLongToSign',
#   'wap-wsg-idm-ecid-wtls8 (named_curve, compressed public point)' => 'Crypt::Perl::X::TooLongToSign',
#   'wap-wsg-idm-ecid-wtls8 (named_curve, hybrid public point)' => 'Crypt::Perl::X::TooLongToSign',
#   'wap-wsg-idm-ecid-wtls8 (named_curve, uncompressed public point)' => 'Crypt::Perl::X::TooLongToSign'
# }
t/Crypt-Perl-ECDSA-PrivateKey.t ................... ok
# Looking for OpenSSL binary …
# Found OpenSSL: /usr/bin/openssl
# OpenSSL 1.1.1n  15 Mar 2022
# options:  bn(64,64) rc4(8x,char) des(int) blowfish(ptr) 
# compiler: gcc -fPIC -pthread -m64 -Wa,--noexecstack -Wall -Wa,--noexecstack -g -O2 -ffile-prefix-map=/build/openssl-qQYEec/openssl-1.1.1n=. -fstack-protector-strong -Wformat -Werror=format-security -DOPENSSL_USE_NODELETE -DL_ENDIAN -DOPENSSL_PIC -DOPENSSL_CPUID_OBJ -DOPENSSL_IA32_SSE2 -DOPENSSL_BN_ASM_MONT -DOPENSSL_BN_ASM_MONT5 -DOPENSSL_BN_ASM_GF2m -DSHA1_ASM -DSHA256_ASM -DSHA512_ASM -DKECCAK1600_ASM -DRC4_ASM -DMD5_ASM -DAESNI_ASM -DVPAES_ASM -DGHASH_ASM -DECP_NISTZ256_ASM -DX25519_ASM -DPOLY1305_ASM -DNDEBUG -Wdate-time -D_FORTIFY_SOURCE=2
# Math::BigInt 1.999818 (backend: Math::BigInt::Calc 1.999818)
read EC key
writing EC key
t/Crypt-Perl-ECDSA-PublicKey.t .................... ok
t/Crypt-Perl-Ed25519-Math.t ....................... ok
t/Crypt-Perl-Ed25519-Parse.t ...................... ok
t/Crypt-Perl-Ed25519-PrivateKey.t ................. ok
# Math::BigInt 1.999818 (backend: Math::BigInt::Calc 1.999818)
t/Crypt-Perl-Math.t ............................... ok
# Math::BigInt 1.999818 (backend: Math::BigInt::Calc 1.999818)
t/Crypt-Perl-PK.t ................................. ok
# Math::BigInt 1.999818 (backend: Math::BigInt::Calc 1.999818)
t/Crypt-Perl-PKCS10-Attribute-extensionRequest.t .. ok
# Looking for OpenSSL binary …
# Found OpenSSL: /usr/bin/openssl
# OpenSSL 1.1.1n  15 Mar 2022
# options:  bn(64,64) rc4(8x,char) des(int) blowfish(ptr) 
# compiler: gcc -fPIC -pthread -m64 -Wa,--noexecstack -Wall -Wa,--noexecstack -g -O2 -ffile-prefix-map=/build/openssl-qQYEec/openssl-1.1.1n=. -fstack-protector-strong -Wformat -Werror=format-security -DOPENSSL_USE_NODELETE -DL_ENDIAN -DOPENSSL_PIC -DOPENSSL_CPUID_OBJ -DOPENSSL_IA32_SSE2 -DOPENSSL_BN_ASM_MONT -DOPENSSL_BN_ASM_MONT5 -DOPENSSL_BN_ASM_GF2m -DSHA1_ASM -DSHA256_ASM -DSHA512_ASM -DKECCAK1600_ASM -DRC4_ASM -DMD5_ASM -DAESNI_ASM -DVPAES_ASM -DGHASH_ASM -DECP_NISTZ256_ASM -DX25519_ASM -DPOLY1305_ASM -DNDEBUG -Wdate-time -D_FORTIFY_SOURCE=2
# Checking /usr/bin/openssl for ed25519 support …
Algorithm ed25519" not found
# /usr/bin/openssl does not support ed25519.
# Math::BigInt 1.999818 (backend: Math::BigInt::Calc 1.999818)
Generating RSA private key, 1024 bit long modulus (2 primes)
..........+++++
.............+++++
e is 65537 (0x010001)
Generating RSA private key, 2048 bit long modulus (2 primes)
.........................................................................+++++
...................+++++
e is 65537 (0x010001)
read EC key
writing EC key
read EC key
writing EC key
read EC key
writing EC key
read EC key
writing EC key
read EC key
writing EC key
read EC key
writing EC key
read EC key
writing EC key
t/Crypt-Perl-PKCS10.t ............................. ok
# Looking for OpenSSL binary …
# Found OpenSSL: /usr/bin/openssl
# OpenSSL 1.1.1n  15 Mar 2022
# options:  bn(64,64) rc4(8x,char) des(int) blowfish(ptr) 
# compiler: gcc -fPIC -pthread -m64 -Wa,--noexecstack -Wall -Wa,--noexecstack -g -O2 -ffile-prefix-map=/build/openssl-qQYEec/openssl-1.1.1n=. -fstack-protector-strong -Wformat -Werror=format-security -DOPENSSL_USE_NODELETE -DL_ENDIAN -DOPENSSL_PIC -DOPENSSL_CPUID_OBJ -DOPENSSL_IA32_SSE2 -DOPENSSL_BN_ASM_MONT -DOPENSSL_BN_ASM_MONT5 -DOPENSSL_BN_ASM_GF2m -DSHA1_ASM -DSHA256_ASM -DSHA512_ASM -DKECCAK1600_ASM -DRC4_ASM -DMD5_ASM -DAESNI_ASM -DVPAES_ASM -DGHASH_ASM -DECP_NISTZ256_ASM -DX25519_ASM -DPOLY1305_ASM -DNDEBUG -Wdate-time -D_FORTIFY_SOURCE=2
# Math::BigInt 1.999818 (backend: Math::BigInt::FastCalc 0.5009)
# Your Crypt::Perl::BigInt backend is “Math::BigInt::FastCalc”.
# Key generation 1 (exponent=65537) …
writing RSA key
# Key generation 2 (exponent=3) …
writing RSA key
# Key generation 3 (exponent=65537) …
writing RSA key
# Key generation 4 (exponent=65537) …
writing RSA key
# Key generation 5 (exponent=65537) …
writing RSA key
# Key generation 6 (exponent=65537) …
writing RSA key
# Key generation 7 (exponent=3) …
writing RSA key
# Key generation 8 (exponent=3) …
writing RSA key
# Key generation 9 (exponent=3) …
writing RSA key
# Key generation 10 (exponent=65537) …
writing RSA key
# Key generation 11 (exponent=65537) …
writing RSA key
# Key generation 12 (exponent=3) …
writing RSA key
# Key generation 13 (exponent=3) …
writing RSA key
# Key generation 14 (exponent=3) …
writing RSA key
# Key generation 15 (exponent=65537) …
writing RSA key
# Key generation 16 (exponent=3) …
writing RSA key
# Key generation 17 (exponent=65537) …
writing RSA key
# Key generation 18 (exponent=65537) …
writing RSA key
# Key generation 19 (exponent=3) …
writing RSA key
# Key generation 20 (exponent=3) …
writing RSA key
# Key generation 21 (exponent=65537) …
writing RSA key
# Key generation 22 (exponent=65537) …
writing RSA key
# Key generation 23 (exponent=3) …
writing RSA key
# Key generation 24 (exponent=3) …
writing RSA key
# Key generation 25 (exponent=65537) …
writing RSA key
# Key generation 26 (exponent=65537) …
writing RSA key
# Key generation 27 (exponent=65537) …
writing RSA key
# Key generation 28 (exponent=3) …
writing RSA key
# Key generation 29 (exponent=65537) …
writing RSA key
# Key generation 30 (exponent=65537) …
writing RSA key
# Key generation 31 (exponent=3) …
writing RSA key
# Key generation 32 (exponent=3) …
writing RSA key
# Key generation 33 (exponent=3) …
writing RSA key
# Key generation 34 (exponent=3) …
writing RSA key
# Key generation 35 (exponent=65537) …
writing RSA key
# Key generation 36 (exponent=3) …
writing RSA key
# Key generation 37 (exponent=65537) …
writing RSA key
# Key generation 38 (exponent=3) …
writing RSA key
# Key generation 39 (exponent=3) …
writing RSA key
# Key generation 40 (exponent=65537) …
writing RSA key
# Key generation 41 (exponent=3) …
writing RSA key
# Key generation 42 (exponent=3) …
writing RSA key
# Key generation 43 (exponent=3) …
writing RSA key
# Key generation 44 (exponent=3) …
writing RSA key
# Key generation 45 (exponent=65537) …
writing RSA key
# Key generation 46 (exponent=65537) …
writing RSA key
# Key generation 47 (exponent=3) …
writing RSA key
# Key generation 48 (exponent=3) …
writing RSA key
# Key generation 49 (exponent=65537) …
writing RSA key
# Key generation 50 (exponent=65537) …
writing RSA key
t/Crypt-Perl-RSA-Generate.t ....................... ok
# Math::BigInt 1.999818 (backend: Math::BigInt::Calc 1.999818)
t/Crypt-Perl-RSA-Parse.t .......................... ok
t/Crypt-Perl-RSA-PKCS1_v1_5.t ..................... ok
# Math::BigInt 1.999818 (backend: Math::BigInt::Calc 1.999818)
t/Crypt-Perl-RSA-PrivateKey.t ..................... ok
# Math::BigInt 1.999818 (backend: Math::BigInt::Calc 1.999818)
t/Crypt-Perl-RSA-PublicKey.t ...................... ok
# Math::BigInt 1.999818 (backend: Math::BigInt::Calc 1.999818)
t/Crypt-Perl-X509-Extension-subjectAltName.t ...... ok
t/Crypt-Perl-X509-SCT.t ........................... ok
# Looking for OpenSSL binary …
# Found OpenSSL: /usr/bin/openssl
# OpenSSL 1.1.1n  15 Mar 2022
# options:  bn(64,64) rc4(8x,char) des(int) blowfish(ptr) 
# compiler: gcc -fPIC -pthread -m64 -Wa,--noexecstack -Wall -Wa,--noexecstack -g -O2 -ffile-prefix-map=/build/openssl-qQYEec/openssl-1.1.1n=. -fstack-protector-strong -Wformat -Werror=format-security -DOPENSSL_USE_NODELETE -DL_ENDIAN -DOPENSSL_PIC -DOPENSSL_CPUID_OBJ -DOPENSSL_IA32_SSE2 -DOPENSSL_BN_ASM_MONT -DOPENSSL_BN_ASM_MONT5 -DOPENSSL_BN_ASM_GF2m -DSHA1_ASM -DSHA256_ASM -DSHA512_ASM -DKECCAK1600_ASM -DRC4_ASM -DMD5_ASM -DAESNI_ASM -DVPAES_ASM -DGHASH_ASM -DECP_NISTZ256_ASM -DX25519_ASM -DPOLY1305_ASM -DNDEBUG -Wdate-time -D_FORTIFY_SOURCE=2
# Checking /usr/bin/openssl for ed25519 support …
Algorithm ed25519" not found
# /usr/bin/openssl does not support ed25519.
# Math::BigInt 1.999818 (backend: Math::BigInt::Calc 1.999818)
# self-sign - RSA
# two RSAs
# self-sign - ECC
# two ECCs
# subject RSA, signer ECC
# subject ECC, signer RSA
t/Crypt-Perl-X509v3.t ............................. ok
# Looking for OpenSSL binary …
# Found OpenSSL: /usr/bin/openssl
# OpenSSL 1.1.1n  15 Mar 2022
# options:  bn(64,64) rc4(8x,char) des(int) blowfish(ptr) 
# compiler: gcc -fPIC -pthread -m64 -Wa,--noexecstack -Wall -Wa,--noexecstack -g -O2 -ffile-prefix-map=/build/openssl-qQYEec/openssl-1.1.1n=. -fstack-protector-strong -Wformat -Werror=format-security -DOPENSSL_USE_NODELETE -DL_ENDIAN -DOPENSSL_PIC -DOPENSSL_CPUID_OBJ -DOPENSSL_IA32_SSE2 -DOPENSSL_BN_ASM_MONT -DOPENSSL_BN_ASM_MONT5 -DOPENSSL_BN_ASM_GF2m -DSHA1_ASM -DSHA256_ASM -DSHA512_ASM -DKECCAK1600_ASM -DRC4_ASM -DMD5_ASM -DAESNI_ASM -DVPAES_ASM -DGHASH_ASM -DECP_NISTZ256_ASM -DX25519_ASM -DPOLY1305_ASM -DNDEBUG -Wdate-time -D_FORTIFY_SOURCE=2
# Checking /usr/bin/openssl for ed25519 support …
Algorithm ed25519" not found
# /usr/bin/openssl does not support ed25519.
t/Crypt-Perl-X509v3_ed25519.t ..................... ok
# Parsing...
t/ecdsa_verify_small_r_and_s.t .................... ok
All tests successful.
Files=26, Tests=3921, 37290 wallclock secs ( 0.89 usr  0.10 sys + 5838.65 cusr 12.12 csys = 5851.76 CPU)
Result: PASS

------------------------------
PREREQUISITES
------------------------------

Prerequisite modules loaded:

requires:

    Module                        Need     Have    
    ----------------------------- -------- --------
    autodie                       0        2.32    
    Bytes::Random::Secure::Tiny   1.008    1.011   
    Class::Accessor::Fast         0.34     0.51    
    Convert::ASN1                 0.27     0.33    
    Crypt::Format                 0.12     0.12    
    Digest::SHA                   0        6.02    
    Math::BigInt                  1.999818 1.999818
    Math::ProvablePrime           0.51     0.51    
    MIME::Base64                  3.11     3.15    
    parent                        0.225    0.238   
    perl                          5.008000 5.032001
    Symbol::Get                   0.02     0.10    
    Try::Tiny                     0        0.31    

build_requires:

    Module                        Need     Have    
    ----------------------------- -------- --------
    Call::Context                 0        0.03    
    ExtUtils::MakeMaker           0        7.64    
    File::Slurp                   0        9999.32 
    File::Which                   0        1.27    
    Test::Class                   0.4      0.52    
    Test::Deep                    0        1.130   
    Test::Exception               0.40     0.43    
    Test::FailWarnings            0        0.008   
    Test::More                    0        1.302191

configure_requires:

    Module                        Need     Have    
    ----------------------------- -------- --------
    ExtUtils::MakeMaker::CPANfile 0.09     0.09    


------------------------------
ENVIRONMENT AND OTHER CONTEXT
------------------------------

Environment variables:

    AUTOMATED_TESTING = 1
    LANG = en_GB.UTF-8
    LANGUAGE = en_GB:en
    LC_TERMINAL = iTerm2
    LC_TERMINAL_VERSION = 3.4.16
    NONINTERACTIVE_TESTING = 1
    PATH = /home/david/perl5/perlbrew/bin:/home/david/perl5/perlbrew/perls/perl-5.30.2/bin:/home/david/bin:/usr/local/bin:/usr/bin:/bin:/usr/local/games:/usr/games
    PERL = 5.32.1
    PERL5LIB = 
    PERL5OPT = 
    PERL5_CPANPLUS_IS_RUNNING = 856253
    PERL5_CPAN_IS_RUNNING = 856253
    PERLBREW_HOME = /home/david/.perlbrew
    PERLBREW_MANPATH = /home/david/perl5/perlbrew/perls/perl-5.30.2/man
    PERLBREW_PATH = /home/david/perl5/perlbrew/bin:/home/david/perl5/perlbrew/perls/perl-5.30.2/bin
    PERLBREW_PERL = perl-5.30.2
    PERLBREW_ROOT = /home/david/perl5/perlbrew
    PERLBREW_SHELLRC_VERSION = 0.89
    PERLBREW_VERSION = 0.89
    PERLVER = 5.32.1
    PERL_INLINE_DIRECTORY = /home/david/.Inline-5.32.1
    PERL_MM_USE_DEFAULT = 1
    PERL_USE_UNSAFE_INC = 0
    SHELL = /bin/bash
    TERM = screen

Perl special variables (and OS-specific diagnostics, for MSWin32):

    $^X = /home/david/cpantesting/perl-5.32.1/bin/perl
    $UID/$EUID = 1000 / 1000
    $GID = 1000 24 25 27 29 30 44 46 109 1000
    $EGID = 1000 24 25 27 29 30 44 46 109 1000

Perl module toolchain versions installed:

    Module              Have    
    ------------------- --------
    CPAN                2.27    
    CPAN::Meta          2.150010
    Cwd                 3.78    
    ExtUtils::CBuilder  0.280234
    ExtUtils::Command   7.64    
    ExtUtils::Install   2.14    
    ExtUtils::MakeMaker 7.64    
    ExtUtils::Manifest  1.72    
    ExtUtils::ParseXS   3.40    
    File::Spec          3.78    
    JSON                4.10    
    JSON::PP            4.04    
    Module::Build       0.4231  
    Module::Signature   n/a     
    Parse::CPAN::Meta   2.150010
    Test::Harness       3.42    
    Test::More          1.302191
    YAML                1.30    
    YAML::Syck          1.34    
    version             0.9924  


--

Summary of my perl5 (revision 5 version 32 subversion 1) configuration:
   
  Platform:
    osname=linux
    osvers=5.10.0-11-amd64
    archname=x86_64-linux-thread-multi
    uname='linux cpantesting-linux-utm 5.10.0-11-amd64 #1 smp debian 5.10.92-1 (2022-01-18) x86_64 gnulinux '
    config_args='-de -Dprefix=/home/david/cpantesting/perl-5.32.1 -Dusethreads'
    hint=recommended
    useposix=true
    d_sigaction=define
    useithreads=define
    usemultiplicity=define
    use64bitint=define
    use64bitall=define
    uselongdouble=undef
    usemymalloc=n
    default_inc_excludes_dot=define
    bincompat5005=undef
  Compiler:
    cc='cc'
    ccflags ='-D_REENTRANT -D_GNU_SOURCE -fwrapv -fno-strict-aliasing -pipe -fstack-protector-strong -I/usr/local/include -D_LARGEFILE_SOURCE -D_FILE_OFFSET_BITS=64 -D_FORTIFY_SOURCE=2'
    optimize='-O2'
    cppflags='-D_REENTRANT -D_GNU_SOURCE -fwrapv -fno-strict-aliasing -pipe -fstack-protector-strong -I/usr/local/include'
    ccversion=''
    gccversion='10.2.1 20210110'
    gccosandvers=''
    intsize=4
    longsize=8
    ptrsize=8
    doublesize=8
    byteorder=12345678
    doublekind=3
    d_longlong=define
    longlongsize=8
    d_longdbl=define
    longdblsize=16
    longdblkind=3
    ivtype='long'
    ivsize=8
    nvtype='double'
    nvsize=8
    Off_t='off_t'
    lseeksize=8
    alignbytes=8
    prototype=define
  Linker and Libraries:
    ld='cc'
    ldflags =' -fstack-protector-strong -L/usr/local/lib'
    libpth=/usr/local/lib /usr/include/x86_64-linux-gnu /usr/lib /lib/x86_64-linux-gnu /lib/../lib /usr/lib/x86_64-linux-gnu /usr/lib/../lib /lib /lib64 /usr/lib64
    libs=-lpthread -lnsl -ldl -lm -lcrypt -lutil -lc
    perllibs=-lpthread -lnsl -ldl -lm -lcrypt -lutil -lc
    libc=libc-2.31.so
    so=so
    useshrplib=false
    libperl=libperl.a
    gnulibc_version='2.31'
  Dynamic Linking:
    dlsrc=dl_dlopen.xs
    dlext=so
    d_dlsymun=undef
    ccdlflags='-Wl,-E'
    cccdlflags='-fPIC'
    lddlflags='-shared -O2 -L/usr/local/lib -fstack-protector-strong'


Characteristics of this binary (from libperl): 
  Compile-time options:
    HAS_TIMES
    MULTIPLICITY
    PERLIO_LAYERS
    PERL_COPY_ON_WRITE
    PERL_DONT_CREATE_GVSV
    PERL_IMPLICIT_CONTEXT
    PERL_MALLOC_WRAP
    PERL_OP_PARENT
    PERL_PRESERVE_IVUV
    USE_64_BIT_ALL
    USE_64_BIT_INT
    USE_ITHREADS
    USE_LARGE_FILES
    USE_LOCALE
    USE_LOCALE_COLLATE
    USE_LOCALE_CTYPE
    USE_LOCALE_NUMERIC
    USE_LOCALE_TIME
    USE_PERLIO
    USE_PERL_ATOF
    USE_REENTRANT_API
    USE_THREAD_SAFE_LOCALE
  Built under linux
  Compiled at Feb  5 2022 21:10:07
  %ENV:
    PERL="5.32.1"
    PERL5LIB=""
    PERL5OPT=""
    PERL5_CPANPLUS_IS_RUNNING="856253"
    PERL5_CPAN_IS_RUNNING="856253"
    PERLBREW_HOME="/home/david/.perlbrew"
    PERLBREW_MANPATH="/home/david/perl5/perlbrew/perls/perl-5.30.2/man"
    PERLBREW_PATH="/home/david/perl5/perlbrew/bin:/home/david/perl5/perlbrew/perls/perl-5.30.2/bin"
    PERLBREW_PERL="perl-5.30.2"
    PERLBREW_ROOT="/home/david/perl5/perlbrew"
    PERLBREW_SHELLRC_VERSION="0.89"
    PERLBREW_VERSION="0.89"
    PERLVER="5.32.1"
    PERL_INLINE_DIRECTORY="/home/david/.Inline-5.32.1"
    PERL_MM_USE_DEFAULT="1"
    PERL_USE_UNSAFE_INC="0"
  @INC:
    /home/david/cpantesting/perl-5.32.1/lib/site_perl/5.32.1/x86_64-linux-thread-multi
    /home/david/cpantesting/perl-5.32.1/lib/site_perl/5.32.1
    /home/david/cpantesting/perl-5.32.1/lib/5.32.1/x86_64-linux-thread-multi
    /home/david/cpantesting/perl-5.32.1/lib/5.32.1