Back
From: metabase:user:30f4dfbe-2aae-11df-837a-5e0a49663a4f
Subject: PASS App-SmokeBox-PerlVersion-0.16 v5.23.3 OpenBSD
Date: 2015-10-31T22:00:37Z
This distribution has been tested as part of the CPAN Testers
project, supporting the Perl programming language. See
http://wiki.cpantesters.org/ for more information or email
questions to cpan-testers-discuss@perl.org
--
Dear Chris Williams,
This is a computer-generated report for App-SmokeBox-PerlVersion-0.16
on perl 5.23.3, created by CPAN-Reporter-1.2015.
Thank you for uploading your work to CPAN. Congratulations!
All tests were successful.
Sections of this report:
* Tester comments
* Program output
* Prerequisites
* Environment and other context
------------------------------
TESTER COMMENTS
------------------------------
Additional comments from tester:
none provided
------------------------------
PROGRAM OUTPUT
------------------------------
Output from '/usr/bin/make test':
PERL_DL_NONLAZY=1 "/home/njh/perl5/perlbrew/perls/perl-5.23.3/bin/perl5.23.3" "-MExtUtils::Command::MM" "-MTest::Harness" "-e" "undef *Test::Harness::Switches; test_harness(0, 'blib/lib', 'blib/arch')" t/*.t
t/00-compile.t ............ ok
# Using Perl /home/njh/perl5/perlbrew/perls/perl-5.23.3/bin/perl5.23.3
#
# This is perl 5, version 23, subversion 3 (v5.23.3) built for OpenBSD.amd64-openbsd-thread-multi
#
# Copyright 1987-2015, Larry Wall
#
# Perl may be copied only under the terms of either the Artistic License or the
# GNU General Public License, which may be found in the Perl 5 source kit.
#
# Complete documentation for Perl, including FAQ lists, should be found on
# this system using "man perl" or "perldoc perl". If you have access to the
# Internet, point your browser at http://www.perl.org/, the Perl Home Page.
#
t/01-event.t .............. ok
# Using Perl /home/njh/perl5/perlbrew/perls/perl-5.23.3/bin/perl5.23.3
#
# This is perl 5, version 23, subversion 3 (v5.23.3) built for OpenBSD.amd64-openbsd-thread-multi
#
# Copyright 1987-2015, Larry Wall
#
# Perl may be copied only under the terms of either the Artistic License or the
# GNU General Public License, which may be found in the Perl 5 source kit.
#
# Complete documentation for Perl, including FAQ lists, should be found on
# this system using "man perl" or "perldoc perl". If you have access to the
# Internet, point your browser at http://www.perl.org/, the Perl Home Page.
#
t/02-postback.t ........... ok
t/release-pod-coverage.t .. skipped: these tests are for release candidate testing
t/release-pod-syntax.t .... skipped: these tests are for release candidate testing
All tests successful.
Files=5, Tests=17, 0 wallclock secs ( 0.01 usr 0.03 sys + 0.35 cusr 0.14 csys = 0.53 CPU)
Result: PASS
------------------------------
PREREQUISITES
------------------------------
Prerequisite modules loaded:
requires:
Module Need Have
------------------- ----- --------
IPC::Cmd 0 0.92
POE 1.293 1.367
POE::Wheel::Run 0 1.367
build_requires:
Module Need Have
------------------- ----- --------
File::Spec 0 3.58
IO::Handle 0 1.35
IPC::Open3 0 1.19
Test::More 0 1.001014
configure_requires:
Module Need Have
------------------- ----- --------
ExtUtils::MakeMaker 6.30 7.10
------------------------------
ENVIRONMENT AND OTHER CONTEXT
------------------------------
Environment variables:
LD_LIBRARY_PATH = /usr/local/lib:
PATH = /home/njh/perl5/perlbrew/bin:/home/njh/perl5/perlbrew/perls/perl-5.23.3/bin:/usr/bin:/bin:/usr/sbin:/sbin:/usr/X11R6/bin:/usr/local/bin:/usr/local/sbin:/home/njh/bin
PERL5LIB =
PERL5OPT =
PERL5_CPANPLUS_IS_RUNNING = 21552
PERL5_CPAN_IS_RUNNING = 21552
PERLBREW_BASHRC_VERSION = 0.73
PERLBREW_HOME = /home/njh/.perlbrew
PERLBREW_MANPATH = /home/njh/perl5/perlbrew/perls/perl-5.23.3/man
PERLBREW_PATH = /home/njh/perl5/perlbrew/bin:/home/njh/perl5/perlbrew/perls/perl-5.23.3/bin
PERLBREW_PERL = perl-5.23.3
PERLBREW_ROOT = /home/njh/perl5/perlbrew
PERLBREW_VERSION = 0.73
SHELL = /usr/local/bin/bash
TERM = xterm
TMPDIR = /tmp
Perl special variables (and OS-specific diagnostics, for MSWin32):
$^X = /home/njh/perl5/perlbrew/perls/perl-5.23.3/bin/perl5.23.3
$UID/$EUID = 1000 / 1000
$GID = 1000 1000 0
$EGID = 1000 1000 0
Perl module toolchain versions installed:
Module Have
------------------- --------
CPAN 2.11
CPAN::Meta 2.150005
Cwd 3.58
ExtUtils::CBuilder 0.280223
ExtUtils::Command 7.10
ExtUtils::Install 2.04
ExtUtils::MakeMaker 7.10
ExtUtils::Manifest 1.70
ExtUtils::ParseXS 3.30
File::Spec 3.58
JSON n/a
JSON::PP 2.27300
Module::Build n/a
Module::Signature n/a
Parse::CPAN::Meta 1.4417
Test::Harness 3.35
Test::More 1.001014
YAML 1.15
YAML::Syck 1.29
version 0.9909
--
Summary of my perl5 (revision 5 version 23 subversion 3) configuration:
Platform:
osname=openbsd, osvers=5.5, archname=OpenBSD.amd64-openbsd-thread-multi
uname='openbsd openbsd.bandsman.co.uk 5.5 generic.mp#315 amd64 '
config_args='-de -Dprefix=/home/njh/perl5/perlbrew/perls/perl-5.23.3 -Duseithreads -Dusemultiplicity -Dusedevel -Dusedevel -Accflags=-O2 -W -Wformat=2 -Wswitch -Wshadow -Wwrite-strings -Wuninitialized -Wall -pipe -mtune=native -march=native -fomit-frame-pointer -msse2 -msse -mmmx -mfpmath=sse -D_FORTIFY_SOURCE=2 -Wpointer-arith -Wstrict-prototypes -fstack-protector -Wstack-protector -Wextra -Wbad-function-cast -Wcast-align -Wcast-qual -Wdisabled-optimization -Wendif-labels -Wfloat-equal -Wformat-nonliteral -Winline -Wmissing-declarations -Wmissing-prototypes -Wnested-externs -Wpointer-arith -Wundef -Wformat-security -ftree-vectorize -Aeval:scriptdir=/home/njh/perl5/perlbrew/perls/perl-5.23.3/bin'
hint=recommended, useposix=true, d_sigaction=define
useithreads=define, usemultiplicity=define
use64bitint=define, use64bitall=define, uselongdouble=undef
usemymalloc=y, bincompat5005=undef
Compiler:
cc='cc', ccflags ='-pthread -O2 -W -Wformat=2 -Wswitch -Wshadow -Wwrite-strings -Wuninitialized -Wall -pipe -mtune=native -march=native -fomit-frame-pointer -msse2 -msse -mmmx -mfpmath=sse -D_FORTIFY_SOURCE=2 -Wpointer-arith -Wstrict-prototypes -fstack-protector -Wstack-protector -Wextra -Wbad-function-cast -Wcast-align -Wcast-qual -Wdisabled-optimization -Wendif-labels -Wfloat-equal -Wformat-nonliteral -Winline -Wmissing-declarations -Wmissing-prototypes -Wnested-externs -Wpointer-arith -Wundef -Wformat-security -ftree-vectorize -fno-strict-aliasing -fstack-protector-strong -I/usr/local/include',
optimize='-O2',
cppflags='-pthread -O2 -W -Wformat=2 -Wswitch -Wshadow -Wwrite-strings -Wuninitialized -Wall -pipe -mtune=native -march=native -fomit-frame-pointer -msse2 -msse -mmmx -mfpmath=sse -D_FORTIFY_SOURCE=2 -Wpointer-arith -Wstrict-prototypes -fstack-protector -Wstack-protector -Wextra -Wbad-function-cast -Wcast-align -Wcast-qual -Wdisabled-optimization -Wendif-labels -Wfloat-equal -Wformat-nonliteral -Winline -Wmissing-declarations -Wmissing-prototypes -Wnested-externs -Wpointer-arith -Wundef -Wformat-security -ftree-vectorize -fno-strict-aliasing -fstack-protector-strong -I/usr/local/include'
ccversion='', gccversion='4.2.1 20070719 ', gccosandvers='openbsd5.5'
intsize=4, longsize=8, ptrsize=8, doublesize=8, byteorder=12345678, doublekind=3
d_longlong=define, longlongsize=8, d_longdbl=define, longdblsize=16, longdblkind=3
ivtype='long', ivsize=8, nvtype='double', nvsize=8, Off_t='off_t', lseeksize=8
alignbytes=8, prototype=define
Linker and Libraries:
ld='cc', ldflags ='-pthread -Wl,-E -fstack-protector-strong -L/usr/local/lib'
libpth=/usr/lib /usr/local/lib
libs=-lpthread -lgdbm -lm -lutil -lc
perllibs=-lpthread -lm -lutil -lc
libc=/usr/lib/libc.so.73.1, so=so, useshrplib=false, libperl=libperl.a
gnulibc_version=''
Dynamic Linking:
dlsrc=dl_dlopen.xs, dlext=so, d_dlsymun=undef, ccdlflags=' '
cccdlflags='-DPIC -fPIC ', lddlflags='-shared -fPIC -L/usr/local/lib -fstack-protector-strong'
Characteristics of this binary (from libperl):
Compile-time options: HAS_TIMES MULTIPLICITY MYMALLOC PERLIO_LAYERS
PERL_COPY_ON_WRITE PERL_DONT_CREATE_GVSV
PERL_HASH_FUNC_ONE_AT_A_TIME_HARD
PERL_IMPLICIT_CONTEXT PERL_MALLOC_WRAP
PERL_PRESERVE_IVUV PERL_USE_DEVEL USE_64_BIT_ALL
USE_64_BIT_INT USE_ITHREADS USE_LARGE_FILES
USE_LOCALE USE_LOCALE_COLLATE USE_LOCALE_CTYPE
USE_LOCALE_NUMERIC USE_LOCALE_TIME USE_PERLIO
USE_PERL_ATOF USE_REENTRANT_API
Built under openbsd
Compiled at Oct 8 2015 20:54:49
%ENV:
PERL5LIB=""
PERL5OPT=""
PERL5_CPANPLUS_IS_RUNNING="21552"
PERL5_CPAN_IS_RUNNING="21552"
PERLBREW_BASHRC_VERSION="0.73"
PERLBREW_HOME="/home/njh/.perlbrew"
PERLBREW_MANPATH="/home/njh/perl5/perlbrew/perls/perl-5.23.3/man"
PERLBREW_PATH="/home/njh/perl5/perlbrew/bin:/home/njh/perl5/perlbrew/perls/perl-5.23.3/bin"
PERLBREW_PERL="perl-5.23.3"
PERLBREW_ROOT="/home/njh/perl5/perlbrew"
PERLBREW_VERSION="0.73"
@INC:
/home/njh/perl5/perlbrew/perls/perl-5.23.3/lib/site_perl/5.23.3/OpenBSD.amd64-openbsd-thread-multi
/home/njh/perl5/perlbrew/perls/perl-5.23.3/lib/site_perl/5.23.3
/home/njh/perl5/perlbrew/perls/perl-5.23.3/lib/5.23.3/OpenBSD.amd64-openbsd-thread-multi
/home/njh/perl5/perlbrew/perls/perl-5.23.3/lib/5.23.3
.