Report for Mojolicious-Plugin-Directory-Stylish-1.003

Back
From: metabase:user:d3901ace-9e47-11e4-b9f7-a1d8c8b65380
Subject: PASS Mojolicious-Plugin-Directory-Stylish-1.003 v5.14.1 GNU/Linux
Date: 2015-06-19T14:09:36Z

This distribution has been tested as part of the CPAN Testers
project, supporting the Perl programming language.  See
http://wiki.cpantesters.org/ for more information or email
questions to cpan-testers-discuss@perl.org


--
Dear Pink Mist,

This is a computer-generated report for Mojolicious-Plugin-Directory-Stylish-1.003
on perl 5.14.1, created by CPAN-Reporter-1.2011.

Thank you for uploading your work to CPAN.  Congratulations!
All tests were successful.

Sections of this report:

    * Tester comments
    * Program output
    * Prerequisites
    * Environment and other context

------------------------------
TESTER COMMENTS
------------------------------

Additional comments from tester:

none provided

------------------------------
PROGRAM OUTPUT
------------------------------

Output from '/usr/bin/make test':

PERL_DL_NONLAZY=1 /home/suppy/perl5/perlbrew/perls/perl-5.14.1/bin/perl "-MExtUtils::Command::MM" "-e" "test_harness(0, 'blib/lib', 'blib/arch')" t/*.t
t/00_compile.t .... ok
t/auto_index.t .... ok
t/css.t ........... ok
t/default.t ....... ok
t/dir.t ........... ok
t/dir_index.t ..... ok
t/dir_template.t .. ok
t/file.t .......... ok
t/handle.t ........ ok
t/json.t .......... ok
All tests successful.
Files=10, Tests=29,  2 wallclock secs ( 0.04 usr  0.01 sys +  1.72 cusr  0.11 csys =  1.88 CPU)
Result: PASS

------------------------------
PREREQUISITES
------------------------------

Prerequisite modules loaded:

requires:

    Module              Need     Have    
    ------------------- -------- --------
    ExtUtils::MakeMaker 0        6.57_05 
    Mojolicious         5.41     6.12    
    perl                5.010001 5.014001
    Test::More          0.88     1.001014

build_requires:

    Module              Need     Have    
    ------------------- -------- --------
    ExtUtils::MakeMaker 0        6.57_05 

configure_requires:

    Module              Need     Have    
    ------------------- -------- --------
    ExtUtils::MakeMaker 0        6.57_05 


------------------------------
ENVIRONMENT AND OTHER CONTEXT
------------------------------

Environment variables:

    LANG = en_GB.UTF-8
    LC_ALL = en_GB.UTF-8
    LC_COLLATE = C
    PATH = /home/suppy/perl5/perlbrew/perls/perl-5.14.1/bin:/tmp/ZfBdIQ7Nz_/bin:/home/suppy/perl5/perlbrew/perls/perl-5.14.0-threads/bin:/home/suppy/perl5/perlbrew/perls/perl-5.14.0/bin:/home/suppy/perl5/perlbrew/perls/perl-5.12.5/bin:/home/suppy/perl5/perlbrew/perls/perl-5.12.4/bin:/home/suppy/perl5/perlbrew/perls/perl-5.12.3/bin:/home/suppy/perl5/perlbrew/perls/perl-5.12.2/bin:/home/suppy/perl5/perlbrew/perls/perl-5.12.1/bin:/home/suppy/perl5/perlbrew/perls/perl-5.12.0-threads/bin:/home/suppy/perl5/perlbrew/perls/perl-5.12.0/bin:/home/suppy/perl5/perlbrew/perls/perl-5.10.1-threads/bin:/home/suppy/perl5/perlbrew/perls/perl-5.10.1/bin:/usr/lib64/postgresql/9.3/bin:/home/suppy/perl5/perlbrew/bin:/home/suppy/perl5/perlbrew/perls/perl-5.18.1/bin:/usr/lib64/postgresql/9.3/bin:/home/suppy/.commands/:/usr/local/bin:/usr/bin:/bin:/usr/games:/usr/lib64/kde4/libexec:/usr/lib64/qt/bin:/usr/share/texmf/bin
    PERL5LIB = /tmp/ZfBdIQ7Nz_/lib/perl5
    PERL5OPT = 
    PERL5_CPANPLUS_IS_RUNNING = 13457
    PERL5_CPAN_IS_RUNNING = 13457
    PERLBREW_BASHRC_VERSION = 0.64
    PERLBREW_HOME = /home/suppy/.perlbrew
    PERLBREW_MANPATH = /home/suppy/perl5/perlbrew/perls/perl-5.18.1/man
    PERLBREW_PATH = /home/suppy/perl5/perlbrew/bin:/home/suppy/perl5/perlbrew/perls/perl-5.18.1/bin
    PERLBREW_PERL = perl-5.18.1
    PERLBREW_ROOT = /home/suppy/perl5/perlbrew
    PERLBREW_VERSION = 0.64
    PERL_LOCAL_LIB_ROOT = /tmp/ZfBdIQ7Nz_
    PERL_MB_OPT = --install_base "/tmp/ZfBdIQ7Nz_"
    PERL_MM_OPT = INSTALL_BASE=/tmp/ZfBdIQ7Nz_
    SHELL = /bin/bash
    TEMP = /tmp
    TERM = xterm

Perl special variables (and OS-specific diagnostics, for MSWin32):

    $^X = /home/suppy/perl5/perlbrew/perls/perl-5.14.1/bin/perl
    $UID/$EUID = 1000 / 1000
    $GID = 100 7 11 17 18 19 83 84 86 93 100 1000
    $EGID = 100 7 11 17 18 19 83 84 86 93 100 1000

Perl module toolchain versions installed:

    Module              Have    
    ------------------- --------
    CPAN                1.9600  
    CPAN::Meta          2.110440
    Cwd                 3.36    
    ExtUtils::CBuilder  0.280203
    ExtUtils::Command   1.17    
    ExtUtils::Install   1.56    
    ExtUtils::MakeMaker 6.57_05 
    ExtUtils::Manifest  1.58    
    ExtUtils::ParseXS   2.2210  
    File::Spec          3.33    
    JSON                2.90    
    JSON::PP            2.27105 
    Module::Build       0.3800  
    Module::Signature   n/a     
    Parse::CPAN::Meta   1.4401  
    Test::Harness       3.23    
    Test::More          1.001014
    YAML                n/a     
    YAML::Syck          n/a     
    version             0.88    


--

Summary of my perl5 (revision 5 version 14 subversion 1) configuration:
   
  Platform:
    osname=linux, osvers=3.10.17, archname=x86_64-linux
    uname='linux luna 3.10.17 #2 smp fri feb 14 16:45:28 cst 2014 x86_64 intel(r) core(tm) i5-2450m cpu @ 2.50ghz genuineintel gnulinux '
    config_args='-de -Dprefix=/home/suppy/perl5/perlbrew/perls/perl-5.14.1 -Aeval:scriptdir=/home/suppy/perl5/perlbrew/perls/perl-5.14.1/bin'
    hint=recommended, useposix=true, d_sigaction=define
    useithreads=undef, usemultiplicity=undef
    useperlio=define, d_sfio=undef, uselargefiles=define, usesocks=undef
    use64bitint=define, use64bitall=define, uselongdouble=undef
    usemymalloc=n, bincompat5005=undef
  Compiler:
    cc='cc', ccflags ='-fno-strict-aliasing -pipe -fstack-protector -I/usr/local/include -D_LARGEFILE_SOURCE -D_FILE_OFFSET_BITS=64',
    optimize='-O2',
    cppflags='-fno-strict-aliasing -pipe -fstack-protector -I/usr/local/include'
    ccversion='', gccversion='4.8.2', gccosandvers=''
    intsize=4, longsize=8, ptrsize=8, doublesize=8, byteorder=12345678
    d_longlong=define, longlongsize=8, d_longdbl=define, longdblsize=16
    ivtype='long', ivsize=8, nvtype='double', nvsize=8, Off_t='off_t', lseeksize=8
    alignbytes=8, prototype=define
  Linker and Libraries:
    ld='cc', ldflags =' -fstack-protector -L/usr/local/lib'
    libpth=/usr/local/lib /lib/../lib64 /usr/lib/../lib64 /lib /usr/lib /lib64 /usr/lib64 /usr/local/lib64
    libs=-lnsl -lgdbm -ldb -ldl -lm -lcrypt -lutil -lc
    perllibs=-lnsl -ldl -lm -lcrypt -lutil -lc
    libc=libc-2.17.so, so=so, useshrplib=false, libperl=libperl.a
    gnulibc_version='2.17'
  Dynamic Linking:
    dlsrc=dl_dlopen.xs, dlext=so, d_dlsymun=undef, ccdlflags='-Wl,-E'
    cccdlflags='-fPIC', lddlflags='-shared -O2 -L/usr/local/lib -fstack-protector'


Characteristics of this binary (from libperl): 
  Compile-time options: PERL_DONT_CREATE_GVSV PERL_MALLOC_WRAP
                        PERL_PRESERVE_IVUV USE_64_BIT_ALL USE_64_BIT_INT
                        USE_LARGE_FILES USE_PERLIO USE_PERL_ATOF
  Built under linux
  Compiled at Dec 20 2014 14:24:04
  %ENV:
    PERL5LIB="/tmp/ZfBdIQ7Nz_/lib/perl5"
    PERL5OPT=""
    PERL5_CPANPLUS_IS_RUNNING="13457"
    PERL5_CPAN_IS_RUNNING="13457"
    PERLBREW_BASHRC_VERSION="0.64"
    PERLBREW_HOME="/home/suppy/.perlbrew"
    PERLBREW_MANPATH="/home/suppy/perl5/perlbrew/perls/perl-5.18.1/man"
    PERLBREW_PATH="/home/suppy/perl5/perlbrew/bin:/home/suppy/perl5/perlbrew/perls/perl-5.18.1/bin"
    PERLBREW_PERL="perl-5.18.1"
    PERLBREW_ROOT="/home/suppy/perl5/perlbrew"
    PERLBREW_VERSION="0.64"
    PERL_LOCAL_LIB_ROOT="/tmp/ZfBdIQ7Nz_"
    PERL_MB_OPT="--install_base "/tmp/ZfBdIQ7Nz_""
    PERL_MM_OPT="INSTALL_BASE=/tmp/ZfBdIQ7Nz_"
  @INC:
    /tmp/ZfBdIQ7Nz_/lib/perl5/x86_64-linux
    /tmp/ZfBdIQ7Nz_/lib/perl5
    /home/suppy/perl5/perlbrew/perls/perl-5.14.1/lib/site_perl/5.14.1/x86_64-linux
    /home/suppy/perl5/perlbrew/perls/perl-5.14.1/lib/site_perl/5.14.1
    /home/suppy/perl5/perlbrew/perls/perl-5.14.1/lib/5.14.1/x86_64-linux
    /home/suppy/perl5/perlbrew/perls/perl-5.14.1/lib/5.14.1
    .