Report for SQL-Exec-0.10

Back
From: metabase:user:314402c4-2aae-11df-837a-5e0a49663a4f
Subject: PASS SQL-Exec-0.10 v5.19.11 GNU/Linux
Date: 2014-05-11T16:46:36Z

This distribution has been tested as part of the CPAN Testers
project, supporting the Perl programming language.  See
http://wiki.cpantesters.org/ for more information or email
questions to cpan-testers-discuss@perl.org


--
Dear Mathias Kende,

This is a computer-generated report for SQL-Exec-0.10
on perl 5.19.11, created by CPAN-Reporter-1.2011.

Thank you for uploading your work to CPAN.  Congratulations!
All tests were successful.

Sections of this report:

    * Tester comments
    * Program output
    * Prerequisites
    * Environment and other context

------------------------------
TESTER COMMENTS
------------------------------

Additional comments from tester:

none provided

------------------------------
PROGRAM OUTPUT
------------------------------

Output from '/usr/bin/make test':

PERL_DL_NONLAZY=1 /bbbike/perl-5.19.11/bin/perl5.19.11 "-MExtUtils::Command::MM" "-MTest::Harness" "-e" "undef *Test::Harness::Switches; test_harness(0, 'blib/lib', 'blib/arch')" t/*.t
given is experimental at /bbbike/.cpan-build/SQL-Exec-0.10-zLy_JO/blib/lib/SQL/Exec.pm line 1218.
when is experimental at /bbbike/.cpan-build/SQL-Exec-0.10-zLy_JO/blib/lib/SQL/Exec.pm line 1219.
when is experimental at /bbbike/.cpan-build/SQL-Exec-0.10-zLy_JO/blib/lib/SQL/Exec.pm line 1220.
when is experimental at /bbbike/.cpan-build/SQL-Exec-0.10-zLy_JO/blib/lib/SQL/Exec.pm line 1221.
when is experimental at /bbbike/.cpan-build/SQL-Exec-0.10-zLy_JO/blib/lib/SQL/Exec.pm line 1222.
when is experimental at /bbbike/.cpan-build/SQL-Exec-0.10-zLy_JO/blib/lib/SQL/Exec.pm line 1227.
when is experimental at /bbbike/.cpan-build/SQL-Exec-0.10-zLy_JO/blib/lib/SQL/Exec.pm line 1228.
when is experimental at /bbbike/.cpan-build/SQL-Exec-0.10-zLy_JO/blib/lib/SQL/Exec.pm line 1233.
when is experimental at /bbbike/.cpan-build/SQL-Exec-0.10-zLy_JO/blib/lib/SQL/Exec.pm line 1238.
when is experimental at /bbbike/.cpan-build/SQL-Exec-0.10-zLy_JO/blib/lib/SQL/Exec.pm line 1239.
when is experimental at /bbbike/.cpan-build/SQL-Exec-0.10-zLy_JO/blib/lib/SQL/Exec.pm line 1240.
when is experimental at /bbbike/.cpan-build/SQL-Exec-0.10-zLy_JO/blib/lib/SQL/Exec.pm line 1241.
when is experimental at /bbbike/.cpan-build/SQL-Exec-0.10-zLy_JO/blib/lib/SQL/Exec.pm line 1242.
when is experimental at /bbbike/.cpan-build/SQL-Exec-0.10-zLy_JO/blib/lib/SQL/Exec.pm line 1243.
push on reference is experimental at /opt/perl-5.19.11/lib/site_perl/5.19.11/Pod/Checker.pm line 806.
pop on reference is experimental at /opt/perl-5.19.11/lib/site_perl/5.19.11/Pod/Checker.pm line 811.
unshift on reference is experimental at /opt/perl-5.19.11/lib/site_perl/5.19.11/Pod/Checker.pm line 880.
shift on reference is experimental at /opt/perl-5.19.11/lib/site_perl/5.19.11/Pod/Checker.pm line 890.
push on reference is experimental at /opt/perl-5.19.11/lib/site_perl/5.19.11/Pod/Checker.pm line 942.
pop on reference is experimental at /opt/perl-5.19.11/lib/site_perl/5.19.11/Pod/Checker.pm line 947.
given is experimental at /opt/perl-5.19.11/lib/site_perl/5.19.11/Test/Subs.pm line 324.
when is experimental at /opt/perl-5.19.11/lib/site_perl/5.19.11/Test/Subs.pm line 325.
when is experimental at /opt/perl-5.19.11/lib/site_perl/5.19.11/Test/Subs.pm line 329.
when is experimental at /opt/perl-5.19.11/lib/site_perl/5.19.11/Test/Subs.pm line 333.
Smartmatch is experimental at t/bind_params.t line 45.
Smartmatch is experimental at t/bind_params.t line 49.
Smartmatch is experimental at t/bind_params.t line 57.
t/bind_params.t ........ ok
given is experimental at /bbbike/.cpan-build/SQL-Exec-0.10-zLy_JO/blib/lib/SQL/Exec.pm line 1218.
when is experimental at /bbbike/.cpan-build/SQL-Exec-0.10-zLy_JO/blib/lib/SQL/Exec.pm line 1219.
when is experimental at /bbbike/.cpan-build/SQL-Exec-0.10-zLy_JO/blib/lib/SQL/Exec.pm line 1220.
when is experimental at /bbbike/.cpan-build/SQL-Exec-0.10-zLy_JO/blib/lib/SQL/Exec.pm line 1221.
when is experimental at /bbbike/.cpan-build/SQL-Exec-0.10-zLy_JO/blib/lib/SQL/Exec.pm line 1222.
when is experimental at /bbbike/.cpan-build/SQL-Exec-0.10-zLy_JO/blib/lib/SQL/Exec.pm line 1227.
when is experimental at /bbbike/.cpan-build/SQL-Exec-0.10-zLy_JO/blib/lib/SQL/Exec.pm line 1228.
when is experimental at /bbbike/.cpan-build/SQL-Exec-0.10-zLy_JO/blib/lib/SQL/Exec.pm line 1233.
when is experimental at /bbbike/.cpan-build/SQL-Exec-0.10-zLy_JO/blib/lib/SQL/Exec.pm line 1238.
when is experimental at /bbbike/.cpan-build/SQL-Exec-0.10-zLy_JO/blib/lib/SQL/Exec.pm line 1239.
when is experimental at /bbbike/.cpan-build/SQL-Exec-0.10-zLy_JO/blib/lib/SQL/Exec.pm line 1240.
when is experimental at /bbbike/.cpan-build/SQL-Exec-0.10-zLy_JO/blib/lib/SQL/Exec.pm line 1241.
when is experimental at /bbbike/.cpan-build/SQL-Exec-0.10-zLy_JO/blib/lib/SQL/Exec.pm line 1242.
when is experimental at /bbbike/.cpan-build/SQL-Exec-0.10-zLy_JO/blib/lib/SQL/Exec.pm line 1243.
push on reference is experimental at /opt/perl-5.19.11/lib/site_perl/5.19.11/Pod/Checker.pm line 806.
pop on reference is experimental at /opt/perl-5.19.11/lib/site_perl/5.19.11/Pod/Checker.pm line 811.
unshift on reference is experimental at /opt/perl-5.19.11/lib/site_perl/5.19.11/Pod/Checker.pm line 880.
shift on reference is experimental at /opt/perl-5.19.11/lib/site_perl/5.19.11/Pod/Checker.pm line 890.
push on reference is experimental at /opt/perl-5.19.11/lib/site_perl/5.19.11/Pod/Checker.pm line 942.
pop on reference is experimental at /opt/perl-5.19.11/lib/site_perl/5.19.11/Pod/Checker.pm line 947.
given is experimental at /opt/perl-5.19.11/lib/site_perl/5.19.11/Test/Subs.pm line 324.
when is experimental at /opt/perl-5.19.11/lib/site_perl/5.19.11/Test/Subs.pm line 325.
when is experimental at /opt/perl-5.19.11/lib/site_perl/5.19.11/Test/Subs.pm line 329.
when is experimental at /opt/perl-5.19.11/lib/site_perl/5.19.11/Test/Subs.pm line 333.
t/count.t .............. ok
given is experimental at /bbbike/.cpan-build/SQL-Exec-0.10-zLy_JO/blib/lib/SQL/Exec.pm line 1218.
when is experimental at /bbbike/.cpan-build/SQL-Exec-0.10-zLy_JO/blib/lib/SQL/Exec.pm line 1219.
when is experimental at /bbbike/.cpan-build/SQL-Exec-0.10-zLy_JO/blib/lib/SQL/Exec.pm line 1220.
when is experimental at /bbbike/.cpan-build/SQL-Exec-0.10-zLy_JO/blib/lib/SQL/Exec.pm line 1221.
when is experimental at /bbbike/.cpan-build/SQL-Exec-0.10-zLy_JO/blib/lib/SQL/Exec.pm line 1222.
when is experimental at /bbbike/.cpan-build/SQL-Exec-0.10-zLy_JO/blib/lib/SQL/Exec.pm line 1227.
when is experimental at /bbbike/.cpan-build/SQL-Exec-0.10-zLy_JO/blib/lib/SQL/Exec.pm line 1228.
when is experimental at /bbbike/.cpan-build/SQL-Exec-0.10-zLy_JO/blib/lib/SQL/Exec.pm line 1233.
when is experimental at /bbbike/.cpan-build/SQL-Exec-0.10-zLy_JO/blib/lib/SQL/Exec.pm line 1238.
when is experimental at /bbbike/.cpan-build/SQL-Exec-0.10-zLy_JO/blib/lib/SQL/Exec.pm line 1239.
when is experimental at /bbbike/.cpan-build/SQL-Exec-0.10-zLy_JO/blib/lib/SQL/Exec.pm line 1240.
when is experimental at /bbbike/.cpan-build/SQL-Exec-0.10-zLy_JO/blib/lib/SQL/Exec.pm line 1241.
when is experimental at /bbbike/.cpan-build/SQL-Exec-0.10-zLy_JO/blib/lib/SQL/Exec.pm line 1242.
when is experimental at /bbbike/.cpan-build/SQL-Exec-0.10-zLy_JO/blib/lib/SQL/Exec.pm line 1243.
push on reference is experimental at /opt/perl-5.19.11/lib/site_perl/5.19.11/Pod/Checker.pm line 806.
pop on reference is experimental at /opt/perl-5.19.11/lib/site_perl/5.19.11/Pod/Checker.pm line 811.
unshift on reference is experimental at /opt/perl-5.19.11/lib/site_perl/5.19.11/Pod/Checker.pm line 880.
shift on reference is experimental at /opt/perl-5.19.11/lib/site_perl/5.19.11/Pod/Checker.pm line 890.
push on reference is experimental at /opt/perl-5.19.11/lib/site_perl/5.19.11/Pod/Checker.pm line 942.
pop on reference is experimental at /opt/perl-5.19.11/lib/site_perl/5.19.11/Pod/Checker.pm line 947.
given is experimental at /opt/perl-5.19.11/lib/site_perl/5.19.11/Test/Subs.pm line 324.
when is experimental at /opt/perl-5.19.11/lib/site_perl/5.19.11/Test/Subs.pm line 325.
when is experimental at /opt/perl-5.19.11/lib/site_perl/5.19.11/Test/Subs.pm line 329.
when is experimental at /opt/perl-5.19.11/lib/site_perl/5.19.11/Test/Subs.pm line 333.
Smartmatch is experimental at t/execute_multiple.t line 22.
Smartmatch is experimental at t/execute_multiple.t line 38.
Smartmatch is experimental at t/execute_multiple.t line 46.
Smartmatch is experimental at t/execute_multiple.t line 54.
t/execute_multiple.t ... ok
given is experimental at /bbbike/.cpan-build/SQL-Exec-0.10-zLy_JO/blib/lib/SQL/Exec.pm line 1218.
when is experimental at /bbbike/.cpan-build/SQL-Exec-0.10-zLy_JO/blib/lib/SQL/Exec.pm line 1219.
when is experimental at /bbbike/.cpan-build/SQL-Exec-0.10-zLy_JO/blib/lib/SQL/Exec.pm line 1220.
when is experimental at /bbbike/.cpan-build/SQL-Exec-0.10-zLy_JO/blib/lib/SQL/Exec.pm line 1221.
when is experimental at /bbbike/.cpan-build/SQL-Exec-0.10-zLy_JO/blib/lib/SQL/Exec.pm line 1222.
when is experimental at /bbbike/.cpan-build/SQL-Exec-0.10-zLy_JO/blib/lib/SQL/Exec.pm line 1227.
when is experimental at /bbbike/.cpan-build/SQL-Exec-0.10-zLy_JO/blib/lib/SQL/Exec.pm line 1228.
when is experimental at /bbbike/.cpan-build/SQL-Exec-0.10-zLy_JO/blib/lib/SQL/Exec.pm line 1233.
when is experimental at /bbbike/.cpan-build/SQL-Exec-0.10-zLy_JO/blib/lib/SQL/Exec.pm line 1238.
when is experimental at /bbbike/.cpan-build/SQL-Exec-0.10-zLy_JO/blib/lib/SQL/Exec.pm line 1239.
when is experimental at /bbbike/.cpan-build/SQL-Exec-0.10-zLy_JO/blib/lib/SQL/Exec.pm line 1240.
when is experimental at /bbbike/.cpan-build/SQL-Exec-0.10-zLy_JO/blib/lib/SQL/Exec.pm line 1241.
when is experimental at /bbbike/.cpan-build/SQL-Exec-0.10-zLy_JO/blib/lib/SQL/Exec.pm line 1242.
when is experimental at /bbbike/.cpan-build/SQL-Exec-0.10-zLy_JO/blib/lib/SQL/Exec.pm line 1243.
push on reference is experimental at /opt/perl-5.19.11/lib/site_perl/5.19.11/Pod/Checker.pm line 806.
pop on reference is experimental at /opt/perl-5.19.11/lib/site_perl/5.19.11/Pod/Checker.pm line 811.
unshift on reference is experimental at /opt/perl-5.19.11/lib/site_perl/5.19.11/Pod/Checker.pm line 880.
shift on reference is experimental at /opt/perl-5.19.11/lib/site_perl/5.19.11/Pod/Checker.pm line 890.
push on reference is experimental at /opt/perl-5.19.11/lib/site_perl/5.19.11/Pod/Checker.pm line 942.
pop on reference is experimental at /opt/perl-5.19.11/lib/site_perl/5.19.11/Pod/Checker.pm line 947.
given is experimental at /opt/perl-5.19.11/lib/site_perl/5.19.11/Test/Subs.pm line 324.
when is experimental at /opt/perl-5.19.11/lib/site_perl/5.19.11/Test/Subs.pm line 325.
when is experimental at /opt/perl-5.19.11/lib/site_perl/5.19.11/Test/Subs.pm line 329.
when is experimental at /opt/perl-5.19.11/lib/site_perl/5.19.11/Test/Subs.pm line 333.
Smartmatch is experimental at t/execute_split.t line 17.
t/execute_split.t ...... ok
given is experimental at /bbbike/.cpan-build/SQL-Exec-0.10-zLy_JO/blib/lib/SQL/Exec.pm line 1218.
when is experimental at /bbbike/.cpan-build/SQL-Exec-0.10-zLy_JO/blib/lib/SQL/Exec.pm line 1219.
when is experimental at /bbbike/.cpan-build/SQL-Exec-0.10-zLy_JO/blib/lib/SQL/Exec.pm line 1220.
when is experimental at /bbbike/.cpan-build/SQL-Exec-0.10-zLy_JO/blib/lib/SQL/Exec.pm line 1221.
when is experimental at /bbbike/.cpan-build/SQL-Exec-0.10-zLy_JO/blib/lib/SQL/Exec.pm line 1222.
when is experimental at /bbbike/.cpan-build/SQL-Exec-0.10-zLy_JO/blib/lib/SQL/Exec.pm line 1227.
when is experimental at /bbbike/.cpan-build/SQL-Exec-0.10-zLy_JO/blib/lib/SQL/Exec.pm line 1228.
when is experimental at /bbbike/.cpan-build/SQL-Exec-0.10-zLy_JO/blib/lib/SQL/Exec.pm line 1233.
when is experimental at /bbbike/.cpan-build/SQL-Exec-0.10-zLy_JO/blib/lib/SQL/Exec.pm line 1238.
when is experimental at /bbbike/.cpan-build/SQL-Exec-0.10-zLy_JO/blib/lib/SQL/Exec.pm line 1239.
when is experimental at /bbbike/.cpan-build/SQL-Exec-0.10-zLy_JO/blib/lib/SQL/Exec.pm line 1240.
when is experimental at /bbbike/.cpan-build/SQL-Exec-0.10-zLy_JO/blib/lib/SQL/Exec.pm line 1241.
when is experimental at /bbbike/.cpan-build/SQL-Exec-0.10-zLy_JO/blib/lib/SQL/Exec.pm line 1242.
when is experimental at /bbbike/.cpan-build/SQL-Exec-0.10-zLy_JO/blib/lib/SQL/Exec.pm line 1243.
push on reference is experimental at /opt/perl-5.19.11/lib/site_perl/5.19.11/Pod/Checker.pm line 806.
pop on reference is experimental at /opt/perl-5.19.11/lib/site_perl/5.19.11/Pod/Checker.pm line 811.
unshift on reference is experimental at /opt/perl-5.19.11/lib/site_perl/5.19.11/Pod/Checker.pm line 880.
shift on reference is experimental at /opt/perl-5.19.11/lib/site_perl/5.19.11/Pod/Checker.pm line 890.
push on reference is experimental at /opt/perl-5.19.11/lib/site_perl/5.19.11/Pod/Checker.pm line 942.
pop on reference is experimental at /opt/perl-5.19.11/lib/site_perl/5.19.11/Pod/Checker.pm line 947.
given is experimental at /opt/perl-5.19.11/lib/site_perl/5.19.11/Test/Subs.pm line 324.
when is experimental at /opt/perl-5.19.11/lib/site_perl/5.19.11/Test/Subs.pm line 325.
when is experimental at /opt/perl-5.19.11/lib/site_perl/5.19.11/Test/Subs.pm line 329.
when is experimental at /opt/perl-5.19.11/lib/site_perl/5.19.11/Test/Subs.pm line 333.
Smartmatch is experimental at t/export.t line 19.
Smartmatch is experimental at t/export.t line 23.
t/export.t ............. ok
given is experimental at /bbbike/.cpan-build/SQL-Exec-0.10-zLy_JO/blib/lib/SQL/Exec.pm line 1218.
when is experimental at /bbbike/.cpan-build/SQL-Exec-0.10-zLy_JO/blib/lib/SQL/Exec.pm line 1219.
when is experimental at /bbbike/.cpan-build/SQL-Exec-0.10-zLy_JO/blib/lib/SQL/Exec.pm line 1220.
when is experimental at /bbbike/.cpan-build/SQL-Exec-0.10-zLy_JO/blib/lib/SQL/Exec.pm line 1221.
when is experimental at /bbbike/.cpan-build/SQL-Exec-0.10-zLy_JO/blib/lib/SQL/Exec.pm line 1222.
when is experimental at /bbbike/.cpan-build/SQL-Exec-0.10-zLy_JO/blib/lib/SQL/Exec.pm line 1227.
when is experimental at /bbbike/.cpan-build/SQL-Exec-0.10-zLy_JO/blib/lib/SQL/Exec.pm line 1228.
when is experimental at /bbbike/.cpan-build/SQL-Exec-0.10-zLy_JO/blib/lib/SQL/Exec.pm line 1233.
when is experimental at /bbbike/.cpan-build/SQL-Exec-0.10-zLy_JO/blib/lib/SQL/Exec.pm line 1238.
when is experimental at /bbbike/.cpan-build/SQL-Exec-0.10-zLy_JO/blib/lib/SQL/Exec.pm line 1239.
when is experimental at /bbbike/.cpan-build/SQL-Exec-0.10-zLy_JO/blib/lib/SQL/Exec.pm line 1240.
when is experimental at /bbbike/.cpan-build/SQL-Exec-0.10-zLy_JO/blib/lib/SQL/Exec.pm line 1241.
when is experimental at /bbbike/.cpan-build/SQL-Exec-0.10-zLy_JO/blib/lib/SQL/Exec.pm line 1242.
when is experimental at /bbbike/.cpan-build/SQL-Exec-0.10-zLy_JO/blib/lib/SQL/Exec.pm line 1243.
push on reference is experimental at /opt/perl-5.19.11/lib/site_perl/5.19.11/Pod/Checker.pm line 806.
pop on reference is experimental at /opt/perl-5.19.11/lib/site_perl/5.19.11/Pod/Checker.pm line 811.
unshift on reference is experimental at /opt/perl-5.19.11/lib/site_perl/5.19.11/Pod/Checker.pm line 880.
shift on reference is experimental at /opt/perl-5.19.11/lib/site_perl/5.19.11/Pod/Checker.pm line 890.
push on reference is experimental at /opt/perl-5.19.11/lib/site_perl/5.19.11/Pod/Checker.pm line 942.
pop on reference is experimental at /opt/perl-5.19.11/lib/site_perl/5.19.11/Pod/Checker.pm line 947.
given is experimental at /opt/perl-5.19.11/lib/site_perl/5.19.11/Test/Subs.pm line 324.
when is experimental at /opt/perl-5.19.11/lib/site_perl/5.19.11/Test/Subs.pm line 325.
when is experimental at /opt/perl-5.19.11/lib/site_perl/5.19.11/Test/Subs.pm line 329.
when is experimental at /opt/perl-5.19.11/lib/site_perl/5.19.11/Test/Subs.pm line 333.
Smartmatch is experimental at t/file.t line 28.
t/file.t ............... ok
given is experimental at /bbbike/.cpan-build/SQL-Exec-0.10-zLy_JO/blib/lib/SQL/Exec.pm line 1218.
when is experimental at /bbbike/.cpan-build/SQL-Exec-0.10-zLy_JO/blib/lib/SQL/Exec.pm line 1219.
when is experimental at /bbbike/.cpan-build/SQL-Exec-0.10-zLy_JO/blib/lib/SQL/Exec.pm line 1220.
when is experimental at /bbbike/.cpan-build/SQL-Exec-0.10-zLy_JO/blib/lib/SQL/Exec.pm line 1221.
when is experimental at /bbbike/.cpan-build/SQL-Exec-0.10-zLy_JO/blib/lib/SQL/Exec.pm line 1222.
when is experimental at /bbbike/.cpan-build/SQL-Exec-0.10-zLy_JO/blib/lib/SQL/Exec.pm line 1227.
when is experimental at /bbbike/.cpan-build/SQL-Exec-0.10-zLy_JO/blib/lib/SQL/Exec.pm line 1228.
when is experimental at /bbbike/.cpan-build/SQL-Exec-0.10-zLy_JO/blib/lib/SQL/Exec.pm line 1233.
when is experimental at /bbbike/.cpan-build/SQL-Exec-0.10-zLy_JO/blib/lib/SQL/Exec.pm line 1238.
when is experimental at /bbbike/.cpan-build/SQL-Exec-0.10-zLy_JO/blib/lib/SQL/Exec.pm line 1239.
when is experimental at /bbbike/.cpan-build/SQL-Exec-0.10-zLy_JO/blib/lib/SQL/Exec.pm line 1240.
when is experimental at /bbbike/.cpan-build/SQL-Exec-0.10-zLy_JO/blib/lib/SQL/Exec.pm line 1241.
when is experimental at /bbbike/.cpan-build/SQL-Exec-0.10-zLy_JO/blib/lib/SQL/Exec.pm line 1242.
when is experimental at /bbbike/.cpan-build/SQL-Exec-0.10-zLy_JO/blib/lib/SQL/Exec.pm line 1243.
push on reference is experimental at /opt/perl-5.19.11/lib/site_perl/5.19.11/Pod/Checker.pm line 806.
pop on reference is experimental at /opt/perl-5.19.11/lib/site_perl/5.19.11/Pod/Checker.pm line 811.
unshift on reference is experimental at /opt/perl-5.19.11/lib/site_perl/5.19.11/Pod/Checker.pm line 880.
shift on reference is experimental at /opt/perl-5.19.11/lib/site_perl/5.19.11/Pod/Checker.pm line 890.
push on reference is experimental at /opt/perl-5.19.11/lib/site_perl/5.19.11/Pod/Checker.pm line 942.
pop on reference is experimental at /opt/perl-5.19.11/lib/site_perl/5.19.11/Pod/Checker.pm line 947.
given is experimental at /opt/perl-5.19.11/lib/site_perl/5.19.11/Test/Subs.pm line 324.
when is experimental at /opt/perl-5.19.11/lib/site_perl/5.19.11/Test/Subs.pm line 325.
when is experimental at /opt/perl-5.19.11/lib/site_perl/5.19.11/Test/Subs.pm line 329.
when is experimental at /opt/perl-5.19.11/lib/site_perl/5.19.11/Test/Subs.pm line 333.
Smartmatch is experimental at t/get_columns.t line 16.
Smartmatch is experimental at t/get_columns.t line 20.
Smartmatch is experimental at t/get_columns.t line 24.
Smartmatch is experimental at t/get_columns.t line 28.
Smartmatch is experimental at t/get_columns.t line 32.
Smartmatch is experimental at t/get_columns.t line 36.
Smartmatch is experimental at t/get_columns.t line 48.
Smartmatch is experimental at t/get_columns.t line 52.
Smartmatch is experimental at t/get_columns.t line 56.
Smartmatch is experimental at t/get_columns.t line 60.
Smartmatch is experimental at t/get_columns.t line 64.
Smartmatch is experimental at t/get_columns.t line 68.
t/get_columns.t ........ ok
given is experimental at /bbbike/.cpan-build/SQL-Exec-0.10-zLy_JO/blib/lib/SQL/Exec.pm line 1218.
when is experimental at /bbbike/.cpan-build/SQL-Exec-0.10-zLy_JO/blib/lib/SQL/Exec.pm line 1219.
when is experimental at /bbbike/.cpan-build/SQL-Exec-0.10-zLy_JO/blib/lib/SQL/Exec.pm line 1220.
when is experimental at /bbbike/.cpan-build/SQL-Exec-0.10-zLy_JO/blib/lib/SQL/Exec.pm line 1221.
when is experimental at /bbbike/.cpan-build/SQL-Exec-0.10-zLy_JO/blib/lib/SQL/Exec.pm line 1222.
when is experimental at /bbbike/.cpan-build/SQL-Exec-0.10-zLy_JO/blib/lib/SQL/Exec.pm line 1227.
when is experimental at /bbbike/.cpan-build/SQL-Exec-0.10-zLy_JO/blib/lib/SQL/Exec.pm line 1228.
when is experimental at /bbbike/.cpan-build/SQL-Exec-0.10-zLy_JO/blib/lib/SQL/Exec.pm line 1233.
when is experimental at /bbbike/.cpan-build/SQL-Exec-0.10-zLy_JO/blib/lib/SQL/Exec.pm line 1238.
when is experimental at /bbbike/.cpan-build/SQL-Exec-0.10-zLy_JO/blib/lib/SQL/Exec.pm line 1239.
when is experimental at /bbbike/.cpan-build/SQL-Exec-0.10-zLy_JO/blib/lib/SQL/Exec.pm line 1240.
when is experimental at /bbbike/.cpan-build/SQL-Exec-0.10-zLy_JO/blib/lib/SQL/Exec.pm line 1241.
when is experimental at /bbbike/.cpan-build/SQL-Exec-0.10-zLy_JO/blib/lib/SQL/Exec.pm line 1242.
when is experimental at /bbbike/.cpan-build/SQL-Exec-0.10-zLy_JO/blib/lib/SQL/Exec.pm line 1243.
push on reference is experimental at /opt/perl-5.19.11/lib/site_perl/5.19.11/Pod/Checker.pm line 806.
pop on reference is experimental at /opt/perl-5.19.11/lib/site_perl/5.19.11/Pod/Checker.pm line 811.
unshift on reference is experimental at /opt/perl-5.19.11/lib/site_perl/5.19.11/Pod/Checker.pm line 880.
shift on reference is experimental at /opt/perl-5.19.11/lib/site_perl/5.19.11/Pod/Checker.pm line 890.
push on reference is experimental at /opt/perl-5.19.11/lib/site_perl/5.19.11/Pod/Checker.pm line 942.
pop on reference is experimental at /opt/perl-5.19.11/lib/site_perl/5.19.11/Pod/Checker.pm line 947.
given is experimental at /opt/perl-5.19.11/lib/site_perl/5.19.11/Test/Subs.pm line 324.
when is experimental at /opt/perl-5.19.11/lib/site_perl/5.19.11/Test/Subs.pm line 325.
when is experimental at /opt/perl-5.19.11/lib/site_perl/5.19.11/Test/Subs.pm line 329.
when is experimental at /opt/perl-5.19.11/lib/site_perl/5.19.11/Test/Subs.pm line 333.
t/multi_handle.t ....... ok
given is experimental at /bbbike/.cpan-build/SQL-Exec-0.10-zLy_JO/blib/lib/SQL/Exec.pm line 1218.
when is experimental at /bbbike/.cpan-build/SQL-Exec-0.10-zLy_JO/blib/lib/SQL/Exec.pm line 1219.
when is experimental at /bbbike/.cpan-build/SQL-Exec-0.10-zLy_JO/blib/lib/SQL/Exec.pm line 1220.
when is experimental at /bbbike/.cpan-build/SQL-Exec-0.10-zLy_JO/blib/lib/SQL/Exec.pm line 1221.
when is experimental at /bbbike/.cpan-build/SQL-Exec-0.10-zLy_JO/blib/lib/SQL/Exec.pm line 1222.
when is experimental at /bbbike/.cpan-build/SQL-Exec-0.10-zLy_JO/blib/lib/SQL/Exec.pm line 1227.
when is experimental at /bbbike/.cpan-build/SQL-Exec-0.10-zLy_JO/blib/lib/SQL/Exec.pm line 1228.
when is experimental at /bbbike/.cpan-build/SQL-Exec-0.10-zLy_JO/blib/lib/SQL/Exec.pm line 1233.
when is experimental at /bbbike/.cpan-build/SQL-Exec-0.10-zLy_JO/blib/lib/SQL/Exec.pm line 1238.
when is experimental at /bbbike/.cpan-build/SQL-Exec-0.10-zLy_JO/blib/lib/SQL/Exec.pm line 1239.
when is experimental at /bbbike/.cpan-build/SQL-Exec-0.10-zLy_JO/blib/lib/SQL/Exec.pm line 1240.
when is experimental at /bbbike/.cpan-build/SQL-Exec-0.10-zLy_JO/blib/lib/SQL/Exec.pm line 1241.
when is experimental at /bbbike/.cpan-build/SQL-Exec-0.10-zLy_JO/blib/lib/SQL/Exec.pm line 1242.
when is experimental at /bbbike/.cpan-build/SQL-Exec-0.10-zLy_JO/blib/lib/SQL/Exec.pm line 1243.
push on reference is experimental at /opt/perl-5.19.11/lib/site_perl/5.19.11/Pod/Checker.pm line 806.
pop on reference is experimental at /opt/perl-5.19.11/lib/site_perl/5.19.11/Pod/Checker.pm line 811.
unshift on reference is experimental at /opt/perl-5.19.11/lib/site_perl/5.19.11/Pod/Checker.pm line 880.
shift on reference is experimental at /opt/perl-5.19.11/lib/site_perl/5.19.11/Pod/Checker.pm line 890.
push on reference is experimental at /opt/perl-5.19.11/lib/site_perl/5.19.11/Pod/Checker.pm line 942.
pop on reference is experimental at /opt/perl-5.19.11/lib/site_perl/5.19.11/Pod/Checker.pm line 947.
given is experimental at /opt/perl-5.19.11/lib/site_perl/5.19.11/Test/Subs.pm line 324.
when is experimental at /opt/perl-5.19.11/lib/site_perl/5.19.11/Test/Subs.pm line 325.
when is experimental at /opt/perl-5.19.11/lib/site_perl/5.19.11/Test/Subs.pm line 329.
when is experimental at /opt/perl-5.19.11/lib/site_perl/5.19.11/Test/Subs.pm line 333.
t/query_hashes.t ....... ok
given is experimental at /bbbike/.cpan-build/SQL-Exec-0.10-zLy_JO/blib/lib/SQL/Exec.pm line 1218.
when is experimental at /bbbike/.cpan-build/SQL-Exec-0.10-zLy_JO/blib/lib/SQL/Exec.pm line 1219.
when is experimental at /bbbike/.cpan-build/SQL-Exec-0.10-zLy_JO/blib/lib/SQL/Exec.pm line 1220.
when is experimental at /bbbike/.cpan-build/SQL-Exec-0.10-zLy_JO/blib/lib/SQL/Exec.pm line 1221.
when is experimental at /bbbike/.cpan-build/SQL-Exec-0.10-zLy_JO/blib/lib/SQL/Exec.pm line 1222.
when is experimental at /bbbike/.cpan-build/SQL-Exec-0.10-zLy_JO/blib/lib/SQL/Exec.pm line 1227.
when is experimental at /bbbike/.cpan-build/SQL-Exec-0.10-zLy_JO/blib/lib/SQL/Exec.pm line 1228.
when is experimental at /bbbike/.cpan-build/SQL-Exec-0.10-zLy_JO/blib/lib/SQL/Exec.pm line 1233.
when is experimental at /bbbike/.cpan-build/SQL-Exec-0.10-zLy_JO/blib/lib/SQL/Exec.pm line 1238.
when is experimental at /bbbike/.cpan-build/SQL-Exec-0.10-zLy_JO/blib/lib/SQL/Exec.pm line 1239.
when is experimental at /bbbike/.cpan-build/SQL-Exec-0.10-zLy_JO/blib/lib/SQL/Exec.pm line 1240.
when is experimental at /bbbike/.cpan-build/SQL-Exec-0.10-zLy_JO/blib/lib/SQL/Exec.pm line 1241.
when is experimental at /bbbike/.cpan-build/SQL-Exec-0.10-zLy_JO/blib/lib/SQL/Exec.pm line 1242.
when is experimental at /bbbike/.cpan-build/SQL-Exec-0.10-zLy_JO/blib/lib/SQL/Exec.pm line 1243.
push on reference is experimental at /opt/perl-5.19.11/lib/site_perl/5.19.11/Pod/Checker.pm line 806.
pop on reference is experimental at /opt/perl-5.19.11/lib/site_perl/5.19.11/Pod/Checker.pm line 811.
unshift on reference is experimental at /opt/perl-5.19.11/lib/site_perl/5.19.11/Pod/Checker.pm line 880.
shift on reference is experimental at /opt/perl-5.19.11/lib/site_perl/5.19.11/Pod/Checker.pm line 890.
push on reference is experimental at /opt/perl-5.19.11/lib/site_perl/5.19.11/Pod/Checker.pm line 942.
pop on reference is experimental at /opt/perl-5.19.11/lib/site_perl/5.19.11/Pod/Checker.pm line 947.
given is experimental at /opt/perl-5.19.11/lib/site_perl/5.19.11/Test/Subs.pm line 324.
when is experimental at /opt/perl-5.19.11/lib/site_perl/5.19.11/Test/Subs.pm line 325.
when is experimental at /opt/perl-5.19.11/lib/site_perl/5.19.11/Test/Subs.pm line 329.
when is experimental at /opt/perl-5.19.11/lib/site_perl/5.19.11/Test/Subs.pm line 333.
Smartmatch is experimental at t/query_info.t line 14.
Smartmatch is experimental at t/query_info.t line 37.
Smartmatch is experimental at t/query_info.t line 41.
t/query_info.t ......... ok
given is experimental at /bbbike/.cpan-build/SQL-Exec-0.10-zLy_JO/blib/lib/SQL/Exec.pm line 1218.
when is experimental at /bbbike/.cpan-build/SQL-Exec-0.10-zLy_JO/blib/lib/SQL/Exec.pm line 1219.
when is experimental at /bbbike/.cpan-build/SQL-Exec-0.10-zLy_JO/blib/lib/SQL/Exec.pm line 1220.
when is experimental at /bbbike/.cpan-build/SQL-Exec-0.10-zLy_JO/blib/lib/SQL/Exec.pm line 1221.
when is experimental at /bbbike/.cpan-build/SQL-Exec-0.10-zLy_JO/blib/lib/SQL/Exec.pm line 1222.
when is experimental at /bbbike/.cpan-build/SQL-Exec-0.10-zLy_JO/blib/lib/SQL/Exec.pm line 1227.
when is experimental at /bbbike/.cpan-build/SQL-Exec-0.10-zLy_JO/blib/lib/SQL/Exec.pm line 1228.
when is experimental at /bbbike/.cpan-build/SQL-Exec-0.10-zLy_JO/blib/lib/SQL/Exec.pm line 1233.
when is experimental at /bbbike/.cpan-build/SQL-Exec-0.10-zLy_JO/blib/lib/SQL/Exec.pm line 1238.
when is experimental at /bbbike/.cpan-build/SQL-Exec-0.10-zLy_JO/blib/lib/SQL/Exec.pm line 1239.
when is experimental at /bbbike/.cpan-build/SQL-Exec-0.10-zLy_JO/blib/lib/SQL/Exec.pm line 1240.
when is experimental at /bbbike/.cpan-build/SQL-Exec-0.10-zLy_JO/blib/lib/SQL/Exec.pm line 1241.
when is experimental at /bbbike/.cpan-build/SQL-Exec-0.10-zLy_JO/blib/lib/SQL/Exec.pm line 1242.
when is experimental at /bbbike/.cpan-build/SQL-Exec-0.10-zLy_JO/blib/lib/SQL/Exec.pm line 1243.
push on reference is experimental at /opt/perl-5.19.11/lib/site_perl/5.19.11/Pod/Checker.pm line 806.
pop on reference is experimental at /opt/perl-5.19.11/lib/site_perl/5.19.11/Pod/Checker.pm line 811.
unshift on reference is experimental at /opt/perl-5.19.11/lib/site_perl/5.19.11/Pod/Checker.pm line 880.
shift on reference is experimental at /opt/perl-5.19.11/lib/site_perl/5.19.11/Pod/Checker.pm line 890.
push on reference is experimental at /opt/perl-5.19.11/lib/site_perl/5.19.11/Pod/Checker.pm line 942.
pop on reference is experimental at /opt/perl-5.19.11/lib/site_perl/5.19.11/Pod/Checker.pm line 947.
given is experimental at /opt/perl-5.19.11/lib/site_perl/5.19.11/Test/Subs.pm line 324.
when is experimental at /opt/perl-5.19.11/lib/site_perl/5.19.11/Test/Subs.pm line 325.
when is experimental at /opt/perl-5.19.11/lib/site_perl/5.19.11/Test/Subs.pm line 329.
when is experimental at /opt/perl-5.19.11/lib/site_perl/5.19.11/Test/Subs.pm line 333.
t/replace.t ............ ok
given is experimental at /bbbike/.cpan-build/SQL-Exec-0.10-zLy_JO/blib/lib/SQL/Exec.pm line 1218.
when is experimental at /bbbike/.cpan-build/SQL-Exec-0.10-zLy_JO/blib/lib/SQL/Exec.pm line 1219.
when is experimental at /bbbike/.cpan-build/SQL-Exec-0.10-zLy_JO/blib/lib/SQL/Exec.pm line 1220.
when is experimental at /bbbike/.cpan-build/SQL-Exec-0.10-zLy_JO/blib/lib/SQL/Exec.pm line 1221.
when is experimental at /bbbike/.cpan-build/SQL-Exec-0.10-zLy_JO/blib/lib/SQL/Exec.pm line 1222.
when is experimental at /bbbike/.cpan-build/SQL-Exec-0.10-zLy_JO/blib/lib/SQL/Exec.pm line 1227.
when is experimental at /bbbike/.cpan-build/SQL-Exec-0.10-zLy_JO/blib/lib/SQL/Exec.pm line 1228.
when is experimental at /bbbike/.cpan-build/SQL-Exec-0.10-zLy_JO/blib/lib/SQL/Exec.pm line 1233.
when is experimental at /bbbike/.cpan-build/SQL-Exec-0.10-zLy_JO/blib/lib/SQL/Exec.pm line 1238.
when is experimental at /bbbike/.cpan-build/SQL-Exec-0.10-zLy_JO/blib/lib/SQL/Exec.pm line 1239.
when is experimental at /bbbike/.cpan-build/SQL-Exec-0.10-zLy_JO/blib/lib/SQL/Exec.pm line 1240.
when is experimental at /bbbike/.cpan-build/SQL-Exec-0.10-zLy_JO/blib/lib/SQL/Exec.pm line 1241.
when is experimental at /bbbike/.cpan-build/SQL-Exec-0.10-zLy_JO/blib/lib/SQL/Exec.pm line 1242.
when is experimental at /bbbike/.cpan-build/SQL-Exec-0.10-zLy_JO/blib/lib/SQL/Exec.pm line 1243.
push on reference is experimental at /opt/perl-5.19.11/lib/site_perl/5.19.11/Pod/Checker.pm line 806.
pop on reference is experimental at /opt/perl-5.19.11/lib/site_perl/5.19.11/Pod/Checker.pm line 811.
unshift on reference is experimental at /opt/perl-5.19.11/lib/site_perl/5.19.11/Pod/Checker.pm line 880.
shift on reference is experimental at /opt/perl-5.19.11/lib/site_perl/5.19.11/Pod/Checker.pm line 890.
push on reference is experimental at /opt/perl-5.19.11/lib/site_perl/5.19.11/Pod/Checker.pm line 942.
pop on reference is experimental at /opt/perl-5.19.11/lib/site_perl/5.19.11/Pod/Checker.pm line 947.
given is experimental at /opt/perl-5.19.11/lib/site_perl/5.19.11/Test/Subs.pm line 324.
when is experimental at /opt/perl-5.19.11/lib/site_perl/5.19.11/Test/Subs.pm line 325.
when is experimental at /opt/perl-5.19.11/lib/site_perl/5.19.11/Test/Subs.pm line 329.
when is experimental at /opt/perl-5.19.11/lib/site_perl/5.19.11/Test/Subs.pm line 333.
Smartmatch is experimental at t/simple.t line 19.
Smartmatch is experimental at t/simple.t line 23.
t/simple.t ............. ok
given is experimental at /bbbike/.cpan-build/SQL-Exec-0.10-zLy_JO/blib/lib/SQL/Exec.pm line 1218.
when is experimental at /bbbike/.cpan-build/SQL-Exec-0.10-zLy_JO/blib/lib/SQL/Exec.pm line 1219.
when is experimental at /bbbike/.cpan-build/SQL-Exec-0.10-zLy_JO/blib/lib/SQL/Exec.pm line 1220.
when is experimental at /bbbike/.cpan-build/SQL-Exec-0.10-zLy_JO/blib/lib/SQL/Exec.pm line 1221.
when is experimental at /bbbike/.cpan-build/SQL-Exec-0.10-zLy_JO/blib/lib/SQL/Exec.pm line 1222.
when is experimental at /bbbike/.cpan-build/SQL-Exec-0.10-zLy_JO/blib/lib/SQL/Exec.pm line 1227.
when is experimental at /bbbike/.cpan-build/SQL-Exec-0.10-zLy_JO/blib/lib/SQL/Exec.pm line 1228.
when is experimental at /bbbike/.cpan-build/SQL-Exec-0.10-zLy_JO/blib/lib/SQL/Exec.pm line 1233.
when is experimental at /bbbike/.cpan-build/SQL-Exec-0.10-zLy_JO/blib/lib/SQL/Exec.pm line 1238.
when is experimental at /bbbike/.cpan-build/SQL-Exec-0.10-zLy_JO/blib/lib/SQL/Exec.pm line 1239.
when is experimental at /bbbike/.cpan-build/SQL-Exec-0.10-zLy_JO/blib/lib/SQL/Exec.pm line 1240.
when is experimental at /bbbike/.cpan-build/SQL-Exec-0.10-zLy_JO/blib/lib/SQL/Exec.pm line 1241.
when is experimental at /bbbike/.cpan-build/SQL-Exec-0.10-zLy_JO/blib/lib/SQL/Exec.pm line 1242.
when is experimental at /bbbike/.cpan-build/SQL-Exec-0.10-zLy_JO/blib/lib/SQL/Exec.pm line 1243.
push on reference is experimental at /opt/perl-5.19.11/lib/site_perl/5.19.11/Pod/Checker.pm line 806.
pop on reference is experimental at /opt/perl-5.19.11/lib/site_perl/5.19.11/Pod/Checker.pm line 811.
unshift on reference is experimental at /opt/perl-5.19.11/lib/site_perl/5.19.11/Pod/Checker.pm line 880.
shift on reference is experimental at /opt/perl-5.19.11/lib/site_perl/5.19.11/Pod/Checker.pm line 890.
push on reference is experimental at /opt/perl-5.19.11/lib/site_perl/5.19.11/Pod/Checker.pm line 942.
pop on reference is experimental at /opt/perl-5.19.11/lib/site_perl/5.19.11/Pod/Checker.pm line 947.
given is experimental at /opt/perl-5.19.11/lib/site_perl/5.19.11/Test/Subs.pm line 324.
when is experimental at /opt/perl-5.19.11/lib/site_perl/5.19.11/Test/Subs.pm line 325.
when is experimental at /opt/perl-5.19.11/lib/site_perl/5.19.11/Test/Subs.pm line 329.
when is experimental at /opt/perl-5.19.11/lib/site_perl/5.19.11/Test/Subs.pm line 333.
t/sqlite.t ............. ok
given is experimental at /bbbike/.cpan-build/SQL-Exec-0.10-zLy_JO/blib/lib/SQL/Exec.pm line 1218.
when is experimental at /bbbike/.cpan-build/SQL-Exec-0.10-zLy_JO/blib/lib/SQL/Exec.pm line 1219.
when is experimental at /bbbike/.cpan-build/SQL-Exec-0.10-zLy_JO/blib/lib/SQL/Exec.pm line 1220.
when is experimental at /bbbike/.cpan-build/SQL-Exec-0.10-zLy_JO/blib/lib/SQL/Exec.pm line 1221.
when is experimental at /bbbike/.cpan-build/SQL-Exec-0.10-zLy_JO/blib/lib/SQL/Exec.pm line 1222.
when is experimental at /bbbike/.cpan-build/SQL-Exec-0.10-zLy_JO/blib/lib/SQL/Exec.pm line 1227.
when is experimental at /bbbike/.cpan-build/SQL-Exec-0.10-zLy_JO/blib/lib/SQL/Exec.pm line 1228.
when is experimental at /bbbike/.cpan-build/SQL-Exec-0.10-zLy_JO/blib/lib/SQL/Exec.pm line 1233.
when is experimental at /bbbike/.cpan-build/SQL-Exec-0.10-zLy_JO/blib/lib/SQL/Exec.pm line 1238.
when is experimental at /bbbike/.cpan-build/SQL-Exec-0.10-zLy_JO/blib/lib/SQL/Exec.pm line 1239.
when is experimental at /bbbike/.cpan-build/SQL-Exec-0.10-zLy_JO/blib/lib/SQL/Exec.pm line 1240.
when is experimental at /bbbike/.cpan-build/SQL-Exec-0.10-zLy_JO/blib/lib/SQL/Exec.pm line 1241.
when is experimental at /bbbike/.cpan-build/SQL-Exec-0.10-zLy_JO/blib/lib/SQL/Exec.pm line 1242.
when is experimental at /bbbike/.cpan-build/SQL-Exec-0.10-zLy_JO/blib/lib/SQL/Exec.pm line 1243.
push on reference is experimental at /opt/perl-5.19.11/lib/site_perl/5.19.11/Pod/Checker.pm line 806.
pop on reference is experimental at /opt/perl-5.19.11/lib/site_perl/5.19.11/Pod/Checker.pm line 811.
unshift on reference is experimental at /opt/perl-5.19.11/lib/site_perl/5.19.11/Pod/Checker.pm line 880.
shift on reference is experimental at /opt/perl-5.19.11/lib/site_perl/5.19.11/Pod/Checker.pm line 890.
push on reference is experimental at /opt/perl-5.19.11/lib/site_perl/5.19.11/Pod/Checker.pm line 942.
pop on reference is experimental at /opt/perl-5.19.11/lib/site_perl/5.19.11/Pod/Checker.pm line 947.
given is experimental at /opt/perl-5.19.11/lib/site_perl/5.19.11/Test/Subs.pm line 324.
when is experimental at /opt/perl-5.19.11/lib/site_perl/5.19.11/Test/Subs.pm line 325.
when is experimental at /opt/perl-5.19.11/lib/site_perl/5.19.11/Test/Subs.pm line 329.
when is experimental at /opt/perl-5.19.11/lib/site_perl/5.19.11/Test/Subs.pm line 333.
t/statements_simple.t .. ok
given is experimental at /bbbike/.cpan-build/SQL-Exec-0.10-zLy_JO/blib/lib/SQL/Exec.pm line 1218.
when is experimental at /bbbike/.cpan-build/SQL-Exec-0.10-zLy_JO/blib/lib/SQL/Exec.pm line 1219.
when is experimental at /bbbike/.cpan-build/SQL-Exec-0.10-zLy_JO/blib/lib/SQL/Exec.pm line 1220.
when is experimental at /bbbike/.cpan-build/SQL-Exec-0.10-zLy_JO/blib/lib/SQL/Exec.pm line 1221.
when is experimental at /bbbike/.cpan-build/SQL-Exec-0.10-zLy_JO/blib/lib/SQL/Exec.pm line 1222.
when is experimental at /bbbike/.cpan-build/SQL-Exec-0.10-zLy_JO/blib/lib/SQL/Exec.pm line 1227.
when is experimental at /bbbike/.cpan-build/SQL-Exec-0.10-zLy_JO/blib/lib/SQL/Exec.pm line 1228.
when is experimental at /bbbike/.cpan-build/SQL-Exec-0.10-zLy_JO/blib/lib/SQL/Exec.pm line 1233.
when is experimental at /bbbike/.cpan-build/SQL-Exec-0.10-zLy_JO/blib/lib/SQL/Exec.pm line 1238.
when is experimental at /bbbike/.cpan-build/SQL-Exec-0.10-zLy_JO/blib/lib/SQL/Exec.pm line 1239.
when is experimental at /bbbike/.cpan-build/SQL-Exec-0.10-zLy_JO/blib/lib/SQL/Exec.pm line 1240.
when is experimental at /bbbike/.cpan-build/SQL-Exec-0.10-zLy_JO/blib/lib/SQL/Exec.pm line 1241.
when is experimental at /bbbike/.cpan-build/SQL-Exec-0.10-zLy_JO/blib/lib/SQL/Exec.pm line 1242.
when is experimental at /bbbike/.cpan-build/SQL-Exec-0.10-zLy_JO/blib/lib/SQL/Exec.pm line 1243.
push on reference is experimental at /opt/perl-5.19.11/lib/site_perl/5.19.11/Pod/Checker.pm line 806.
pop on reference is experimental at /opt/perl-5.19.11/lib/site_perl/5.19.11/Pod/Checker.pm line 811.
unshift on reference is experimental at /opt/perl-5.19.11/lib/site_perl/5.19.11/Pod/Checker.pm line 880.
shift on reference is experimental at /opt/perl-5.19.11/lib/site_perl/5.19.11/Pod/Checker.pm line 890.
push on reference is experimental at /opt/perl-5.19.11/lib/site_perl/5.19.11/Pod/Checker.pm line 942.
pop on reference is experimental at /opt/perl-5.19.11/lib/site_perl/5.19.11/Pod/Checker.pm line 947.
given is experimental at /opt/perl-5.19.11/lib/site_perl/5.19.11/Test/Subs.pm line 324.
when is experimental at /opt/perl-5.19.11/lib/site_perl/5.19.11/Test/Subs.pm line 325.
when is experimental at /opt/perl-5.19.11/lib/site_perl/5.19.11/Test/Subs.pm line 329.
when is experimental at /opt/perl-5.19.11/lib/site_perl/5.19.11/Test/Subs.pm line 333.
Smartmatch is experimental at t/table_exists.t line 134.
Smartmatch is experimental at t/table_exists.t line 139.
Smartmatch is experimental at t/table_exists.t line 144.
t/table_exists.t ....... ok
given is experimental at /bbbike/.cpan-build/SQL-Exec-0.10-zLy_JO/blib/lib/SQL/Exec.pm line 1218.
when is experimental at /bbbike/.cpan-build/SQL-Exec-0.10-zLy_JO/blib/lib/SQL/Exec.pm line 1219.
when is experimental at /bbbike/.cpan-build/SQL-Exec-0.10-zLy_JO/blib/lib/SQL/Exec.pm line 1220.
when is experimental at /bbbike/.cpan-build/SQL-Exec-0.10-zLy_JO/blib/lib/SQL/Exec.pm line 1221.
when is experimental at /bbbike/.cpan-build/SQL-Exec-0.10-zLy_JO/blib/lib/SQL/Exec.pm line 1222.
when is experimental at /bbbike/.cpan-build/SQL-Exec-0.10-zLy_JO/blib/lib/SQL/Exec.pm line 1227.
when is experimental at /bbbike/.cpan-build/SQL-Exec-0.10-zLy_JO/blib/lib/SQL/Exec.pm line 1228.
when is experimental at /bbbike/.cpan-build/SQL-Exec-0.10-zLy_JO/blib/lib/SQL/Exec.pm line 1233.
when is experimental at /bbbike/.cpan-build/SQL-Exec-0.10-zLy_JO/blib/lib/SQL/Exec.pm line 1238.
when is experimental at /bbbike/.cpan-build/SQL-Exec-0.10-zLy_JO/blib/lib/SQL/Exec.pm line 1239.
when is experimental at /bbbike/.cpan-build/SQL-Exec-0.10-zLy_JO/blib/lib/SQL/Exec.pm line 1240.
when is experimental at /bbbike/.cpan-build/SQL-Exec-0.10-zLy_JO/blib/lib/SQL/Exec.pm line 1241.
when is experimental at /bbbike/.cpan-build/SQL-Exec-0.10-zLy_JO/blib/lib/SQL/Exec.pm line 1242.
when is experimental at /bbbike/.cpan-build/SQL-Exec-0.10-zLy_JO/blib/lib/SQL/Exec.pm line 1243.
push on reference is experimental at /opt/perl-5.19.11/lib/site_perl/5.19.11/Pod/Checker.pm line 806.
pop on reference is experimental at /opt/perl-5.19.11/lib/site_perl/5.19.11/Pod/Checker.pm line 811.
unshift on reference is experimental at /opt/perl-5.19.11/lib/site_perl/5.19.11/Pod/Checker.pm line 880.
shift on reference is experimental at /opt/perl-5.19.11/lib/site_perl/5.19.11/Pod/Checker.pm line 890.
push on reference is experimental at /opt/perl-5.19.11/lib/site_perl/5.19.11/Pod/Checker.pm line 942.
pop on reference is experimental at /opt/perl-5.19.11/lib/site_perl/5.19.11/Pod/Checker.pm line 947.
given is experimental at /opt/perl-5.19.11/lib/site_perl/5.19.11/Test/Subs.pm line 324.
when is experimental at /opt/perl-5.19.11/lib/site_perl/5.19.11/Test/Subs.pm line 325.
when is experimental at /opt/perl-5.19.11/lib/site_perl/5.19.11/Test/Subs.pm line 329.
when is experimental at /opt/perl-5.19.11/lib/site_perl/5.19.11/Test/Subs.pm line 333.
t/transact.t ........... ok
All tests successful.
Files=16, Tests=139,  2 wallclock secs ( 0.05 usr  0.08 sys +  1.30 cusr  0.27 csys =  1.70 CPU)
Result: PASS

------------------------------
PREREQUISITES
------------------------------

Prerequisite modules loaded:

requires:

    Module                  Need     Have    
    ----------------------- -------- --------
    Carp                    0        1.3301  
    DBI                     0        1.631   
    DBI::Const::GetInfoType 0        2.008697
    DBIx::Connector         0        0.53    
    Exporter                0        5.70    
    List::MoreUtils         0        0.33    
    perl                    5.010001 5.019011
    Scalar::Util            0        1.38    
    SQL::SplitStatement     0        1.00020 

build_requires:

    Module                  Need     Have    
    ----------------------- -------- --------
    DBD::SQLite             0        1.42    
    String::Replace         0        0.02    
    Test::Subs              0        0.08    

configure_requires:

    Module                  Need     Have    
    ----------------------- -------- --------
    ExtUtils::MakeMaker     6.3002   6.98    


------------------------------
ENVIRONMENT AND OTHER CONTEXT
------------------------------

Environment variables:

    DBIC_NO_WARN_BAD_PERL = 1
    LANG = C
    PATH = /usr/local/bin:/usr/bin:/bin:/usr/local/sbin:/usr/sbin:/sbin:/home/eserte/bin/linux-gnu:/home/eserte/bin/sh:/home/eserte/bin:/usr/games:/home/eserte/devel:/home/eserte/src/srezic-misc/scripts
    PERL5LIB = 
    PERL5OPT = 
    PERL5_CPANPLUS_IS_RUNNING = 3674
    PERL5_CPAN_IS_RUNNING = 3674
    PERL5_CPAN_IS_RUNNING_IN_RECURSION = 32469,3674
    PERLDOC = -MPod::Perldoc::ToTextOverstrike
    PERL_BATCH = yes
    PERL_CPAN_REPORTER_CONFIG = /var/tmp/cpansmoker-1001/Y2ivo_4koc_config.ini
    PERL_EXTUTILS_AUTOINSTALL = --defaultdeps
    PERL_HTML_DISPLAY_CLASS = HTML::Display::Mozilla
    PERL_PARALLEL_SMOKER = yes
    SHELL = /bin/zsh
    TERM = screen
    TMPDIR = /var/tmp/cpansmoker-1001

Perl special variables (and OS-specific diagnostics, for MSWin32):

    $^X = /bbbike/perl-5.19.11/bin/perl5.19.11
    $UID/$EUID = 1001 / 1001
    $GID = 1001 109 1001
    $EGID = 1001 109 1001

Perl module toolchain versions installed:

    Module              Have    
    ------------------- --------
    CPAN                2.05    
    CPAN::Meta          2.141170
    Cwd                 3.40    
    ExtUtils::CBuilder  0.280216
    ExtUtils::Command   1.18    
    ExtUtils::Install   1.67    
    ExtUtils::MakeMaker 6.98    
    ExtUtils::Manifest  1.63    
    ExtUtils::ParseXS   3.24    
    File::Spec          3.40    
    JSON                2.90    
    JSON::PP            2.27203 
    Module::Build       0.4205  
    Module::Signature   0.73    
    Parse::CPAN::Meta   1.4414  
    Test::Harness       3.30    
    Test::More          1.001003
    YAML                0.90    
    YAML::Syck          1.27    
    version             0.9908  


--

Summary of my perl5 (revision 5 version 19 subversion 11) configuration:
   
  Platform:
    osname=linux, osvers=3.2.0-4-amd64, archname=x86_64-linux
    uname='linux eserte 3.2.0-4-amd64 #1 smp debian 3.2.57-3 x86_64 gnulinux '
    config_args='-ds -e -Dprefix=/opt/perl-5.19.11 -Dusedevel -Dusemallocwrap=no'
    hint=recommended, useposix=true, d_sigaction=define
    useithreads=undef, usemultiplicity=undef
    use64bitint=define, use64bitall=define, uselongdouble=undef
    usemymalloc=n, bincompat5005=undef
  Compiler:
    cc='cc', ccflags ='-fwrapv -fno-strict-aliasing -pipe -fstack-protector -I/usr/local/include -D_LARGEFILE_SOURCE -D_FILE_OFFSET_BITS=64',
    optimize='-O2',
    cppflags='-fwrapv -fno-strict-aliasing -pipe -fstack-protector -I/usr/local/include'
    ccversion='', gccversion='4.7.2', gccosandvers=''
    intsize=4, longsize=8, ptrsize=8, doublesize=8, byteorder=12345678
    d_longlong=define, longlongsize=8, d_longdbl=define, longdblsize=16
    ivtype='long', ivsize=8, nvtype='double', nvsize=8, Off_t='off_t', lseeksize=8
    alignbytes=8, prototype=define
  Linker and Libraries:
    ld='cc', ldflags =' -fstack-protector -L/usr/local/lib'
    libpth=/usr/local/lib /usr/lib/gcc/x86_64-linux-gnu/4.7/include-fixed /usr/include/x86_64-linux-gnu /usr/lib /lib/x86_64-linux-gnu /lib/../lib /usr/lib/x86_64-linux-gnu /usr/lib/../lib /lib
    libs=-lnsl -ldb -ldl -lm -lcrypt -lutil -lc
    perllibs=-lnsl -ldl -lm -lcrypt -lutil -lc
    libc=libc-2.13.so, so=so, useshrplib=false, libperl=libperl.a
    gnulibc_version='2.13'
  Dynamic Linking:
    dlsrc=dl_dlopen.xs, dlext=so, d_dlsymun=undef, ccdlflags='-Wl,-E'
    cccdlflags='-fPIC', lddlflags='-shared -O2 -L/usr/local/lib -fstack-protector'


Characteristics of this binary (from libperl): 
  Compile-time options: HAS_TIMES PERLIO_LAYERS PERL_DONT_CREATE_GVSV
                        PERL_HASH_FUNC_ONE_AT_A_TIME_HARD
                        PERL_NEW_COPY_ON_WRITE PERL_PRESERVE_IVUV
                        PERL_USE_DEVEL USE_64_BIT_ALL USE_64_BIT_INT
                        USE_LARGE_FILES USE_LOCALE USE_LOCALE_COLLATE
                        USE_LOCALE_CTYPE USE_LOCALE_NUMERIC USE_PERLIO
                        USE_PERL_ATOF
  Built under linux
  Compiled at May  7 2014 07:25:37
  %ENV:
    PERL5LIB=""
    PERL5OPT=""
    PERL5_CPANPLUS_IS_RUNNING="3674"
    PERL5_CPAN_IS_RUNNING="3674"
    PERL5_CPAN_IS_RUNNING_IN_RECURSION="32469,3674"
    PERLDOC="-MPod::Perldoc::ToTextOverstrike"
    PERL_BATCH="yes"
    PERL_CPAN_REPORTER_CONFIG="/var/tmp/cpansmoker-1001/Y2ivo_4koc_config.ini"
    PERL_EXTUTILS_AUTOINSTALL="--defaultdeps"
    PERL_HTML_DISPLAY_CLASS="HTML::Display::Mozilla"
    PERL_PARALLEL_SMOKER="yes"
  @INC:
    /opt/perl-5.19.11/lib/site_perl/5.19.11/x86_64-linux
    /opt/perl-5.19.11/lib/site_perl/5.19.11
    /opt/perl-5.19.11/lib/5.19.11/x86_64-linux
    /opt/perl-5.19.11/lib/5.19.11
    .