Regexp-Grammars v1.052 Perl 5 v5.24.4 x86_64-linux-thread-multi

Status
Pass
From
Nigel Horne
Dist
Regexp-Grammars v1.052
Platform
Perl 5 v5.24.4 x86_64-linux-thread-multi
Date
2019-08-13 05:11:33
ID
d14adadc-bd88-11e9-8ef1-a95301cf0b95
This distribution has been tested as part of the CPAN Testers
project, supporting the Perl programming language.  See
http://wiki.cpantesters.org/ for more information or email
questions to cpan-testers-discuss@perl.org


--
Dear Damian Conway,

This is a computer-generated report for Regexp-Grammars-1.052
on perl 5.24.4, created by CPAN-Reporter-1.2018.

Thank you for uploading your work to CPAN.  Congratulations!
All tests were successful.

Sections of this report:

    * Tester comments
    * Program output
    * Prerequisites
    * Environment and other context

------------------------------
TESTER COMMENTS
------------------------------

Additional comments from tester:

this report is from an automated smoke testing program
and was not reviewed by a human for accuracy

------------------------------
PROGRAM OUTPUT
------------------------------

Output from './Build test':

# Testing Regexp::Grammars 1.052
t/00.load.t ............................ ok
t/alias_literal.t ...................... ok
t/arg.t ................................ ok
t/aliased_subpatterns.t ................ ok
t/autoflatten.t ........................ ok
t/backref.t ............................ ok
t/backref_ARG.t ........................ ok
t/charnames.t .......................... ok
t/charset.t ............................ ok
t/class_accessor.t ..................... ok
t/clear_actions.t ...................... ok
t/comment.t ............................ ok
t/data_structure.t ..................... ok
t/error.t .............................. ok
t/error_non_hash_based.t ............... ok
t/error_non_backtracking.t ............. ok
t/error_translate.t .................... ok
t/fatal.t .............................. ok
t/grammar.t ............................ ok
t/fwdref.t ............................. ok
t/grammar_polymorphism.t ............... ok
t/hash.t ............................... ok
t/hash_redef.t ......................... ok
t/hash_redef_local.t ................... ok
t/inline_computation.t ................. ok
t/inline_computation_handler.t ......... ok
t/inline_computation_obj_handler.t ..... ok
t/local_ws.t ........................... ok
t/lookaheads.t ......................... ok
t/matchline.t .......................... ok
t/matchpos.t ........................... ok
t/minimize_bug.t ....................... ok
t/missing_slash_x.t .................... ok
t/moose.t .............................. skipped: Moose required for testing moosey objrules
t/neg_lookahead.t ...................... ok
t/new.t ................................ ok
t/new_init.t ........................... ok
t/new_init_autoload.t .................. ok
t/new_init_limited_autoload.t .......... ok
t/new_init_limited_autoload_warn.t ..... ok
t/no_context.t ......................... ok
t/no_context_counterlocal.t ............ ok
t/no_context_named_capture.t ........... ok
t/no_context_local.t ................... ok
t/non_backtracking.t ................... ok
t/obj_rename.t ......................... ok
t/pod.t ................................ skipped: Test::Pod 1.14 required for testing POD
t/one_liner.t .......................... ok
t/pseudovars.t ......................... ok
t/repop_ws.t ........................... ok
t/seplist.t ............................ ok
t/seplist_countedhash_0.t .............. ok
t/seplist_countedhash_0_.t ............. ok
t/seplist_countedhash_0_1.t ............ ok
t/seplist_countedhash_0_N.t ............ ok
t/seplist_countedhash_1.t .............. ok
t/seplist_countedhash_1_.t ............. ok
t/seplist_countedhash_1_N.t ............ ok
t/seplist_countedhash_M_.t ............. ok
t/seplist_countedhash_M_N.t ............ ok
t/seplist_countedhash_N.t .............. ok
  warn | Non-backtracking subrule call <[item=Value]>++
       | at t/seplist_greediness.t line 45
       | may not revert correctly during backtracking.
       | (If grammar does not work, try <[item=Value]>+ instead)
       | 
t/seplist_greediness.t ................. ok
t/seplist_plushash.t ................... ok
t/seplist_questionmark.t ............... ok
t/seplist_rawhash.t .................... ok
t/seplist_starhash.t ................... ok
t/seplist_trailing__countedhash_0.t .... ok
t/seplist_trailing__countedhash_0_.t ... ok
t/seplist_trailing__countedhash_0_1.t .. ok
t/seplist_trailing__countedhash_0_N.t .. ok
t/seplist_trailing__countedhash_1.t .... ok
t/seplist_trailing__countedhash_1_.t ... ok
t/seplist_trailing__countedhash_1_N.t .. ok
t/seplist_trailing__countedhash_M_.t ... ok
t/seplist_trailing__countedhash_M_N.t .. ok
t/seplist_trailing__countedhash_N.t .... ok
  warn | Non-backtracking subrule call <[item=Value]>++
       | at t/seplist_trailing__greediness.t line 45
       | may not revert correctly during backtracking.
       | (If grammar does not work, try <[item=Value]>+ instead)
       | 
t/seplist_trailing__plushash.t ......... ok
t/seplist_trailing__greediness.t ....... ok
t/seplist_trailing__questionmark.t ..... ok
t/seplist_trailing__rawhash.t .......... ok
t/seplist_trailing__starhash.t ......... ok
t/top_is_token.t ....................... ok
t/ws_redefine.t ........................ ok
All tests successful.
Files=83, Tests=1395,  4 wallclock secs ( 0.33 usr  0.16 sys +  5.06 cusr  1.09 csys =  6.64 CPU)
Result: PASS

------------------------------
PREREQUISITES
------------------------------

Prerequisite modules loaded:

requires:

    Module              Need    Have    
    ------------------- ------- --------
    B::Hooks::Parser    0.16    0.21    
    perl                v5.10.0 5.024004
    Test::More          0       1.001014
    version             0       0.9916  

configure_requires:

    Module              Need    Have    
    ------------------- ------- --------
    ExtUtils::MakeMaker 0       7.34    


------------------------------
ENVIRONMENT AND OTHER CONTEXT
------------------------------

Environment variables:

    AUTOMATED_TESTING = 1
    HARNESS_OPTIONS = j2
    LANG = en_US.UTF-8
    PATH = /home/njh/perl5/perlbrew/bin:/home/njh/perl5/perlbrew/perls/perl-5.24.4-thread/bin:/home/njh/src/njh/smoker/bin:/usr/bin:/bin
    PERL5LIB = /tmp/build/B-Hooks-Parser-0.21-14/blib/arch:/tmp/build/B-Hooks-Parser-0.21-14/blib/lib:/tmp/build/B-Hooks-EndOfScope-0.24-8/blib/arch:/tmp/build/B-Hooks-EndOfScope-0.24-8/blib/lib:/tmp/build/Variable-Magic-0.62-8/blib/arch:/tmp/build/Variable-Magic-0.62-8/blib/lib:/tmp/build/Sub-Exporter-Progressive-0.001013-16/blib/arch:/tmp/build/Sub-Exporter-Progressive-0.001013-16/blib/lib:/tmp/build/Devel-Hide-0.0010-8/blib/arch:/tmp/build/Devel-Hide-0.0010-8/blib/lib:/tmp/build/B-Hooks-OP-Check-0.22-52/blib/arch:/tmp/build/B-Hooks-OP-Check-0.22-52/blib/lib:/tmp/build/ExtUtils-Depends-0.8000-49/blib/arch:/tmp/build/ExtUtils-Depends-0.8000-49/blib/lib:/tmp/build/Nodejs-Util-0.012-15/blib/arch:/tmp/build/Nodejs-Util-0.012-15/blib/lib:/tmp/build/IPC-System-Options-0.331-17/blib/arch:/tmp/build/IPC-System-Options-0.331-17/blib/lib:/tmp/build/String-ShellQuote-1.04-17/blib/arch:/tmp/build/String-ShellQuote-1.04-17/blib/lib:/tmp/build/Proc-ChildError-0.04-17/blib/arch:/tmp/build/Proc-ChildError-0.04-17/blib/lib:/tmp/build/JSON-MaybeXS-1.004000-15/blib/arch:/tmp/build/JSON-MaybeXS-1.004000-15/blib/lib:/tmp/build/Cpanel-JSON-XS-4.12-54/blib/arch:/tmp/build/Cpanel-JSON-XS-4.12-54/blib/lib:/tmp/build/Data-Dump-Color-0.241-12/blib/arch:/tmp/build/Data-Dump-Color-0.241-12/blib/lib:/tmp/build/Scalar-Util-LooksLikeNumber-1.39.2-12/blib/arch:/tmp/build/Scalar-Util-LooksLikeNumber-1.39.2-12/blib/lib:/tmp/build/Data-Dump-1.23-176/blib/arch:/tmp/build/Data-Dump-1.23-176/blib/lib:/tmp/build/File-ShareDir-Install-0.13-27/blib/arch:/tmp/build/File-ShareDir-Install-0.13-27/blib/lib
    PERL5OPT = 
    PERL5_CPANPLUS_IS_RUNNING = 3735
    PERL5_CPAN_IS_RUNNING = 3735
    PERL5_CPAN_IS_RUNNING_IN_RECURSION = 3617,3735
    PERLBREW_HOME = /home/njh/.perlbrew
    PERLBREW_MANPATH = /home/njh/perl5/perlbrew/perls/perl-5.24.4-thread/man
    PERLBREW_PATH = /home/njh/perl5/perlbrew/bin:/home/njh/perl5/perlbrew/perls/perl-5.24.4-thread/bin
    PERLBREW_PERL = perl-5.24.4-thread
    PERLBREW_ROOT = /home/njh/perl5/perlbrew
    PERLBREW_SHELLRC_VERSION = 0.86
    PERLBREW_VERSION = 0.86
    PERL_USE_UNSAFE_INC = 1
    SHELL = /bin/sh
    TEMP = /tmp/user/1000
    TMPDIR = /tmp/user/1000/testwrapper.3721

Perl special variables (and OS-specific diagnostics, for MSWin32):

    $^X = /home/njh/perl5/perlbrew/perls/perl-5.24.4-thread/bin/perl5.24.4
    $UID/$EUID = 1000 / 1000
    $GID = 1000 4 24 25 29 30 44 46 103 108 115 123 996 1000
    $EGID = 1000 4 24 25 29 30 44 46 103 108 115 123 996 1000

Perl module toolchain versions installed:

    Module              Have    
    ------------------- --------
    CPAN                2.25    
    CPAN::Meta          2.150010
    Cwd                 3.63_01 
    ExtUtils::CBuilder  0.280230
    ExtUtils::Command   7.34    
    ExtUtils::Install   2.14    
    ExtUtils::MakeMaker 7.34    
    ExtUtils::Manifest  1.71    
    ExtUtils::ParseXS   3.35    
    File::Spec          3.63_01 
    JSON                4.02    
    JSON::PP            2.97001 
    Module::Build       0.4224  
    Module::Signature   n/a     
    Parse::CPAN::Meta   2.150010
    Test::Harness       3.36_01 
    Test::More          1.001014
    YAML                1.29    
    YAML::Syck          1.31    
    version             0.9916  


--

Summary of my perl5 (revision 5 version 24 subversion 4) configuration:
   
  Platform:
    osname=linux, osvers=4.15.0-2-amd64, archname=x86_64-linux-thread-multi
    uname='linux amelia 4.15.0-2-amd64 #1 smp debian 4.15.11-1 (2018-03-20) x86_64 gnulinux '
    config_args='-de -Dprefix=/home/njh/perl5/perlbrew/perls/perl-5.24.4-thread -Dusedevel -Dusethreads -Accflags= -Aeval:scriptdir=/home/njh/perl5/perlbrew/perls/perl-5.24.4-thread/bin'
    hint=recommended, useposix=true, d_sigaction=define
    useithreads=define, usemultiplicity=define
    use64bitint=define, use64bitall=define, uselongdouble=undef
    usemymalloc=n, bincompat5005=undef
  Compiler:
    cc='cc', ccflags ='-D_REENTRANT -D_GNU_SOURCE -fwrapv -fno-strict-aliasing -pipe -fstack-protector-strong -I/usr/local/include -D_LARGEFILE_SOURCE -D_FILE_OFFSET_BITS=64 -D_FORTIFY_SOURCE=2',
    optimize='-O2',
    cppflags='-D_REENTRANT -D_GNU_SOURCE -fwrapv -fno-strict-aliasing -pipe -fstack-protector-strong -I/usr/local/include'
    ccversion='', gccversion='7.3.0', gccosandvers=''
    intsize=4, longsize=8, ptrsize=8, doublesize=8, byteorder=12345678, doublekind=3
    d_longlong=define, longlongsize=8, d_longdbl=define, longdblsize=16, longdblkind=3
    ivtype='long', ivsize=8, nvtype='double', nvsize=8, Off_t='off_t', lseeksize=8
    alignbytes=8, prototype=define
  Linker and Libraries:
    ld='cc', ldflags =' -fstack-protector-strong -L/usr/local/lib'
    libpth=/usr/local/lib /usr/lib/gcc/x86_64-linux-gnu/7/include-fixed /usr/include/x86_64-linux-gnu /usr/lib /lib/x86_64-linux-gnu /lib/../lib /usr/lib/x86_64-linux-gnu /usr/lib/../lib /lib /lib64 /usr/lib64
    libs=-lpthread -lnsl -lgdbm -ldb -ldl -lm -lcrypt -lutil -lc
    perllibs=-lpthread -lnsl -ldl -lm -lcrypt -lutil -lc
    libc=libc-2.27.so, so=so, useshrplib=false, libperl=libperl.a
    gnulibc_version='2.27'
  Dynamic Linking:
    dlsrc=dl_dlopen.xs, dlext=so, d_dlsymun=undef, ccdlflags='-Wl,-E'
    cccdlflags='-fPIC', lddlflags='-shared -O2 -L/usr/local/lib -fstack-protector-strong'


Characteristics of this binary (from libperl): 
  Compile-time options: HAS_TIMES MULTIPLICITY PERLIO_LAYERS
                        PERL_COPY_ON_WRITE PERL_DONT_CREATE_GVSV
                        PERL_HASH_FUNC_ONE_AT_A_TIME_HARD
                        PERL_IMPLICIT_CONTEXT PERL_MALLOC_WRAP
                        PERL_PRESERVE_IVUV PERL_USE_DEVEL USE_64_BIT_ALL
                        USE_64_BIT_INT USE_ITHREADS USE_LARGE_FILES
                        USE_LOCALE USE_LOCALE_COLLATE USE_LOCALE_CTYPE
                        USE_LOCALE_NUMERIC USE_LOCALE_TIME USE_PERLIO
                        USE_PERL_ATOF USE_REENTRANT_API
  Locally applied patches:
	Devel::PatchPerl 1.48
  Built under linux
  Compiled at May  2 2018 00:38:45
  %ENV:
    PERL5LIB="/tmp/build/B-Hooks-Parser-0.21-14/blib/arch:/tmp/build/B-Hooks-Parser-0.21-14/blib/lib:/tmp/build/B-Hooks-EndOfScope-0.24-8/blib/arch:/tmp/build/B-Hooks-EndOfScope-0.24-8/blib/lib:/tmp/build/Variable-Magic-0.62-8/blib/arch:/tmp/build/Variable-Magic-0.62-8/blib/lib:/tmp/build/Sub-Exporter-Progressive-0.001013-16/blib/arch:/tmp/build/Sub-Exporter-Progressive-0.001013-16/blib/lib:/tmp/build/Devel-Hide-0.0010-8/blib/arch:/tmp/build/Devel-Hide-0.0010-8/blib/lib:/tmp/build/B-Hooks-OP-Check-0.22-52/blib/arch:/tmp/build/B-Hooks-OP-Check-0.22-52/blib/lib:/tmp/build/ExtUtils-Depends-0.8000-49/blib/arch:/tmp/build/ExtUtils-Depends-0.8000-49/blib/lib:/tmp/build/Nodejs-Util-0.012-15/blib/arch:/tmp/build/Nodejs-Util-0.012-15/blib/lib:/tmp/build/IPC-System-Options-0.331-17/blib/arch:/tmp/build/IPC-System-Options-0.331-17/blib/lib:/tmp/build/String-ShellQuote-1.04-17/blib/arch:/tmp/build/String-ShellQuote-1.04-17/blib/lib:/tmp/build/Proc-ChildError-0.04-17/blib/arch:/tmp/build/Proc-ChildError-0.04-17/blib/lib:/tmp/build/JSON-MaybeXS-1.004000-15/blib/arch:/tmp/build/JSON-MaybeXS-1.004000-15/blib/lib:/tmp/build/Cpanel-JSON-XS-4.12-54/blib/arch:/tmp/build/Cpanel-JSON-XS-4.12-54/blib/lib:/tmp/build/Data-Dump-Color-0.241-12/blib/arch:/tmp/build/Data-Dump-Color-0.241-12/blib/lib:/tmp/build/Scalar-Util-LooksLikeNumber-1.39.2-12/blib/arch:/tmp/build/Scalar-Util-LooksLikeNumber-1.39.2-12/blib/lib:/tmp/build/Data-Dump-1.23-176/blib/arch:/tmp/build/Data-Dump-1.23-176/blib/lib:/tmp/build/File-ShareDir-Install-0.13-27/blib/arch:/tmp/build/File-ShareDir-Install-0.13-27/blib/lib"
    PERL5OPT=""
    PERL5_CPANPLUS_IS_RUNNING="3735"
    PERL5_CPAN_IS_RUNNING="3735"
    PERL5_CPAN_IS_RUNNING_IN_RECURSION="3617,3735"
    PERLBREW_HOME="/home/njh/.perlbrew"
    PERLBREW_MANPATH="/home/njh/perl5/perlbrew/perls/perl-5.24.4-thread/man"
    PERLBREW_PATH="/home/njh/perl5/perlbrew/bin:/home/njh/perl5/perlbrew/perls/perl-5.24.4-thread/bin"
    PERLBREW_PERL="perl-5.24.4-thread"
    PERLBREW_ROOT="/home/njh/perl5/perlbrew"
    PERLBREW_SHELLRC_VERSION="0.86"
    PERLBREW_VERSION="0.86"
    PERL_USE_UNSAFE_INC="1"
  @INC:
    /tmp/build/B-Hooks-Parser-0.21-14/blib/arch
    /tmp/build/B-Hooks-Parser-0.21-14/blib/lib
    /tmp/build/B-Hooks-EndOfScope-0.24-8/blib/arch
    /tmp/build/B-Hooks-EndOfScope-0.24-8/blib/lib
    /tmp/build/Variable-Magic-0.62-8/blib/arch
    /tmp/build/Variable-Magic-0.62-8/blib/lib
    /tmp/build/Sub-Exporter-Progressive-0.001013-16/blib/arch
    /tmp/build/Sub-Exporter-Progressive-0.001013-16/blib/lib
    /tmp/build/Devel-Hide-0.0010-8/blib/arch
    /tmp/build/Devel-Hide-0.0010-8/blib/lib
    /tmp/build/B-Hooks-OP-Check-0.22-52/blib/arch
    /tmp/build/B-Hooks-OP-Check-0.22-52/blib/lib
    /tmp/build/ExtUtils-Depends-0.8000-49/blib/arch
    /tmp/build/ExtUtils-Depends-0.8000-49/blib/lib
    /tmp/build/Nodejs-Util-0.012-15/blib/arch
    /tmp/build/Nodejs-Util-0.012-15/blib/lib
    /tmp/build/IPC-System-Options-0.331-17/blib/arch
    /tmp/build/IPC-System-Options-0.331-17/blib/lib
    /tmp/build/String-ShellQuote-1.04-17/blib/arch
    /tmp/build/String-ShellQuote-1.04-17/blib/lib
    /tmp/build/Proc-ChildError-0.04-17/blib/arch
    /tmp/build/Proc-ChildError-0.04-17/blib/lib
    /tmp/build/JSON-MaybeXS-1.004000-15/blib/arch
    /tmp/build/JSON-MaybeXS-1.004000-15/blib/lib
    /tmp/build/Cpanel-JSON-XS-4.12-54/blib/arch
    /tmp/build/Cpanel-JSON-XS-4.12-54/blib/lib
    /tmp/build/Data-Dump-Color-0.241-12/blib/arch
    /tmp/build/Data-Dump-Color-0.241-12/blib/lib
    /tmp/build/Scalar-Util-LooksLikeNumber-1.39.2-12/blib/arch
    /tmp/build/Scalar-Util-LooksLikeNumber-1.39.2-12/blib/lib
    /tmp/build/Data-Dump-1.23-176/blib/arch
    /tmp/build/Data-Dump-1.23-176/blib/lib
    /tmp/build/File-ShareDir-Install-0.13-27/blib/arch
    /tmp/build/File-ShareDir-Install-0.13-27/blib/lib
    /home/njh/perl5/perlbrew/perls/perl-5.24.4-thread/lib/site_perl/5.24.4/x86_64-linux-thread-multi
    /home/njh/perl5/perlbrew/perls/perl-5.24.4-thread/lib/site_perl/5.24.4
    /home/njh/perl5/perlbrew/perls/perl-5.24.4-thread/lib/5.24.4/x86_64-linux-thread-multi
    /home/njh/perl5/perlbrew/perls/perl-5.24.4-thread/lib/5.24.4
    .