Back
From: metabase:user:019ce9d0-85a3-11e1-b7f2-1e88e517de85
Subject: PASS Blosxom-Plugin-0.02004 v5.16.2 GNU/Linux
Date: 2012-11-27T14:43:33Z
This distribution has been tested as part of the CPAN Testers
project, supporting the Perl programming language. See
http://wiki.cpantesters.org/ for more information or email
questions to cpan-testers-discuss@perl.org
--
Dear Ryo Anazawa,
This is a computer-generated report for Blosxom-Plugin-0.02004
on perl 5.16.2, created by CPAN-Reporter-1.2006.
Thank you for uploading your work to CPAN. Congratulations!
All tests were successful.
Sections of this report:
* Tester comments
* Program output
* Prerequisites
* Environment and other context
------------------------------
TESTER COMMENTS
------------------------------
Additional comments from tester:
this report is from an automated smoke testing program
and was not reviewed by a human for accuracy
------------------------------
PROGRAM OUTPUT
------------------------------
Output from '/usr/bin/make test':
PERL_DL_NONLAZY=1 /root/perl5/perlbrew/perls/perl-5.16.2/bin/perl "-MExtUtils::Command::MM" "-e" "test_harness(0, 'inc', 'blib/lib', 'blib/arch')" t/*.t
t/add_method.t ................... ok
t/attibutes.t .................... ok
t/compile.t ...................... ok
t/conflict.t ..................... ok
t/data_section.t ................. ok
t/import.t ....................... ok
t/load_components.t .............. ok
t/load_components_recursively.t .. ok
t/request.t ...................... ok
t/upload.t ....................... ok
t/web.t .......................... ok
All tests successful.
Files=11, Tests=82, 1 wallclock secs ( 0.04 usr 0.02 sys + 0.36 cusr 0.06 csys = 0.48 CPU)
Result: PASS
------------------------------
PREREQUISITES
------------------------------
Prerequisite modules loaded:
requires:
Module Need Have
--------------------- -------- --------
CGI 3.51 3.59
Data::Section::Simple 0 0.03
File::Spec::Unix 0 3.39_02
IO::File 0 1.16
parent 0 0.225
perl 5.008009 5.016002
build_requires:
Module Need Have
--------------------- -------- --------
ExtUtils::MakeMaker 6.59 6.63_02
Test::Exception 0 0.31
Test::More 0.98 0.98
Test::Pod 0 1.45
configure_requires:
Module Need Have
--------------------- -------- --------
ExtUtils::MakeMaker 6.59 6.63_02
------------------------------
ENVIRONMENT AND OTHER CONTEXT
------------------------------
Environment variables:
AUTOMATED_TESTING = 1
LANG = en_US.UTF-8
PATH = /root/perl5/perlbrew/bin:/root/perl5/perlbrew/perls/perl-5.16.2/bin:/home/glens/.gem/ruby/1.9.1/bin:/home/glens/bin:~/bin:/home/glens/.gem/ruby/1.9.1/bin:/home/glens/bin:~/bin:/home/glens/.gem/ruby/1.9.1/bin:/home/glens/bin:~/bin:/usr/lib64/qt-3.3/bin:/usr/local/sbin:/usr/local/bin:/sbin:/bin:/usr/sbin:/usr/bin
PERL5LIB = /root/.cpan/build/Data-Section-Simple-0.03-3TrBoS/blib/arch:/root/.cpan/build/Data-Section-Simple-0.03-3TrBoS/blib/lib:/root/.cpan/build/Test-Requires-0.06-RpyGHQ/blib/arch:/root/.cpan/build/Test-Requires-0.06-RpyGHQ/blib/lib
PERL5OPT =
PERL5_CPANPLUS_IS_RUNNING = 48914
PERL5_CPAN_IS_RUNNING = 48914
PERL5_CPAN_IS_RUNNING_IN_RECURSION = 45022,48914
PERLBREW_BASHRC_VERSION = 0.58
PERLBREW_HOME = /root/.perlbrew
PERLBREW_MANPATH = /root/perl5/perlbrew/perls/perl-5.16.2/man
PERLBREW_PATH = /root/perl5/perlbrew/bin:/root/perl5/perlbrew/perls/perl-5.16.2/bin
PERLBREW_PERL = perl-5.16.2
PERLBREW_ROOT = /root/perl5/perlbrew
PERLBREW_VERSION = 0.58
PERL_CR_SMOKER_CURRENT = Blosxom-Plugin-0.02004
PERL_EXTUTILS_AUTOINSTALL = --defaultdeps
PERL_MM_USE_DEFAULT = 1
SHELL = /bin/bash
TERM = xterm
Perl special variables (and OS-specific diagnostics, for MSWin32):
$^X = /root/perl5/perlbrew/perls/perl-5.16.2/bin/perl
$UID/$EUID = 0 / 0
$GID = 0 0 1 2 3 4 6 10
$EGID = 0 0 1 2 3 4 6 10
Perl module toolchain versions installed:
Module Have
------------------- --------
CPAN 1.9800
CPAN::Meta 2.120630
Cwd 3.39_02
ExtUtils::CBuilder 0.280206
ExtUtils::Command 1.17
ExtUtils::Install 1.58
ExtUtils::MakeMaker 6.63_02
ExtUtils::Manifest 1.61
ExtUtils::ParseXS 3.16
File::Spec 3.39_02
JSON 2.53
JSON::PP 2.27200
Module::Build 0.39_01
Module::Signature n/a
Parse::CPAN::Meta 1.4402
Test::Harness 3.23
Test::More 0.98
YAML 0.84
YAML::Syck n/a
version 0.99
--
Summary of my perl5 (revision 5 version 16 subversion 2) configuration:
Platform:
osname=linux, osvers=2.6.32-279.11.1.el6.x86_64, archname=x86_64-linux
uname='linux tlhdevvm 2.6.32-279.11.1.el6.x86_64 #1 smp tue oct 16 15:57:10 utc 2012 x86_64 x86_64 x86_64 gnulinux '
config_args='-de -Dprefix=/root/perl5/perlbrew/perls/perl-5.16.2 -Aeval:scriptdir=/root/perl5/perlbrew/perls/perl-5.16.2/bin'
hint=recommended, useposix=true, d_sigaction=define
useithreads=undef, usemultiplicity=undef
useperlio=define, d_sfio=undef, uselargefiles=define, usesocks=undef
use64bitint=define, use64bitall=define, uselongdouble=undef
usemymalloc=n, bincompat5005=undef
Compiler:
cc='cc', ccflags ='-fno-strict-aliasing -pipe -fstack-protector -I/usr/local/include -D_LARGEFILE_SOURCE -D_FILE_OFFSET_BITS=64',
optimize='-O2',
cppflags='-fno-strict-aliasing -pipe -fstack-protector -I/usr/local/include'
ccversion='', gccversion='4.4.6 20120305 (Red Hat 4.4.6-4)', gccosandvers=''
intsize=4, longsize=8, ptrsize=8, doublesize=8, byteorder=12345678
d_longlong=define, longlongsize=8, d_longdbl=define, longdblsize=16
ivtype='long', ivsize=8, nvtype='double', nvsize=8, Off_t='off_t', lseeksize=8
alignbytes=8, prototype=define
Linker and Libraries:
ld='cc', ldflags =' -fstack-protector -L/usr/local/lib'
libpth=/usr/local/lib /lib/../lib64 /usr/lib/../lib64 /lib /usr/lib /lib64 /usr/lib64 /usr/local/lib64
libs=-lnsl -ldb -ldl -lm -lcrypt -lutil -lc
perllibs=-lnsl -ldl -lm -lcrypt -lutil -lc
libc=, so=so, useshrplib=false, libperl=libperl.a
gnulibc_version='2.12'
Dynamic Linking:
dlsrc=dl_dlopen.xs, dlext=so, d_dlsymun=undef, ccdlflags='-Wl,-E'
cccdlflags='-fPIC', lddlflags='-shared -O2 -L/usr/local/lib -fstack-protector'
Characteristics of this binary (from libperl):
Compile-time options: HAS_TIMES PERLIO_LAYERS PERL_DONT_CREATE_GVSV
PERL_MALLOC_WRAP PERL_PRESERVE_IVUV USE_64_BIT_ALL
USE_64_BIT_INT USE_LARGE_FILES USE_LOCALE
USE_LOCALE_COLLATE USE_LOCALE_CTYPE
USE_LOCALE_NUMERIC USE_PERLIO USE_PERL_ATOF
Built under linux
Compiled at Nov 8 2012 15:44:56
%ENV:
PERL5LIB="/root/.cpan/build/Data-Section-Simple-0.03-3TrBoS/blib/arch:/root/.cpan/build/Data-Section-Simple-0.03-3TrBoS/blib/lib:/root/.cpan/build/Test-Requires-0.06-RpyGHQ/blib/arch:/root/.cpan/build/Test-Requires-0.06-RpyGHQ/blib/lib"
PERL5OPT=""
PERL5_CPANPLUS_IS_RUNNING="48914"
PERL5_CPAN_IS_RUNNING="48914"
PERL5_CPAN_IS_RUNNING_IN_RECURSION="45022,48914"
PERLBREW_BASHRC_VERSION="0.58"
PERLBREW_HOME="/root/.perlbrew"
PERLBREW_MANPATH="/root/perl5/perlbrew/perls/perl-5.16.2/man"
PERLBREW_PATH="/root/perl5/perlbrew/bin:/root/perl5/perlbrew/perls/perl-5.16.2/bin"
PERLBREW_PERL="perl-5.16.2"
PERLBREW_ROOT="/root/perl5/perlbrew"
PERLBREW_VERSION="0.58"
PERL_CR_SMOKER_CURRENT="Blosxom-Plugin-0.02004"
PERL_EXTUTILS_AUTOINSTALL="--defaultdeps"
PERL_MM_USE_DEFAULT="1"
@INC:
/root/.cpan/build/Data-Section-Simple-0.03-3TrBoS/blib/arch
/root/.cpan/build/Data-Section-Simple-0.03-3TrBoS/blib/lib
/root/.cpan/build/Test-Requires-0.06-RpyGHQ/blib/arch
/root/.cpan/build/Test-Requires-0.06-RpyGHQ/blib/lib
/root/perl5/perlbrew/perls/perl-5.16.2/lib/site_perl/5.16.2/x86_64-linux
/root/perl5/perlbrew/perls/perl-5.16.2/lib/site_perl/5.16.2
/root/perl5/perlbrew/perls/perl-5.16.2/lib/5.16.2/x86_64-linux
/root/perl5/perlbrew/perls/perl-5.16.2/lib/5.16.2
.