Report for Class-MethodMaker-2.18

Back
From: metabase:user:d2c9f356-b46f-11df-9a90-20a83c0b7757
Subject: PASS Class-MethodMaker-2.18 v5.17.7 SunOS/Solaris
Date: 2013-01-30T19:32:43Z

This distribution has been tested as part of the CPAN Testers
project, supporting the Perl programming language.  See
http://wiki.cpantesters.org/ for more information or email
questions to cpan-testers-discuss@perl.org


--
Dear Steffen Schwigon,

This is a computer-generated report for Class-MethodMaker-2.18
on perl 5.17.7, created by CPAN-Reporter-1.2009.

Thank you for uploading your work to CPAN.  Congratulations!
All tests were successful.

Sections of this report:

    * Tester comments
    * Program output
    * Prerequisites
    * Environment and other context

------------------------------
TESTER COMMENTS
------------------------------

Additional comments from tester:

none provided

------------------------------
PROGRAM OUTPUT
------------------------------

Output from '/usr/local/bin/make test':

PERL_DL_NONLAZY=1 /export/home/cpant5/perl5/perlbrew/perls/perl-5.17.7/bin/perl5.17.7 "-MExtUtils::Command::MM" "-e" "test_harness(0, 'blib/lib', 'blib/arch')" t/*.t
t/array.t .................. ok
t/basic.t .................. ok
t/diffclass.t .............. ok
t/hash.t ................... ok
t/new.t .................... ok
t/redefine-warnings.t ...... ok
t/scalar.t ................. ok
Unescaped left brace in regex is deprecated, passed through in regex; marked by <-- HERE in m/(TEST\s{ <-- HERE )/ at t/test_v1.pm line 48.
t/v1_abstract.t ............ ok
Unescaped left brace in regex is deprecated, passed through in regex; marked by <-- HERE in m/(TEST\s{ <-- HERE )/ at t/test_v1.pm line 48.
t/v1_boolean.t ............. ok
Unescaped left brace in regex is deprecated, passed through in regex; marked by <-- HERE in m/(TEST\s{ <-- HERE )/ at t/test_v1.pm line 48.
t/v1_code.t ................ ok
Unescaped left brace in regex is deprecated, passed through in regex; marked by <-- HERE in m/(TEST\s{ <-- HERE )/ at t/test_v1.pm line 48.
t/v1_copy.t ................ ok
Unescaped left brace in regex is deprecated, passed through in regex; marked by <-- HERE in m/(TEST\s{ <-- HERE )/ at t/test_v1.pm line 48.
t/v1_counter.t ............. ok
Unescaped left brace in regex is deprecated, passed through in regex; marked by <-- HERE in m/(TEST\s{ <-- HERE )/ at t/test_v1.pm line 48.
t/v1_get_concat.t .......... ok
Unescaped left brace in regex is deprecated, passed through in regex; marked by <-- HERE in m/(TEST\s{ <-- HERE )/ at t/test_v1.pm line 48.
t/v1_get_set.t ............. ok
Unescaped left brace in regex is deprecated, passed through in regex; marked by <-- HERE in m/(TEST\s{ <-- HERE )/ at t/test_v1.pm line 48.
t/v1_get_set_hi.t .......... ok
Unescaped left brace in regex is deprecated, passed through in regex; marked by <-- HERE in m/(TEST\s{ <-- HERE )/ at t/test_v1.pm line 48.
t/v1_hash.t ................ ok
Unescaped left brace in regex is deprecated, passed through in regex; marked by <-- HERE in m/(TEST\s{ <-- HERE )/ at t/test_v1.pm line 48.
t/v1_key_attrib.t .......... ok
Unescaped left brace in regex is deprecated, passed through in regex; marked by <-- HERE in m/(TEST\s{ <-- HERE )/ at t/test_v1.pm line 48.
t/v1_key_with_create.t ..... ok
Unescaped left brace in regex is deprecated, passed through in regex; marked by <-- HERE in m/(TEST\s{ <-- HERE )/ at t/test_v1.pm line 48.
t/v1_list.t ................ ok
Unescaped left brace in regex is deprecated, passed through in regex; marked by <-- HERE in m/(TEST\s{ <-- HERE )/ at t/test_v1.pm line 48.
t/v1_method.t .............. ok
Unescaped left brace in regex is deprecated, passed through in regex; marked by <-- HERE in m/(TEST\s{ <-- HERE )/ at t/test_v1.pm line 48.
t/v1_new.t ................. ok
Unescaped left brace in regex is deprecated, passed through in regex; marked by <-- HERE in m/(TEST\s{ <-- HERE )/ at t/test_v1.pm line 48.
t/v1_new_hash_with_init.t .. ok
Unescaped left brace in regex is deprecated, passed through in regex; marked by <-- HERE in m/(TEST\s{ <-- HERE )/ at t/test_v1.pm line 48.
t/v1_object.t .............. ok
Unescaped left brace in regex is deprecated, passed through in regex; marked by <-- HERE in m/(TEST\s{ <-- HERE )/ at t/test_v1.pm line 48.
t/v1_object_list.t ......... ok
Unescaped left brace in regex is deprecated, passed through in regex; marked by <-- HERE in m/(TEST\s{ <-- HERE )/ at t/test_v1.pm line 48.
t/v1_object_tie_hash.t ..... ok
Unescaped left brace in regex is deprecated, passed through in regex; marked by <-- HERE in m/(TEST\s{ <-- HERE )/ at t/test_v1.pm line 48.
t/v1_object_tie_list.t ..... ok
Unescaped left brace in regex is deprecated, passed through in regex; marked by <-- HERE in m/(TEST\s{ <-- HERE )/ at t/test_v1.pm line 48.
t/v1_set_once.t ............ ok
Unescaped left brace in regex is deprecated, passed through in regex; marked by <-- HERE in m/(TEST\s{ <-- HERE )/ at t/test_v1.pm line 48.
t/v1_set_once_static.t ..... ok
Unescaped left brace in regex is deprecated, passed through in regex; marked by <-- HERE in m/(TEST\s{ <-- HERE )/ at t/test_v1.pm line 48.
t/v1_singleton.t ........... ok
Unescaped left brace in regex is deprecated, passed through in regex; marked by <-- HERE in m/(TEST\s{ <-- HERE )/ at t/test_v1.pm line 48.
t/v1_static_get_set.t ...... ok
Unescaped left brace in regex is deprecated, passed through in regex; marked by <-- HERE in m/(TEST\s{ <-- HERE )/ at t/test_v1.pm line 48.
t/v1_static_hash.t ......... ok
Unescaped left brace in regex is deprecated, passed through in regex; marked by <-- HERE in m/(TEST\s{ <-- HERE )/ at t/test_v1.pm line 48.
t/v1_static_list.t ......... ok
Unescaped left brace in regex is deprecated, passed through in regex; marked by <-- HERE in m/(TEST\s{ <-- HERE )/ at t/test_v1.pm line 48.
t/v1_tie_hash.t ............ ok
Unescaped left brace in regex is deprecated, passed through in regex; marked by <-- HERE in m/(TEST\s{ <-- HERE )/ at t/test_v1.pm line 48.
t/v1_tie_list.t ............ ok
Unescaped left brace in regex is deprecated, passed through in regex; marked by <-- HERE in m/(TEST\s{ <-- HERE )/ at t/test_v1.pm line 48.
t/v1_tie_scalar.t .......... ok
t/warnings.t ............... ok
All tests successful.
Files=36, Tests=1757,  5 wallclock secs ( 0.54 usr  0.26 sys +  3.37 cusr  0.96 csys =  5.13 CPU)
Result: PASS

------------------------------
PREREQUISITES
------------------------------

Prerequisite modules loaded:

requires:

    Module              Need  Have    
    ------------------- ----- --------
    perl                5.006 5.017007

build_requires:

    Module              Need  Have    
    ------------------- ----- --------
    ExtUtils::MakeMaker 0     6.64    

configure_requires:

    Module              Need  Have    
    ------------------- ----- --------
    ExtUtils::MakeMaker 0     6.64    


------------------------------
ENVIRONMENT AND OTHER CONTEXT
------------------------------

Environment variables:

    LANG = C
    LD_LIBRARY_PATH = /usr/local/lib:
    MANPATH_WITHOUT_PERLBREW = 
    PATH = /export/home/cpant5/perl5/perlbrew/bin:/export/home/cpant5/perl5/perlbrew/perls/perl-5.17.7/bin:/export/home/cpant5/perl5/bin:/usr/local/bin:/usr/bin
    PATH_WITHOUT_PERLBREW = /export/home/cpant5/perl5/bin:/usr/local/bin:/usr/bin
    PERL5LIB = 
    PERL5OPT = 
    PERL5_CPANPLUS_IS_RUNNING = 19869
    PERL5_CPAN_IS_RUNNING = 19869
    PERLBREW_BASHRC_VERSION = 0.44
    PERLBREW_HOME = /export/home/cpant5/.perlbrew
    PERLBREW_MANPATH = /export/home/cpant5/perl5/perlbrew/perls/perl-5.17.7/man
    PERLBREW_PATH = /export/home/cpant5/perl5/perlbrew/bin:/export/home/cpant5/perl5/perlbrew/perls/perl-5.17.7/bin
    PERLBREW_PERL = perl-5.17.7
    PERLBREW_ROOT = /export/home/cpant5/perl5/perlbrew
    PERLBREW_VERSION = 0.44
    SHELL = /bin/bash
    TERM = xterm

Perl special variables (and OS-specific diagnostics, for MSWin32):

    $^X = /export/home/cpant5/perl5/perlbrew/perls/perl-5.17.7/bin/perl5.17.7
    $UID/$EUID = 105 / 105
    $GID = 1 1
    $EGID = 1 1

Perl module toolchain versions installed:

    Module              Have    
    ------------------- --------
    CPAN                1.99_51 
    CPAN::Meta          2.120921
    Cwd                 3.40    
    ExtUtils::CBuilder  0.280209
    ExtUtils::Command   1.17    
    ExtUtils::Install   1.58    
    ExtUtils::MakeMaker 6.64    
    ExtUtils::Manifest  1.62    
    ExtUtils::ParseXS   3.18    
    File::Spec          3.40    
    JSON                2.53    
    JSON::PP            2.27200 
    Module::Build       0.4003  
    Module::Signature   n/a     
    Parse::CPAN::Meta   1.4404  
    Test::Harness       3.26    
    Test::More          0.98    
    YAML                0.84    
    YAML::Syck          1.22    
    version             0.9901  


--

Summary of my perl5 (revision 5 version 17 subversion 7) configuration:
   
  Platform:
    osname=solaris, osvers=2.10, archname=i86pc-solaris-64int
    uname='sunos vmrz0046 5.10 generic_141445-09 i86pc i386 i86pc solaris '
    config_args='-de -Dprefix=/export/home/cpant5/perl5/perlbrew/perls/perl-5.17.7 -Dcc=gcc -Duse64bitint -Dusedevel -Dusedevel -Aeval:scriptdir=/export/home/cpant5/perl5/perlbrew/perls/perl-5.17.7/bin'
    hint=recommended, useposix=true, d_sigaction=define
    useithreads=undef, usemultiplicity=undef
    useperlio=define, d_sfio=undef, uselargefiles=define, usesocks=undef
    use64bitint=define, use64bitall=undef, uselongdouble=undef
    usemymalloc=n, bincompat5005=undef
  Compiler:
    cc='gcc', ccflags ='-DPTR_IS_LONG -fno-strict-aliasing -pipe -I/usr/local/include -D_LARGEFILE_SOURCE -D_FILE_OFFSET_BITS=64 -DPERL_USE_SAFE_PUTENV',
    optimize='-O',
    cppflags='-DPTR_IS_LONG -fno-strict-aliasing -pipe -I/usr/local/include'
    ccversion='', gccversion='3.4.6', gccosandvers='solaris2.10'
    intsize=4, longsize=4, ptrsize=4, doublesize=8, byteorder=12345678
    d_longlong=define, longlongsize=8, d_longdbl=define, longdblsize=12
    ivtype='long long', ivsize=8, nvtype='double', nvsize=8, Off_t='off_t', lseeksize=8
    alignbytes=4, prototype=define
  Linker and Libraries:
    ld='gcc', ldflags =' -L/usr/local/lib '
    libpth=/usr/local/lib /usr/lib /usr/ccs/lib
    libs=-lsocket -lnsl -lgdbm -ldl -lm -lc
    perllibs=-lsocket -lnsl -ldl -lm -lc
    libc=/lib/libc.so, so=so, useshrplib=false, libperl=libperl.a
    gnulibc_version=''
  Dynamic Linking:
    dlsrc=dl_dlopen.xs, dlext=so, d_dlsymun=undef, ccdlflags=' '
    cccdlflags='-fPIC', lddlflags='-G -L/usr/local/lib'


Characteristics of this binary (from libperl): 
  Compile-time options: HAS_TIMES PERLIO_LAYERS PERL_DONT_CREATE_GVSV
                        PERL_MALLOC_WRAP PERL_NEW_COPY_ON_WRITE
                        PERL_PRESERVE_IVUV PERL_USE_DEVEL
                        PERL_USE_SAFE_PUTENV USE_64_BIT_INT USE_LARGE_FILES
                        USE_LOCALE USE_LOCALE_COLLATE USE_LOCALE_CTYPE
                        USE_LOCALE_NUMERIC USE_PERLIO USE_PERL_ATOF
  Built under solaris
  Compiled at Jan 11 2013 17:34:51
  %ENV:
    PERL5LIB=""
    PERL5OPT=""
    PERL5_CPANPLUS_IS_RUNNING="19869"
    PERL5_CPAN_IS_RUNNING="19869"
    PERLBREW_BASHRC_VERSION="0.44"
    PERLBREW_HOME="/export/home/cpant5/.perlbrew"
    PERLBREW_MANPATH="/export/home/cpant5/perl5/perlbrew/perls/perl-5.17.7/man"
    PERLBREW_PATH="/export/home/cpant5/perl5/perlbrew/bin:/export/home/cpant5/perl5/perlbrew/perls/perl-5.17.7/bin"
    PERLBREW_PERL="perl-5.17.7"
    PERLBREW_ROOT="/export/home/cpant5/perl5/perlbrew"
    PERLBREW_VERSION="0.44"
  @INC:
    /export/home/cpant5/perl5/perlbrew/perls/perl-5.17.7/lib/site_perl/5.17.7/i86pc-solaris-64int
    /export/home/cpant5/perl5/perlbrew/perls/perl-5.17.7/lib/site_perl/5.17.7
    /export/home/cpant5/perl5/perlbrew/perls/perl-5.17.7/lib/5.17.7/i86pc-solaris-64int
    /export/home/cpant5/perl5/perlbrew/perls/perl-5.17.7/lib/5.17.7
    .