Dist-Zilla-PluginBundle-Git-VersionManager v0.007 Perl 5 v5.29.2 x86_64-linux-thread-multi

Status
Pass
From
Andreas J. König (ANDK)
Dist
Dist-Zilla-PluginBundle-Git-VersionManager v0.007
Platform
Perl 5 v5.29.2 x86_64-linux-thread-multi
Date
2018-09-16 06:50:37
ID
d11db3ba-b97c-11e8-b390-c3f3a6694e47
This distribution has been tested as part of the CPAN Testers
project, supporting the Perl programming language.  See
http://wiki.cpantesters.org/ for more information or email
questions to cpan-testers-discuss@perl.org


--
Dear Karen Etheridge,

This is a computer-generated report for Dist-Zilla-PluginBundle-Git-VersionManager-0.007
on perl 5.29.2, created by CPAN-Reporter-1.2018.

Thank you for uploading your work to CPAN.  Congratulations!
All tests were successful.

Sections of this report:

    * Tester comments
    * Program output
    * Prerequisites
    * Environment and other context

------------------------------
TESTER COMMENTS
------------------------------

Additional comments from tester:

this report is from an automated smoke testing program
and was not reviewed by a human for accuracy

------------------------------
PROGRAM OUTPUT
------------------------------

Output from '/usr/bin/make test':

PERL_DL_NONLAZY=1 "/home/sand/src/perl/repoperls/installed-perls/host/k93msid/v5.29.2/29fb/bin/perl" "-MExtUtils::Command::MM" "-MTest::Harness" "-e" "undef *Test::Harness::Switches; test_harness(0, 'blib/lib', 'blib/arch')" t/*.t
# 
# Versions for all modules listed in MYMETA.json (including optional ones):
# 
# === Configure Requires ===
# 
#     Module               Want  Have
#     ------------------- ----- -----
#     ExtUtils::MakeMaker   any  7.34
#     Module::Build::Tiny 0.034 0.039
# 
# === Build Requires ===
# 
#     Module              Want Have
#     ------------------- ---- ----
#     ExtUtils::MakeMaker  any 7.34
# 
# === Test Requires ===
# 
#     Module                    Want     Have
#     ------------------------ ----- --------
#     CPAN::Meta::Check        0.011    0.014
#     CPAN::Meta::Requirements   any    2.140
#     Exporter                   any     5.73
#     File::Spec                 any     3.74
#     JSON::MaybeXS              any 1.004000
#     Module::Metadata           any 1.000033
#     Path::Tiny                 any    0.108
#     Test::DZil                 any    6.012
#     Test::Deep                 any    1.128
#     Test::Fatal                any    0.014
#     Test::More                0.96 1.302140
#     if                         any   0.0608
#     lib                        any     0.64
#     namespace::clean           any     0.27
#     parent                     any    0.237
# 
# === Test Recommends ===
# 
#     Module         Want     Have
#     ---------- -------- --------
#     CPAN::Meta 2.120900 2.150010
# 
# === Runtime Requires ===
# 
#     Module                                                      Want    Have
#     ---------------------------------------------------------- ----- -------
#     CPAN::Meta::Requirements                                     any   2.140
#     Dist::Zilla::Plugin::BumpVersionAfterRelease               0.016   0.018
#     Dist::Zilla::Plugin::BumpVersionAfterRelease::Transitional 0.004   0.009
#     Dist::Zilla::Plugin::CopyFilesFromRelease                    any   0.006
#     Dist::Zilla::Plugin::Git::Commit                           2.020   2.045
#     Dist::Zilla::Plugin::Git::NextVersion                        any   2.045
#     Dist::Zilla::Plugin::Git::Tag                                any   2.045
#     Dist::Zilla::Plugin::NextRelease                           5.033   6.012
#     Dist::Zilla::Plugin::Prereqs                                 any   6.012
#     Dist::Zilla::Plugin::RewriteVersion::Transitional          0.004   0.009
#     Dist::Zilla::Plugin::VersionFromMainModule                  0.04    0.04
#     Dist::Zilla::Role::FileMunger                                any   6.012
#     Dist::Zilla::Role::PluginBundle::Config::Slicer              any   0.202
#     Dist::Zilla::Role::PluginBundle::Easy                        any   6.012
#     Dist::Zilla::Role::PluginBundle::PluginRemover             0.103   0.105
#     Dist::Zilla::Util                                            any   6.012
#     List::Util                                                  1.45 1.50_11
#     Moose                                                        any  2.2011
#     Moose::Util                                                  any  2.2011
#     Moose::Util::TypeConstraints                                 any  2.2011
#     namespace::autoclean                                         any    0.28
#     strict                                                       any    1.11
#     warnings                                                     any    1.43
# 
# === Other Modules ===
# 
#     Module                  Have
#     -------------------- -------
#     Dist::CheckConflicts    0.11
#     Encode                  2.97
#     JSON::PP             2.97001
#     Pod::Coverage           0.23
#     Sub::Name               0.21
#     YAML                    1.26
#     autodie                 2.29
# 
t/00-report-prereqs.t ...... ok
t/01-basic.t ............... ok
t/02-different-versions.t .. ok
t/03-version-override.t .... ok
t/04-munge-installer.t ..... ok
t/05-plugin-prereqs.t ...... ok
t/06-bundle-override.t ..... ok
t/zzz-check-breaks.t ....... ok
All tests successful.
Files=8, Tests=39, 17 wallclock secs ( 0.05 usr  0.04 sys + 11.19 cusr  1.03 csys = 12.31 CPU)
Result: PASS

------------------------------
PREREQUISITES
------------------------------

Prerequisite modules loaded:

requires:

    Module                                                     Need  Have    
    ---------------------------------------------------------- ----- --------
    CPAN::Meta::Requirements                                   0     2.140   
    Dist::Zilla::Plugin::BumpVersionAfterRelease               0.016 0.018   
    Dist::Zilla::Plugin::BumpVersionAfterRelease::Transitional 0.004 0.009   
    Dist::Zilla::Plugin::CopyFilesFromRelease                  0     0.006   
    Dist::Zilla::Plugin::Git::Commit                           2.020 2.045   
    Dist::Zilla::Plugin::Git::NextVersion                      0     2.045   
    Dist::Zilla::Plugin::Git::Tag                              0     2.045   
    Dist::Zilla::Plugin::NextRelease                           5.033 6.012   
    Dist::Zilla::Plugin::Prereqs                               0     6.012   
    Dist::Zilla::Plugin::RewriteVersion::Transitional          0.004 0.009   
    Dist::Zilla::Plugin::VersionFromMainModule                 0.04  0.04    
    Dist::Zilla::Role::FileMunger                              0     6.012   
    Dist::Zilla::Role::PluginBundle::Config::Slicer            0     0.202   
    Dist::Zilla::Role::PluginBundle::Easy                      0     6.012   
    Dist::Zilla::Role::PluginBundle::PluginRemover             0.103 0.105   
    Dist::Zilla::Util                                          0     6.012   
    List::Util                                                 1.45  1.50_11 
    Moose                                                      0     2.2011  
    Moose::Util                                                0     2.2011  
    Moose::Util::TypeConstraints                               0     2.2011  
    namespace::autoclean                                       0     0.28    
    perl                                                       5.010 5.029002
    strict                                                     0     1.11    
    warnings                                                   0     1.43    

build_requires:

    Module                                                     Need  Have    
    ---------------------------------------------------------- ----- --------
    CPAN::Meta::Check                                          0.011 0.014   
    CPAN::Meta::Requirements                                   0     2.140   
    Exporter                                                   0     5.73    
    ExtUtils::MakeMaker                                        0     7.34    
    File::Spec                                                 0     3.74    
    if                                                         0     0.0608  
    JSON::MaybeXS                                              0     1.004000
    lib                                                        0     0.64    
    Module::Metadata                                           0     1.000033
    namespace::clean                                           0     0.27    
    parent                                                     0     0.237   
    Path::Tiny                                                 0     0.108   
    Test::Deep                                                 0     1.128   
    Test::DZil                                                 0     6.012   
    Test::Fatal                                                0     0.014   
    Test::More                                                 0.96  1.302140

configure_requires:

    Module                                                     Need  Have    
    ---------------------------------------------------------- ----- --------
    ExtUtils::MakeMaker                                        0     7.34    
    Module::Build::Tiny                                        0.034 0.039   
    perl                                                       5.010 5.029002


------------------------------
ENVIRONMENT AND OTHER CONTEXT
------------------------------

Environment variables:

    AUTOMATED_TESTING = 1
    LANG = en_US.UTF-8
    PATH = /home/sand/bin:/usr/local/bin:/usr/bin:/bin:/usr/games:/usr/local/perl/bin:/usr/X11/bin:/sbin:/usr/sbin
    PERL5LIB = 
    PERL5OPT = 
    PERL5_CPANPLUS_IS_RUNNING = 8296
    PERL5_CPAN_IS_RUNNING = 8296
    PERL_CANARY_STABILITY_NOPROMPT = 1
    PERL_MM_USE_DEFAULT = 1
    PERL_USE_UNSAFE_INC = 1
    SHELL = /usr/bin/zsh
    TERM = screen

Perl special variables (and OS-specific diagnostics, for MSWin32):

    $^X = /home/sand/src/perl/repoperls/installed-perls/host/k93msid/v5.29.2/29fb/bin/perl
    $UID/$EUID = 1005 / 1005
    $GID = 1005 1005
    $EGID = 1005 1005

Perl module toolchain versions installed:

    Module              Have    
    ------------------- --------
    CPAN                2.20    
    CPAN::Meta          2.150010
    Cwd                 3.75    
    ExtUtils::CBuilder  0.280230
    ExtUtils::Command   7.34    
    ExtUtils::Install   2.14    
    ExtUtils::MakeMaker 7.34    
    ExtUtils::Manifest  1.71    
    ExtUtils::ParseXS   3.39    
    File::Spec          3.74    
    JSON                2.97001 
    JSON::PP            2.97001 
    Module::Build       0.4224  
    Module::Signature   0.83    
    Parse::CPAN::Meta   2.150010
    Test::Harness       3.42    
    Test::More          1.302140
    YAML                1.26    
    YAML::Syck          1.30    
    version             0.9924  


--

Summary of my perl5 (revision 5 version 29 subversion 2) configuration:
  Commit id: fa427eb99fb2cd5ac2c6896f5729c8e94ec8f873
  Platform:
    osname=linux
    osvers=4.14.0-3-amd64
    archname=x86_64-linux-thread-multi
    uname='linux k93msid 4.14.0-3-amd64 #1 smp debian 4.14.12-2 (2018-01-06) x86_64 gnulinux '
    config_args='-Dprefix=/home/sand/src/perl/repoperls/installed-perls/host/k93msid/v5.29.2/29fb -Dmyhostname=k93msid -Dinstallusrbinperl=n -Uversiononly -Dusedevel -des -Ui_db -Dlibswanted=cl pthread socket inet nsl gdbm dbm malloc dl ld sun m crypt sec util c cposix posix ucb BSD gdbm_compat -Duseithreads -Uuselongdouble -DEBUGGING=both'
    hint=recommended
    useposix=true
    d_sigaction=define
    useithreads=define
    usemultiplicity=define
    use64bitint=define
    use64bitall=define
    uselongdouble=undef
    usemymalloc=n
    default_inc_excludes_dot=define
    bincompat5005=undef
  Compiler:
    cc='cc'
    ccflags ='-D_REENTRANT -D_GNU_SOURCE -fwrapv -DDEBUGGING -fno-strict-aliasing -pipe -fstack-protector-strong -I/usr/local/include -D_LARGEFILE_SOURCE -D_FILE_OFFSET_BITS=64 -D_FORTIFY_SOURCE=2'
    optimize='-O2 -g'
    cppflags='-D_REENTRANT -D_GNU_SOURCE -fwrapv -DDEBUGGING -fno-strict-aliasing -pipe -fstack-protector-strong -I/usr/local/include'
    ccversion=''
    gccversion='7.2.0'
    gccosandvers=''
    intsize=4
    longsize=8
    ptrsize=8
    doublesize=8
    byteorder=12345678
    doublekind=3
    d_longlong=define
    longlongsize=8
    d_longdbl=define
    longdblsize=16
    longdblkind=3
    ivtype='long'
    ivsize=8
    nvtype='double'
    nvsize=8
    Off_t='off_t'
    lseeksize=8
    alignbytes=8
    prototype=define
  Linker and Libraries:
    ld='cc'
    ldflags =' -fstack-protector-strong -L/usr/local/lib'
    libpth=/usr/local/lib /usr/lib/gcc/x86_64-linux-gnu/7/include-fixed /usr/include/x86_64-linux-gnu /usr/lib /lib/x86_64-linux-gnu /lib/../lib /usr/lib/x86_64-linux-gnu /usr/lib/../lib /lib
    libs=-lpthread -lnsl -ldl -lm -lcrypt -lutil -lc
    perllibs=-lpthread -lnsl -ldl -lm -lcrypt -lutil -lc
    libc=libc-2.26.so
    so=so
    useshrplib=false
    libperl=libperl.a
    gnulibc_version='2.26'
  Dynamic Linking:
    dlsrc=dl_dlopen.xs
    dlext=so
    d_dlsymun=undef
    ccdlflags='-Wl,-E'
    cccdlflags='-fPIC'
    lddlflags='-shared -O2 -g -L/usr/local/lib -fstack-protector-strong'


Characteristics of this binary (from libperl): 
  Compile-time options:
    DEBUGGING
    HAS_TIMES
    MULTIPLICITY
    PERLIO_LAYERS
    PERL_COPY_ON_WRITE
    PERL_DONT_CREATE_GVSV
    PERL_IMPLICIT_CONTEXT
    PERL_MALLOC_WRAP
    PERL_OP_PARENT
    PERL_PRESERVE_IVUV
    PERL_TRACK_MEMPOOL
    PERL_USE_DEVEL
    USE_64_BIT_ALL
    USE_64_BIT_INT
    USE_ITHREADS
    USE_LARGE_FILES
    USE_LOCALE
    USE_LOCALE_COLLATE
    USE_LOCALE_CTYPE
    USE_LOCALE_NUMERIC
    USE_LOCALE_TIME
    USE_PERLIO
    USE_PERL_ATOF
    USE_REENTRANT_API
  Built under linux
  Compiled at Aug 24 2018 22:01:35
  %ENV:
    PERL5LIB=""
    PERL5OPT=""
    PERL5_CPANPLUS_IS_RUNNING="8296"
    PERL5_CPAN_IS_RUNNING="8296"
    PERL_CANARY_STABILITY_NOPROMPT="1"
    PERL_MM_USE_DEFAULT="1"
    PERL_USE_UNSAFE_INC="1"
  @INC:
    /home/sand/src/perl/repoperls/installed-perls/host/k93msid/v5.29.2/29fb/lib/site_perl/5.29.2/x86_64-linux-thread-multi
    /home/sand/src/perl/repoperls/installed-perls/host/k93msid/v5.29.2/29fb/lib/site_perl/5.29.2
    /home/sand/src/perl/repoperls/installed-perls/host/k93msid/v5.29.2/29fb/lib/5.29.2/x86_64-linux-thread-multi
    /home/sand/src/perl/repoperls/installed-perls/host/k93msid/v5.29.2/29fb/lib/5.29.2
    .