JSON-Schema-Modern v0.609 Perl 5 v5.36.3 darwin-2level

Status
Pass
From
Dist
JSON-Schema-Modern v0.609
Platform
Perl 5 v5.36.3 darwin-2level
Date
2025-04-21 02:24:56
ID
d110e40e-1e57-11f0-bb5b-61f7cd618a54
This distribution has been tested as part of the CPAN Testers
project, supporting the Perl programming language.  See
http://wiki.cpantesters.org/ for more information or email
questions to cpan-testers-discuss@perl.org


--
Dear ETHER,

This is a computer-generated report for JSON-Schema-Modern-0.609
on perl 5.36.3, created by App::cpanminus::reporter 0.21 (1.7048).

Thank you for uploading your work to CPAN.  Congratulations!
All tests were successful.

Sections of this report:

    * Tester comments
    * Program output
    * Prerequisites
    * Environment and other context

------------------------------
TESTER COMMENTS
------------------------------

Additional comments from tester:

none provided

------------------------------
PROGRAM OUTPUT
------------------------------

Output from '':

Building and testing JSON-Schema-Modern-0.609
# 
# Versions for all modules listed in MYMETA.json (including optional ones):
# 
# === Configure Requires ===
# 
#     Module               Want     Have
#     ------------------- ----- --------
#     Module::Build::Tiny 0.034    0.048
#     perl                5.020 5.036003
# 
# === Test Requires ===
# 
#     Module                             Want     Have
#     ------------------------------ -------- --------
#     CPAN::Meta::Check                 0.011    0.018
#     CPAN::Meta::Requirements            any    2.143
#     Data::Dumper                        any    2.184
#     File::Spec                          any     3.84
#     Math::BigInt                   1.999701 2.005003
#     Module::Metadata                    any 1.000037
#     Term::ANSIColor                     any     5.01
#     Test2::API                          any 1.302210
#     Test::Deep                          any    1.205
#     Test::Deep::UnorderedPairs          any    0.006
#     Test::Fatal                         any    0.017
#     Test::File::ShareDir                any 1.001002
#     Test::JSON::Schema::Acceptance    1.021    1.027
#     Test::Memory::Cycle                 any     1.06
#     Test::More                         0.96 1.302210
#     Test::Needs                         any 0.002010
#     Test::Warnings                      any    0.038
#     Test::Without::Module              0.19     0.21
#     lib                                 any     0.65
#     perl                            v5.20.0 5.036003
#     utf8                                any     1.24
# 
# === Test Recommends ===
# 
#     Module         Want     Have
#     ---------- -------- --------
#     CPAN::Meta 2.120900 2.150010
# 
# === Runtime Requires ===
# 
#     Module                        Want     Have
#     ------------------------- -------- --------
#     B                              any     1.83
#     Carp                           any     1.52
#     Cpanel::JSON::XS              4.38     4.39
#     Digest::MD5                    any     2.58
#     Exporter                       any     5.77
#     Feature::Compat::Try           any     0.05
#     File::ShareDir                 any    1.118
#     Getopt::Long::Descriptive      any    0.116
#     JSON::PP                      4.11     4.16
#     List::Util                    1.55     1.69
#     MIME::Base64                   any     3.16
#     Math::BigFloat                 any 2.005003
#     Math::BigInt              1.999701 2.005003
#     Mojo::JSON                     any    undef
#     Mojo::JSON::Pointer            any    undef
#     Mojo::Message::Response        any    undef
#     Mojo::URL                      any    undef
#     Mojolicious                   7.87     9.37
#     Moo                            any 2.005005
#     Moo::Role                      any 2.005005
#     MooX::TypeTiny            0.002002 0.002003
#     Path::Tiny                     any    0.144
#     Ref::Util                    0.100    0.204
#     Safe::Isa                 1.000008 1.000010
#     Scalar::Util                   any     1.69
#     Storable                       any     3.26
#     Sub::Install                   any    0.929
#     Types::Common::Numeric         any 2.008001
#     Types::Standard           1.016003 2.008001
#     autovivification               any     0.18
#     builtin::compat           0.003003 0.003003
#     constant                       any     1.33
#     experimental                 0.026    0.034
#     if                             any   0.0610
#     namespace::clean               any     0.27
#     open                           any     1.13
#     overload                       any     1.35
#     perl                       v5.20.0 5.036003
#     stable                       0.031    0.034
#     strict                         any     1.12
#     strictures                       2 2.000006
#     warnings                       any     1.58
# 
# === Runtime Suggests ===
# 
#     Module                    Want    Have
#     ------------------------- ---- -------
#     Class::XSAccessor          any    1.19
#     Data::Validate::Domain    0.13 missing
#     DateTime::Format::RFC3339  any v1.10.0
#     Email::Address::XS        1.04 missing
#     Net::IDN::Encode           any missing
#     Ref::Util::XS              any   0.117
#     Sereal                     any   5.004
#     Time::Moment               any missing
#     Type::Tiny::XS             any missing
# 
# === Other Modules ===
# 
#     Module                Have
#     ----------------- --------
#     Cpanel::JSON::XS      4.39
#     Encode                3.17
#     File::Temp          0.2311
#     JSON::PP              4.16
#     JSON::XS           missing
#     Math::BigFloat    2.005003
#     Math::BigInt      2.005003
#     Module::Runtime      0.017
#     Mojolicious           9.37
#     Sereal::Decoder      5.004
#     Sereal::Encoder      5.004
#     Sub::Name             0.27
#     YAML               missing
#     autodie               2.34
#     builtin              0.006
#     builtin::Backport  missing
# 
t/00-report-prereqs.t ................... ok
t/annotations.t ......................... ok
t/add-schema.t .......................... ok
t/boolean-data.t ........................ ok
t/boolean-schemas.t ..................... ok
t/cached-metaschemas.t .................. ok
t/checksums.t ........................... ok
t/callbacks.t ........................... ok
t/content-encoding.t .................... ok
t/document.t ............................ ok
t/equality.t ............................ ok
t/dialects.t ............................ ok
t/evaluate_json_string.t ................ ok
t/errors.t .............................. ok
t/find-identifiers.t .................... ok
t/max_traversal_depth.t ................. ok
t/invalid-schemas.t ..................... ok
t/formats.t ............................. ok
t/additional-tests-draft7.t ............. ok
t/output_format.t ....................... ok
t/multipleOf.t .......................... ok
t/pattern.t ............................. ok
t/specification_version.t ............... ok
t/ref.t ................................. ok
t/strict.t .............................. ok
t/additional-tests-draft2019-09.t ....... ok
t/serialization.t ....................... ok
t/stringy-numbers.t ..................... ok
t/traverse.t ............................ ok
t/type.t ................................ ok
t/unsupported-keywords.t ................ ok
t/additional-tests-draft2020-12.t ....... ok
t/vocabularies.t ........................ ok
t/zzz-acceptance-draft2019-09-format.t .. skipped: These tests may fail if the test suite continues to evolve! They should only be run with AUTHOR_TESTING=1, AUTOMATED_TESTING=1 or EXTENDED_TESTING=1
t/validate-schema.t ..................... ok
t/zzz-acceptance-draft2019-09.t ......... skipped: These tests may fail if the test suite continues to evolve! They should only be run with AUTHOR_TESTING=1, AUTOMATED_TESTING=1 or EXTENDED_TESTING=1
t/zzz-acceptance-draft2020-12-format.t .. skipped: These tests may fail if the test suite continues to evolve! They should only be run with AUTHOR_TESTING=1, AUTOMATED_TESTING=1 or EXTENDED_TESTING=1
t/zzz-acceptance-draft2020-12.t ......... skipped: These tests may fail if the test suite continues to evolve! They should only be run with AUTHOR_TESTING=1, AUTOMATED_TESTING=1 or EXTENDED_TESTING=1
t/zzz-acceptance-draft4-format.t ........ skipped: These tests may fail if the test suite continues to evolve! They should only be run with AUTHOR_TESTING=1, AUTOMATED_TESTING=1 or EXTENDED_TESTING=1
t/zzz-acceptance-draft4.t ............... skipped: These tests may fail if the test suite continues to evolve! They should only be run with AUTHOR_TESTING=1, AUTOMATED_TESTING=1 or EXTENDED_TESTING=1
t/zzz-check-breaks.t .................... ok
t/zzz-acceptance-draft6-format.t ........ skipped: These tests may fail if the test suite continues to evolve! They should only be run with AUTHOR_TESTING=1, AUTOMATED_TESTING=1 or EXTENDED_TESTING=1
t/zzz-acceptance-draft6.t ............... skipped: These tests may fail if the test suite continues to evolve! They should only be run with AUTHOR_TESTING=1, AUTOMATED_TESTING=1 or EXTENDED_TESTING=1
t/zzz-acceptance-draft7-format.t ........ skipped: These tests may fail if the test suite continues to evolve! They should only be run with AUTHOR_TESTING=1, AUTOMATED_TESTING=1 or EXTENDED_TESTING=1
t/zzz-acceptance-draft7.t ............... skipped: These tests may fail if the test suite continues to evolve! They should only be run with AUTHOR_TESTING=1, AUTOMATED_TESTING=1 or EXTENDED_TESTING=1
All tests successful.

Test Summary Report
-------------------
t/additional-tests-draft7.t           (Wstat: 0 Tests: 762 Failed: 0)
  TODO passed:   742-759
t/additional-tests-draft2019-09.t     (Wstat: 0 Tests: 983 Failed: 0)
  TODO passed:   963-980
t/additional-tests-draft2020-12.t     (Wstat: 0 Tests: 1066 Failed: 0)
  TODO passed:   1046-1063
Files=45, Tests=3150,  6 wallclock secs ( 1.70 usr  0.21 sys + 30.39 cusr  3.17 csys = 35.47 CPU)
Result: PASS

------------------------------
PREREQUISITES
------------------------------

Prerequisite modules loaded:

runtime:

    Module                    Need     Have    
    ------------------------- -------- --------
    autovivification          0        0.18    
    B                         0        1.83    
    builtin::compat           0.003003 0.003003
    Carp                      0        1.52    
    constant                  0        1.33    
    Cpanel::JSON::XS          4.38     4.39    
    Digest::MD5               0        2.58    
    experimental              0.026    0.034   
    Exporter                  0        5.77    
    Feature::Compat::Try      0        0.05    
    File::ShareDir            0        1.118   
    Getopt::Long::Descriptive 0        0.116   
    if                        0        0.0610  
    JSON::PP                  4.11     4.16    
    List::Util                1.55     1.69    
    Math::BigFloat            0        2.005003
    Math::BigInt              1.999701 2.005003
    MIME::Base64              0        3.16    
    Mojo::JSON                0        0       
    Mojo::JSON::Pointer       0        0       
    Mojo::Message::Response   0        0       
    Mojo::URL                 0        0       
    Mojolicious               7.87     9.37    
    Moo                       0        2.005005
    Moo::Role                 0        2.005005
    MooX::TypeTiny            0.002002 0.002003
    namespace::clean          0        0.27    
    open                      0        1.13    
    overload                  0        1.35    
    Path::Tiny                0        0.144   
    perl                      v5.20.0  5.036003
    Ref::Util                 0.100    0.204   
    Safe::Isa                 1.000008 1.000010
    Scalar::Util              0        1.69    
    stable                    0.031    0.034   
    Storable                  0        3.26    
    strict                    0        1.12    
    strictures                2        2.000006
    Sub::Install              0        0.929   
    Types::Common::Numeric    0        2.008001
    Types::Standard           1.016003 2.008001
    warnings                  0        1.58    

configure:

    Module                    Need     Have    
    ------------------------- -------- --------
    Module::Build::Tiny       0.034    0.048   
    perl                      5.020    5.036003


------------------------------
ENVIRONMENT AND OTHER CONTEXT
------------------------------

Environment variables:

    HARNESS_OPTIONS = j6:c
    LANG = en_CA.UTF-8
    LC_ALL = en_CA.UTF-8
    LC_CTYPE = en_CA.UTF-8
    NO_NETWORK_TESTING = 1
    PATH = /Volumes/chambord/Users/ether/.perlbrew/libs/36.3@std/bin:/Volumes/chambord/Users/ether/perl5/perlbrew/bin:/Volumes/chambord/Users/ether/perl5/perlbrew/perls/36.3/bin:/Volumes/chambord/Users/ether/bin:/Volumes/chambord/Users/ether/git/misc/install/advocaat/bin:/Volumes/chambord/Users/ether/git/misc/install/generic/bin:/opt/local/bin:/opt/local/sbin:/Volumes/chambord/Users/ether/git/git-hub/lib:/usr/local/bin:/System/Cryptexes/App/usr/bin:/usr/bin:/bin:/usr/sbin:/sbin:/var/run/com.apple.security.cryptexd/codex.system/bootstrap/usr/local/bin:/var/run/com.apple.security.cryptexd/codex.system/bootstrap/usr/bin:/var/run/com.apple.security.cryptexd/codex.system/bootstrap/usr/appleinternal/bin:/Library/Apple/usr/bin:/opt/local/share/git-core/contrib/workdir
    PERL5LIB = /Volumes/chambord/Users/ether/.perlbrew/libs/36.3@std/lib/perl5
    PERLBREW_HOME = /Volumes/chambord/Users/ether/.perlbrew
    PERLBREW_LIB = std
    PERLBREW_MANPATH = /Volumes/chambord/Users/ether/.perlbrew/libs/36.3@std/man:/Volumes/chambord/Users/ether/perl5/perlbrew/perls/36.3/man
    PERLBREW_PATH = /Volumes/chambord/Users/ether/.perlbrew/libs/36.3@std/bin:/Volumes/chambord/Users/ether/perl5/perlbrew/bin:/Volumes/chambord/Users/ether/perl5/perlbrew/perls/36.3/bin
    PERLBREW_PERL = 36.3
    PERLBREW_ROOT = /Volumes/chambord/Users/ether/perl5/perlbrew
    PERLBREW_SHELLRC_VERSION = 1.01
    PERLBREW_VERSION = 1.01
    PERLDOC = -oansi
    PERLDOC_PAGER = less -sicMr
    PERL_AUTOINSTALL_PREFER_CPAN = 1
    PERL_INSTALL_QUIET = 1
    PERL_LOCAL_LIB_ROOT = /Volumes/chambord/Users/ether/.perlbrew/libs/36.3@std
    PERL_MB_OPT = --install_base /Volumes/chambord/Users/ether/.perlbrew/libs/36.3@std
    PERL_MM_OPT = INSTALL_BASE=/Volumes/chambord/Users/ether/.perlbrew/libs/36.3@std
    PERL_TEST_HARNESS_ASAP = 1
    PERL_USE_UNSAFE_INC = 0
    SHELL = /bin/bash
    TERM = xterm-color

Perl special variables (and OS-specific diagnostics, for MSWin32):

    EGID = 20 20 12 61 79 80 81 98 701 704 703 702 705 33 100 204 250
    EUID = 502
    EXECUTABLE_NAME = /Volumes/chambord/Users/ether/perl5/perlbrew/perls/36.3/bin/perl
    GID = 20 20 12 61 79 80 81 98 701 704 703 702 705 33 100 204 250
    UID = 502

Perl module toolchain versions installed:

    Module              Have    
    ------------------- --------
    CPAN                2.33    
    CPAN::Meta          2.150010
    Cwd                 3.84    
    ExtUtils::CBuilder  0.280236
    ExtUtils::Command   7.64    
    ExtUtils::Install   2.20    
    ExtUtils::MakeMaker 7.64    
    ExtUtils::Manifest  1.73    
    ExtUtils::ParseXS   3.45    
    File::Spec          3.84    
    JSON                n/a     
    JSON::PP            4.16    
    Module::Build       0.4234  
    Module::Signature   n/a     
    Parse::CPAN::Meta   2.150010
    Test::Harness       3.44    
    Test::More          1.302210
    YAML                n/a     
    YAML::Syck          n/a     
    version             0.9929  


--

Summary of my perl5 (revision 5 version 36 subversion 3) configuration:
   
  Platform:
    osname=darwin
    osvers=22.6.0
    archname=darwin-2level
    uname='darwin advocaat 22.6.0 darwin kernel version 22.6.0: wed jul 5 22:17:35 pdt 2023; root:xnu-8796.141.3~6release_arm64_t8112 arm64 '
    config_args='-de -Dprefix=/Volumes/chambord/Users/ether/perl5/perlbrew/perls/36.3 -Dman1dir=none -Dman3dir=none -Aeval:scriptdir=/Volumes/chambord/Users/ether/perl5/perlbrew/perls/36.3/bin'
    hint=recommended
    useposix=true
    d_sigaction=define
    useithreads=undef
    usemultiplicity=undef
    use64bitint=define
    use64bitall=define
    uselongdouble=undef
    usemymalloc=n
    default_inc_excludes_dot=define
  Compiler:
    cc='cc'
    ccflags ='-fno-common -DPERL_DARWIN -mmacosx-version-min=13.5 -fno-strict-aliasing -pipe -fstack-protector-strong -I/opt/local/include -DPERL_USE_SAFE_PUTENV'
    optimize='-O3'
    cppflags='-fno-common -DPERL_DARWIN -mmacosx-version-min=13.5 -fno-strict-aliasing -pipe -fstack-protector-strong -I/opt/local/include'
    ccversion=''
    gccversion='Apple LLVM 15.0.0 (clang-1500.0.40.1)'
    gccosandvers=''
    intsize=4
    longsize=8
    ptrsize=8
    doublesize=8
    byteorder=12345678
    doublekind=3
    d_longlong=define
    longlongsize=8
    d_longdbl=define
    longdblsize=8
    longdblkind=0
    ivtype='long'
    ivsize=8
    nvtype='double'
    nvsize=8
    Off_t='off_t'
    lseeksize=8
    alignbytes=8
    prototype=define
  Linker and Libraries:
    ld='cc'
    ldflags =' -mmacosx-version-min=13.5 -fstack-protector-strong -L/opt/local/lib'
    libpth=/Applications/Xcode.app/Contents/Developer/Toolchains/XcodeDefault.xctoolchain/usr/lib/clang/15.0.0/lib /Applications/Xcode.app/Contents/Developer/Platforms/MacOSX.platform/Developer/SDKs/MacOSX.sdk/usr/lib /Applications/Xcode.app/Contents/Developer/Toolchains/XcodeDefault.xctoolchain/usr/lib /opt/local/lib /usr/lib
    libs=-lgdbm
    perllibs=
    libc=
    so=dylib
    useshrplib=false
    libperl=libperl.a
    gnulibc_version=''
  Dynamic Linking:
    dlsrc=dl_dlopen.xs
    dlext=bundle
    d_dlsymun=undef
    ccdlflags=' '
    cccdlflags=' '
    lddlflags=' -mmacosx-version-min=13.5 -bundle -undefined dynamic_lookup -L/opt/local/lib -fstack-protector-strong'


Characteristics of this binary (from libperl): 
  Compile-time options:
    HAS_TIMES
    PERLIO_LAYERS
    PERL_COPY_ON_WRITE
    PERL_DONT_CREATE_GVSV
    PERL_MALLOC_WRAP
    PERL_OP_PARENT
    PERL_PRESERVE_IVUV
    PERL_USE_SAFE_PUTENV
    USE_64_BIT_ALL
    USE_64_BIT_INT
    USE_LARGE_FILES
    USE_LOCALE
    USE_LOCALE_COLLATE
    USE_LOCALE_CTYPE
    USE_LOCALE_NUMERIC
    USE_LOCALE_TIME
    USE_PERLIO
    USE_PERL_ATOF
  Built under darwin
  Compiled at Nov 29 2023 17:20:51
  %ENV:
    PERL5LIB="/Volumes/chambord/Users/ether/.perlbrew/libs/36.3@std/lib/perl5"
    PERLBREW_HOME="/Volumes/chambord/Users/ether/.perlbrew"
    PERLBREW_LIB="std"
    PERLBREW_MANPATH="/Volumes/chambord/Users/ether/.perlbrew/libs/36.3@std/man:/Volumes/chambord/Users/ether/perl5/perlbrew/perls/36.3/man"
    PERLBREW_PATH="/Volumes/chambord/Users/ether/.perlbrew/libs/36.3@std/bin:/Volumes/chambord/Users/ether/perl5/perlbrew/bin:/Volumes/chambord/Users/ether/perl5/perlbrew/perls/36.3/bin"
    PERLBREW_PERL="36.3"
    PERLBREW_ROOT="/Volumes/chambord/Users/ether/perl5/perlbrew"
    PERLBREW_SHELLRC_VERSION="1.01"
    PERLBREW_VERSION="1.01"
    PERLDOC="-oansi"
    PERLDOC_PAGER="less -sicMr"
    PERL_AUTOINSTALL_PREFER_CPAN="1"
    PERL_INSTALL_QUIET="1"
    PERL_LOCAL_LIB_ROOT="/Volumes/chambord/Users/ether/.perlbrew/libs/36.3@std"
    PERL_MB_OPT="--install_base /Volumes/chambord/Users/ether/.perlbrew/libs/36.3@std"
    PERL_MM_OPT="INSTALL_BASE=/Volumes/chambord/Users/ether/.perlbrew/libs/36.3@std"
    PERL_TEST_HARNESS_ASAP="1"
    PERL_USE_UNSAFE_INC="0"
  @INC:
    /Volumes/chambord/Users/ether/.perlbrew/libs/36.3@std/lib/perl5/darwin-2level
    /Volumes/chambord/Users/ether/.perlbrew/libs/36.3@std/lib/perl5
    /Volumes/chambord/Users/ether/perl5/perlbrew/perls/36.3/lib/site_perl/5.36.3/darwin-2level
    /Volumes/chambord/Users/ether/perl5/perlbrew/perls/36.3/lib/site_perl/5.36.3
    /Volumes/chambord/Users/ether/perl5/perlbrew/perls/36.3/lib/5.36.3/darwin-2level
    /Volumes/chambord/Users/ether/perl5/perlbrew/perls/36.3/lib/5.36.3