Interchange6-Schema v0.133 Perl 5 v5.32.1 amd64-openbsd
- Status
- Pass
- From
- Alceu Rodrigues de Freitas Junior
- Dist
-
Interchange6-Schema v0.133
- Platform
- Perl 5 v5.32.1 amd64-openbsd
- Date
- 2023-05-03 19:15:07
- ID
- d108bf9c-e9e6-11ed-83c4-c3715858adf6
This distribution has been tested as part of the CPAN Testers
project, supporting the Perl programming language. See
http://wiki.cpantesters.org/ for more information or email
questions to cpan-testers-discuss@perl.org
--
Dear Stefan Hornburg (Racke),
This is a computer-generated report for Interchange6-Schema-0.133
on perl 5.32.1, created by CPAN-Reporter-1.2018.
Thank you for uploading your work to CPAN. Congratulations!
All tests were successful.
Sections of this report:
* Tester comments
* Program output
* Prerequisites
* Environment and other context
------------------------------
TESTER COMMENTS
------------------------------
Additional comments from tester:
this report is from an automated smoke testing program
and was not reviewed by a human for accuracy
If you would like to try to reproduce this report results or even to work with
the same environment for a bug fix, please refer to
https://github.com/glasswalk3r/cpan-openbsd-smoker to see how to use the
prebuilt virtual machines available.
------------------------------
PROGRAM OUTPUT
------------------------------
Output from '/usr/bin/make test':
PERL_DL_NONLAZY=1 "/usr/bin/perl" "-MExtUtils::Command::MM" "-MTest::Harness" "-e" "undef *Test::Harness::Switches; test_harness(0, 'blib/lib', 'blib/arch')" t/*.t
t/inflatecolumn_datetime.t .. ok
t/load.t .................... ok
t/manifest.t ................ skipped: Author tests not required for installation
t/pod-coverage.t ............ skipped: Author tests not required for installation
t/pod.t ..................... skipped: Author tests not required for installation
t/schema_sanity.t ........... skipped: Author tests not required for installation
t/test_mysql.t .............. skipped: DBD::mysql required to run these tests
t/test_postgresql.t ......... skipped: DBD::Pg >= 3.0.0 required to run these tests
# using: DBD::SQLite 1.72
# db: SQLite library version: 3.39.4
t/test_sqlite.t ............. ok
All tests successful.
Files=9, Tests=54, 77 wallclock secs ( 0.18 usr 0.02 sys + 70.31 cusr 1.36 csys = 71.87 CPU)
Result: PASS
------------------------------
PREREQUISITES
------------------------------
Prerequisite modules loaded:
requires:
Module Need Have
---------------------------------------------- -------- --------
Class::Method::Modifiers 0 2.15
Data::UUID 0 1.226
DateTime 0 1.59
DBIx::Class 0 0.082843
DBIx::Class::Candy 0.002104 0.005003
DBIx::Class::Helpers 2.024001 2.036000
DBIx::Class::InflateColumn::DateTime 0 0
DBIx::Class::InflateColumn::DateTime::Duration 0 0.01002
DBIx::Class::PassphraseColumn 0.02 0.05
DBIx::Class::Schema::Config 0.001011 0.001014
DBIx::Class::TimeStamp 0 0.14
DBIx::Class::Tree 0 0.03003
Digest::MD5 0 2.58
Encode 0 3.19
Locale::SubCountry 1.64 2.07
namespace::clean 0 0.27
Session::Token 1.008 1.503
SQL::Translator 0.11018 1.63
Sub::Quote 1.004006 2.006008
Test::Roo 1.003 1.004
Time::Duration::Parse 0 0.16
Try::Tiny 0 0.31
build_requires:
Module Need Have
---------------------------------------------- -------- --------
Data::Dumper::Concise 0 2.023
DBD::SQLite 1.3801 1.72
File::Temp 0 0.2311
Test::MockTime 0 0.17
Test::More 0 1.302194
Test::Most 0.33 0.38
Test::Warnings 0 0.031
YAML 0 1.30
configure_requires:
Module Need Have
---------------------------------------------- -------- --------
DBIx::Class 0 0.082843
ExtUtils::MakeMaker 0 7.70
------------------------------
ENVIRONMENT AND OTHER CONTEXT
------------------------------
Environment variables:
AUTOMATED_TESTING = 1
PATH = /home/goku/perl5/bin:/usr/bin:/bin:/usr/sbin:/sbin:/usr/X11R6/bin:/usr/local/bin:/usr/local/sbin
PERL5LIB = /home/goku/perl5/lib/perl5
PERL5OPT =
PERL5_CPANPLUS_IS_RUNNING = 1005
PERL5_CPAN_IS_RUNNING = 1005
PERL5_CPAN_IS_RUNNING_IN_RECURSION = 80278,1005
PERL_CR_SMOKER_CURRENT = Interchange6-Schema-0.133
PERL_EXTUTILS_AUTOINSTALL = --defaultdeps
PERL_LOCAL_LIB_ROOT = /home/goku/perl5
PERL_MB_OPT = --install_base "/home/goku/perl5"
PERL_MM_OPT = INSTALL_BASE=/home/goku/perl5
PERL_MM_USE_DEFAULT = 1
PERL_USE_UNSAFE_INC = 1
SHELL = /bin/ksh
TERM = xterm-256color
Perl special variables (and OS-specific diagnostics, for MSWin32):
$^X = /usr/bin/perl
$UID/$EUID = 1001 / 1001
$GID = 1002 1002 1001
$EGID = 1002 1002 1001
Perl module toolchain versions installed:
Module Have
------------------- --------
CPAN 2.35
CPAN::Meta 2.150010
Cwd 3.78
ExtUtils::CBuilder 0.280236
ExtUtils::Command 7.70
ExtUtils::Install 2.22
ExtUtils::MakeMaker 7.70
ExtUtils::Manifest 1.72
ExtUtils::ParseXS 3.44
File::Spec 3.78
JSON 4.10
JSON::PP 4.16
Module::Build 0.4234
Module::Signature 0.88
Parse::CPAN::Meta 2.150010
Test::Harness 3.44
Test::More 1.302194
YAML 1.30
YAML::Syck 1.34
version 0.9929
--
Summary of my perl5 (revision 5 version 32 subversion 1) configuration:
Platform:
osname=openbsd
osvers=7.2
archname=amd64-openbsd
uname='openbsd'
config_args='-dse -Dopenbsd_distribution=defined -Dmksymlinks'
hint=recommended
useposix=true
d_sigaction=define
useithreads=undef
usemultiplicity=undef
use64bitint=define
use64bitall=define
uselongdouble=undef
usemymalloc=n
default_inc_excludes_dot=define
bincompat5005=undef
Compiler:
cc='cc'
ccflags ='-DNO_LOCALE_NUMERIC -DNO_LOCALE_COLLATE -fno-strict-aliasing -fno-delete-null-pointer-checks -pipe -fstack-protector-strong -I/usr/local/include'
optimize='-O2'
cppflags='-DBIG_TIME -DNO_LOCALE_NUMERIC -DNO_LOCALE_COLLATE -fno-strict-aliasing -fno-delete-null-pointer-checks -pipe -fstack-protector-strong -I/usr/local/include'
ccversion=''
gccversion='OpenBSD Clang 13.0.0'
gccosandvers=''
intsize=4
longsize=8
ptrsize=8
doublesize=8
byteorder=12345678
doublekind=3
d_longlong=define
longlongsize=8
d_longdbl=define
longdblsize=16
longdblkind=3
ivtype='long'
ivsize=8
nvtype='double'
nvsize=8
Off_t='off_t'
lseeksize=8
alignbytes=8
prototype=define
Linker and Libraries:
ld='cc'
ldflags ='-Wl,-E -fstack-protector-strong -L/usr/local/lib'
libpth=/usr/lib /usr/lib/clang/13.0.0/lib /usr/lib
libs=-lm -lc
perllibs=-lm -lc
libc=/usr/lib/libc.so.96.2
so=so
useshrplib=true
libperl=libperl.so.22.0
gnulibc_version=''
Dynamic Linking:
dlsrc=dl_dlopen.xs
dlext=so
d_dlsymun=undef
ccdlflags='-Wl,-R/usr/libdata/perl5/amd64-openbsd/CORE'
cccdlflags='-DPIC -fpic '
lddlflags='-shared -fpic -fstack-protector-strong -L/usr/local/lib'
Characteristics of this binary (from libperl):
Compile-time options:
HAS_TIMES
PERLIO_LAYERS
PERL_COPY_ON_WRITE
PERL_DONT_CREATE_GVSV
PERL_MALLOC_WRAP
PERL_OP_PARENT
PERL_PRESERVE_IVUV
USE_64_BIT_ALL
USE_64_BIT_INT
USE_LARGE_FILES
USE_LOCALE
USE_LOCALE_CTYPE
USE_LOCALE_TIME
USE_PERLIO
USE_PERL_ATOF
Built under openbsd
%ENV:
PERL5LIB="/home/goku/perl5/lib/perl5"
PERL5OPT=""
PERL5_CPANPLUS_IS_RUNNING="1005"
PERL5_CPAN_IS_RUNNING="1005"
PERL5_CPAN_IS_RUNNING_IN_RECURSION="80278,1005"
PERL_CR_SMOKER_CURRENT="Interchange6-Schema-0.133"
PERL_EXTUTILS_AUTOINSTALL="--defaultdeps"
PERL_LOCAL_LIB_ROOT="/home/goku/perl5"
PERL_MB_OPT="--install_base "/home/goku/perl5""
PERL_MM_OPT="INSTALL_BASE=/home/goku/perl5"
PERL_MM_USE_DEFAULT="1"
PERL_USE_UNSAFE_INC="1"
@INC:
/home/goku/perl5/lib/perl5/5.32.1/amd64-openbsd
/home/goku/perl5/lib/perl5/5.32.1
/home/goku/perl5/lib/perl5/amd64-openbsd
/home/goku/perl5/lib/perl5
/usr/local/libdata/perl5/site_perl/amd64-openbsd
/usr/local/libdata/perl5/site_perl
/usr/libdata/perl5/amd64-openbsd
/usr/libdata/perl5
.