RT-Client-REST v0.72 Perl 5 v5.32.1 amd64-freebsd-thread-multi

Status
Pass
From
Slaven Rezić
Dist
RT-Client-REST v0.72
Platform
Perl 5 v5.32.1 amd64-freebsd-thread-multi
Date
2023-02-27 21:07:59
ID
d0a314f8-b6e2-11ed-a262-ac1b6e8775ea
This distribution has been tested as part of the CPAN Testers
project, supporting the Perl programming language.  See
http://wiki.cpantesters.org/ for more information or email
questions to cpan-testers-discuss@perl.org


--
Dear Dean Hamstead,

This is a computer-generated report for RT-Client-REST-0.72
on perl 5.32.1, created by CPAN-Reporter-1.2018.

Thank you for uploading your work to CPAN.  Congratulations!
All tests were successful.

Sections of this report:

    * Tester comments
    * Program output
    * Prerequisites
    * Environment and other context

------------------------------
TESTER COMMENTS
------------------------------

Additional comments from tester:

none provided

------------------------------
PROGRAM OUTPUT
------------------------------

Output from '/usr/bin/make test':

PERL_DL_NONLAZY=1 "/usr/local/bin/perl" "-MExtUtils::Command::MM" "-MTest::Harness" "-e" "undef *Test::Harness::Switches; test_harness(0, 'blib/lib', 'blib/arch')" t/*.t
t/00-compile.t ................. ok
# 
# Versions for all modules listed in MYMETA.json (including optional ones):
# 
# === Configure Requires ===
# 
#     Module              Want   Have
#     ------------------- ---- ------
#     ExtUtils::MakeMaker  any   7.44
#     Module::Build       0.28 0.4232
# 
# === Configure Suggests ===
# 
#     Module      Want Have
#     -------- ------- ----
#     JSON::PP 2.27300 4.04
# 
# === Build Requires ===
# 
#     Module                                 Want     Have
#     -------------------------------------- ---- --------
#     HTTP::Server::Simple                   0.44     0.52
#     HTTP::Server::Simple::CGI               any    undef
#     HTTP::Server::Simple::CGI::Environment  any    undef
#     Module::Build                          0.28   0.4232
#     Test::Exception                         any     0.43
#     Test::More                              any 1.302175
# 
# === Test Requires ===
# 
#     Module              Want     Have
#     ------------------- ---- --------
#     ExtUtils::MakeMaker  any     7.44
#     File::Spec           any     3.78
#     IO::Handle           any     1.42
#     IPC::Open3           any     1.21
#     Test::More           any 1.302175
# 
# === Test Recommends ===
# 
#     Module         Want     Have
#     ---------- -------- --------
#     CPAN::Meta 2.120900 2.150010
# 
# === Runtime Requires ===
# 
#     Module                       Want     Have
#     --------------------------- ----- --------
#     DateTime                      any     1.59
#     DateTime::Format::DateParse   any     0.05
#     Encode                        any     3.06
#     Exception::Class              any     1.45
#     Exporter                      any     5.74
#     HTTP::Cookies                 any     6.10
#     HTTP::Request::Common         any     6.44
#     LWP                           any     6.67
#     Params::Validate              any     1.31
#     Try::Tiny                     any     0.31
#     URI                           any     5.17
#     constant                      any     1.33
#     parent                        any    0.238
#     perl                        5.008 5.032001
#     strict                        any     1.11
#     vars                          any     1.05
#     warnings                      any     1.47
# 
t/00-report-prereqs.t .......... ok
t/01-use.t ..................... ok
t/10-core.t .................... ok
t/11-server-name.t ............. ok
t/20-object.t .................. ok
t/21-user.t .................... ok
t/22-ticket.t .................. ok
t/23-attachment.t .............. ok
t/24-transaction.t ............. ok
t/25-queue.t ................... ok
t/26-group.t ................... ok
t/35-db.t ...................... ok
t/40-search.t .................. ok
t/50-forms.t ................... ok
t/60-with-rt.t ................. skipped: these tests are for release candidate testing
t/80-timeout.t ................. ok
t/81-submit.t .................. ok
t/82-stringify.t ............... ok
t/83-attachments.t ............. ok
t/84-attachments-rt127607.t .... ok
t/85-attachments-rt127607.t .... ok
t/86-redirect.t ................ ok
t/author-critic.t .............. skipped: these tests are for testing by the author
t/author-distmeta.t ............ skipped: these tests are for testing by the author
t/author-eof.t ................. skipped: these tests are for testing by the author
t/author-eol.t ................. skipped: these tests are for testing by the author
t/author-no-breakpoints.t ...... skipped: these tests are for testing by the author
t/author-no-tabs.t ............. skipped: these tests are for testing by the author
t/author-pod-coverage.t ........ skipped: these tests are for testing by the author
t/author-pod-no404s.t .......... skipped: these tests are for testing by the author
t/author-pod-spell.t ........... skipped: these tests are for testing by the author
t/author-pod-syntax.t .......... skipped: these tests are for testing by the author
t/author-portability.t ......... skipped: these tests are for testing by the author
t/release-kwalitee.t ........... skipped: these tests are for release candidate testing
t/release-pause-permissions.t .. skipped: these tests are for release candidate testing
t/release-test-legal.t ......... skipped: these tests are for release candidate testing
t/release-unused-vars.t ........ skipped: these tests are for release candidate testing
All tests successful.
Files=38, Tests=388, 29 wallclock secs ( 0.18 usr  0.05 sys +  6.08 cusr  2.02 csys =  8.34 CPU)
Result: PASS

------------------------------
PREREQUISITES
------------------------------

Prerequisite modules loaded:

requires:

    Module                                 Need  Have    
    -------------------------------------- ----- --------
    constant                               0     1.33    
    DateTime                               0     1.59    
    DateTime::Format::DateParse            0     0.05    
    Encode                                 0     3.06    
    Exception::Class                       0     1.45    
    Exporter                               0     5.74    
    HTTP::Cookies                          0     6.10    
    HTTP::Request::Common                  0     6.44    
    LWP                                    0     6.67    
    Params::Validate                       0     1.31    
    parent                                 0     0.238   
    perl                                   5.008 5.032001
    strict                                 0     1.11    
    Try::Tiny                              0     0.31    
    URI                                    0     5.17    
    vars                                   0     1.05    
    warnings                               0     1.47    

build_requires:

    Module                                 Need  Have    
    -------------------------------------- ----- --------
    ExtUtils::MakeMaker                    0     7.44    
    File::Spec                             0     3.78    
    HTTP::Server::Simple                   0.44  0.52    
    HTTP::Server::Simple::CGI              0     0       
    HTTP::Server::Simple::CGI::Environment 0     0       
    IO::Handle                             0     1.42    
    IPC::Open3                             0     1.21    
    Module::Build                          0.28  0.4232  
    Test::Exception                        0     0.43    
    Test::More                             0     1.302175

configure_requires:

    Module                                 Need  Have    
    -------------------------------------- ----- --------
    ExtUtils::MakeMaker                    0     7.44    
    Module::Build                          0.28  0.4232  


------------------------------
ENVIRONMENT AND OTHER CONTEXT
------------------------------

Environment variables:

    PATH = /usr/local/bin:/usr/bin:/bin:/usr/local/sbin:/usr/sbin:/sbin:/home/cpansand/bin/sh:/home/cpansand/bin:/usr/games:/home/cpansand/devel:/usr/home/eserte/src/srezic-misc/scripts
    PERL5LIB = /home/cpansand/.cpan/build/2023022719/Test-Exception-0.43-0/blib/arch:/home/cpansand/.cpan/build/2023022719/Test-Exception-0.43-0/blib/lib:/home/cpansand/.cpan/build/2023022719/Sub-Uplevel-0.2800-0/blib/arch:/home/cpansand/.cpan/build/2023022719/Sub-Uplevel-0.2800-0/blib/lib:/home/cpansand/.cpan/build/2023022719/HTTP-Server-Simple-0.52-0/blib/arch:/home/cpansand/.cpan/build/2023022719/HTTP-Server-Simple-0.52-0/blib/lib:/home/cpansand/.cpan/build/2023022719/DateTime-Format-DateParse-0.05-1/blib/arch:/home/cpansand/.cpan/build/2023022719/DateTime-Format-DateParse-0.05-1/blib/lib:/home/cpansand/.cpan/build/2023022719/Module-Build-0.4232-0/blib/arch:/home/cpansand/.cpan/build/2023022719/Module-Build-0.4232-0/blib/lib
    PERL5OPT = 
    PERL5_CPANPLUS_IS_RUNNING = 90853
    PERL5_CPAN_IS_RUNNING = 90853
    PERL5_CPAN_IS_RUNNING_IN_RECURSION = 90812,90853
    PERL_BATCH = yes
    PERL_CANARY_STABILITY_NOPROMPT = 1
    PERL_CPAN_REPORTER_CONFIG = /var/tmp/cpansmoker-1023/2023022719/cpanreporter_000_config.ini
    PERL_EXTUTILS_AUTOINSTALL = --defaultdeps
    PERL_USE_UNSAFE_INC = 1
    SHELL = /bin/sh
    TMPDIR = /var/tmp/cpansmoker-1023/2023022719

Perl special variables (and OS-specific diagnostics, for MSWin32):

    $^X = /usr/local/bin/perl
    $UID/$EUID = 1023 / 1023
    $GID = 1023 1023
    $EGID = 1023 1023

Perl module toolchain versions installed:

    Module              Have    
    ------------------- --------
    CPAN                2.27    
    CPAN::Meta          2.150010
    Cwd                 3.78    
    ExtUtils::CBuilder  0.280234
    ExtUtils::Command   7.44    
    ExtUtils::Install   2.14    
    ExtUtils::MakeMaker 7.44    
    ExtUtils::Manifest  1.72    
    ExtUtils::ParseXS   3.40    
    File::Spec          3.78    
    JSON                n/a     
    JSON::PP            4.04    
    Module::Build       0.4232  
    Module::Signature   n/a     
    Parse::CPAN::Meta   2.150010
    Test::Harness       3.42    
    Test::More          1.302175
    YAML                n/a     
    YAML::Syck          1.34    
    version             0.9924  


--

Summary of my perl5 (revision 5 version 32 subversion 1) configuration:
   
  Platform:
    osname=freebsd
    osvers=12.3-release-p7
    archname=amd64-freebsd-thread-multi
    uname='freebsd 123amd64-default-job-01 12.3-release-p7 freebsd 12.3-release-p7 amd64 '
    config_args='-Darchlib=/usr/local/lib/perl5/5.32/mach -Dcc=cc -Dcf_by=mat -Dcf_email=mat@FreeBSD.org -Dcf_time=Sat Jan 23 14:56:40 UTC 2021 -Dinc_version_list=none -Dlibperl=libperl.so.5.32.1 -Dman1dir=/usr/local/lib/perl5/5.32/perl/man/man1 -Dman3dir=/usr/local/lib/perl5/5.32/perl/man/man3 -Dprefix=/usr/local -Dprivlib=/usr/local/lib/perl5/5.32 -Dscriptdir=/usr/local/bin -Dsitearch=/usr/local/lib/perl5/site_perl/mach/5.32 -Dsitelib=/usr/local/lib/perl5/site_perl -Dsiteman1dir=/usr/local/lib/perl5/site_perl/man/man1 -Dsiteman3dir=/usr/local/lib/perl5/site_perl/man/man3 -Dusenm=n -Duseshrplib -sde -Ui_iconv -Ui_malloc -Uinstallusrbinperl -Accflags=-DUSE_THREAD_SAFE_LOCALE -Alddlflags=-L/wrkdirs/usr/ports/lang/perl5.32/work/perl-5.32.1 -L/usr/local/lib/perl5/5.32/mach/CORE -lperl -Dshrpldflags=$(LDDLFLAGS:N-L/wrkdirs/usr/ports/lang/perl5.32/work/perl-5.32.1:N-L/usr/local/lib/perl5/5.32/mach/CORE:N-lperl) -Wl,-soname,$(LIBPERL:R) -Doptimize=-O2 -pipe  -fstack-protector-strong -fno-strict-aliasing  -Dusedtrace -Ui_gdbm -Dusemultiplicity=y -Duse64bitint -Dusemymalloc=n -Dusethreads=y'
    hint=recommended
    useposix=true
    d_sigaction=define
    useithreads=define
    usemultiplicity=define
    use64bitint=define
    use64bitall=define
    uselongdouble=undef
    usemymalloc=n
    default_inc_excludes_dot=define
    bincompat5005=undef
  Compiler:
    cc='cc'
    ccflags ='-DHAS_FPSETMASK -DHAS_FLOATINGPOINT_H -DUSE_THREAD_SAFE_LOCALE -fno-strict-aliasing -pipe -fstack-protector-strong -I/usr/local/include'
    optimize='-O2 -pipe -fstack-protector-strong -fno-strict-aliasing '
    cppflags='-DHAS_FPSETMASK -DHAS_FLOATINGPOINT_H -DUSE_THREAD_SAFE_LOCALE -fno-strict-aliasing -pipe -fstack-protector-strong -I/usr/local/include'
    ccversion=''
    gccversion='FreeBSD Clang 10.0.1 (git@github.com:llvm/llvm-project.git llvmorg-10.0.1-0-gef32c611aa2)'
    gccosandvers=''
    intsize=4
    longsize=8
    ptrsize=8
    doublesize=8
    byteorder=12345678
    doublekind=3
    d_longlong=define
    longlongsize=8
    d_longdbl=define
    longdblsize=16
    longdblkind=3
    ivtype='long'
    ivsize=8
    nvtype='double'
    nvsize=8
    Off_t='off_t'
    lseeksize=8
    alignbytes=8
    prototype=define
  Linker and Libraries:
    ld='cc'
    ldflags ='-pthread -Wl,-E  -fstack-protector-strong -L/usr/local/lib'
    libpth=/usr/lib /usr/local/lib /usr/lib/clang/10.0.1/lib /usr/lib
    libs=-lpthread -lm -lcrypt -lutil
    perllibs=-lpthread -lm -lcrypt -lutil
    libc=
    so=so
    useshrplib=true
    libperl=libperl.so.5.32.1
    gnulibc_version=''
  Dynamic Linking:
    dlsrc=dl_dlopen.xs
    dlext=so
    d_dlsymun=undef
    ccdlflags='  -Wl,-R/usr/local/lib/perl5/5.32/mach/CORE'
    cccdlflags='-DPIC -fPIC'
    lddlflags='-shared  -L/usr/local/lib/perl5/5.32/mach/CORE -lperl -L/usr/local/lib -fstack-protector-strong'


Characteristics of this binary (from libperl): 
  Compile-time options:
    HAS_TIMES
    MULTIPLICITY
    PERLIO_LAYERS
    PERL_COPY_ON_WRITE
    PERL_DONT_CREATE_GVSV
    PERL_IMPLICIT_CONTEXT
    PERL_MALLOC_WRAP
    PERL_OP_PARENT
    PERL_PRESERVE_IVUV
    USE_64_BIT_ALL
    USE_64_BIT_INT
    USE_ITHREADS
    USE_LARGE_FILES
    USE_LOCALE
    USE_LOCALE_COLLATE
    USE_LOCALE_CTYPE
    USE_LOCALE_NUMERIC
    USE_LOCALE_TIME
    USE_PERLIO
    USE_PERL_ATOF
    USE_REENTRANT_API
    USE_THREAD_SAFE_LOCALE
  Built under freebsd
  %ENV:
    PERL5LIB="/home/cpansand/.cpan/build/2023022719/Test-Exception-0.43-0/blib/arch:/home/cpansand/.cpan/build/2023022719/Test-Exception-0.43-0/blib/lib:/home/cpansand/.cpan/build/2023022719/Sub-Uplevel-0.2800-0/blib/arch:/home/cpansand/.cpan/build/2023022719/Sub-Uplevel-0.2800-0/blib/lib:/home/cpansand/.cpan/build/2023022719/HTTP-Server-Simple-0.52-0/blib/arch:/home/cpansand/.cpan/build/2023022719/HTTP-Server-Simple-0.52-0/blib/lib:/home/cpansand/.cpan/build/2023022719/DateTime-Format-DateParse-0.05-1/blib/arch:/home/cpansand/.cpan/build/2023022719/DateTime-Format-DateParse-0.05-1/blib/lib:/home/cpansand/.cpan/build/2023022719/Module-Build-0.4232-0/blib/arch:/home/cpansand/.cpan/build/2023022719/Module-Build-0.4232-0/blib/lib"
    PERL5OPT=""
    PERL5_CPANPLUS_IS_RUNNING="90853"
    PERL5_CPAN_IS_RUNNING="90853"
    PERL5_CPAN_IS_RUNNING_IN_RECURSION="90812,90853"
    PERL_BATCH="yes"
    PERL_CANARY_STABILITY_NOPROMPT="1"
    PERL_CPAN_REPORTER_CONFIG="/var/tmp/cpansmoker-1023/2023022719/cpanreporter_000_config.ini"
    PERL_EXTUTILS_AUTOINSTALL="--defaultdeps"
    PERL_USE_UNSAFE_INC="1"
  @INC:
    /home/cpansand/.cpan/build/2023022719/Test-Exception-0.43-0/blib/arch
    /home/cpansand/.cpan/build/2023022719/Test-Exception-0.43-0/blib/lib
    /home/cpansand/.cpan/build/2023022719/Sub-Uplevel-0.2800-0/blib/arch
    /home/cpansand/.cpan/build/2023022719/Sub-Uplevel-0.2800-0/blib/lib
    /home/cpansand/.cpan/build/2023022719/HTTP-Server-Simple-0.52-0/blib/arch
    /home/cpansand/.cpan/build/2023022719/HTTP-Server-Simple-0.52-0/blib/lib
    /home/cpansand/.cpan/build/2023022719/DateTime-Format-DateParse-0.05-1/blib/arch
    /home/cpansand/.cpan/build/2023022719/DateTime-Format-DateParse-0.05-1/blib/lib
    /home/cpansand/.cpan/build/2023022719/Module-Build-0.4232-0/blib/arch
    /home/cpansand/.cpan/build/2023022719/Module-Build-0.4232-0/blib/lib
    /usr/local/lib/perl5/site_perl/mach/5.32
    /usr/local/lib/perl5/site_perl
    /usr/local/lib/perl5/5.32/mach
    /usr/local/lib/perl5/5.32
    .