Report for Dist-Zilla-Config-Slicer-0.201

Back
From: metabase:user:314402c4-2aae-11df-837a-5e0a49663a4f
Subject: PASS Dist-Zilla-Config-Slicer-0.201 v5.25.1 FreeBSD
Date: 2016-05-30T23:32:46Z

This distribution has been tested as part of the CPAN Testers
project, supporting the Perl programming language.  See
http://wiki.cpantesters.org/ for more information or email
questions to cpan-testers-discuss@perl.org


--
Dear Randy Stauner,

This is a computer-generated report for Dist-Zilla-Config-Slicer-0.201
on perl 5.25.1, created by CPAN-Reporter-1.2017.

Thank you for uploading your work to CPAN.  Congratulations!
All tests were successful.

Sections of this report:

    * Tester comments
    * Program output
    * Prerequisites
    * Environment and other context

------------------------------
TESTER COMMENTS
------------------------------

Additional comments from tester:

none provided

------------------------------
PROGRAM OUTPUT
------------------------------

Output from '/usr/bin/make test':

PERL_DL_NONLAZY=1 "/usr/perl5.25.1t/bin/perl5.25.1" "-MExtUtils::Command::MM" "-MTest::Harness" "-e" "undef *Test::Harness::Switches; test_harness(0, 'blib/lib', 'blib/arch')" t/*.t
t/00-compile.t ......... ok
# 
# Versions for all modules listed in MYMETA.json (including optional ones):
# 
# === Configure Requires ===
# 
#     Module              Want    Have
#     ------------------- ---- -------
#     ExtUtils::MakeMaker  any 7.10_01
# 
# === Build Requires ===
# 
#     Module              Want    Have
#     ------------------- ---- -------
#     ExtUtils::MakeMaker  any 7.10_01
# 
# === Test Requires ===
# 
#     Module                                Want     Have
#     ------------------------------------- ---- --------
#     Dist::Zilla::Role::PluginBundle        any    6.005
#     Dist::Zilla::Role::PluginBundle::Easy  any    6.005
#     ExtUtils::MakeMaker                    any  7.10_01
#     File::Spec                             any     3.63
#     File::Temp                             any   0.2304
#     IO::Handle                             any     1.36
#     IPC::Open3                             any     1.20
#     Test::More                            0.96 1.302015
#     lib                                    any     0.63
# 
# === Test Recommends ===
# 
#     Module         Want     Have
#     ---------- -------- --------
#     CPAN::Meta 2.120900 2.150005
# 
# === Runtime Requires ===
# 
#     Module                            Want   Have
#     --------------------------------- ---- ------
#     Config::MVP::Slicer                any  0.302
#     Dist::Zilla::PluginBundle::Filter  any  6.005
#     Dist::Zilla::Util                    4  6.005
#     Moose                              any 2.1802
#     Moose::Role                        any 2.1802
#     strict                             any   1.11
#     warnings                           any   1.36
# 
t/00-report-prereqs.t .. ok
t/bundle-filter.t ...... ok
t/bundle-role.t ........ ok
t/slicer.t ............. ok
All tests successful.
Files=5, Tests=27,  2 wallclock secs ( 0.03 usr  0.00 sys +  1.54 cusr  0.21 csys =  1.78 CPU)
Result: PASS

------------------------------
PREREQUISITES
------------------------------

Prerequisite modules loaded:

requires:

    Module                                Need     Have    
    ------------------------------------- -------- --------
    Config::MVP::Slicer                   0        0.302   
    Dist::Zilla::PluginBundle::Filter     0        6.005   
    Dist::Zilla::Util                     4        6.005   
    Moose                                 0        2.1802  
    Moose::Role                           0        2.1802  
    perl                                  5.006    5.025001
    strict                                0        1.11    
    warnings                              0        1.36    

build_requires:

    Module                                Need     Have    
    ------------------------------------- -------- --------
    Dist::Zilla::Role::PluginBundle       0        6.005   
    Dist::Zilla::Role::PluginBundle::Easy 0        6.005   
    ExtUtils::MakeMaker                   0        7.10_01 
    File::Spec                            0        3.63    
    File::Temp                            0        0.2304  
    IO::Handle                            0        1.36    
    IPC::Open3                            0        1.20    
    lib                                   0        0.63    
    Test::More                            0.96     1.302015

configure_requires:

    Module                                Need     Have    
    ------------------------------------- -------- --------
    ExtUtils::MakeMaker                   0        7.10_01 
    perl                                  5.006    5.025001

opt_build_requires:

    Module                                Need     Have    
    ------------------------------------- -------- --------
    CPAN::Meta                            2.120900 2.150005


------------------------------
ENVIRONMENT AND OTHER CONTEXT
------------------------------

Environment variables:

    LC_ALL = de_DE.UTF-8
    PATH = /usr/local/bin:/usr/bin:/bin:/usr/local/sbin:/usr/sbin:/sbin:/home/eserte/bin/freebsd10.1:/home/eserte/bin/sh:/home/eserte/bin:/home/eserte/bin/pistachio-perl/bin:/usr/games:/home/eserte/devel:/usr/home/eserte/src/srezic-misc/scripts
    PERL5LIB = 
    PERL5OPT = 
    PERL5_CPANPLUS_IS_RUNNING = 50658
    PERL5_CPAN_IS_RUNNING = 50658
    PERL5_CPAN_IS_RUNNING_IN_RECURSION = 49696,50658
    PERLDOC = -MPod::Perldoc::ToTextOverstrike
    PERL_BATCH = yes
    PERL_CANARY_STABILITY_NOPROMPT = 1
    PERL_CPAN_REPORTER_CONFIG = /var/tmp/cpansmoker-1002/2016053021/cpanreporter_004_config.ini
    PERL_EXTUTILS_AUTOINSTALL = --defaultdeps
    PERL_PARALLEL_SMOKER = yes
    SHELL = /usr/local/bin/zsh
    TERM = screen
    TMPDIR = /var/tmp/cpansmoker-1002/2016053021

Perl special variables (and OS-specific diagnostics, for MSWin32):

    $^X = /usr/perl5.25.1t/bin/perl5.25.1
    $UID/$EUID = 1002 / 1002
    $GID = 1002 1002
    $EGID = 1002 1002

Perl module toolchain versions installed:

    Module              Have    
    ------------------- --------
    CPAN                2.11    
    CPAN::Meta          2.150005
    Cwd                 3.63    
    ExtUtils::CBuilder  0.280225
    ExtUtils::Command   7.10    
    ExtUtils::Install   2.04    
    ExtUtils::MakeMaker 7.10_01 
    ExtUtils::Manifest  1.70    
    ExtUtils::ParseXS   3.31    
    File::Spec          3.63    
    JSON                2.90    
    JSON::PP            2.27300 
    Module::Build       0.4218  
    Module::Signature   n/a     
    Parse::CPAN::Meta   1.4417  
    Test::Harness       3.36    
    Test::More          1.302015
    YAML                1.15    
    YAML::Syck          1.29    
    version             0.9916  


--

Summary of my perl5 (revision 5 version 25 subversion 1) configuration:
   
  Platform:
    osname=freebsd, osvers=10.3-release, archname=amd64-freebsd-thread-multi
    uname='freebsd freebsd103 10.3-release freebsd 10.3-release #0 r297264: fri mar 25 02:10:02 utc 2016 root@releng1.nyi.freebsd.org:usrobjusrsrcsysgeneric amd64 '
    config_args='-ds -e -Dprefix=/usr/perl5.25.1t -Dusedevel -Dusemallocwrap=no -Dusethreads -Dcf_email=srezic@cpan.org -Doptimize=-O2 -pipe'
    hint=recommended, useposix=true, d_sigaction=define
    useithreads=define, usemultiplicity=define
    use64bitint=define, use64bitall=define, uselongdouble=undef
    usemymalloc=n, bincompat5005=undef
  Compiler:
    cc='cc', ccflags ='-DHAS_FPSETMASK -DHAS_FLOATINGPOINT_H -fno-strict-aliasing -pipe -fstack-protector -I/usr/local/include -D_FORTIFY_SOURCE=2',
    optimize='-O2 -pipe',
    cppflags='-DHAS_FPSETMASK -DHAS_FLOATINGPOINT_H -fno-strict-aliasing -pipe -fstack-protector -I/usr/local/include'
    ccversion='', gccversion='4.2.1 Compatible FreeBSD Clang 3.4.1 (tags/RELEASE_34/dot1-final 208032)', gccosandvers=''
    intsize=4, longsize=8, ptrsize=8, doublesize=8, byteorder=12345678, doublekind=3
    d_longlong=define, longlongsize=8, d_longdbl=define, longdblsize=16, longdblkind=3
    ivtype='long', ivsize=8, nvtype='double', nvsize=8, Off_t='off_t', lseeksize=8
    alignbytes=8, prototype=define
  Linker and Libraries:
    ld='cc', ldflags ='-pthread -Wl,-E  -fstack-protector -L/usr/local/lib'
    libpth=/usr/lib /usr/local/lib /usr/include/clang/3.4.1 /usr/lib
    libs=-lpthread -lm -lcrypt -lutil
    perllibs=-lpthread -lm -lcrypt -lutil
    libc=, so=so, useshrplib=false, libperl=libperl.a
    gnulibc_version=''
  Dynamic Linking:
    dlsrc=dl_dlopen.xs, dlext=so, d_dlsymun=undef, ccdlflags=' '
    cccdlflags='-DPIC -fPIC', lddlflags='-shared  -L/usr/local/lib -fstack-protector'


Characteristics of this binary (from libperl): 
  Compile-time options: HAS_TIMES MULTIPLICITY PERLIO_LAYERS
                        PERL_COPY_ON_WRITE PERL_DONT_CREATE_GVSV
                        PERL_HASH_FUNC_ONE_AT_A_TIME_HARD
                        PERL_IMPLICIT_CONTEXT PERL_OP_PARENT
                        PERL_PRESERVE_IVUV PERL_USE_DEVEL USE_64_BIT_ALL
                        USE_64_BIT_INT USE_ITHREADS USE_LARGE_FILES
                        USE_LOCALE USE_LOCALE_COLLATE USE_LOCALE_CTYPE
                        USE_LOCALE_NUMERIC USE_LOCALE_TIME USE_PERLIO
                        USE_PERL_ATOF USE_REENTRANT_API
  Built under freebsd
  Compiled at May 30 2016 22:22:50
  %ENV:
    PERL5LIB=""
    PERL5OPT=""
    PERL5_CPANPLUS_IS_RUNNING="50658"
    PERL5_CPAN_IS_RUNNING="50658"
    PERL5_CPAN_IS_RUNNING_IN_RECURSION="49696,50658"
    PERLDOC="-MPod::Perldoc::ToTextOverstrike"
    PERL_BATCH="yes"
    PERL_CANARY_STABILITY_NOPROMPT="1"
    PERL_CPAN_REPORTER_CONFIG="/var/tmp/cpansmoker-1002/2016053021/cpanreporter_004_config.ini"
    PERL_EXTUTILS_AUTOINSTALL="--defaultdeps"
    PERL_PARALLEL_SMOKER="yes"
  @INC:
    /usr/perl5.25.1t/lib/site_perl/5.25.1/amd64-freebsd-thread-multi
    /usr/perl5.25.1t/lib/site_perl/5.25.1
    /usr/perl5.25.1t/lib/5.25.1/amd64-freebsd-thread-multi
    /usr/perl5.25.1t/lib/5.25.1
    .