MooseX-RelClassTypes v0.03 Perl 5 v5.39.10 x86_64-linux-ld

Status
Pass
From
Andreas J. König (ANDK)
Dist
MooseX-RelClassTypes v0.03
Platform
Perl 5 v5.39.10 x86_64-linux-ld
Date
2024-05-11 00:10:03
ID
d07a3b90-0f2a-11ef-9d64-da56a77ad6c8
This distribution has been tested as part of the CPAN Testers
project, supporting the Perl programming language.  See
http://wiki.cpantesters.org/ for more information or email
questions to cpan-testers-discuss@perl.org


--
Dear Tom Gracey,

This is a computer-generated report for MooseX-RelClassTypes-0.03
on perl 5.39.10, created by CPAN-Reporter-1.2019.

Thank you for uploading your work to CPAN.  Congratulations!
All tests were successful.

Sections of this report:

    * Tester comments
    * Program output
    * Prerequisites
    * Environment and other context

------------------------------
TESTER COMMENTS
------------------------------

Additional comments from tester:

this report is from an automated smoke testing program
and was not reviewed by a human for accuracy

------------------------------
PROGRAM OUTPUT
------------------------------

Output from '/usr/bin/make test':

PERL_DL_NONLAZY=1 "/tmp/basesmoker-reloperl-sLbq/bin/perl" "-MExtUtils::Command::MM" "-MTest::Harness" "-e" "undef *Test::Harness::Switches; test_harness(0, 'blib/lib', 'blib/arch')" t/*.t
You are overwriting a accessor (child_rel_pack) for the child_rel_pack attribute (defined at t/00_set_isa.t line 45) with a new accessor method for the child_rel_pack attribute (defined at t/00_set_isa.t line 45) at /home/sand/src/perl/repoperls/installed-perls/host/k93jammy/v5.39.10/5674/lib/site_perl/5.39.10/x86_64-linux-ld/Moose/Meta/Attribute.pm line 1094.
	Moose::Meta::Attribute::_process_accessors(Moose::Meta::Attribute=HASH(0x5836090b08d8), "accessor", "child_rel_pack", undef) called at /home/sand/src/perl/repoperls/installed-perls/host/k93jammy/v5.39.10/5674/lib/site_perl/5.39.10/x86_64-linux-ld/Class/MOP/Attribute.pm line 446
	Class::MOP::Attribute::install_accessors(Moose::Meta::Attribute=HASH(0x5836090b08d8)) called at /home/sand/src/perl/repoperls/installed-perls/host/k93jammy/v5.39.10/5674/lib/site_perl/5.39.10/x86_64-linux-ld/Moose/Meta/Attribute.pm line 1014
	Moose::Meta::Attribute::install_accessors(Moose::Meta::Attribute=HASH(0x5836090b08d8)) called at /tmp/loop_over_bdir-2594-zRJt0W/MooseX-RelClassTypes-0.03-0/blib/lib/MooseX/RelClassTypes.pm line 76
	Class::MOP::Class:::before("Child") called at /home/sand/src/perl/repoperls/installed-perls/host/k93jammy/v5.39.10/5674/lib/site_perl/5.39.10/x86_64-linux-ld/Class/MOP/Method/Wrapped.pm line 43
	Child::_wrapped_BUILDARGS("Child") called at /home/sand/src/perl/repoperls/installed-perls/host/k93jammy/v5.39.10/5674/lib/site_perl/5.39.10/x86_64-linux-ld/Class/MOP/Method/Wrapped.pm line 97
	Child::BUILDARGS("Child") called at /home/sand/src/perl/repoperls/installed-perls/host/k93jammy/v5.39.10/5674/lib/site_perl/5.39.10/x86_64-linux-ld/Moose/Object.pm line 22
	Moose::Object::new("Child") called at t/00_set_isa.t line 99
You are overwriting a accessor (parent_rel_pack) for the parent_rel_pack attribute (defined at t/00_set_isa.t line 23) with a new accessor method for the parent_rel_pack attribute (defined at t/00_set_isa.t line 23) at /home/sand/src/perl/repoperls/installed-perls/host/k93jammy/v5.39.10/5674/lib/site_perl/5.39.10/x86_64-linux-ld/Moose/Meta/Attribute.pm line 1094.
	Moose::Meta::Attribute::_process_accessors(Moose::Meta::Attribute=HASH(0x58360909b0e0), "accessor", "parent_rel_pack", undef) called at /home/sand/src/perl/repoperls/installed-perls/host/k93jammy/v5.39.10/5674/lib/site_perl/5.39.10/x86_64-linux-ld/Class/MOP/Attribute.pm line 446
	Class::MOP::Attribute::install_accessors(Moose::Meta::Attribute=HASH(0x58360909b0e0)) called at /home/sand/src/perl/repoperls/installed-perls/host/k93jammy/v5.39.10/5674/lib/site_perl/5.39.10/x86_64-linux-ld/Moose/Meta/Attribute.pm line 1014
	Moose::Meta::Attribute::install_accessors(Moose::Meta::Attribute=HASH(0x58360909b0e0)) called at /tmp/loop_over_bdir-2594-zRJt0W/MooseX-RelClassTypes-0.03-0/blib/lib/MooseX/RelClassTypes.pm line 76
	Class::MOP::Class:::before("Child") called at /home/sand/src/perl/repoperls/installed-perls/host/k93jammy/v5.39.10/5674/lib/site_perl/5.39.10/x86_64-linux-ld/Class/MOP/Method/Wrapped.pm line 43
	Child::_wrapped_BUILDARGS("Child") called at /home/sand/src/perl/repoperls/installed-perls/host/k93jammy/v5.39.10/5674/lib/site_perl/5.39.10/x86_64-linux-ld/Class/MOP/Method/Wrapped.pm line 97
	Child::BUILDARGS("Child") called at /home/sand/src/perl/repoperls/installed-perls/host/k93jammy/v5.39.10/5674/lib/site_perl/5.39.10/x86_64-linux-ld/Moose/Object.pm line 22
	Moose::Object::new("Child") called at t/00_set_isa.t line 99
You are overwriting a accessor (parent_rel_pack) for the parent_rel_pack attribute (defined at t/00_set_isa.t line 23) with a new accessor method for the parent_rel_pack attribute (defined at t/00_set_isa.t line 23) at /home/sand/src/perl/repoperls/installed-perls/host/k93jammy/v5.39.10/5674/lib/site_perl/5.39.10/x86_64-linux-ld/Moose/Meta/Attribute.pm line 1094.
	Moose::Meta::Attribute::_process_accessors(Moose::Meta::Attribute=HASH(0x58360909b0e0), "accessor", "parent_rel_pack", undef) called at /home/sand/src/perl/repoperls/installed-perls/host/k93jammy/v5.39.10/5674/lib/site_perl/5.39.10/x86_64-linux-ld/Class/MOP/Attribute.pm line 446
	Class::MOP::Attribute::install_accessors(Moose::Meta::Attribute=HASH(0x58360909b0e0)) called at /home/sand/src/perl/repoperls/installed-perls/host/k93jammy/v5.39.10/5674/lib/site_perl/5.39.10/x86_64-linux-ld/Moose/Meta/Attribute.pm line 1014
	Moose::Meta::Attribute::install_accessors(Moose::Meta::Attribute=HASH(0x58360909b0e0)) called at /tmp/loop_over_bdir-2594-zRJt0W/MooseX-RelClassTypes-0.03-0/blib/lib/MooseX/RelClassTypes.pm line 76
	Class::MOP::Class:::before("Child") called at /home/sand/src/perl/repoperls/installed-perls/host/k93jammy/v5.39.10/5674/lib/site_perl/5.39.10/x86_64-linux-ld/Class/MOP/Method/Wrapped.pm line 43
	Parent::_wrapped_BUILDARGS("Child") called at /home/sand/src/perl/repoperls/installed-perls/host/k93jammy/v5.39.10/5674/lib/site_perl/5.39.10/x86_64-linux-ld/Class/MOP/Method/Wrapped.pm line 97
	Parent::BUILDARGS("Child") called at /home/sand/src/perl/repoperls/installed-perls/host/k93jammy/v5.39.10/5674/lib/site_perl/5.39.10/x86_64-linux-ld/Class/MOP/Method/Wrapped.pm line 44
	Child::_wrapped_BUILDARGS("Child") called at /home/sand/src/perl/repoperls/installed-perls/host/k93jammy/v5.39.10/5674/lib/site_perl/5.39.10/x86_64-linux-ld/Class/MOP/Method/Wrapped.pm line 97
	Child::BUILDARGS("Child") called at /home/sand/src/perl/repoperls/installed-perls/host/k93jammy/v5.39.10/5674/lib/site_perl/5.39.10/x86_64-linux-ld/Moose/Object.pm line 22
	Moose::Object::new("Child") called at t/00_set_isa.t line 99
You are overwriting a accessor (child_rel_pack) for the child_rel_pack attribute (defined at t/00_set_isa.t line 45) with a new accessor method for the child_rel_pack attribute (defined at t/00_set_isa.t line 45) at /home/sand/src/perl/repoperls/installed-perls/host/k93jammy/v5.39.10/5674/lib/site_perl/5.39.10/x86_64-linux-ld/Moose/Meta/Attribute.pm line 1094.
	Moose::Meta::Attribute::_process_accessors(Moose::Meta::Attribute=HASH(0x5836090b08d8), "accessor", "child_rel_pack", undef) called at /home/sand/src/perl/repoperls/installed-perls/host/k93jammy/v5.39.10/5674/lib/site_perl/5.39.10/x86_64-linux-ld/Class/MOP/Attribute.pm line 446
	Class::MOP::Attribute::install_accessors(Moose::Meta::Attribute=HASH(0x5836090b08d8)) called at /home/sand/src/perl/repoperls/installed-perls/host/k93jammy/v5.39.10/5674/lib/site_perl/5.39.10/x86_64-linux-ld/Moose/Meta/Attribute.pm line 1014
	Moose::Meta::Attribute::install_accessors(Moose::Meta::Attribute=HASH(0x5836090b08d8)) called at /tmp/loop_over_bdir-2594-zRJt0W/MooseX-RelClassTypes-0.03-0/blib/lib/MooseX/RelClassTypes.pm line 76
	Class::MOP::Class:::before("Child") called at /home/sand/src/perl/repoperls/installed-perls/host/k93jammy/v5.39.10/5674/lib/site_perl/5.39.10/x86_64-linux-ld/Class/MOP/Method/Wrapped.pm line 43
	Parent::_wrapped_BUILDARGS("Child") called at /home/sand/src/perl/repoperls/installed-perls/host/k93jammy/v5.39.10/5674/lib/site_perl/5.39.10/x86_64-linux-ld/Class/MOP/Method/Wrapped.pm line 97
	Parent::BUILDARGS("Child") called at /home/sand/src/perl/repoperls/installed-perls/host/k93jammy/v5.39.10/5674/lib/site_perl/5.39.10/x86_64-linux-ld/Class/MOP/Method/Wrapped.pm line 44
	Child::_wrapped_BUILDARGS("Child") called at /home/sand/src/perl/repoperls/installed-perls/host/k93jammy/v5.39.10/5674/lib/site_perl/5.39.10/x86_64-linux-ld/Class/MOP/Method/Wrapped.pm line 97
	Child::BUILDARGS("Child") called at /home/sand/src/perl/repoperls/installed-perls/host/k93jammy/v5.39.10/5674/lib/site_perl/5.39.10/x86_64-linux-ld/Moose/Object.pm line 22
	Moose::Object::new("Child") called at t/00_set_isa.t line 99
t/00_set_isa.t ....... ok
You are overwriting a reader (rel_pack) for the rel_pack attribute (defined at t/01_auto_default.t line 54) with a new reader method for the rel_pack attribute (defined at t/01_auto_default.t line 54) at /home/sand/src/perl/repoperls/installed-perls/host/k93jammy/v5.39.10/5674/lib/site_perl/5.39.10/x86_64-linux-ld/Moose/Meta/Attribute.pm line 1094.
	Moose::Meta::Attribute::_process_accessors(Moose::Meta::Attribute=HASH(0x574ef4f50640), "reader", "rel_pack", undef) called at /home/sand/src/perl/repoperls/installed-perls/host/k93jammy/v5.39.10/5674/lib/site_perl/5.39.10/x86_64-linux-ld/Class/MOP/Attribute.pm line 450
	Class::MOP::Attribute::install_accessors(Moose::Meta::Attribute=HASH(0x574ef4f50640)) called at /home/sand/src/perl/repoperls/installed-perls/host/k93jammy/v5.39.10/5674/lib/site_perl/5.39.10/x86_64-linux-ld/Moose/Meta/Attribute.pm line 1014
	Moose::Meta::Attribute::install_accessors(Moose::Meta::Attribute=HASH(0x574ef4f50640)) called at /tmp/loop_over_bdir-2594-zRJt0W/MooseX-RelClassTypes-0.03-0/blib/lib/MooseX/RelClassTypes.pm line 76
	Class::MOP::Class:::before("TestAD::WithAuto_NoDefault_WithBuilder") called at /home/sand/src/perl/repoperls/installed-perls/host/k93jammy/v5.39.10/5674/lib/site_perl/5.39.10/x86_64-linux-ld/Class/MOP/Method/Wrapped.pm line 43
	TestAD::WithAuto_NoDefault_WithBuilder::_wrapped_BUILDARGS("TestAD::WithAuto_NoDefault_WithBuilder") called at /home/sand/src/perl/repoperls/installed-perls/host/k93jammy/v5.39.10/5674/lib/site_perl/5.39.10/x86_64-linux-ld/Class/MOP/Method/Wrapped.pm line 97
	TestAD::WithAuto_NoDefault_WithBuilder::BUILDARGS("TestAD::WithAuto_NoDefault_WithBuilder") called at /home/sand/src/perl/repoperls/installed-perls/host/k93jammy/v5.39.10/5674/lib/site_perl/5.39.10/x86_64-linux-ld/Moose/Object.pm line 22
	Moose::Object::new("TestAD::WithAuto_NoDefault_WithBuilder") called at t/01_auto_default.t line 143
You are overwriting a reader (rel_pack) for the rel_pack attribute (defined at t/01_auto_default.t line 11) with a new reader method for the rel_pack attribute (defined at t/01_auto_default.t line 11) at /home/sand/src/perl/repoperls/installed-perls/host/k93jammy/v5.39.10/5674/lib/site_perl/5.39.10/x86_64-linux-ld/Moose/Meta/Attribute.pm line 1094.
	Moose::Meta::Attribute::_process_accessors(Moose::Meta::Attribute=HASH(0x574ef4f2c8d8), "reader", "rel_pack", undef) called at /home/sand/src/perl/repoperls/installed-perls/host/k93jammy/v5.39.10/5674/lib/site_perl/5.39.10/x86_64-linux-ld/Class/MOP/Attribute.pm line 450
	Class::MOP::Attribute::install_accessors(Moose::Meta::Attribute=HASH(0x574ef4f2c8d8)) called at /home/sand/src/perl/repoperls/installed-perls/host/k93jammy/v5.39.10/5674/lib/site_perl/5.39.10/x86_64-linux-ld/Moose/Meta/Attribute.pm line 1014
	Moose::Meta::Attribute::install_accessors(Moose::Meta::Attribute=HASH(0x574ef4f2c8d8)) called at /tmp/loop_over_bdir-2594-zRJt0W/MooseX-RelClassTypes-0.03-0/blib/lib/MooseX/RelClassTypes.pm line 76
	Class::MOP::Class:::before("TestAD::NoAuto_NoDefault_NoBuilder") called at /home/sand/src/perl/repoperls/installed-perls/host/k93jammy/v5.39.10/5674/lib/site_perl/5.39.10/x86_64-linux-ld/Class/MOP/Method/Wrapped.pm line 43
	TestAD::NoAuto_NoDefault_NoBuilder::_wrapped_BUILDARGS("TestAD::NoAuto_NoDefault_NoBuilder") called at /home/sand/src/perl/repoperls/installed-perls/host/k93jammy/v5.39.10/5674/lib/site_perl/5.39.10/x86_64-linux-ld/Class/MOP/Method/Wrapped.pm line 97
	TestAD::NoAuto_NoDefault_NoBuilder::BUILDARGS("TestAD::NoAuto_NoDefault_NoBuilder") called at /home/sand/src/perl/repoperls/installed-perls/host/k93jammy/v5.39.10/5674/lib/site_perl/5.39.10/x86_64-linux-ld/Moose/Object.pm line 22
	Moose::Object::new("TestAD::NoAuto_NoDefault_NoBuilder") called at t/01_auto_default.t line 143
You are overwriting a reader (rel_pack) for the rel_pack attribute (defined at t/01_auto_default.t line 20) with a new reader method for the rel_pack attribute (defined at t/01_auto_default.t line 20) at /home/sand/src/perl/repoperls/installed-perls/host/k93jammy/v5.39.10/5674/lib/site_perl/5.39.10/x86_64-linux-ld/Moose/Meta/Attribute.pm line 1094.
	Moose::Meta::Attribute::_process_accessors(Moose::Meta::Attribute=HASH(0x574ef4f37088), "reader", "rel_pack", undef) called at /home/sand/src/perl/repoperls/installed-perls/host/k93jammy/v5.39.10/5674/lib/site_perl/5.39.10/x86_64-linux-ld/Class/MOP/Attribute.pm line 450
	Class::MOP::Attribute::install_accessors(Moose::Meta::Attribute=HASH(0x574ef4f37088)) called at /home/sand/src/perl/repoperls/installed-perls/host/k93jammy/v5.39.10/5674/lib/site_perl/5.39.10/x86_64-linux-ld/Moose/Meta/Attribute.pm line 1014
	Moose::Meta::Attribute::install_accessors(Moose::Meta::Attribute=HASH(0x574ef4f37088)) called at /tmp/loop_over_bdir-2594-zRJt0W/MooseX-RelClassTypes-0.03-0/blib/lib/MooseX/RelClassTypes.pm line 76
	Class::MOP::Class:::before("TestAD::NoAuto_NoDefault_WithBuilder") called at /home/sand/src/perl/repoperls/installed-perls/host/k93jammy/v5.39.10/5674/lib/site_perl/5.39.10/x86_64-linux-ld/Class/MOP/Method/Wrapped.pm line 43
	TestAD::NoAuto_NoDefault_WithBuilder::_wrapped_BUILDARGS("TestAD::NoAuto_NoDefault_WithBuilder") called at /home/sand/src/perl/repoperls/installed-perls/host/k93jammy/v5.39.10/5674/lib/site_perl/5.39.10/x86_64-linux-ld/Class/MOP/Method/Wrapped.pm line 97
	TestAD::NoAuto_NoDefault_WithBuilder::BUILDARGS("TestAD::NoAuto_NoDefault_WithBuilder") called at /home/sand/src/perl/repoperls/installed-perls/host/k93jammy/v5.39.10/5674/lib/site_perl/5.39.10/x86_64-linux-ld/Moose/Object.pm line 22
	Moose::Object::new("TestAD::NoAuto_NoDefault_WithBuilder") called at t/01_auto_default.t line 143
You are overwriting a reader (rel_pack) for the rel_pack attribute (defined at t/01_auto_default.t line 45) with a new reader method for the rel_pack attribute (defined at t/01_auto_default.t line 45) at /home/sand/src/perl/repoperls/installed-perls/host/k93jammy/v5.39.10/5674/lib/site_perl/5.39.10/x86_64-linux-ld/Moose/Meta/Attribute.pm line 1094.
	Moose::Meta::Attribute::_process_accessors(Moose::Meta::Attribute=HASH(0x574ef4f47e50), "reader", "rel_pack", undef) called at /home/sand/src/perl/repoperls/installed-perls/host/k93jammy/v5.39.10/5674/lib/site_perl/5.39.10/x86_64-linux-ld/Class/MOP/Attribute.pm line 450
	Class::MOP::Attribute::install_accessors(Moose::Meta::Attribute=HASH(0x574ef4f47e50)) called at /home/sand/src/perl/repoperls/installed-perls/host/k93jammy/v5.39.10/5674/lib/site_perl/5.39.10/x86_64-linux-ld/Moose/Meta/Attribute.pm line 1014
	Moose::Meta::Attribute::install_accessors(Moose::Meta::Attribute=HASH(0x574ef4f47e50)) called at /tmp/loop_over_bdir-2594-zRJt0W/MooseX-RelClassTypes-0.03-0/blib/lib/MooseX/RelClassTypes.pm line 76
	Class::MOP::Class:::before("TestAD::WithAuto_NoDefault_NoBuilder") called at /home/sand/src/perl/repoperls/installed-perls/host/k93jammy/v5.39.10/5674/lib/site_perl/5.39.10/x86_64-linux-ld/Class/MOP/Method/Wrapped.pm line 43
	TestAD::WithAuto_NoDefault_NoBuilder::_wrapped_BUILDARGS("TestAD::WithAuto_NoDefault_NoBuilder") called at /home/sand/src/perl/repoperls/installed-perls/host/k93jammy/v5.39.10/5674/lib/site_perl/5.39.10/x86_64-linux-ld/Class/MOP/Method/Wrapped.pm line 97
	TestAD::WithAuto_NoDefault_NoBuilder::BUILDARGS("TestAD::WithAuto_NoDefault_NoBuilder") called at /home/sand/src/perl/repoperls/installed-perls/host/k93jammy/v5.39.10/5674/lib/site_perl/5.39.10/x86_64-linux-ld/Moose/Object.pm line 22
	Moose::Object::new("TestAD::WithAuto_NoDefault_NoBuilder") called at t/01_auto_default.t line 143
You are overwriting a reader (rel_pack) for the rel_pack attribute (defined at t/01_auto_default.t line 71) with a new reader method for the rel_pack attribute (defined at t/01_auto_default.t line 71) at /home/sand/src/perl/repoperls/installed-perls/host/k93jammy/v5.39.10/5674/lib/site_perl/5.39.10/x86_64-linux-ld/Moose/Meta/Attribute.pm line 1094.
	Moose::Meta::Attribute::_process_accessors(Moose::Meta::Attribute=HASH(0x574ef4f58b40), "reader", "rel_pack", undef) called at /home/sand/src/perl/repoperls/installed-perls/host/k93jammy/v5.39.10/5674/lib/site_perl/5.39.10/x86_64-linux-ld/Class/MOP/Attribute.pm line 450
	Class::MOP::Attribute::install_accessors(Moose::Meta::Attribute=HASH(0x574ef4f58b40)) called at /home/sand/src/perl/repoperls/installed-perls/host/k93jammy/v5.39.10/5674/lib/site_perl/5.39.10/x86_64-linux-ld/Moose/Meta/Attribute.pm line 1014
	Moose::Meta::Attribute::install_accessors(Moose::Meta::Attribute=HASH(0x574ef4f58b40)) called at /tmp/loop_over_bdir-2594-zRJt0W/MooseX-RelClassTypes-0.03-0/blib/lib/MooseX/RelClassTypes.pm line 76
	Class::MOP::Class:::before("TestAD::WithAuto_WithDefault_NoBuilder") called at /home/sand/src/perl/repoperls/installed-perls/host/k93jammy/v5.39.10/5674/lib/site_perl/5.39.10/x86_64-linux-ld/Class/MOP/Method/Wrapped.pm line 43
	TestAD::WithAuto_WithDefault_NoBuilder::_wrapped_BUILDARGS("TestAD::WithAuto_WithDefault_NoBuilder") called at /home/sand/src/perl/repoperls/installed-perls/host/k93jammy/v5.39.10/5674/lib/site_perl/5.39.10/x86_64-linux-ld/Class/MOP/Method/Wrapped.pm line 97
	TestAD::WithAuto_WithDefault_NoBuilder::BUILDARGS("TestAD::WithAuto_WithDefault_NoBuilder") called at /home/sand/src/perl/repoperls/installed-perls/host/k93jammy/v5.39.10/5674/lib/site_perl/5.39.10/x86_64-linux-ld/Moose/Object.pm line 22
	Moose::Object::new("TestAD::WithAuto_WithDefault_NoBuilder") called at t/01_auto_default.t line 143
You are overwriting a reader (rel_pack) for the rel_pack attribute (defined at t/01_auto_default.t line 37) with a new reader method for the rel_pack attribute (defined at t/01_auto_default.t line 37) at /home/sand/src/perl/repoperls/installed-perls/host/k93jammy/v5.39.10/5674/lib/site_perl/5.39.10/x86_64-linux-ld/Moose/Meta/Attribute.pm line 1094.
	Moose::Meta::Attribute::_process_accessors(Moose::Meta::Attribute=HASH(0x574ef4f3e910), "reader", "rel_pack", undef) called at /home/sand/src/perl/repoperls/installed-perls/host/k93jammy/v5.39.10/5674/lib/site_perl/5.39.10/x86_64-linux-ld/Class/MOP/Attribute.pm line 450
	Class::MOP::Attribute::install_accessors(Moose::Meta::Attribute=HASH(0x574ef4f3e910)) called at /home/sand/src/perl/repoperls/installed-perls/host/k93jammy/v5.39.10/5674/lib/site_perl/5.39.10/x86_64-linux-ld/Moose/Meta/Attribute.pm line 1014
	Moose::Meta::Attribute::install_accessors(Moose::Meta::Attribute=HASH(0x574ef4f3e910)) called at /tmp/loop_over_bdir-2594-zRJt0W/MooseX-RelClassTypes-0.03-0/blib/lib/MooseX/RelClassTypes.pm line 76
	Class::MOP::Class:::before("TestAD::NoAuto_WithDefault_NoBuilder") called at /home/sand/src/perl/repoperls/installed-perls/host/k93jammy/v5.39.10/5674/lib/site_perl/5.39.10/x86_64-linux-ld/Class/MOP/Method/Wrapped.pm line 43
	TestAD::NoAuto_WithDefault_NoBuilder::_wrapped_BUILDARGS("TestAD::NoAuto_WithDefault_NoBuilder") called at /home/sand/src/perl/repoperls/installed-perls/host/k93jammy/v5.39.10/5674/lib/site_perl/5.39.10/x86_64-linux-ld/Class/MOP/Method/Wrapped.pm line 97
	TestAD::NoAuto_WithDefault_NoBuilder::BUILDARGS("TestAD::NoAuto_WithDefault_NoBuilder") called at /home/sand/src/perl/repoperls/installed-perls/host/k93jammy/v5.39.10/5674/lib/site_perl/5.39.10/x86_64-linux-ld/Moose/Object.pm line 22
	Moose::Object::new("TestAD::NoAuto_WithDefault_NoBuilder") called at t/01_auto_default.t line 143
t/01_auto_default.t .. ok
You are overwriting a reader (rel_pack) for the rel_pack attribute (defined at t/02_parser.t line 19) with a new reader method for the rel_pack attribute (defined at t/02_parser.t line 19) at /home/sand/src/perl/repoperls/installed-perls/host/k93jammy/v5.39.10/5674/lib/site_perl/5.39.10/x86_64-linux-ld/Moose/Meta/Attribute.pm line 1094.
	Moose::Meta::Attribute::_process_accessors(Moose::Meta::Attribute=HASH(0x58d1e56e3230), "reader", "rel_pack", undef) called at /home/sand/src/perl/repoperls/installed-perls/host/k93jammy/v5.39.10/5674/lib/site_perl/5.39.10/x86_64-linux-ld/Class/MOP/Attribute.pm line 450
	Class::MOP::Attribute::install_accessors(Moose::Meta::Attribute=HASH(0x58d1e56e3230)) called at /home/sand/src/perl/repoperls/installed-perls/host/k93jammy/v5.39.10/5674/lib/site_perl/5.39.10/x86_64-linux-ld/Moose/Meta/Attribute.pm line 1014
	Moose::Meta::Attribute::install_accessors(Moose::Meta::Attribute=HASH(0x58d1e56e3230)) called at /tmp/loop_over_bdir-2594-zRJt0W/MooseX-RelClassTypes-0.03-0/blib/lib/MooseX/RelClassTypes.pm line 76
	Class::MOP::Class:::before("TestParser::AngleBK") called at /home/sand/src/perl/repoperls/installed-perls/host/k93jammy/v5.39.10/5674/lib/site_perl/5.39.10/x86_64-linux-ld/Class/MOP/Method/Wrapped.pm line 43
	TestParser::AngleBK::_wrapped_BUILDARGS("TestParser::AngleBK") called at /home/sand/src/perl/repoperls/installed-perls/host/k93jammy/v5.39.10/5674/lib/site_perl/5.39.10/x86_64-linux-ld/Class/MOP/Method/Wrapped.pm line 97
	TestParser::AngleBK::BUILDARGS("TestParser::AngleBK") called at /home/sand/src/perl/repoperls/installed-perls/host/k93jammy/v5.39.10/5674/lib/site_perl/5.39.10/x86_64-linux-ld/Moose/Object.pm line 22
	Moose::Object::new("TestParser::AngleBK") called at t/02_parser.t line 87
You are overwriting a reader (alt_pack) for the alt_pack attribute (defined at t/02_parser.t line 24) with a new reader method for the alt_pack attribute (defined at t/02_parser.t line 24) at /home/sand/src/perl/repoperls/installed-perls/host/k93jammy/v5.39.10/5674/lib/site_perl/5.39.10/x86_64-linux-ld/Moose/Meta/Attribute.pm line 1094.
	Moose::Meta::Attribute::_process_accessors(Moose::Meta::Attribute=HASH(0x58d1e56e35c0), "reader", "alt_pack", undef) called at /home/sand/src/perl/repoperls/installed-perls/host/k93jammy/v5.39.10/5674/lib/site_perl/5.39.10/x86_64-linux-ld/Class/MOP/Attribute.pm line 450
	Class::MOP::Attribute::install_accessors(Moose::Meta::Attribute=HASH(0x58d1e56e35c0)) called at /home/sand/src/perl/repoperls/installed-perls/host/k93jammy/v5.39.10/5674/lib/site_perl/5.39.10/x86_64-linux-ld/Moose/Meta/Attribute.pm line 1014
	Moose::Meta::Attribute::install_accessors(Moose::Meta::Attribute=HASH(0x58d1e56e35c0)) called at /tmp/loop_over_bdir-2594-zRJt0W/MooseX-RelClassTypes-0.03-0/blib/lib/MooseX/RelClassTypes.pm line 76
	Class::MOP::Class:::before("TestParser::AngleBK") called at /home/sand/src/perl/repoperls/installed-perls/host/k93jammy/v5.39.10/5674/lib/site_perl/5.39.10/x86_64-linux-ld/Class/MOP/Method/Wrapped.pm line 43
	TestParser::AngleBK::_wrapped_BUILDARGS("TestParser::AngleBK") called at /home/sand/src/perl/repoperls/installed-perls/host/k93jammy/v5.39.10/5674/lib/site_perl/5.39.10/x86_64-linux-ld/Class/MOP/Method/Wrapped.pm line 97
	TestParser::AngleBK::BUILDARGS("TestParser::AngleBK") called at /home/sand/src/perl/repoperls/installed-perls/host/k93jammy/v5.39.10/5674/lib/site_perl/5.39.10/x86_64-linux-ld/Moose/Object.pm line 22
	Moose::Object::new("TestParser::AngleBK") called at t/02_parser.t line 87
You are overwriting a reader (alt_pack) for the alt_pack attribute (defined at t/02_parser.t line 47) with a new reader method for the alt_pack attribute (defined at t/02_parser.t line 47) at /home/sand/src/perl/repoperls/installed-perls/host/k93jammy/v5.39.10/5674/lib/site_perl/5.39.10/x86_64-linux-ld/Moose/Meta/Attribute.pm line 1094.
	Moose::Meta::Attribute::_process_accessors(Moose::Meta::Attribute=HASH(0x58d1e56e5d98), "reader", "alt_pack", undef) called at /home/sand/src/perl/repoperls/installed-perls/host/k93jammy/v5.39.10/5674/lib/site_perl/5.39.10/x86_64-linux-ld/Class/MOP/Attribute.pm line 450
	Class::MOP::Attribute::install_accessors(Moose::Meta::Attribute=HASH(0x58d1e56e5d98)) called at /home/sand/src/perl/repoperls/installed-perls/host/k93jammy/v5.39.10/5674/lib/site_perl/5.39.10/x86_64-linux-ld/Moose/Meta/Attribute.pm line 1014
	Moose::Meta::Attribute::install_accessors(Moose::Meta::Attribute=HASH(0x58d1e56e5d98)) called at /tmp/loop_over_bdir-2594-zRJt0W/MooseX-RelClassTypes-0.03-0/blib/lib/MooseX/RelClassTypes.pm line 76
	Class::MOP::Class:::before("TestParser::RoundBK") called at /home/sand/src/perl/repoperls/installed-perls/host/k93jammy/v5.39.10/5674/lib/site_perl/5.39.10/x86_64-linux-ld/Class/MOP/Method/Wrapped.pm line 43
	TestParser::RoundBK::_wrapped_BUILDARGS("TestParser::RoundBK") called at /home/sand/src/perl/repoperls/installed-perls/host/k93jammy/v5.39.10/5674/lib/site_perl/5.39.10/x86_64-linux-ld/Class/MOP/Method/Wrapped.pm line 97
	TestParser::RoundBK::BUILDARGS("TestParser::RoundBK") called at /home/sand/src/perl/repoperls/installed-perls/host/k93jammy/v5.39.10/5674/lib/site_perl/5.39.10/x86_64-linux-ld/Moose/Object.pm line 22
	Moose::Object::new("TestParser::RoundBK") called at t/02_parser.t line 87
You are overwriting a reader (rel_pack) for the rel_pack attribute (defined at t/02_parser.t line 42) with a new reader method for the rel_pack attribute (defined at t/02_parser.t line 42) at /home/sand/src/perl/repoperls/installed-perls/host/k93jammy/v5.39.10/5674/lib/site_perl/5.39.10/x86_64-linux-ld/Moose/Meta/Attribute.pm line 1094.
	Moose::Meta::Attribute::_process_accessors(Moose::Meta::Attribute=HASH(0x58d1e56f4ec0), "reader", "rel_pack", undef) called at /home/sand/src/perl/repoperls/installed-perls/host/k93jammy/v5.39.10/5674/lib/site_perl/5.39.10/x86_64-linux-ld/Class/MOP/Attribute.pm line 450
	Class::MOP::Attribute::install_accessors(Moose::Meta::Attribute=HASH(0x58d1e56f4ec0)) called at /home/sand/src/perl/repoperls/installed-perls/host/k93jammy/v5.39.10/5674/lib/site_perl/5.39.10/x86_64-linux-ld/Moose/Meta/Attribute.pm line 1014
	Moose::Meta::Attribute::install_accessors(Moose::Meta::Attribute=HASH(0x58d1e56f4ec0)) called at /tmp/loop_over_bdir-2594-zRJt0W/MooseX-RelClassTypes-0.03-0/blib/lib/MooseX/RelClassTypes.pm line 76
	Class::MOP::Class:::before("TestParser::RoundBK") called at /home/sand/src/perl/repoperls/installed-perls/host/k93jammy/v5.39.10/5674/lib/site_perl/5.39.10/x86_64-linux-ld/Class/MOP/Method/Wrapped.pm line 43
	TestParser::RoundBK::_wrapped_BUILDARGS("TestParser::RoundBK") called at /home/sand/src/perl/repoperls/installed-perls/host/k93jammy/v5.39.10/5674/lib/site_perl/5.39.10/x86_64-linux-ld/Class/MOP/Method/Wrapped.pm line 97
	TestParser::RoundBK::BUILDARGS("TestParser::RoundBK") called at /home/sand/src/perl/repoperls/installed-perls/host/k93jammy/v5.39.10/5674/lib/site_perl/5.39.10/x86_64-linux-ld/Moose/Object.pm line 22
	Moose::Object::new("TestParser::RoundBK") called at t/02_parser.t line 87
t/02_parser.t ........ ok
You are overwriting a accessor (parent_rel_pack) for the parent_rel_pack attribute (defined at t/03_lazy.t line 22) with a new accessor method for the parent_rel_pack attribute (defined at t/03_lazy.t line 22) at /home/sand/src/perl/repoperls/installed-perls/host/k93jammy/v5.39.10/5674/lib/site_perl/5.39.10/x86_64-linux-ld/Moose/Meta/Attribute.pm line 1094.
	Moose::Meta::Attribute::_process_accessors(Moose::Meta::Attribute=HASH(0x59a17ddeddf0), "accessor", "parent_rel_pack", undef) called at /home/sand/src/perl/repoperls/installed-perls/host/k93jammy/v5.39.10/5674/lib/site_perl/5.39.10/x86_64-linux-ld/Class/MOP/Attribute.pm line 446
	Class::MOP::Attribute::install_accessors(Moose::Meta::Attribute=HASH(0x59a17ddeddf0)) called at /home/sand/src/perl/repoperls/installed-perls/host/k93jammy/v5.39.10/5674/lib/site_perl/5.39.10/x86_64-linux-ld/Moose/Meta/Attribute.pm line 1014
	Moose::Meta::Attribute::install_accessors(Moose::Meta::Attribute=HASH(0x59a17ddeddf0)) called at /tmp/loop_over_bdir-2594-zRJt0W/MooseX-RelClassTypes-0.03-0/blib/lib/MooseX/RelClassTypes.pm line 76
	Class::MOP::Class:::before("LazyParent::Child") called at /home/sand/src/perl/repoperls/installed-perls/host/k93jammy/v5.39.10/5674/lib/site_perl/5.39.10/x86_64-linux-ld/Class/MOP/Method/Wrapped.pm line 43
	LazyParent::Child::_wrapped_BUILDARGS("LazyParent::Child") called at /home/sand/src/perl/repoperls/installed-perls/host/k93jammy/v5.39.10/5674/lib/site_perl/5.39.10/x86_64-linux-ld/Class/MOP/Method/Wrapped.pm line 97
	LazyParent::Child::BUILDARGS("LazyParent::Child") called at /home/sand/src/perl/repoperls/installed-perls/host/k93jammy/v5.39.10/5674/lib/site_perl/5.39.10/x86_64-linux-ld/Moose/Object.pm line 22
	Moose::Object::new("LazyParent::Child") called at t/03_lazy.t line 248
You are overwriting a accessor (child_rel_pack) for the child_rel_pack attribute (defined at t/03_lazy.t line 32) with a new accessor method for the child_rel_pack attribute (defined at t/03_lazy.t line 32) at /home/sand/src/perl/repoperls/installed-perls/host/k93jammy/v5.39.10/5674/lib/site_perl/5.39.10/x86_64-linux-ld/Moose/Meta/Attribute.pm line 1094.
	Moose::Meta::Attribute::_process_accessors(Moose::Meta::Attribute=HASH(0x59a17ddfbbe0), "accessor", "child_rel_pack", undef) called at /home/sand/src/perl/repoperls/installed-perls/host/k93jammy/v5.39.10/5674/lib/site_perl/5.39.10/x86_64-linux-ld/Class/MOP/Attribute.pm line 446
	Class::MOP::Attribute::install_accessors(Moose::Meta::Attribute=HASH(0x59a17ddfbbe0)) called at /home/sand/src/perl/repoperls/installed-perls/host/k93jammy/v5.39.10/5674/lib/site_perl/5.39.10/x86_64-linux-ld/Moose/Meta/Attribute.pm line 1014
	Moose::Meta::Attribute::install_accessors(Moose::Meta::Attribute=HASH(0x59a17ddfbbe0)) called at /tmp/loop_over_bdir-2594-zRJt0W/MooseX-RelClassTypes-0.03-0/blib/lib/MooseX/RelClassTypes.pm line 76
	Class::MOP::Class:::before("LazyParent::Child") called at /home/sand/src/perl/repoperls/installed-perls/host/k93jammy/v5.39.10/5674/lib/site_perl/5.39.10/x86_64-linux-ld/Class/MOP/Method/Wrapped.pm line 43
	LazyParent::Child::_wrapped_BUILDARGS("LazyParent::Child") called at /home/sand/src/perl/repoperls/installed-perls/host/k93jammy/v5.39.10/5674/lib/site_perl/5.39.10/x86_64-linux-ld/Class/MOP/Method/Wrapped.pm line 97
	LazyParent::Child::BUILDARGS("LazyParent::Child") called at /home/sand/src/perl/repoperls/installed-perls/host/k93jammy/v5.39.10/5674/lib/site_perl/5.39.10/x86_64-linux-ld/Moose/Object.pm line 22
	Moose::Object::new("LazyParent::Child") called at t/03_lazy.t line 248
You are overwriting a accessor (parent_rel_pack) for the parent_rel_pack attribute (defined at t/03_lazy.t line 22) with a new accessor method for the parent_rel_pack attribute (defined at t/03_lazy.t line 22) at /home/sand/src/perl/repoperls/installed-perls/host/k93jammy/v5.39.10/5674/lib/site_perl/5.39.10/x86_64-linux-ld/Moose/Meta/Attribute.pm line 1094.
	Moose::Meta::Attribute::_process_accessors(Moose::Meta::Attribute=HASH(0x59a17ddeddf0), "accessor", "parent_rel_pack", undef) called at /home/sand/src/perl/repoperls/installed-perls/host/k93jammy/v5.39.10/5674/lib/site_perl/5.39.10/x86_64-linux-ld/Class/MOP/Attribute.pm line 446
	Class::MOP::Attribute::install_accessors(Moose::Meta::Attribute=HASH(0x59a17ddeddf0)) called at /home/sand/src/perl/repoperls/installed-perls/host/k93jammy/v5.39.10/5674/lib/site_perl/5.39.10/x86_64-linux-ld/Moose/Meta/Attribute.pm line 1014
	Moose::Meta::Attribute::install_accessors(Moose::Meta::Attribute=HASH(0x59a17ddeddf0)) called at /tmp/loop_over_bdir-2594-zRJt0W/MooseX-RelClassTypes-0.03-0/blib/lib/MooseX/RelClassTypes.pm line 76
	Class::MOP::Class:::before("LazyParent::Child") called at /home/sand/src/perl/repoperls/installed-perls/host/k93jammy/v5.39.10/5674/lib/site_perl/5.39.10/x86_64-linux-ld/Class/MOP/Method/Wrapped.pm line 43
	LazyParent::Parent::_wrapped_BUILDARGS("LazyParent::Child") called at /home/sand/src/perl/repoperls/installed-perls/host/k93jammy/v5.39.10/5674/lib/site_perl/5.39.10/x86_64-linux-ld/Class/MOP/Method/Wrapped.pm line 97
	LazyParent::Parent::BUILDARGS("LazyParent::Child") called at /home/sand/src/perl/repoperls/installed-perls/host/k93jammy/v5.39.10/5674/lib/site_perl/5.39.10/x86_64-linux-ld/Class/MOP/Method/Wrapped.pm line 44
	LazyParent::Child::_wrapped_BUILDARGS("LazyParent::Child") called at /home/sand/src/perl/repoperls/installed-perls/host/k93jammy/v5.39.10/5674/lib/site_perl/5.39.10/x86_64-linux-ld/Class/MOP/Method/Wrapped.pm line 97
	LazyParent::Child::BUILDARGS("LazyParent::Child") called at /home/sand/src/perl/repoperls/installed-perls/host/k93jammy/v5.39.10/5674/lib/site_perl/5.39.10/x86_64-linux-ld/Moose/Object.pm line 22
	Moose::Object::new("LazyParent::Child") called at t/03_lazy.t line 248
You are overwriting a accessor (child_rel_pack) for the child_rel_pack attribute (defined at t/03_lazy.t line 32) with a new accessor method for the child_rel_pack attribute (defined at t/03_lazy.t line 32) at /home/sand/src/perl/repoperls/installed-perls/host/k93jammy/v5.39.10/5674/lib/site_perl/5.39.10/x86_64-linux-ld/Moose/Meta/Attribute.pm line 1094.
	Moose::Meta::Attribute::_process_accessors(Moose::Meta::Attribute=HASH(0x59a17ddfbbe0), "accessor", "child_rel_pack", undef) called at /home/sand/src/perl/repoperls/installed-perls/host/k93jammy/v5.39.10/5674/lib/site_perl/5.39.10/x86_64-linux-ld/Class/MOP/Attribute.pm line 446
	Class::MOP::Attribute::install_accessors(Moose::Meta::Attribute=HASH(0x59a17ddfbbe0)) called at /home/sand/src/perl/repoperls/installed-perls/host/k93jammy/v5.39.10/5674/lib/site_perl/5.39.10/x86_64-linux-ld/Moose/Meta/Attribute.pm line 1014
	Moose::Meta::Attribute::install_accessors(Moose::Meta::Attribute=HASH(0x59a17ddfbbe0)) called at /tmp/loop_over_bdir-2594-zRJt0W/MooseX-RelClassTypes-0.03-0/blib/lib/MooseX/RelClassTypes.pm line 76
	Class::MOP::Class:::before("LazyParent::Child") called at /home/sand/src/perl/repoperls/installed-perls/host/k93jammy/v5.39.10/5674/lib/site_perl/5.39.10/x86_64-linux-ld/Class/MOP/Method/Wrapped.pm line 43
	LazyParent::Parent::_wrapped_BUILDARGS("LazyParent::Child") called at /home/sand/src/perl/repoperls/installed-perls/host/k93jammy/v5.39.10/5674/lib/site_perl/5.39.10/x86_64-linux-ld/Class/MOP/Method/Wrapped.pm line 97
	LazyParent::Parent::BUILDARGS("LazyParent::Child") called at /home/sand/src/perl/repoperls/installed-perls/host/k93jammy/v5.39.10/5674/lib/site_perl/5.39.10/x86_64-linux-ld/Class/MOP/Method/Wrapped.pm line 44
	LazyParent::Child::_wrapped_BUILDARGS("LazyParent::Child") called at /home/sand/src/perl/repoperls/installed-perls/host/k93jammy/v5.39.10/5674/lib/site_perl/5.39.10/x86_64-linux-ld/Class/MOP/Method/Wrapped.pm line 97
	LazyParent::Child::BUILDARGS("LazyParent::Child") called at /home/sand/src/perl/repoperls/installed-perls/host/k93jammy/v5.39.10/5674/lib/site_perl/5.39.10/x86_64-linux-ld/Moose/Object.pm line 22
	Moose::Object::new("LazyParent::Child") called at t/03_lazy.t line 248
You are overwriting a accessor (child_rel_pack) for the child_rel_pack attribute (defined at t/03_lazy.t line 86) with a new accessor method for the child_rel_pack attribute (defined at t/03_lazy.t line 86) at /home/sand/src/perl/repoperls/installed-perls/host/k93jammy/v5.39.10/5674/lib/site_perl/5.39.10/x86_64-linux-ld/Moose/Meta/Attribute.pm line 1094.
	Moose::Meta::Attribute::_process_accessors(Moose::Meta::Attribute=HASH(0x59a17de19490), "accessor", "child_rel_pack", undef) called at /home/sand/src/perl/repoperls/installed-perls/host/k93jammy/v5.39.10/5674/lib/site_perl/5.39.10/x86_64-linux-ld/Class/MOP/Attribute.pm line 446
	Class::MOP::Attribute::install_accessors(Moose::Meta::Attribute=HASH(0x59a17de19490)) called at /home/sand/src/perl/repoperls/installed-perls/host/k93jammy/v5.39.10/5674/lib/site_perl/5.39.10/x86_64-linux-ld/Moose/Meta/Attribute.pm line 1014
	Moose::Meta::Attribute::install_accessors(Moose::Meta::Attribute=HASH(0x59a17de19490)) called at /tmp/loop_over_bdir-2594-zRJt0W/MooseX-RelClassTypes-0.03-0/blib/lib/MooseX/RelClassTypes.pm line 76
	Class::MOP::Class:::before("LazyChild::Child") called at /home/sand/src/perl/repoperls/installed-perls/host/k93jammy/v5.39.10/5674/lib/site_perl/5.39.10/x86_64-linux-ld/Class/MOP/Method/Wrapped.pm line 43
	LazyChild::Child::_wrapped_BUILDARGS("LazyChild::Child") called at /home/sand/src/perl/repoperls/installed-perls/host/k93jammy/v5.39.10/5674/lib/site_perl/5.39.10/x86_64-linux-ld/Class/MOP/Method/Wrapped.pm line 97
	LazyChild::Child::BUILDARGS("LazyChild::Child") called at /home/sand/src/perl/repoperls/installed-perls/host/k93jammy/v5.39.10/5674/lib/site_perl/5.39.10/x86_64-linux-ld/Moose/Object.pm line 22
	Moose::Object::new("LazyChild::Child") called at t/03_lazy.t line 248
You are overwriting a accessor (parent_rel_pack) for the parent_rel_pack attribute (defined at t/03_lazy.t line 66) with a new accessor method for the parent_rel_pack attribute (defined at t/03_lazy.t line 66) at /home/sand/src/perl/repoperls/installed-perls/host/k93jammy/v5.39.10/5674/lib/site_perl/5.39.10/x86_64-linux-ld/Moose/Meta/Attribute.pm line 1094.
	Moose::Meta::Attribute::_process_accessors(Moose::Meta::Attribute=HASH(0x59a17de0f4a0), "accessor", "parent_rel_pack", undef) called at /home/sand/src/perl/repoperls/installed-perls/host/k93jammy/v5.39.10/5674/lib/site_perl/5.39.10/x86_64-linux-ld/Class/MOP/Attribute.pm line 446
	Class::MOP::Attribute::install_accessors(Moose::Meta::Attribute=HASH(0x59a17de0f4a0)) called at /home/sand/src/perl/repoperls/installed-perls/host/k93jammy/v5.39.10/5674/lib/site_perl/5.39.10/x86_64-linux-ld/Moose/Meta/Attribute.pm line 1014
	Moose::Meta::Attribute::install_accessors(Moose::Meta::Attribute=HASH(0x59a17de0f4a0)) called at /tmp/loop_over_bdir-2594-zRJt0W/MooseX-RelClassTypes-0.03-0/blib/lib/MooseX/RelClassTypes.pm line 76
	Class::MOP::Class:::before("LazyChild::Child") called at /home/sand/src/perl/repoperls/installed-perls/host/k93jammy/v5.39.10/5674/lib/site_perl/5.39.10/x86_64-linux-ld/Class/MOP/Method/Wrapped.pm line 43
	LazyChild::Child::_wrapped_BUILDARGS("LazyChild::Child") called at /home/sand/src/perl/repoperls/installed-perls/host/k93jammy/v5.39.10/5674/lib/site_perl/5.39.10/x86_64-linux-ld/Class/MOP/Method/Wrapped.pm line 97
	LazyChild::Child::BUILDARGS("LazyChild::Child") called at /home/sand/src/perl/repoperls/installed-perls/host/k93jammy/v5.39.10/5674/lib/site_perl/5.39.10/x86_64-linux-ld/Moose/Object.pm line 22
	Moose::Object::new("LazyChild::Child") called at t/03_lazy.t line 248
You are overwriting a accessor (parent_rel_pack) for the parent_rel_pack attribute (defined at t/03_lazy.t line 66) with a new accessor method for the parent_rel_pack attribute (defined at t/03_lazy.t line 66) at /home/sand/src/perl/repoperls/installed-perls/host/k93jammy/v5.39.10/5674/lib/site_perl/5.39.10/x86_64-linux-ld/Moose/Meta/Attribute.pm line 1094.
	Moose::Meta::Attribute::_process_accessors(Moose::Meta::Attribute=HASH(0x59a17de0f4a0), "accessor", "parent_rel_pack", undef) called at /home/sand/src/perl/repoperls/installed-perls/host/k93jammy/v5.39.10/5674/lib/site_perl/5.39.10/x86_64-linux-ld/Class/MOP/Attribute.pm line 446
	Class::MOP::Attribute::install_accessors(Moose::Meta::Attribute=HASH(0x59a17de0f4a0)) called at /home/sand/src/perl/repoperls/installed-perls/host/k93jammy/v5.39.10/5674/lib/site_perl/5.39.10/x86_64-linux-ld/Moose/Meta/Attribute.pm line 1014
	Moose::Meta::Attribute::install_accessors(Moose::Meta::Attribute=HASH(0x59a17de0f4a0)) called at /tmp/loop_over_bdir-2594-zRJt0W/MooseX-RelClassTypes-0.03-0/blib/lib/MooseX/RelClassTypes.pm line 76
	Class::MOP::Class:::before("LazyChild::Child") called at /home/sand/src/perl/repoperls/installed-perls/host/k93jammy/v5.39.10/5674/lib/site_perl/5.39.10/x86_64-linux-ld/Class/MOP/Method/Wrapped.pm line 43
	LazyChild::Parent::_wrapped_BUILDARGS("LazyChild::Child") called at /home/sand/src/perl/repoperls/installed-perls/host/k93jammy/v5.39.10/5674/lib/site_perl/5.39.10/x86_64-linux-ld/Class/MOP/Method/Wrapped.pm line 97
	LazyChild::Parent::BUILDARGS("LazyChild::Child") called at /home/sand/src/perl/repoperls/installed-perls/host/k93jammy/v5.39.10/5674/lib/site_perl/5.39.10/x86_64-linux-ld/Class/MOP/Method/Wrapped.pm line 44
	LazyChild::Child::_wrapped_BUILDARGS("LazyChild::Child") called at /home/sand/src/perl/repoperls/installed-perls/host/k93jammy/v5.39.10/5674/lib/site_perl/5.39.10/x86_64-linux-ld/Class/MOP/Method/Wrapped.pm line 97
	LazyChild::Child::BUILDARGS("LazyChild::Child") called at /home/sand/src/perl/repoperls/installed-perls/host/k93jammy/v5.39.10/5674/lib/site_perl/5.39.10/x86_64-linux-ld/Moose/Object.pm line 22
	Moose::Object::new("LazyChild::Child") called at t/03_lazy.t line 248
You are overwriting a accessor (child_rel_pack) for the child_rel_pack attribute (defined at t/03_lazy.t line 86) with a new accessor method for the child_rel_pack attribute (defined at t/03_lazy.t line 86) at /home/sand/src/perl/repoperls/installed-perls/host/k93jammy/v5.39.10/5674/lib/site_perl/5.39.10/x86_64-linux-ld/Moose/Meta/Attribute.pm line 1094.
	Moose::Meta::Attribute::_process_accessors(Moose::Meta::Attribute=HASH(0x59a17de19490), "accessor", "child_rel_pack", undef) called at /home/sand/src/perl/repoperls/installed-perls/host/k93jammy/v5.39.10/5674/lib/site_perl/5.39.10/x86_64-linux-ld/Class/MOP/Attribute.pm line 446
	Class::MOP::Attribute::install_accessors(Moose::Meta::Attribute=HASH(0x59a17de19490)) called at /home/sand/src/perl/repoperls/installed-perls/host/k93jammy/v5.39.10/5674/lib/site_perl/5.39.10/x86_64-linux-ld/Moose/Meta/Attribute.pm line 1014
	Moose::Meta::Attribute::install_accessors(Moose::Meta::Attribute=HASH(0x59a17de19490)) called at /tmp/loop_over_bdir-2594-zRJt0W/MooseX-RelClassTypes-0.03-0/blib/lib/MooseX/RelClassTypes.pm line 76
	Class::MOP::Class:::before("LazyChild::Child") called at /home/sand/src/perl/repoperls/installed-perls/host/k93jammy/v5.39.10/5674/lib/site_perl/5.39.10/x86_64-linux-ld/Class/MOP/Method/Wrapped.pm line 43
	LazyChild::Parent::_wrapped_BUILDARGS("LazyChild::Child") called at /home/sand/src/perl/repoperls/installed-perls/host/k93jammy/v5.39.10/5674/lib/site_perl/5.39.10/x86_64-linux-ld/Class/MOP/Method/Wrapped.pm line 97
	LazyChild::Parent::BUILDARGS("LazyChild::Child") called at /home/sand/src/perl/repoperls/installed-perls/host/k93jammy/v5.39.10/5674/lib/site_perl/5.39.10/x86_64-linux-ld/Class/MOP/Method/Wrapped.pm line 44
	LazyChild::Child::_wrapped_BUILDARGS("LazyChild::Child") called at /home/sand/src/perl/repoperls/installed-perls/host/k93jammy/v5.39.10/5674/lib/site_perl/5.39.10/x86_64-linux-ld/Class/MOP/Method/Wrapped.pm line 97
	LazyChild::Child::BUILDARGS("LazyChild::Child") called at /home/sand/src/perl/repoperls/installed-perls/host/k93jammy/v5.39.10/5674/lib/site_perl/5.39.10/x86_64-linux-ld/Moose/Object.pm line 22
	Moose::Object::new("LazyChild::Child") called at t/03_lazy.t line 248
You are overwriting a accessor (child_rel_pack) for the child_rel_pack attribute (defined at t/03_lazy.t line 129) with a new accessor method for the child_rel_pack attribute (defined at t/03_lazy.t line 129) at /home/sand/src/perl/repoperls/installed-perls/host/k93jammy/v5.39.10/5674/lib/site_perl/5.39.10/x86_64-linux-ld/Moose/Meta/Attribute.pm line 1094.
	Moose::Meta::Attribute::_process_accessors(Moose::Meta::Attribute=HASH(0x59a17de36e40), "accessor", "child_rel_pack", undef) called at /home/sand/src/perl/repoperls/installed-perls/host/k93jammy/v5.39.10/5674/lib/site_perl/5.39.10/x86_64-linux-ld/Class/MOP/Attribute.pm line 446
	Class::MOP::Attribute::install_accessors(Moose::Meta::Attribute=HASH(0x59a17de36e40)) called at /home/sand/src/perl/repoperls/installed-perls/host/k93jammy/v5.39.10/5674/lib/site_perl/5.39.10/x86_64-linux-ld/Moose/Meta/Attribute.pm line 1014
	Moose::Meta::Attribute::install_accessors(Moose::Meta::Attribute=HASH(0x59a17de36e40)) called at /tmp/loop_over_bdir-2594-zRJt0W/MooseX-RelClassTypes-0.03-0/blib/lib/MooseX/RelClassTypes.pm line 76
	Class::MOP::Class:::before("LazyParam::Child") called at /home/sand/src/perl/repoperls/installed-perls/host/k93jammy/v5.39.10/5674/lib/site_perl/5.39.10/x86_64-linux-ld/Class/MOP/Method/Wrapped.pm line 43
	LazyParam::Child::_wrapped_BUILDARGS("LazyParam::Child") called at /home/sand/src/perl/repoperls/installed-perls/host/k93jammy/v5.39.10/5674/lib/site_perl/5.39.10/x86_64-linux-ld/Class/MOP/Method/Wrapped.pm line 97
	LazyParam::Child::BUILDARGS("LazyParam::Child") called at /home/sand/src/perl/repoperls/installed-perls/host/k93jammy/v5.39.10/5674/lib/site_perl/5.39.10/x86_64-linux-ld/Moose/Object.pm line 22
	Moose::Object::new("LazyParam::Child") called at t/03_lazy.t line 248
You are overwriting a accessor (parent_rel_pack) for the parent_rel_pack attribute (defined at t/03_lazy.t line 117) with a new accessor method for the parent_rel_pack attribute (defined at t/03_lazy.t line 117) at /home/sand/src/perl/repoperls/installed-perls/host/k93jammy/v5.39.10/5674/lib/site_perl/5.39.10/x86_64-linux-ld/Moose/Meta/Attribute.pm line 1094.
	Moose::Meta::Attribute::_process_accessors(Moose::Meta::Attribute=HASH(0x59a17de2d578), "accessor", "parent_rel_pack", undef) called at /home/sand/src/perl/repoperls/installed-perls/host/k93jammy/v5.39.10/5674/lib/site_perl/5.39.10/x86_64-linux-ld/Class/MOP/Attribute.pm line 446
	Class::MOP::Attribute::install_accessors(Moose::Meta::Attribute=HASH(0x59a17de2d578)) called at /home/sand/src/perl/repoperls/installed-perls/host/k93jammy/v5.39.10/5674/lib/site_perl/5.39.10/x86_64-linux-ld/Moose/Meta/Attribute.pm line 1014
	Moose::Meta::Attribute::install_accessors(Moose::Meta::Attribute=HASH(0x59a17de2d578)) called at /tmp/loop_over_bdir-2594-zRJt0W/MooseX-RelClassTypes-0.03-0/blib/lib/MooseX/RelClassTypes.pm line 76
	Class::MOP::Class:::before("LazyParam::Child") called at /home/sand/src/perl/repoperls/installed-perls/host/k93jammy/v5.39.10/5674/lib/site_perl/5.39.10/x86_64-linux-ld/Class/MOP/Method/Wrapped.pm line 43
	LazyParam::Child::_wrapped_BUILDARGS("LazyParam::Child") called at /home/sand/src/perl/repoperls/installed-perls/host/k93jammy/v5.39.10/5674/lib/site_perl/5.39.10/x86_64-linux-ld/Class/MOP/Method/Wrapped.pm line 97
	LazyParam::Child::BUILDARGS("LazyParam::Child") called at /home/sand/src/perl/repoperls/installed-perls/host/k93jammy/v5.39.10/5674/lib/site_perl/5.39.10/x86_64-linux-ld/Moose/Object.pm line 22
	Moose::Object::new("LazyParam::Child") called at t/03_lazy.t line 248
You are overwriting a accessor (parent_rel_pack) for the parent_rel_pack attribute (defined at t/03_lazy.t line 117) with a new accessor method for the parent_rel_pack attribute (defined at t/03_lazy.t line 117) at /home/sand/src/perl/repoperls/installed-perls/host/k93jammy/v5.39.10/5674/lib/site_perl/5.39.10/x86_64-linux-ld/Moose/Meta/Attribute.pm line 1094.
	Moose::Meta::Attribute::_process_accessors(Moose::Meta::Attribute=HASH(0x59a17de2d578), "accessor", "parent_rel_pack", undef) called at /home/sand/src/perl/repoperls/installed-perls/host/k93jammy/v5.39.10/5674/lib/site_perl/5.39.10/x86_64-linux-ld/Class/MOP/Attribute.pm line 446
	Class::MOP::Attribute::install_accessors(Moose::Meta::Attribute=HASH(0x59a17de2d578)) called at /home/sand/src/perl/repoperls/installed-perls/host/k93jammy/v5.39.10/5674/lib/site_perl/5.39.10/x86_64-linux-ld/Moose/Meta/Attribute.pm line 1014
	Moose::Meta::Attribute::install_accessors(Moose::Meta::Attribute=HASH(0x59a17de2d578)) called at /tmp/loop_over_bdir-2594-zRJt0W/MooseX-RelClassTypes-0.03-0/blib/lib/MooseX/RelClassTypes.pm line 76
	Class::MOP::Class:::before("LazyParam::Child") called at /home/sand/src/perl/repoperls/installed-perls/host/k93jammy/v5.39.10/5674/lib/site_perl/5.39.10/x86_64-linux-ld/Class/MOP/Method/Wrapped.pm line 43
	LazyParam::Parent::_wrapped_BUILDARGS("LazyParam::Child") called at /home/sand/src/perl/repoperls/installed-perls/host/k93jammy/v5.39.10/5674/lib/site_perl/5.39.10/x86_64-linux-ld/Class/MOP/Method/Wrapped.pm line 97
	LazyParam::Parent::BUILDARGS("LazyParam::Child") called at /home/sand/src/perl/repoperls/installed-perls/host/k93jammy/v5.39.10/5674/lib/site_perl/5.39.10/x86_64-linux-ld/Class/MOP/Method/Wrapped.pm line 44
	LazyParam::Child::_wrapped_BUILDARGS("LazyParam::Child") called at /home/sand/src/perl/repoperls/installed-perls/host/k93jammy/v5.39.10/5674/lib/site_perl/5.39.10/x86_64-linux-ld/Class/MOP/Method/Wrapped.pm line 97
	LazyParam::Child::BUILDARGS("LazyParam::Child") called at /home/sand/src/perl/repoperls/installed-perls/host/k93jammy/v5.39.10/5674/lib/site_perl/5.39.10/x86_64-linux-ld/Moose/Object.pm line 22
	Moose::Object::new("LazyParam::Child") called at t/03_lazy.t line 248
You are overwriting a accessor (child_rel_pack) for the child_rel_pack attribute (defined at t/03_lazy.t line 129) with a new accessor method for the child_rel_pack attribute (defined at t/03_lazy.t line 129) at /home/sand/src/perl/repoperls/installed-perls/host/k93jammy/v5.39.10/5674/lib/site_perl/5.39.10/x86_64-linux-ld/Moose/Meta/Attribute.pm line 1094.
	Moose::Meta::Attribute::_process_accessors(Moose::Meta::Attribute=HASH(0x59a17de36e40), "accessor", "child_rel_pack", undef) called at /home/sand/src/perl/repoperls/installed-perls/host/k93jammy/v5.39.10/5674/lib/site_perl/5.39.10/x86_64-linux-ld/Class/MOP/Attribute.pm line 446
	Class::MOP::Attribute::install_accessors(Moose::Meta::Attribute=HASH(0x59a17de36e40)) called at /home/sand/src/perl/repoperls/installed-perls/host/k93jammy/v5.39.10/5674/lib/site_perl/5.39.10/x86_64-linux-ld/Moose/Meta/Attribute.pm line 1014
	Moose::Meta::Attribute::install_accessors(Moose::Meta::Attribute=HASH(0x59a17de36e40)) called at /tmp/loop_over_bdir-2594-zRJt0W/MooseX-RelClassTypes-0.03-0/blib/lib/MooseX/RelClassTypes.pm line 76
	Class::MOP::Class:::before("LazyParam::Child") called at /home/sand/src/perl/repoperls/installed-perls/host/k93jammy/v5.39.10/5674/lib/site_perl/5.39.10/x86_64-linux-ld/Class/MOP/Method/Wrapped.pm line 43
	LazyParam::Parent::_wrapped_BUILDARGS("LazyParam::Child") called at /home/sand/src/perl/repoperls/installed-perls/host/k93jammy/v5.39.10/5674/lib/site_perl/5.39.10/x86_64-linux-ld/Class/MOP/Method/Wrapped.pm line 97
	LazyParam::Parent::BUILDARGS("LazyParam::Child") called at /home/sand/src/perl/repoperls/installed-perls/host/k93jammy/v5.39.10/5674/lib/site_perl/5.39.10/x86_64-linux-ld/Class/MOP/Method/Wrapped.pm line 44
	LazyParam::Child::_wrapped_BUILDARGS("LazyParam::Child") called at /home/sand/src/perl/repoperls/installed-perls/host/k93jammy/v5.39.10/5674/lib/site_perl/5.39.10/x86_64-linux-ld/Class/MOP/Method/Wrapped.pm line 97
	LazyParam::Child::BUILDARGS("LazyParam::Child") called at /home/sand/src/perl/repoperls/installed-perls/host/k93jammy/v5.39.10/5674/lib/site_perl/5.39.10/x86_64-linux-ld/Moose/Object.pm line 22
	Moose::Object::new("LazyParam::Child") called at t/03_lazy.t line 248
You are overwriting a accessor (child_rel_pack) for the child_rel_pack attribute (defined at t/03_lazy.t line 194) with a new accessor method for the child_rel_pack attribute (defined at t/03_lazy.t line 194) at /home/sand/src/perl/repoperls/installed-perls/host/k93jammy/v5.39.10/5674/lib/site_perl/5.39.10/x86_64-linux-ld/Moose/Meta/Attribute.pm line 1094.
	Moose::Meta::Attribute::_process_accessors(Moose::Meta::Attribute=HASH(0x59a17de60818), "accessor", "child_rel_pack", undef) called at /home/sand/src/perl/repoperls/installed-perls/host/k93jammy/v5.39.10/5674/lib/site_perl/5.39.10/x86_64-linux-ld/Class/MOP/Attribute.pm line 446
	Class::MOP::Attribute::install_accessors(Moose::Meta::Attribute=HASH(0x59a17de60818)) called at /home/sand/src/perl/repoperls/installed-perls/host/k93jammy/v5.39.10/5674/lib/site_perl/5.39.10/x86_64-linux-ld/Moose/Meta/Attribute.pm line 1014
	Moose::Meta::Attribute::install_accessors(Moose::Meta::Attribute=HASH(0x59a17de60818)) called at /tmp/loop_over_bdir-2594-zRJt0W/MooseX-RelClassTypes-0.03-0/blib/lib/MooseX/RelClassTypes.pm line 76
	Class::MOP::Class:::before("LazyAll::Child") called at /home/sand/src/perl/repoperls/installed-perls/host/k93jammy/v5.39.10/5674/lib/site_perl/5.39.10/x86_64-linux-ld/Class/MOP/Method/Wrapped.pm line 43
	LazyAll::Child::_wrapped_BUILDARGS("LazyAll::Child") called at /home/sand/src/perl/repoperls/installed-perls/host/k93jammy/v5.39.10/5674/lib/site_perl/5.39.10/x86_64-linux-ld/Class/MOP/Method/Wrapped.pm line 97
	LazyAll::Child::BUILDARGS("LazyAll::Child") called at /home/sand/src/perl/repoperls/installed-perls/host/k93jammy/v5.39.10/5674/lib/site_perl/5.39.10/x86_64-linux-ld/Moose/Object.pm line 22
	Moose::Object::new("LazyAll::Child") called at t/03_lazy.t line 248
You are overwriting a accessor (parent_rel_pack) for the parent_rel_pack attribute (defined at t/03_lazy.t line 177) with a new accessor method for the parent_rel_pack attribute (defined at t/03_lazy.t line 177) at /home/sand/src/perl/repoperls/installed-perls/host/k93jammy/v5.39.10/5674/lib/site_perl/5.39.10/x86_64-linux-ld/Moose/Meta/Attribute.pm line 1094.
	Moose::Meta::Attribute::_process_accessors(Moose::Meta::Attribute=HASH(0x59a17de54368), "accessor", "parent_rel_pack", undef) called at /home/sand/src/perl/repoperls/installed-perls/host/k93jammy/v5.39.10/5674/lib/site_perl/5.39.10/x86_64-linux-ld/Class/MOP/Attribute.pm line 446
	Class::MOP::Attribute::install_accessors(Moose::Meta::Attribute=HASH(0x59a17de54368)) called at /home/sand/src/perl/repoperls/installed-perls/host/k93jammy/v5.39.10/5674/lib/site_perl/5.39.10/x86_64-linux-ld/Moose/Meta/Attribute.pm line 1014
	Moose::Meta::Attribute::install_accessors(Moose::Meta::Attribute=HASH(0x59a17de54368)) called at /tmp/loop_over_bdir-2594-zRJt0W/MooseX-RelClassTypes-0.03-0/blib/lib/MooseX/RelClassTypes.pm line 76
	Class::MOP::Class:::before("LazyAll::Child") called at /home/sand/src/perl/repoperls/installed-perls/host/k93jammy/v5.39.10/5674/lib/site_perl/5.39.10/x86_64-linux-ld/Class/MOP/Method/Wrapped.pm line 43
	LazyAll::Child::_wrapped_BUILDARGS("LazyAll::Child") called at /home/sand/src/perl/repoperls/installed-perls/host/k93jammy/v5.39.10/5674/lib/site_perl/5.39.10/x86_64-linux-ld/Class/MOP/Method/Wrapped.pm line 97
	LazyAll::Child::BUILDARGS("LazyAll::Child") called at /home/sand/src/perl/repoperls/installed-perls/host/k93jammy/v5.39.10/5674/lib/site_perl/5.39.10/x86_64-linux-ld/Moose/Object.pm line 22
	Moose::Object::new("LazyAll::Child") called at t/03_lazy.t line 248
You are overwriting a accessor (parent_rel_pack) for the parent_rel_pack attribute (defined at t/03_lazy.t line 177) with a new accessor method for the parent_rel_pack attribute (defined at t/03_lazy.t line 177) at /home/sand/src/perl/repoperls/installed-perls/host/k93jammy/v5.39.10/5674/lib/site_perl/5.39.10/x86_64-linux-ld/Moose/Meta/Attribute.pm line 1094.
	Moose::Meta::Attribute::_process_accessors(Moose::Meta::Attribute=HASH(0x59a17de54368), "accessor", "parent_rel_pack", undef) called at /home/sand/src/perl/repoperls/installed-perls/host/k93jammy/v5.39.10/5674/lib/site_perl/5.39.10/x86_64-linux-ld/Class/MOP/Attribute.pm line 446
	Class::MOP::Attribute::install_accessors(Moose::Meta::Attribute=HASH(0x59a17de54368)) called at /home/sand/src/perl/repoperls/installed-perls/host/k93jammy/v5.39.10/5674/lib/site_perl/5.39.10/x86_64-linux-ld/Moose/Meta/Attribute.pm line 1014
	Moose::Meta::Attribute::install_accessors(Moose::Meta::Attribute=HASH(0x59a17de54368)) called at /tmp/loop_over_bdir-2594-zRJt0W/MooseX-RelClassTypes-0.03-0/blib/lib/MooseX/RelClassTypes.pm line 76
	Class::MOP::Class:::before("LazyAll::Child") called at /home/sand/src/perl/repoperls/installed-perls/host/k93jammy/v5.39.10/5674/lib/site_perl/5.39.10/x86_64-linux-ld/Class/MOP/Method/Wrapped.pm line 43
	LazyAll::Parent::_wrapped_BUILDARGS("LazyAll::Child") called at /home/sand/src/perl/repoperls/installed-perls/host/k93jammy/v5.39.10/5674/lib/site_perl/5.39.10/x86_64-linux-ld/Class/MOP/Method/Wrapped.pm line 97
	LazyAll::Parent::BUILDARGS("LazyAll::Child") called at /home/sand/src/perl/repoperls/installed-perls/host/k93jammy/v5.39.10/5674/lib/site_perl/5.39.10/x86_64-linux-ld/Class/MOP/Method/Wrapped.pm line 44
	LazyAll::Child::_wrapped_BUILDARGS("LazyAll::Child") called at /home/sand/src/perl/repoperls/installed-perls/host/k93jammy/v5.39.10/5674/lib/site_perl/5.39.10/x86_64-linux-ld/Class/MOP/Method/Wrapped.pm line 97
	LazyAll::Child::BUILDARGS("LazyAll::Child") called at /home/sand/src/perl/repoperls/installed-perls/host/k93jammy/v5.39.10/5674/lib/site_perl/5.39.10/x86_64-linux-ld/Moose/Object.pm line 22
	Moose::Object::new("LazyAll::Child") called at t/03_lazy.t line 248
You are overwriting a accessor (child_rel_pack) for the child_rel_pack attribute (defined at t/03_lazy.t line 194) with a new accessor method for the child_rel_pack attribute (defined at t/03_lazy.t line 194) at /home/sand/src/perl/repoperls/installed-perls/host/k93jammy/v5.39.10/5674/lib/site_perl/5.39.10/x86_64-linux-ld/Moose/Meta/Attribute.pm line 1094.
	Moose::Meta::Attribute::_process_accessors(Moose::Meta::Attribute=HASH(0x59a17de60818), "accessor", "child_rel_pack", undef) called at /home/sand/src/perl/repoperls/installed-perls/host/k93jammy/v5.39.10/5674/lib/site_perl/5.39.10/x86_64-linux-ld/Class/MOP/Attribute.pm line 446
	Class::MOP::Attribute::install_accessors(Moose::Meta::Attribute=HASH(0x59a17de60818)) called at /home/sand/src/perl/repoperls/installed-perls/host/k93jammy/v5.39.10/5674/lib/site_perl/5.39.10/x86_64-linux-ld/Moose/Meta/Attribute.pm line 1014
	Moose::Meta::Attribute::install_accessors(Moose::Meta::Attribute=HASH(0x59a17de60818)) called at /tmp/loop_over_bdir-2594-zRJt0W/MooseX-RelClassTypes-0.03-0/blib/lib/MooseX/RelClassTypes.pm line 76
	Class::MOP::Class:::before("LazyAll::Child") called at /home/sand/src/perl/repoperls/installed-perls/host/k93jammy/v5.39.10/5674/lib/site_perl/5.39.10/x86_64-linux-ld/Class/MOP/Method/Wrapped.pm line 43
	LazyAll::Parent::_wrapped_BUILDARGS("LazyAll::Child") called at /home/sand/src/perl/repoperls/installed-perls/host/k93jammy/v5.39.10/5674/lib/site_perl/5.39.10/x86_64-linux-ld/Class/MOP/Method/Wrapped.pm line 97
	LazyAll::Parent::BUILDARGS("LazyAll::Child") called at /home/sand/src/perl/repoperls/installed-perls/host/k93jammy/v5.39.10/5674/lib/site_perl/5.39.10/x86_64-linux-ld/Class/MOP/Method/Wrapped.pm line 44
	LazyAll::Child::_wrapped_BUILDARGS("LazyAll::Child") called at /home/sand/src/perl/repoperls/installed-perls/host/k93jammy/v5.39.10/5674/lib/site_perl/5.39.10/x86_64-linux-ld/Class/MOP/Method/Wrapped.pm line 97
	LazyAll::Child::BUILDARGS("LazyAll::Child") called at /home/sand/src/perl/repoperls/installed-perls/host/k93jammy/v5.39.10/5674/lib/site_perl/5.39.10/x86_64-linux-ld/Moose/Object.pm line 22
	Moose::Object::new("LazyAll::Child") called at t/03_lazy.t line 248
t/03_lazy.t .......... ok
All tests successful.
Files=4, Tests=56,  1 wallclock secs ( 0.03 usr  0.02 sys +  1.01 cusr  0.28 csys =  1.34 CPU)
Result: PASS

------------------------------
PREREQUISITES
------------------------------

Prerequisite modules loaded:

requires:

    Module                      Need Have    
    --------------------------- ---- --------
    Carp                        0    1.54    
    Clone                       0    0.46    
    Module::Runtime             0    0.016   
    Moose                       0    2.2207  
    MooseX::Role::Parameterized 0    1.11    

build_requires:

    Module                      Need Have    
    --------------------------- ---- --------
    ExtUtils::MakeMaker         0    7.70    
    Test::More                  0    1.302199

configure_requires:

    Module                      Need Have    
    --------------------------- ---- --------
    ExtUtils::MakeMaker         0    7.70    


------------------------------
ENVIRONMENT AND OTHER CONTEXT
------------------------------

Environment variables:

    AUTOMATED_TESTING = 1
    LANG = en_US.UTF-8
    LC_ADDRESS = de_DE.UTF-8
    LC_IDENTIFICATION = de_DE.UTF-8
    LC_MEASUREMENT = de_DE.UTF-8
    LC_MONETARY = de_DE.UTF-8
    LC_NAME = de_DE.UTF-8
    LC_NUMERIC = de_DE.UTF-8
    LC_PAPER = de_DE.UTF-8
    LC_TELEPHONE = de_DE.UTF-8
    LC_TIME = de_DE.UTF-8
    PATH = /home/sand/bin:/usr/local/bin:/usr/local/sbin:/usr/sbin:/usr/bin:/sbin:/bin:/usr/games:/usr/local/games:/snap/bin:/usr/local/perl/bin:/usr/X11/bin
    PERL = /tmp/basesmoker-reloperl-sLbq/bin/perl
    PERL5LIB = /tmp/loop_over_bdir-2594-zRJt0W/CORBA-Python-2.66-0/blib/arch:/tmp/loop_over_bdir-2594-zRJt0W/CORBA-Python-2.66-0/blib/lib:/tmp/loop_over_bdir-2594-zRJt0W/CGI-Application-NetNewsIface-0.0204-0/blib/arch:/tmp/loop_over_bdir-2594-zRJt0W/CGI-Application-NetNewsIface-0.0204-0/blib/lib:/tmp/loop_over_bdir-2594-zRJt0W/App-rmcd-0.280-0/blib/arch:/tmp/loop_over_bdir-2594-zRJt0W/App-rmcd-0.280-0/blib/lib:/tmp/loop_over_bdir-2594-zRJt0W/Linux-InitFS-0.2-0/blib/arch:/tmp/loop_over_bdir-2594-zRJt0W/Linux-InitFS-0.2-0/blib/lib:/tmp/loop_over_bdir-2594-zRJt0W/Debian-Packages-0.03-0/blib/arch:/tmp/loop_over_bdir-2594-zRJt0W/Debian-Packages-0.03-0/blib/lib:/tmp/loop_over_bdir-2594-zRJt0W/App-nrun-v1.1.2-0/blib/arch:/tmp/loop_over_bdir-2594-zRJt0W/App-nrun-v1.1.2-0/blib/lib:/tmp/loop_over_bdir-2594-zRJt0W/dta-tokwrap-0.98-0/blib/arch:/tmp/loop_over_bdir-2594-zRJt0W/dta-tokwrap-0.98-0/blib/lib:/tmp/loop_over_bdir-2594-zRJt0W/AllKnowingDNS-1.7-0/blib/arch:/tmp/loop_over_bdir-2594-zRJt0W/AllKnowingDNS-1.7-0/blib/lib:/tmp/loop_over_bdir-2594-zRJt0W/Lingua-YaTeA-0.626-0/blib/arch:/tmp/loop_over_bdir-2594-zRJt0W/Lingua-YaTeA-0.626-0/blib/lib:/tmp/loop_over_bdir-2594-zRJt0W/MP3-PodcastFetch-1.05-0/blib/arch:/tmp/loop_over_bdir-2594-zRJt0W/MP3-PodcastFetch-1.05-0/blib/lib:/tmp/loop_over_bdir-2594-zRJt0W/Net-OpenVPN-DDNS-0.1-0/blib/arch:/tmp/loop_over_bdir-2594-zRJt0W/Net-OpenVPN-DDNS-0.1-0/blib/lib:/tmp/loop_over_bdir-2594-zRJt0W/mmds-1.902-0/blib/arch:/tmp/loop_over_bdir-2594-zRJt0W/mmds-1.902-0/blib/lib:/tmp/loop_over_bdir-2594-zRJt0W/perl-Hardware-UPS-Perl-0.43-0/blib/arch:/tmp/loop_over_bdir-2594-zRJt0W/perl-Hardware-UPS-Perl-0.43-0/blib/lib:/tmp/loop_over_bdir-2594-zRJt0W/Captive-Portal-4.10-0/blib/arch:/tmp/loop_over_bdir-2594-zRJt0W/Captive-Portal-4.10-0/blib/lib:/tmp/loop_over_bdir-2594-zRJt0W/downsexta-0/blib/arch:/tmp/loop_over_bdir-2594-zRJt0W/downsexta-0/blib/lib:/tmp/loop_over_bdir-2594-zRJt0W/Sysync-0.38-0/blib/arch:/tmp/loop_over_bdir-2594-zRJt0W/Sysync-0.38-0/blib/lib:/tmp/loop_over_bdir-2594-zRJt0W/EJBCA-CrlPublish-0.60-0/blib/arch:/tmp/loop_over_bdir-2594-zRJt0W/EJBCA-CrlPublish-0.60-0/blib/lib:/tmp/loop_over_bdir-2594-zRJt0W/HTML-Menu-TreeView-1.22-0/blib/arch:/tmp/loop_over_bdir-2594-zRJt0W/HTML-Menu-TreeView-1.22-0/blib/lib:/tmp/loop_over_bdir-2594-zRJt0W/ProjectBuilder-0.14.1-0/blib/arch:/tmp/loop_over_bdir-2594-zRJt0W/ProjectBuilder-0.14.1-0/blib/lib:/tmp/loop_over_bdir-2594-zRJt0W/Business-Shipping-DataFiles-1.02-0/blib/arch:/tmp/loop_over_bdir-2594-zRJt0W/Business-Shipping-DataFiles-1.02-0/blib/lib:/tmp/loop_over_bdir-2594-zRJt0W/RDF-NLP-SPARQLQuery-0.1-0/blib/arch:/tmp/loop_over_bdir-2594-zRJt0W/RDF-NLP-SPARQLQuery-0.1-0/blib/lib:/tmp/loop_over_bdir-2594-zRJt0W/Dpkg-1.22.6-0/blib/arch:/tmp/loop_over_bdir-2594-zRJt0W/Dpkg-1.22.6-0/blib/lib:/tmp/loop_over_bdir-2594-zRJt0W/LiquidWeb-Storm-CLI-1.03-0/blib/arch:/tmp/loop_over_bdir-2594-zRJt0W/LiquidWeb-Storm-CLI-1.03-0/blib/lib:/tmp/loop_over_bdir-2594-zRJt0W/NoZone-1.3-0/blib/arch:/tmp/loop_over_bdir-2594-zRJt0W/NoZone-1.3-0/blib/lib:/tmp/loop_over_bdir-2594-zRJt0W/Devel-Required-0.16-0/blib/arch:/tmp/loop_over_bdir-2594-zRJt0W/Devel-Required-0.16-0/blib/lib:/tmp/loop_over_bdir-2594-zRJt0W/DBIx-Migration-Directories-0.12-0/blib/arch:/tmp/loop_over_bdir-2594-zRJt0W/DBIx-Migration-Directories-0.12-0/blib/lib:/tmp/loop_over_bdir-2594-zRJt0W/Net-Async-WebService-lxd-0.03-0/blib/arch:/tmp/loop_over_bdir-2594-zRJt0W/Net-Async-WebService-lxd-0.03-0/blib/lib
    PERL5OPT = 
    PERL5_CPANPLUS_IS_RUNNING = 2602
    PERL5_CPAN_IS_RUNNING = 2602
    PERL_CANARY_STABILITY_NOPROMPT = 1
    PERL_MM_USE_DEFAULT = 1
    PERL_USE_UNSAFE_INC = 1
    SHELL = /usr/bin/zsh
    TERM = screen

Perl special variables (and OS-specific diagnostics, for MSWin32):

    $^X = /tmp/basesmoker-reloperl-sLbq/bin/perl
    $UID/$EUID = 1005 / 1005
    $GID = 1005 1005
    $EGID = 1005 1005

Perl module toolchain versions installed:

    Module              Have    
    ------------------- --------
    CPAN                2.36    
    CPAN::Meta          2.150010
    Cwd                 3.90    
    ExtUtils::CBuilder  0.280240
    ExtUtils::Command   7.70    
    ExtUtils::Install   2.22    
    ExtUtils::MakeMaker 7.70    
    ExtUtils::Manifest  1.75    
    ExtUtils::ParseXS   3.51    
    File::Spec          3.90    
    JSON                4.10    
    JSON::PP            4.16    
    Module::Build       0.4234  
    Module::Signature   0.88    
    Parse::CPAN::Meta   2.150010
    Test2               1.302199
    Test::Harness       3.48    
    Test::More          1.302199
    YAML                1.31    
    YAML::Syck          1.34    
    version             0.9932  


--

Summary of my perl5 (revision 5 version 39 subversion 10) configuration:
  Commit id: c46c2bea6f111c45982b89c7e57b56125ff2e10c
  Platform:
    osname=linux
    osvers=6.5.0-27-generic
    archname=x86_64-linux-ld
    uname='linux k93jammy 6.5.0-27-generic #28~22.04.1-ubuntu smp preempt_dynamic fri mar 15 10:51:06 utc 2 x86_64 x86_64 x86_64 gnulinux '
    config_args='-Dprefix=/home/sand/src/perl/repoperls/installed-perls/host/k93jammy/v5.39.10/5674 -Dmyhostname=k93jammy -Dinstallusrbinperl=n -Uversiononly -Dusedevel -des -Ui_db -Dlibswanted=cl pthread socket inet nsl gdbm dbm malloc dl ld sun m crypt sec util c cposix posix ucb BSD gdbm_compat -Uuseithreads -Duselongdouble -DEBUGGING=-g'
    hint=recommended
    useposix=true
    d_sigaction=define
    useithreads=undef
    usemultiplicity=undef
    use64bitint=define
    use64bitall=define
    uselongdouble=define
    usemymalloc=n
    default_inc_excludes_dot=define
  Compiler:
    cc='cc'
    ccflags ='-fwrapv -fno-strict-aliasing -pipe -fstack-protector-strong -I/usr/local/include -D_LARGEFILE_SOURCE -D_FILE_OFFSET_BITS=64'
    optimize='-O2 -g'
    cppflags='-fwrapv -fno-strict-aliasing -pipe -fstack-protector-strong -I/usr/local/include'
    ccversion=''
    gccversion='11.4.0'
    gccosandvers=''
    intsize=4
    longsize=8
    ptrsize=8
    doublesize=8
    byteorder=12345678
    doublekind=3
    d_longlong=define
    longlongsize=8
    d_longdbl=define
    longdblsize=16
    longdblkind=3
    ivtype='long'
    ivsize=8
    nvtype='long double'
    nvsize=16
    Off_t='off_t'
    lseeksize=8
    alignbytes=16
    prototype=define
  Linker and Libraries:
    ld='cc'
    ldflags =' -fstack-protector-strong -L/usr/local/lib'
    libpth=/usr/local/lib /usr/lib/x86_64-linux-gnu /usr/lib /usr/lib64
    libs=-lpthread -lnsl -ldl -lm -lcrypt -lutil -lc
    perllibs=-lpthread -lnsl -ldl -lm -lcrypt -lutil -lc
    libc=/lib/x86_64-linux-gnu/libc.so.6
    so=so
    useshrplib=false
    libperl=libperl.a
    gnulibc_version='2.35'
  Dynamic Linking:
    dlsrc=dl_dlopen.xs
    dlext=so
    d_dlsymun=undef
    ccdlflags='-Wl,-E'
    cccdlflags='-fPIC'
    lddlflags='-shared -O2 -g -L/usr/local/lib -fstack-protector-strong'


Characteristics of this binary (from libperl): 
  Compile-time options:
    HAS_LONG_DOUBLE
    HAS_STRTOLD
    HAS_TIMES
    PERLIO_LAYERS
    PERL_COPY_ON_WRITE
    PERL_DONT_CREATE_GVSV
    PERL_HASH_FUNC_SIPHASH13
    PERL_HASH_USE_SBOX32
    PERL_MALLOC_WRAP
    PERL_OP_PARENT
    PERL_PRESERVE_IVUV
    PERL_USE_DEVEL
    PERL_USE_SAFE_PUTENV
    USE_64_BIT_ALL
    USE_64_BIT_INT
    USE_LARGE_FILES
    USE_LOCALE
    USE_LOCALE_COLLATE
    USE_LOCALE_CTYPE
    USE_LOCALE_NUMERIC
    USE_LOCALE_TIME
    USE_LONG_DOUBLE
    USE_PERLIO
    USE_PERL_ATOF
  Built under linux
  Compiled at Apr 28 2024 08:17:33
  %ENV:
    PERL="/tmp/basesmoker-reloperl-sLbq/bin/perl"
    PERL5LIB="/tmp/loop_over_bdir-2594-zRJt0W/CORBA-Python-2.66-0/blib/arch:/tmp/loop_over_bdir-2594-zRJt0W/CORBA-Python-2.66-0/blib/lib:/tmp/loop_over_bdir-2594-zRJt0W/CGI-Application-NetNewsIface-0.0204-0/blib/arch:/tmp/loop_over_bdir-2594-zRJt0W/CGI-Application-NetNewsIface-0.0204-0/blib/lib:/tmp/loop_over_bdir-2594-zRJt0W/App-rmcd-0.280-0/blib/arch:/tmp/loop_over_bdir-2594-zRJt0W/App-rmcd-0.280-0/blib/lib:/tmp/loop_over_bdir-2594-zRJt0W/Linux-InitFS-0.2-0/blib/arch:/tmp/loop_over_bdir-2594-zRJt0W/Linux-InitFS-0.2-0/blib/lib:/tmp/loop_over_bdir-2594-zRJt0W/Debian-Packages-0.03-0/blib/arch:/tmp/loop_over_bdir-2594-zRJt0W/Debian-Packages-0.03-0/blib/lib:/tmp/loop_over_bdir-2594-zRJt0W/App-nrun-v1.1.2-0/blib/arch:/tmp/loop_over_bdir-2594-zRJt0W/App-nrun-v1.1.2-0/blib/lib:/tmp/loop_over_bdir-2594-zRJt0W/dta-tokwrap-0.98-0/blib/arch:/tmp/loop_over_bdir-2594-zRJt0W/dta-tokwrap-0.98-0/blib/lib:/tmp/loop_over_bdir-2594-zRJt0W/AllKnowingDNS-1.7-0/blib/arch:/tmp/loop_over_bdir-2594-zRJt0W/AllKnowingDNS-1.7-0/blib/lib:/tmp/loop_over_bdir-2594-zRJt0W/Lingua-YaTeA-0.626-0/blib/arch:/tmp/loop_over_bdir-2594-zRJt0W/Lingua-YaTeA-0.626-0/blib/lib:/tmp/loop_over_bdir-2594-zRJt0W/MP3-PodcastFetch-1.05-0/blib/arch:/tmp/loop_over_bdir-2594-zRJt0W/MP3-PodcastFetch-1.05-0/blib/lib:/tmp/loop_over_bdir-2594-zRJt0W/Net-OpenVPN-DDNS-0.1-0/blib/arch:/tmp/loop_over_bdir-2594-zRJt0W/Net-OpenVPN-DDNS-0.1-0/blib/lib:/tmp/loop_over_bdir-2594-zRJt0W/mmds-1.902-0/blib/arch:/tmp/loop_over_bdir-2594-zRJt0W/mmds-1.902-0/blib/lib:/tmp/loop_over_bdir-2594-zRJt0W/perl-Hardware-UPS-Perl-0.43-0/blib/arch:/tmp/loop_over_bdir-2594-zRJt0W/perl-Hardware-UPS-Perl-0.43-0/blib/lib:/tmp/loop_over_bdir-2594-zRJt0W/Captive-Portal-4.10-0/blib/arch:/tmp/loop_over_bdir-2594-zRJt0W/Captive-Portal-4.10-0/blib/lib:/tmp/loop_over_bdir-2594-zRJt0W/downsexta-0/blib/arch:/tmp/loop_over_bdir-2594-zRJt0W/downsexta-0/blib/lib:/tmp/loop_over_bdir-2594-zRJt0W/Sysync-0.38-0/blib/arch:/tmp/loop_over_bdir-2594-zRJt0W/Sysync-0.38-0/blib/lib:/tmp/loop_over_bdir-2594-zRJt0W/EJBCA-CrlPublish-0.60-0/blib/arch:/tmp/loop_over_bdir-2594-zRJt0W/EJBCA-CrlPublish-0.60-0/blib/lib:/tmp/loop_over_bdir-2594-zRJt0W/HTML-Menu-TreeView-1.22-0/blib/arch:/tmp/loop_over_bdir-2594-zRJt0W/HTML-Menu-TreeView-1.22-0/blib/lib:/tmp/loop_over_bdir-2594-zRJt0W/ProjectBuilder-0.14.1-0/blib/arch:/tmp/loop_over_bdir-2594-zRJt0W/ProjectBuilder-0.14.1-0/blib/lib:/tmp/loop_over_bdir-2594-zRJt0W/Business-Shipping-DataFiles-1.02-0/blib/arch:/tmp/loop_over_bdir-2594-zRJt0W/Business-Shipping-DataFiles-1.02-0/blib/lib:/tmp/loop_over_bdir-2594-zRJt0W/RDF-NLP-SPARQLQuery-0.1-0/blib/arch:/tmp/loop_over_bdir-2594-zRJt0W/RDF-NLP-SPARQLQuery-0.1-0/blib/lib:/tmp/loop_over_bdir-2594-zRJt0W/Dpkg-1.22.6-0/blib/arch:/tmp/loop_over_bdir-2594-zRJt0W/Dpkg-1.22.6-0/blib/lib:/tmp/loop_over_bdir-2594-zRJt0W/LiquidWeb-Storm-CLI-1.03-0/blib/arch:/tmp/loop_over_bdir-2594-zRJt0W/LiquidWeb-Storm-CLI-1.03-0/blib/lib:/tmp/loop_over_bdir-2594-zRJt0W/NoZone-1.3-0/blib/arch:/tmp/loop_over_bdir-2594-zRJt0W/NoZone-1.3-0/blib/lib:/tmp/loop_over_bdir-2594-zRJt0W/Devel-Required-0.16-0/blib/arch:/tmp/loop_over_bdir-2594-zRJt0W/Devel-Required-0.16-0/blib/lib:/tmp/loop_over_bdir-2594-zRJt0W/DBIx-Migration-Directories-0.12-0/blib/arch:/tmp/loop_over_bdir-2594-zRJt0W/DBIx-Migration-Directories-0.12-0/blib/lib:/tmp/loop_over_bdir-2594-zRJt0W/Net-Async-WebService-lxd-0.03-0/blib/arch:/tmp/loop_over_bdir-2594-zRJt0W/Net-Async-WebService-lxd-0.03-0/blib/lib"
    PERL5OPT=""
    PERL5_CPANPLUS_IS_RUNNING="2602"
    PERL5_CPAN_IS_RUNNING="2602"
    PERL_CANARY_STABILITY_NOPROMPT="1"
    PERL_MM_USE_DEFAULT="1"
    PERL_USE_UNSAFE_INC="1"
  @INC:
    /tmp/loop_over_bdir-2594-zRJt0W/CORBA-Python-2.66-0/blib/arch
    /tmp/loop_over_bdir-2594-zRJt0W/CORBA-Python-2.66-0/blib/lib
    /tmp/loop_over_bdir-2594-zRJt0W/CGI-Application-NetNewsIface-0.0204-0/blib/arch
    /tmp/loop_over_bdir-2594-zRJt0W/CGI-Application-NetNewsIface-0.0204-0/blib/lib
    /tmp/loop_over_bdir-2594-zRJt0W/App-rmcd-0.280-0/blib/arch
    /tmp/loop_over_bdir-2594-zRJt0W/App-rmcd-0.280-0/blib/lib
    /tmp/loop_over_bdir-2594-zRJt0W/Linux-InitFS-0.2-0/blib/arch
    /tmp/loop_over_bdir-2594-zRJt0W/Linux-InitFS-0.2-0/blib/lib
    /tmp/loop_over_bdir-2594-zRJt0W/Debian-Packages-0.03-0/blib/arch
    /tmp/loop_over_bdir-2594-zRJt0W/Debian-Packages-0.03-0/blib/lib
    /tmp/loop_over_bdir-2594-zRJt0W/App-nrun-v1.1.2-0/blib/arch
    /tmp/loop_over_bdir-2594-zRJt0W/App-nrun-v1.1.2-0/blib/lib
    /tmp/loop_over_bdir-2594-zRJt0W/dta-tokwrap-0.98-0/blib/arch
    /tmp/loop_over_bdir-2594-zRJt0W/dta-tokwrap-0.98-0/blib/lib
    /tmp/loop_over_bdir-2594-zRJt0W/AllKnowingDNS-1.7-0/blib/arch
    /tmp/loop_over_bdir-2594-zRJt0W/AllKnowingDNS-1.7-0/blib/lib
    /tmp/loop_over_bdir-2594-zRJt0W/Lingua-YaTeA-0.626-0/blib/arch
    /tmp/loop_over_bdir-2594-zRJt0W/Lingua-YaTeA-0.626-0/blib/lib
    /tmp/loop_over_bdir-2594-zRJt0W/MP3-PodcastFetch-1.05-0/blib/arch
    /tmp/loop_over_bdir-2594-zRJt0W/MP3-PodcastFetch-1.05-0/blib/lib
    /tmp/loop_over_bdir-2594-zRJt0W/Net-OpenVPN-DDNS-0.1-0/blib/arch
    /tmp/loop_over_bdir-2594-zRJt0W/Net-OpenVPN-DDNS-0.1-0/blib/lib
    /tmp/loop_over_bdir-2594-zRJt0W/mmds-1.902-0/blib/arch
    /tmp/loop_over_bdir-2594-zRJt0W/mmds-1.902-0/blib/lib
    /tmp/loop_over_bdir-2594-zRJt0W/perl-Hardware-UPS-Perl-0.43-0/blib/arch
    /tmp/loop_over_bdir-2594-zRJt0W/perl-Hardware-UPS-Perl-0.43-0/blib/lib
    /tmp/loop_over_bdir-2594-zRJt0W/Captive-Portal-4.10-0/blib/arch
    /tmp/loop_over_bdir-2594-zRJt0W/Captive-Portal-4.10-0/blib/lib
    /tmp/loop_over_bdir-2594-zRJt0W/downsexta-0/blib/arch
    /tmp/loop_over_bdir-2594-zRJt0W/downsexta-0/blib/lib
    /tmp/loop_over_bdir-2594-zRJt0W/Sysync-0.38-0/blib/arch
    /tmp/loop_over_bdir-2594-zRJt0W/Sysync-0.38-0/blib/lib
    /tmp/loop_over_bdir-2594-zRJt0W/EJBCA-CrlPublish-0.60-0/blib/arch
    /tmp/loop_over_bdir-2594-zRJt0W/EJBCA-CrlPublish-0.60-0/blib/lib
    /tmp/loop_over_bdir-2594-zRJt0W/HTML-Menu-TreeView-1.22-0/blib/arch
    /tmp/loop_over_bdir-2594-zRJt0W/HTML-Menu-TreeView-1.22-0/blib/lib
    /tmp/loop_over_bdir-2594-zRJt0W/ProjectBuilder-0.14.1-0/blib/arch
    /tmp/loop_over_bdir-2594-zRJt0W/ProjectBuilder-0.14.1-0/blib/lib
    /tmp/loop_over_bdir-2594-zRJt0W/Business-Shipping-DataFiles-1.02-0/blib/arch
    /tmp/loop_over_bdir-2594-zRJt0W/Business-Shipping-DataFiles-1.02-0/blib/lib
    /tmp/loop_over_bdir-2594-zRJt0W/RDF-NLP-SPARQLQuery-0.1-0/blib/arch
    /tmp/loop_over_bdir-2594-zRJt0W/RDF-NLP-SPARQLQuery-0.1-0/blib/lib
    /tmp/loop_over_bdir-2594-zRJt0W/Dpkg-1.22.6-0/blib/arch
    /tmp/loop_over_bdir-2594-zRJt0W/Dpkg-1.22.6-0/blib/lib
    /tmp/loop_over_bdir-2594-zRJt0W/LiquidWeb-Storm-CLI-1.03-0/blib/arch
    /tmp/loop_over_bdir-2594-zRJt0W/LiquidWeb-Storm-CLI-1.03-0/blib/lib
    /tmp/loop_over_bdir-2594-zRJt0W/NoZone-1.3-0/blib/arch
    /tmp/loop_over_bdir-2594-zRJt0W/NoZone-1.3-0/blib/lib
    /tmp/loop_over_bdir-2594-zRJt0W/Devel-Required-0.16-0/blib/arch
    /tmp/loop_over_bdir-2594-zRJt0W/Devel-Required-0.16-0/blib/lib
    /tmp/loop_over_bdir-2594-zRJt0W/DBIx-Migration-Directories-0.12-0/blib/arch
    /tmp/loop_over_bdir-2594-zRJt0W/DBIx-Migration-Directories-0.12-0/blib/lib
    /tmp/loop_over_bdir-2594-zRJt0W/Net-Async-WebService-lxd-0.03-0/blib/arch
    /tmp/loop_over_bdir-2594-zRJt0W/Net-Async-WebService-lxd-0.03-0/blib/lib
    /home/sand/src/perl/repoperls/installed-perls/host/k93jammy/v5.39.10/5674/lib/site_perl/5.39.10/x86_64-linux-ld
    /home/sand/src/perl/repoperls/installed-perls/host/k93jammy/v5.39.10/5674/lib/site_perl/5.39.10
    /home/sand/src/perl/repoperls/installed-perls/host/k93jammy/v5.39.10/5674/lib/5.39.10/x86_64-linux-ld
    /home/sand/src/perl/repoperls/installed-perls/host/k93jammy/v5.39.10/5674/lib/5.39.10
    .