Back
From: metabase:user:e45047bb-6c03-1014-98e0-c05e9855645b
Subject: PASS Class-Value-Net-1.110250 v5.10.0
Date: 2011-01-27T06:27:41Z
This distribution has been tested as part of the CPAN Testers
project, supporting the Perl programming language. See
http://wiki.cpantesters.org/ for more information or email
questions to cpan-testers-discuss@perl.org
--
Dear Marcel Gruenauer,
This is a computer-generated report for Class-Value-Net-1.110250
on perl 5.10.0, created by CPAN-Reporter-1.1803.
Thank you for uploading your work to CPAN. Congratulations!
All tests were successful.
Sections of this report:
* Tester comments
* Program output
* Prerequisites
* Environment and other context
------------------------------
TESTER COMMENTS
------------------------------
Additional comments from tester:
none provided
------------------------------
PROGRAM OUTPUT
------------------------------
Output from 'nmake.exe test':
Microsoft (R) Program Maintenance Utility Version 10.00.30319.01
Copyright (C) Microsoft Corporation. All rights reserved.
C:\CPANTesters\Perl5.10.0\bin\perl.exe "-MExtUtils::Command::MM" "-e" "test_harness(0, 'blib\lib', 'blib\arch')" t/*.t
t/00-compile.t ............... ok
# Testing with Perl 5.010000, C:\CPANTE~1\PERL51~1.0\bin\perl.exe
# Carp version is 1.08
# Class::Value version is 1.100840
# Class::Value::Boolean version is 1.100840
# Class::Value::Enum version is 1.100840
# Class::Value::Exception::Base version is 1.100840
# Class::Value::SemanticAdapter version is 1.100841
# Class::Value::String version is 1.100840
# Class::Value::Test version is 1.100840
# Data::Semantic::Net::IPAddress::TestData::IPv4 version is 1.101760
# Data::Semantic::Net::IPAddress::TestData::IPv6 version is 1.101760
# English version is 1.04
# Error version is 0.17016
# Error::Hierarchy::Mixin version is 1.103530
# Error::Hierarchy::Test version is 1.103530
# ExtUtils::MakeMaker version is 6.56
# File::Find version is 1.12
# File::Temp version is 0.22
# Scalar::Util version is 1.23
# Test::CompanionClasses version is 1.101370
# Test::CompanionClasses::Base version is 1.101370
# Test::More version is 0.96
# constant version is 1.19
# parent version is 0.224
t/000-report-versions.t ...... ok
t/01_companion_classes.t ..... ok
t/02_hostname.t .............. ok
t/author-critic.t ............ skipped: these tests are for testing by the author
t/release-check-changes.t .... skipped: these tests are for release candidate testing
t/release-dist-manifest.t .... skipped: these tests are for release candidate testing
t/release-distmeta.t ......... skipped: these tests are for release candidate testing
t/release-eol.t .............. skipped: these tests are for release candidate testing
t/release-has-version.t ...... skipped: these tests are for release candidate testing
t/release-kwalitee.t ......... skipped: these tests are for release candidate testing
t/release-minimum-version.t .. skipped: these tests are for release candidate testing
t/release-no-tabs.t .......... skipped: these tests are for release candidate testing
t/release-pod-coverage.t ..... skipped: these tests are for release candidate testing
t/release-pod-spell.t ........ skipped: these tests are for release candidate testing
t/release-pod-syntax.t ....... skipped: these tests are for release candidate testing
t/release-portability.t ...... skipped: these tests are for release candidate testing
t/release-synopsis.t ......... skipped: these tests are for release candidate testing
t/release-unused-vars.t ...... skipped: these tests are for release candidate testing
All tests successful.
Files=19, Tests=96, 13 wallclock secs ( 0.18 usr + 0.03 sys = 0.21 CPU)
Result: PASS
------------------------------
PREREQUISITES
------------------------------
Prerequisite modules loaded:
requires:
Module Need Have
---------------------------------------------- -------- --------
Class::Value::Boolean 0 1.100840
Class::Value::Enum 0 1.100840
Class::Value::Exception::Base 0 1.100840
Class::Value::SemanticAdapter 0 1.100841
Class::Value::String 0 1.100840
Class::Value::Test 0 1.100840
constant 0 1.19
Data::Semantic::Net::IPAddress::TestData::IPv4 1.101750 1.101760
Data::Semantic::Net::IPAddress::TestData::IPv6 0 1.101760
Error::Hierarchy::Mixin 0 1.103530
Error::Hierarchy::Test 0 1.103530
parent 0 0.224
perl 5.008 5.010000
Test::CompanionClasses::Base 0 1.101370
Test::More 0 0.96
build_requires:
Module Need Have
---------------------------------------------- -------- --------
Carp 0 1.08
Class::Value 0 1.100840
English 0 1.04
Error 0 0.17016
File::Find 0 1.12
File::Temp 0 0.22
Scalar::Util 0 1.23
Test::CompanionClasses 0 1.101370
Test::More 0.94 0.96
configure_requires:
Module Need Have
---------------------------------------------- -------- --------
ExtUtils::MakeMaker 6.31 6.56
------------------------------
ENVIRONMENT AND OTHER CONTEXT
------------------------------
Environment variables:
COMSPEC = C:\WINDOWS\system32\cmd.exe
INCLUDE = C:\Program Files\Microsoft Visual Studio 10.0\VC\INCLUDE;C:\Program Files\Microsoft SDKs\Windows\v7.1\INCLUDE;C:\Program Files\Microsoft SDKs\Windows\v7.1\INCLUDE\gl;C:\work\bin\db-5.1.19\build_windows;C:\CPANTesters\archives\zlatkovic\iconv-1.9.2.win32\include;C:\CPANTesters\archives\tidy-060405\include;C:\work\bin\Python26\include;C:\work\include;C:\CPANTesters\bin\xampp\apache\include
LIB = C:\Program Files\Microsoft Visual Studio 10.0\VC\Lib;C:\Program Files\Microsoft SDKs\Windows\v7.1\Lib;C:\WINDOWS\Microsoft.NET\Framework\v4.0.30319;C:\WINDOWS\Microsoft.NET\Framework\v3.5;C:\work\bin\db-5.1.19\build_windows\Win32\Debug;C:\CPANTesters\archives\zlatkovic\iconv-1.9.2.win32\lib;C:\CPANTesters\archives\tidy-060405\lib;C:\work\bin\Aspell\bin;C:\work\bin\Python26\libs;C:\work\lib;C:\CPANTesters\bin\xampp\apache\lib
NUMBER_OF_PROCESSORS = 1
PATH = C:\WINDOWS\Microsoft.NET\Framework\v4.0.30319;C:\WINDOWS\Microsoft.NET\Framework\v3.5;C:\Program Files\Microsoft Visual Studio 10.0\Common7\IDE;C:\Program Files\Microsoft Visual Studio 10.0\Common7\Tools;C:\Program Files\Microsoft Visual Studio 10.0\VC\Bin;C:\Program Files\Microsoft Visual Studio 10.0\VC\Bin\VCPackages;C:\Program Files\Microsoft SDKs\Windows\v7.1\Bin\NETFX 4.0 Tools;C:\Program Files\Microsoft SDKs\Windows\v7.1\Bin;C:\Program Files\Common Files\Microsoft Shared\Windows Live;C:\Program Files\ImageMagick-6.6.0-Q16;C:\work\bin\db-5.1.19\build_windows\Win32\Debug;C:\CPANTesters\Perl5.10.0\site\bin;C:\CPANTesters\Perl5.10.0\bin;C:\oracle\product\10.2.0\client_1\bin;C:\WINDOWS\system32;C:\WINDOWS;C:\WINDOWS\System32\Wbem;C:\Program Files\jEdit;C:\WINDOWS\system32\WindowsPowerShell\v1.0;C:\Program Files\Windows Imaging\;C:\Program Files\Support Tools;C:\CPANTesters\archives\zlatkovic\iconv-1.9.2.win32\bin;C:\CPANTesters\archives\tidy-060405\bin;c:\work\bin;C:\WINDOWS\system32\WindowsPowerShell\v1.0;;C:\Program Files\Microsoft SQL Server\100\Tools\Binn\;c:\Program Files\Microsoft SQL Server\100\DTS\Binn\;C:\CPANTesters\bin\xampp\apache\bin;C:\Program Files\Java\jdk1.6.0_21;C:\work\bin\rrdtool-1.2.30-bin-w32\rrdtool;C:\work\bin\Aspell\bin;C:\work\bin\Python26
PERL5LIB =
PERL5OPT =
PERL5_CPANPLUS_IS_RUNNING = 2572
PERL5_CPAN_IS_RUNNING = 2572
PERL5_CPAN_IS_RUNNING_IN_RECURSION = 5744,2572
PERL_MM_USE_DEFAULT = 1
PROCESSOR_IDENTIFIER = x86 Family 6 Model 13 Stepping 6, GenuineIntel
TEMP = C:\DOCUME~1\lsusanto\LOCALS~1\Temp
TERM = dumb
Perl special variables (and OS-specific diagnostics, for MSWin32):
$^X = C:\CPANTesters\Perl5.10.0\bin\perl.exe
$UID/$EUID = 0 / 0
$GID = 0
$EGID = 0
Win32::GetOSName = WinXP/.Net
Win32::GetOSVersion = Service Pack 3, 5, 1, 2600, 2, 3, 0, 256, 1
Win32::FsType = NTFS
Win32::IsAdminUser = 1
Perl module toolchain versions installed:
Module Have
------------------- --------
CPAN 1.9402
Cwd 3.33
ExtUtils::CBuilder 0.280202
ExtUtils::Command 1.16
ExtUtils::Install 1.54
ExtUtils::MakeMaker 6.56
ExtUtils::Manifest 1.58
ExtUtils::ParseXS 2.2206
File::Spec 3.33
Module::Build 0.3622
Module::Signature 0.66
Test::Harness 3.22
Test::More 0.96
YAML 0.72
YAML::Syck 1.17
version 0.88
--
Summary of my perl5 (revision 5 version 10 subversion 0) configuration:
Platform:
osname=MSWin32, osvers=5.00, archname=MSWin32-x86-multi-thread
uname=''
config_args='undef'
hint=recommended, useposix=true, d_sigaction=undef
useithreads=define, usemultiplicity=define
useperlio=define, d_sfio=undef, uselargefiles=define, usesocks=undef
use64bitint=undef, use64bitall=undef, uselongdouble=undef
usemymalloc=n, bincompat5005=undef
Compiler:
cc='cl', ccflags ='-nologo -GF -W3 -MD -Zi -DNDEBUG -O1 -DWIN32 -D_CONSOLE -DNO_STRICT -DHAVE_DES_FCRYPT -DUSE_SITECUSTOMIZE -DPRIVLIB_LAST_IN_INC -DPERL_IMPLICIT_CONTEXT -DPERL_IMPLICIT_SYS -DUSE_PERLIO -DPERL_MSVCRT_READFIX',
optimize='-MD -Zi -DNDEBUG -O1',
cppflags='-DWIN32'
ccversion='16.0.30319', gccversion='', gccosandvers=''
intsize=4, longsize=4, ptrsize=4, doublesize=8, byteorder=1234
d_longlong=undef, longlongsize=8, d_longdbl=define, longdblsize=10
ivtype='long', ivsize=4, nvtype='double', nvsize=8, Off_t='__int64', lseeksize=8
alignbytes=8, prototype=define
Linker and Libraries:
ld='link', ldflags ='-nologo -nodefaultlib -debug -opt:ref,icf -libpath:"C:\CPANTesters\Perl5.10.0\lib\CORE" -machine:x86'
libpth=\lib
libs= oldnames.lib kernel32.lib user32.lib gdi32.lib winspool.lib comdlg32.lib advapi32.lib shell32.lib ole32.lib oleaut32.lib netapi32.lib uuid.lib ws2_32.lib mpr.lib winmm.lib version.lib odbc32.lib odbccp32.lib msvcrt.lib
perllibs= oldnames.lib kernel32.lib user32.lib gdi32.lib winspool.lib comdlg32.lib advapi32.lib shell32.lib ole32.lib oleaut32.lib netapi32.lib uuid.lib ws2_32.lib mpr.lib winmm.lib version.lib odbc32.lib odbccp32.lib msvcrt.lib
libc=msvcrt.lib, so=dll, useshrplib=true, libperl=perl510.lib
gnulibc_version=''
Dynamic Linking:
dlsrc=dl_win32.xs, dlext=dll, d_dlsymun=undef, ccdlflags=' '
cccdlflags=' ', lddlflags='-dll -nologo -nodefaultlib -debug -opt:ref,icf -libpath:"C:\CPANTesters\Perl5.10.0\lib\CORE" -machine:x86'
Characteristics of this binary (from libperl):
Compile-time options: MULTIPLICITY PERL_DONT_CREATE_GVSV
PERL_IMPLICIT_CONTEXT PERL_IMPLICIT_SYS
PERL_MALLOC_WRAP PL_OP_SLAB_ALLOC USE_ITHREADS
USE_LARGE_FILES USE_PERLIO USE_SITECUSTOMIZE
Locally applied patches:
ActivePerl Build 1003 [285500]
33741 avoids segfaults invoking S_raise_signal() (on Linux)
33763 Win32 process ids can have more than 16 bits
32809 Load 'loadable object' with non-default file extension
32728 64-bit fix for Time::Local
Built under MSWin32
Compiled at May 13 2008 16:52:49
%ENV:
PERL5_CPANPLUS_IS_RUNNING="2572"
PERL5_CPAN_IS_RUNNING="2572"
PERL5_CPAN_IS_RUNNING_IN_RECURSION="5744,2572"
PERL_MM_USE_DEFAULT="1"
@INC:
C:/CPANTesters/Perl5.10.0/site/lib
C:/CPANTesters/Perl5.10.0/lib
.