Report for Hash-AutoHash-1.17

Back
From: metabase:user:0d96120c-29e2-11e5-b049-ede3035d37de
Subject: PASS Hash-AutoHash-1.17 v5.23.1 SunOS/Solaris
Date: 2015-08-08T04:13:24Z

This distribution has been tested as part of the CPAN Testers
project, supporting the Perl programming language.  See
http://wiki.cpantesters.org/ for more information or email
questions to cpan-testers-discuss@perl.org


--
Dear Nathan Goodman,

This is a computer-generated report for Hash-AutoHash-1.17
on perl 5.23.1, created by CPAN-Reporter-1.2015.

Thank you for uploading your work to CPAN.  Congratulations!
All tests were successful.

Sections of this report:

    * Tester comments
    * Program output
    * Prerequisites
    * Environment and other context

------------------------------
TESTER COMMENTS
------------------------------

Additional comments from tester:

this report is from an automated smoke testing program
and was not reviewed by a human for accuracy

CPU            : Intel(r) Xeon(r) CPU E5-1650 v3 @ 3.50GHz
MEMORY         : 8.00 GB
ARCH           : i86pc
OS             : Solaris 5.11
KERNEL         : SunOS 5.11
VIRTUALIZATION : virtualbox

------------------------------
PROGRAM OUTPUT
------------------------------

Output from './Build test':

# Testing Hash::AutoHash 1.17, Perl 5.023001, /export/home/jmaslak/perl5/perlbrew/perls/perl-5.23.1-64int/bin/perl5.23.1
t/autohash.000.code_exists.t .... ok
t/autohash.001.boilerplate.t .... ok
t/autohash.002.pod.t ............ ok
t/autohash.010.cons_funcs.t ..... ok
t/autohash.011.new_func.t ....... ok
t/autohash.012.new_method.t ..... ok
t/autohash.013.ashash.t ......... ok
t/autohash.013.exthash.t ........ ok
t/autohash.013.extobj.t ......... ok
t/autohash.019.export_ok.t ...... ok
t/autohash.020.class_methods.t .. ok
t/autohash.020.special_keys.t ... ok
t/autohash.020.universal.t ...... ok
t/autohash.030.alias.t .......... ok
t/autohash.030.clear.t .......... ok
t/autohash.030.count_etc.t ...... ok
t/autohash.030.delete.t ......... ok
t/autohash.030.each.t ........... ok
t/autohash.030.exists.t ......... ok
t/autohash.030.get.t ............ ok
t/autohash.030.keys.t ........... ok
t/autohash.030.set.t ............ ok
t/autohash.030.tied.t ........... ok
t/autohash.030.values.t ......... ok
t/autohash.031.delete_exists.t .. ok
t/autohash.031.delete_keys.t .... ok
t/autohash.031.delete_values.t .. ok
t/autohash.040.destroy.t ........ ok
t/autohash.050.child.t .......... ok
t/autohash.050.grandchild.t ..... ok
t/autohash.055.typicalchild.t ... ok
t/autohash.099.docs.t ........... ok
All tests successful.
Files=32, Tests=2813,  5 wallclock secs ( 0.30 usr  0.18 sys +  2.24 cusr  1.32 csys =  4.04 CPU)
Result: PASS

------------------------------
PREREQUISITES
------------------------------

Prerequisite modules loaded:

requires:

    Module                Need   Have    
    --------------------- ------ --------
    Carp                  1.2    1.36    
    Cwd                   3.4    3.56    
    Exporter              5.68   5.72    
    List::MoreUtils       0.33   0.413   
    List::Util            1.32   1.42_01 
    perl                  v5.8.3 5.023001
    Tie::Hash             1.04   1.05    
    Tie::ToObject         0.03   0.03    
    XSLoader              0.15   0.20    

build_requires:

    Module                Need   Have    
    --------------------- ------ --------
    Carp                  1.2    1.36    
    Exporter              5.68   5.72    
    File::Spec            3.4    3.56    
    List::MoreUtils       0.33   0.413   
    Module::Build         0.4007 0.4214  
    Scalar::Util          1.23   1.42_01 
    Storable              2.3    2.54    
    Test::Deep            0.11   0.117   
    Test::More            0.98   1.001014
    Test::Pod             1.48   1.51    
    Test::Pod::Content    v0.0.6 0.0.6   
    Tie::Hash             1.04   1.05    
    Tie::Hash::MultiValue 1.02   1.02    

configure_requires:

    Module                Need   Have    
    --------------------- ------ --------
    Module::Build         0.4007 0.4214  


------------------------------
ENVIRONMENT AND OTHER CONTEXT
------------------------------

Environment variables:

    AUTOMATED_TESTING = 1
    LANG = en_US.UTF-8
    LC_ALL = 
    LC_COLLATE = 
    LC_CTYPE = 
    LC_MESSAGES = 
    LC_MONETARY = 
    LC_NUMERIC = 
    LC_TIME = 
    NONINTERACTIVE_TESTING = 1
    PATH = /export/home/jmaslak/perl5/perlbrew/bin:/export/home/jmaslak/perl5/perlbrew/perls/perl-5.23.1-64int/bin:/export/home/jmaslak/perltest/bin:/export/home/jmaslak/perltest/bin:/export/home/jmaslak/perltest/bin:/export/home/jmaslak/bin:~/bin:/export/home/jmaslak/perl5/perlbrew/bin:/export/home/jmaslak/perl5/perlbrew/perls/perl-5.23.1/bin:/usr/bin:/bin:/usr/ccs/bin:/usr/sbin:/usr/ccs/bin:/opt/solarisstudio12.4/bin:/usr/ucb:~/perltest/bin
    PERL5LIB = /export/home/jmaslak/.cpan/build/Tie-Hash-MultiValue-1.02-SsOauo/blib/arch:/export/home/jmaslak/.cpan/build/Tie-Hash-MultiValue-1.02-SsOauo/blib/lib:/export/home/jmaslak/.cpan/build/Test-Pod-Content-v0.0.6-Sozrl9/blib/arch:/export/home/jmaslak/.cpan/build/Test-Pod-Content-v0.0.6-Sozrl9/blib/lib:/export/home/jmaslak/.cpan/build/Test-Pod-1.51-yP8jrg/blib/arch:/export/home/jmaslak/.cpan/build/Test-Pod-1.51-yP8jrg/blib/lib:/export/home/jmaslak/.cpan/build/Tie-ToObject-0.03-BXMD10/blib/arch:/export/home/jmaslak/.cpan/build/Tie-ToObject-0.03-BXMD10/blib/lib
    PERL5OPT = 
    PERL5_CPANPLUS_IS_RUNNING = 11233
    PERL5_CPAN_IS_RUNNING = 11233
    PERL5_CPAN_IS_RUNNING_IN_RECURSION = 25860,11233
    PERLBREW_BASHRC_VERSION = 0.73
    PERLBREW_HOME = /export/home/jmaslak/.perlbrew
    PERLBREW_LIB = 
    PERLBREW_MANPATH = /export/home/jmaslak/perl5/perlbrew/perls/perl-5.23.1-64int/man
    PERLBREW_PATH = /export/home/jmaslak/perl5/perlbrew/bin:/export/home/jmaslak/perl5/perlbrew/perls/perl-5.23.1-64int/bin
    PERLBREW_PERL = perl-5.23.1-64int
    PERLBREW_ROOT = /export/home/jmaslak/perl5/perlbrew
    PERLBREW_VERSION = 0.73
    PERL_CR_SMOKER_CURRENT = Hash-AutoHash-Args-1.18
    PERL_EXTUTILS_AUTOINSTALL = --defaultdeps
    PERL_LOCAL_LIB_ROOT = 
    PERL_MM_USE_DEFAULT = 1
    SHELL = /usr/bin/bash
    TERM = screen

Perl special variables (and OS-specific diagnostics, for MSWin32):

    $^X = /export/home/jmaslak/perl5/perlbrew/perls/perl-5.23.1-64int/bin/perl5.23.1
    $UID/$EUID = 100 / 100
    $GID = 10 10
    $EGID = 10 10

Perl module toolchain versions installed:

    Module              Have    
    ------------------- --------
    CPAN                2.11    
    CPAN::Meta          2.150005
    Cwd                 3.56    
    ExtUtils::CBuilder  0.280223
    ExtUtils::Command   1.20    
    ExtUtils::Install   2.04    
    ExtUtils::MakeMaker 7.04_01 
    ExtUtils::Manifest  1.70    
    ExtUtils::ParseXS   3.28    
    File::Spec          3.56    
    JSON                2.90    
    JSON::PP            2.27300 
    Module::Build       0.4214  
    Module::Signature   n/a     
    Parse::CPAN::Meta   1.4417  
    Test::Harness       3.35    
    Test::More          1.001014
    YAML                1.15    
    YAML::Syck          n/a     
    version             0.9909  


--

Summary of my perl5 (revision 5 version 23 subversion 1) configuration:
   
  Platform:
    osname=solaris, osvers=2.11, archname=i86pc-solaris-64int
    uname='sunos solaris.antelope.net 5.11 11.2 i86pc i386 i86pc '
    config_args='-de -Dprefix=/export/home/jmaslak/perl5/perlbrew/perls/perl-5.23.1-64int -Duse64bitint -Dusedevel -Aeval:scriptdir=/export/home/jmaslak/perl5/perlbrew/perls/perl-5.23.1-64int/bin'
    hint=recommended, useposix=true, d_sigaction=define
    useithreads=undef, usemultiplicity=undef
    use64bitint=define, use64bitall=undef, uselongdouble=undef
    usemymalloc=n, bincompat5005=undef
  Compiler:
    cc='/opt/solarisstudio12.4/bin/cc', ccflags ='-DPTR_IS_LONG -I/usr/gnu/include -D_LARGEFILE_SOURCE -D_FILE_OFFSET_BITS=64 -DPERL_USE_SAFE_PUTENV',
    optimize='-O',
    cppflags='-DPTR_IS_LONG -I/usr/gnu/include'
    ccversion='Sun C 5.13 SunOS_i386 2014/10/20', gccversion='', gccosandvers=''
    intsize=4, longsize=4, ptrsize=4, doublesize=8, byteorder=12345678, doublekind=3
    d_longlong=define, longlongsize=8, d_longdbl=define, longdblsize=12, longdblkind=3
    ivtype='long long', ivsize=8, nvtype='double', nvsize=8, Off_t='off_t', lseeksize=8
    alignbytes=4, prototype=define
  Linker and Libraries:
    ld='/opt/solarisstudio12.4/bin/cc', ldflags =' -L/usr/lib -L/usr/ccs/lib -L/opt/solarisstudio12.4/lib/compilers/staticlib -L/opt/solarisstudio12.4/lib/compilers/sse2 -L/opt/solarisstudio12.4/lib/compilers -L/lib -L/usr/gnu/lib '
    libpth=/usr/lib /usr/ccs/lib /opt/solarisstudio12.4/lib/compilers/staticlib /opt/solarisstudio12.4/lib/compilers/sse2 /opt/solarisstudio12.4/lib/compilers /lib /usr/gnu/lib
    libs=-lpthread -lsocket -lnsl -lgdbm -ldb -ldl -lm -lc
    perllibs=-lpthread -lsocket -lnsl -ldl -lm -lc
    libc=/lib/libc.so, so=so, useshrplib=false, libperl=libperl.a
    gnulibc_version=''
  Dynamic Linking:
    dlsrc=dl_dlopen.xs, dlext=so, d_dlsymun=undef, ccdlflags=' '
    cccdlflags='-KPIC', lddlflags='-G -L/usr/lib -L/usr/ccs/lib -L/opt/solarisstudio12.4/lib/compilers/staticlib -L/opt/solarisstudio12.4/lib/compilers/sse2 -L/opt/solarisstudio12.4/lib/compilers -L/lib -L/usr/gnu/lib'


Characteristics of this binary (from libperl): 
  Compile-time options: HAS_TIMES PERLIO_LAYERS PERL_COPY_ON_WRITE
                        PERL_DONT_CREATE_GVSV
                        PERL_HASH_FUNC_ONE_AT_A_TIME_HARD PERL_MALLOC_WRAP
                        PERL_PRESERVE_IVUV PERL_USE_DEVEL
                        PERL_USE_SAFE_PUTENV USE_64_BIT_INT USE_LARGE_FILES
                        USE_LOCALE USE_LOCALE_COLLATE USE_LOCALE_CTYPE
                        USE_LOCALE_NUMERIC USE_LOCALE_TIME USE_PERLIO
                        USE_PERL_ATOF
  Locally applied patches:
	Devel::PatchPerl 1.38
  Built under solaris
  Compiled at Jul 25 2015 00:10:29
  %ENV:
    PERL5LIB="/export/home/jmaslak/.cpan/build/Tie-Hash-MultiValue-1.02-SsOauo/blib/arch:/export/home/jmaslak/.cpan/build/Tie-Hash-MultiValue-1.02-SsOauo/blib/lib:/export/home/jmaslak/.cpan/build/Test-Pod-Content-v0.0.6-Sozrl9/blib/arch:/export/home/jmaslak/.cpan/build/Test-Pod-Content-v0.0.6-Sozrl9/blib/lib:/export/home/jmaslak/.cpan/build/Test-Pod-1.51-yP8jrg/blib/arch:/export/home/jmaslak/.cpan/build/Test-Pod-1.51-yP8jrg/blib/lib:/export/home/jmaslak/.cpan/build/Tie-ToObject-0.03-BXMD10/blib/arch:/export/home/jmaslak/.cpan/build/Tie-ToObject-0.03-BXMD10/blib/lib"
    PERL5OPT=""
    PERL5_CPANPLUS_IS_RUNNING="11233"
    PERL5_CPAN_IS_RUNNING="11233"
    PERL5_CPAN_IS_RUNNING_IN_RECURSION="25860,11233"
    PERLBREW_BASHRC_VERSION="0.73"
    PERLBREW_HOME="/export/home/jmaslak/.perlbrew"
    PERLBREW_LIB=""
    PERLBREW_MANPATH="/export/home/jmaslak/perl5/perlbrew/perls/perl-5.23.1-64int/man"
    PERLBREW_PATH="/export/home/jmaslak/perl5/perlbrew/bin:/export/home/jmaslak/perl5/perlbrew/perls/perl-5.23.1-64int/bin"
    PERLBREW_PERL="perl-5.23.1-64int"
    PERLBREW_ROOT="/export/home/jmaslak/perl5/perlbrew"
    PERLBREW_VERSION="0.73"
    PERL_CR_SMOKER_CURRENT="Hash-AutoHash-Args-1.18"
    PERL_EXTUTILS_AUTOINSTALL="--defaultdeps"
    PERL_LOCAL_LIB_ROOT=""
    PERL_MM_USE_DEFAULT="1"
  @INC:
    /export/home/jmaslak/.cpan/build/Tie-Hash-MultiValue-1.02-SsOauo/blib/arch
    /export/home/jmaslak/.cpan/build/Tie-Hash-MultiValue-1.02-SsOauo/blib/lib
    /export/home/jmaslak/.cpan/build/Test-Pod-Content-v0.0.6-Sozrl9/blib/arch
    /export/home/jmaslak/.cpan/build/Test-Pod-Content-v0.0.6-Sozrl9/blib/lib
    /export/home/jmaslak/.cpan/build/Test-Pod-1.51-yP8jrg/blib/arch
    /export/home/jmaslak/.cpan/build/Test-Pod-1.51-yP8jrg/blib/lib
    /export/home/jmaslak/.cpan/build/Tie-ToObject-0.03-BXMD10/blib/arch
    /export/home/jmaslak/.cpan/build/Tie-ToObject-0.03-BXMD10/blib/lib
    /export/home/jmaslak/perl5/perlbrew/perls/perl-5.23.1-64int/lib/site_perl/5.23.1/i86pc-solaris-64int
    /export/home/jmaslak/perl5/perlbrew/perls/perl-5.23.1-64int/lib/site_perl/5.23.1
    /export/home/jmaslak/perl5/perlbrew/perls/perl-5.23.1-64int/lib/5.23.1/i86pc-solaris-64int
    /export/home/jmaslak/perl5/perlbrew/perls/perl-5.23.1-64int/lib/5.23.1
    .