Report for Catalyst-Devel-1.34

Back
From: metabase:user:37ebb4da-dc17-11df-a8ef-8dfd6302db71
Subject: PASS Catalyst-Devel-1.34 v5.12.3 Mac OS X
Date: 2011-09-18T11:03:17Z

This distribution has been tested as part of the CPAN Testers
project, supporting the Perl programming language.  See
http://wiki.cpantesters.org/ for more information or email
questions to cpan-testers-discuss@perl.org


--
Dear Tomas Doran,

This is a computer-generated report for Catalyst-Devel-1.34
on perl 5.12.3, created by CPAN-Reporter-1.2002.

Thank you for uploading your work to CPAN.  Congratulations!
All tests were successful.

Sections of this report:

    * Tester comments
    * Program output
    * Prerequisites
    * Environment and other context

------------------------------
TESTER COMMENTS
------------------------------

Additional comments from tester:

none provided

------------------------------
PROGRAM OUTPUT
------------------------------

Output from '/usr/bin/make test':

PERL_DL_NONLAZY=1 /opt/local/bin/perl "-MExtUtils::Command::MM" "-e" "test_harness(0, 'inc', 'blib/lib', 'blib/arch')" t/01use.t t/back_compat.t t/generated_app.t t/get_sharedir_file.t t/optional_http-server-restart.t t/render_file_contents.t t/render_share_dir_file.t
t/01use.t ......................... ok
t/back_compat.t ................... ok
# Generated app is in /var/folders/d_/6pbqytjs3fx_flstw20_ksy40000gn/T/pwTyHcOvDD
# Installed app is in /var/folders/d_/6pbqytjs3fx_flstw20_ksy40000gn/T/VDnAuuPd2q
t/generated_app.t ................. ok
t/get_sharedir_file.t ............. ok
t/optional_http-server-restart.t .. skipped: set TEST_HTTP to enable this test
t/render_file_contents.t .......... ok
t/render_share_dir_file.t ......... ok
All tests successful.
Files=7, Tests=91, 10 wallclock secs ( 0.05 usr  0.02 sys +  8.36 cusr  1.08 csys =  9.51 CPU)
Result: PASS

------------------------------
PREREQUISITES
------------------------------

Prerequisite modules loaded:

requires:

    Module                                 Need    Have   
    -------------------------------------- ------- -------
    Catalyst                               5.90001 5.90002
    Catalyst::Action::RenderView           0.10    0.14   
    Catalyst::Plugin::ConfigLoader         0.30    0.30   
    Catalyst::Plugin::Static::Simple       0.28    0.29   
    Config::General                        2.42    2.49   
    ExtUtils::MakeMaker                    6.11    6.59   
    File::ChangeNotify                     0.07    0.17   
    File::Copy::Recursive                  0       0.38   
    File::ShareDir                         0       1.02   
    Module::Install                        0.91    1.00   
    Moose                                  0       2.0204 
    MooseX::Daemonize                      0       0.13   
    MooseX::Emulate::Class::Accessor::Fast 0       0.00903
    namespace::autoclean                   0       0.12   
    namespace::clean                       0       0.21   
    Path::Class                            0.09    0.21   
    Starman                                0       0.2013 
    Template                               2.14    2.22   
    Test::Fatal                            0.003   0.003  
    Test::More                             0.94    0.98   

build_requires:

    Module                                 Need    Have   
    -------------------------------------- ------- -------
    ExtUtils::MakeMaker                    6.42    6.59   
    Test::Fatal                            0.003   0.003  
    Test::More                             0.94    0.98   

configure_requires:

    Module                                 Need    Have   
    -------------------------------------- ------- -------
    ExtUtils::MakeMaker                    6.42    6.59   


------------------------------
ENVIRONMENT AND OTHER CONTEXT
------------------------------

Environment variables:

    LANG = en_US.UTF-8
    LC_ALL = en_US.UTF-8
    PATH = /Users/zoul/perl5/bin:/Users/zoul/Bin/:/usr/local/bin/:/opt/local/bin/:/usr/bin:/bin:/usr/sbin:/sbin:/usr/local/bin:/usr/X11/bin:/opt/local/bin:/opt/local/sbin
    PERL5LIB = /Users/zoul/perl5/lib/perl5/darwin-multi-2level:/Users/zoul/perl5/lib/perl5
    PERL5OPT = 
    PERL5_CPANPLUS_IS_RUNNING = 40227
    PERL5_CPAN_IS_RUNNING = 40227
    PERL_LOCAL_LIB_ROOT = /Users/zoul/perl5
    PERL_MB_OPT = --install_base /Users/zoul/perl5
    PERL_MM_OPT = INSTALL_BASE=/Users/zoul/perl5
    SHELL = /bin/bash
    TERM = xterm-256color
    TMPDIR = /var/folders/d_/6pbqytjs3fx_flstw20_ksy40000gn/T/

Perl special variables (and OS-specific diagnostics, for MSWin32):

    $^X = /opt/local/bin/perl
    $UID/$EUID = 501 / 501
    $GID = 20 20 403 401 12 33 61 79 80 81 98 100 204 402
    $EGID = 20 20 403 401 12 33 61 79 80 81 98 100 204 402

Perl module toolchain versions installed:

    Module              Have    
    ------------------- --------
    CPAN                1.9800  
    CPAN::Meta          2.112150
    Cwd                 3.33    
    ExtUtils::CBuilder  0.280202
    ExtUtils::Command   1.16    
    ExtUtils::Install   1.55    
    ExtUtils::MakeMaker 6.59    
    ExtUtils::Manifest  1.60    
    ExtUtils::ParseXS   3.04    
    File::Spec          3.33    
    JSON                2.26    
    JSON::PP            2.27104 
    Module::Build       0.3800  
    Module::Signature   n/a     
    Parse::CPAN::Meta   1.4401  
    Test::Harness       3.23    
    Test::More          0.98    
    YAML                0.73    
    YAML::Syck          1.17    
    version             0.94    


--

Summary of my perl5 (revision 5 version 12 subversion 3) configuration:
   
  Platform:
    osname=darwin, osvers=11.0.0, archname=darwin-multi-2level
    uname='darwin naima.local 11.0.0 darwin kernel version 11.0.0: sat jun 18 12:56:35 pdt 2011; root:xnu-1699.22.73~1release_x86_64 x86_64 '
    config_args='-D inc_version_list=5.12.2/darwin-multi-2level 5.12.2 5.12.1/darwin-multi-2level 5.12.1 5.12.0/darwin-multi-2level 5.12.0 -des -Dprefix=/opt/local -Dscriptdir=/opt/local/bin -Dcppflags=-I/opt/local/include -Dccflags=-O2 -arch x86_64 -Dldflags=-L/opt/local/lib -arch x86_64 -Dvendorprefix=/opt/local -Dusemultiplicity=y -D cc=/Developer/usr/bin/llvm-gcc-4.2 -D ld=/Developer/usr/bin/llvm-gcc-4.2 -D man1ext=1pm -D man3ext=3pm -D man1dir=/opt/local/share/man/man1p -D man3dir=/opt/local/share/man/man3p -D siteman1dir=/opt/local/share/man/man1 -D siteman3dir=/opt/local/share/man/man3 -D vendorman1dir=/opt/local/share/man/man1 -D vendorman3dir=/opt/local/share/man/man3 -D pager=/usr/bin/less -sR'
    hint=recommended, useposix=true, d_sigaction=define
    useithreads=undef, usemultiplicity=define
    useperlio=define, d_sfio=undef, uselargefiles=define, usesocks=undef
    use64bitint=define, use64bitall=define, uselongdouble=undef
    usemymalloc=n, bincompat5005=undef
  Compiler:
    cc='/Developer/usr/bin/llvm-gcc-4.2', ccflags ='-O2 -arch x86_64 -fno-common -DPERL_DARWIN -I/opt/local/include -no-cpp-precomp -fno-strict-aliasing -pipe -fstack-protector -I/opt/local/include',
    optimize='-O3',
    cppflags='-I/opt/local/include -no-cpp-precomp -O2 -arch x86_64 -fno-common -DPERL_DARWIN -I/opt/local/include -no-cpp-precomp -fno-strict-aliasing -pipe -fstack-protector -I/opt/local/include'
    ccversion='', gccversion='4.2.1 (Based on Apple Inc. build 5658) (LLVM build 2335.15.00)', gccosandvers=''
    intsize=4, longsize=8, ptrsize=8, doublesize=8, byteorder=12345678
    d_longlong=define, longlongsize=8, d_longdbl=define, longdblsize=16
    ivtype='long', ivsize=8, nvtype='double', nvsize=8, Off_t='off_t', lseeksize=8
    alignbytes=8, prototype=define
  Linker and Libraries:
    ld='env MACOSX_DEPLOYMENT_TARGET=10.3 /Developer/usr/bin/llvm-gcc-4.2', ldflags ='-L/opt/local/lib -arch x86_64 -fstack-protector'
    libpth=/opt/local/lib /usr/lib
    libs=-lgdbm -ldbm -ldl -lm -lutil -lc
    perllibs=-ldl -lm -lutil -lc
    libc=, so=dylib, useshrplib=false, libperl=libperl.a
    gnulibc_version=''
  Dynamic Linking:
    dlsrc=dl_dlopen.xs, dlext=bundle, d_dlsymun=undef, ccdlflags=' '
    cccdlflags=' ', lddlflags='-L/opt/local/lib -arch x86_64 -bundle -undefined dynamic_lookup -fstack-protector'


Characteristics of this binary (from libperl): 
  Compile-time options: MULTIPLICITY PERL_DONT_CREATE_GVSV
                        PERL_IMPLICIT_CONTEXT PERL_MALLOC_WRAP USE_64_BIT_ALL
                        USE_64_BIT_INT USE_LARGE_FILES USE_PERLIO
                        USE_PERL_ATOF
  Built under darwin
  Compiled at Jul 22 2011 07:45:38
  %ENV:
    PERL5LIB="/Users/zoul/perl5/lib/perl5/darwin-multi-2level:/Users/zoul/perl5/lib/perl5"
    PERL5OPT=""
    PERL5_CPANPLUS_IS_RUNNING="40227"
    PERL5_CPAN_IS_RUNNING="40227"
    PERL_LOCAL_LIB_ROOT="/Users/zoul/perl5"
    PERL_MB_OPT="--install_base /Users/zoul/perl5"
    PERL_MM_OPT="INSTALL_BASE=/Users/zoul/perl5"
  @INC:
    /Users/zoul/perl5/lib/perl5/darwin-multi-2level
    /Users/zoul/perl5/lib/perl5/darwin-multi-2level
    /Users/zoul/perl5/lib/perl5
    /opt/local/lib/perl5/site_perl/5.12.3/darwin-multi-2level
    /opt/local/lib/perl5/site_perl/5.12.3
    /opt/local/lib/perl5/vendor_perl/5.12.3/darwin-multi-2level
    /opt/local/lib/perl5/vendor_perl/5.12.3
    /opt/local/lib/perl5/5.12.3/darwin-multi-2level
    /opt/local/lib/perl5/5.12.3
    /opt/local/lib/perl5/site_perl
    /opt/local/lib/perl5/vendor_perl
    .