Back
From: metabase:user:320bfe00-2aae-11df-837a-5e0a49663a4f
Subject: PASS Catalyst-Action-RenderView-ErrorHandler-0.100166 v5.18.0 GNU/Linux
Date: 2013-07-17T07:52:22Z
This distribution has been tested as part of the CPAN Testers
project, supporting the Perl programming language. See
http://wiki.cpantesters.org/ for more information or email
questions to cpan-testers-discuss@perl.org
--
Dear Andreas Marienborg,
This is a computer-generated report for Catalyst-Action-RenderView-ErrorHandler-0.100166
on perl 5.18.0, created by CPAN-Reporter-1.2010.
Thank you for uploading your work to CPAN. Congratulations!
All tests were successful.
Sections of this report:
* Tester comments
* Program output
* Prerequisites
* Environment and other context
------------------------------
TESTER COMMENTS
------------------------------
Additional comments from tester:
this report is from an automated smoke testing program
and was not reviewed by a human for accuracy
------------------------------
PROGRAM OUTPUT
------------------------------
Output from '/usr/bin/make test':
PERL_DL_NONLAZY=1 /home/sand/src/perl/repoperls/installed-perls/perl/v5.18.0/165a/bin/perl "-MExtUtils::Command::MM" "-e" "test_harness(0, 'blib/lib', 'blib/arch')" t/*.t
t/00-compile.t ................... ok
# Testing Catalyst::Action::RenderView::ErrorHandler 0.100166
t/00.load.t ...................... ok
#
#
# Generated by Dist::Zilla::Plugin::ReportVersions::Tiny v1.08
# perl: 5.018000 (wanted any version) on linux from /home/sand/src/perl/repoperls/installed-perls/perl/v5.18.0/165a/bin/perl
#
# Carp => 1.29 (want any version)
# Catalyst => 5.90042 (want any version)
# Catalyst::Action::RenderView => 0.16 (want any version)
# Catalyst::Controller => <undef> (want any version)
# Catalyst::Test => <undef> (want any version)
# Catalyst::View => <undef> (want any version)
# Catalyst::View::TT => 0.41 (want any version)
# Class::Inspector => 1.28 (want any version)
# ExtUtils::MakeMaker => 6.6904 (want 6.30)
# File::Find => 1.23 (want any version)
# File::Temp => 0.2301 (want any version)
# FindBin => 1.51 (want any version)
# HTTP::Request::AsCGI => 1.2 (want any version)
# MRO::Compat => 0.12 (want any version)
# Moose => 2.0802 (want any version)
# Moose::Role => 2.0802 (want any version)
# Pod::Coverage::TrustPod => module not found. (want any version)
# Test::More => 0.98 (want 0.96)
# Test::Pod => 1.48 (want 1.41)
# Test::Pod::Coverage => 1.08 (want 1.08)
# Text::Diff => 1.41 (want any version)
# base => 2.18 (want any version)
# lib => 0.63 (want any version)
# strict => 1.07 (want any version)
# version => 0.9902 (want 0.9901)
# warnings => 1.18 (want any version)
#
# Thanks for using my code. I hope it works for you.
# If not, please try and include this output in the bug report.
# That will help me reproduce the issue and solve your problem.
#
t/000-report-versions-tiny.t ..... ok
Name "main::SAVEERR" used only once: possible typo at t/01.usage.t line 38.
t/01.usage.t ..................... ok
Name "main::SAVEERR" used only once: possible typo at t/02.defaults.t line 38.
t/02.defaults.t .................. ok
[debug] Debug messages enabled
[debug] Statistics enabled
[debug] Loaded plugins:
.----------------------------------------------------------------------------.
| Catalyst::Plugin::Unicode::Encoding 2.1 |
'----------------------------------------------------------------------------'
[debug] Loaded dispatcher "Catalyst::Dispatcher"
[debug] Loaded engine "Catalyst::Engine"
[debug] Found home "/tmp/loop_over_bdir-15585-GerGZ6/Catalyst-Action-RenderView-ErrorHandler-0.100166-MZ3V3o/t/lib/TestApp3"
[debug] Loaded components:
.-----------------------------------------------------------------+----------.
| Class | Type |
+-----------------------------------------------------------------+----------+
| TestApp3::Controller::Root | instance |
| TestApp3::View::Default | instance |
'-----------------------------------------------------------------+----------'
[debug] Loaded Private actions:
.----------------------+--------------------------------------+--------------.
| Private | Class | Method |
+----------------------+--------------------------------------+--------------+
| /test_ok | TestApp3::Controller::Root | test_ok |
| /end | TestApp3::Controller::Root | end |
| /test_die | TestApp3::Controller::Root | test_die |
'----------------------+--------------------------------------+--------------'
[debug] Loaded Path actions:
.-------------------------------------+--------------------------------------.
| Path | Private |
+-------------------------------------+--------------------------------------+
| /test_die/... | /test_die |
| /test_ok/... | /test_ok |
'-------------------------------------+--------------------------------------'
[info] TestApp powered by Catalyst 5.90042
Name "main::SAVEERR" used only once: possible typo at t/03.debug.t line 38.
t/03.debug.t ..................... ok
[debug] Debug messages enabled
[debug] Statistics enabled
[debug] Loaded plugins:
.----------------------------------------------------------------------------.
| Catalyst::Plugin::Unicode::Encoding 2.1 |
'----------------------------------------------------------------------------'
[debug] Loaded dispatcher "Catalyst::Dispatcher"
[debug] Loaded engine "Catalyst::Engine"
[debug] Found home "/tmp/loop_over_bdir-15585-GerGZ6/Catalyst-Action-RenderView-ErrorHandler-0.100166-MZ3V3o/t/lib/TestApp4"
[debug] Loaded components:
.-----------------------------------------------------------------+----------.
| Class | Type |
+-----------------------------------------------------------------+----------+
| TestApp4::Controller::Root | instance |
| TestApp4::View::Default | instance |
'-----------------------------------------------------------------+----------'
[debug] Loaded Private actions:
.----------------------+--------------------------------------+--------------.
| Private | Class | Method |
+----------------------+--------------------------------------+--------------+
| /end | TestApp4::Controller::Root | end |
| /test_ok | TestApp4::Controller::Root | test_ok |
| /test_404 | TestApp4::Controller::Root | test_404 |
| /test_die | TestApp4::Controller::Root | test_die |
'----------------------+--------------------------------------+--------------'
[debug] Loaded Path actions:
.-------------------------------------+--------------------------------------.
| Path | Private |
+-------------------------------------+--------------------------------------+
| /test_404/... | /test_404 |
| /test_die/... | /test_die |
| /test_ok/... | /test_ok |
'-------------------------------------+--------------------------------------'
[info] TestApp4 powered by Catalyst 5.90042
Name "main::SAVEERR" used only once: possible typo at t/04.debug_enable.t line 30.
t/04.debug_enable.t .............. ok
t/release-changes_has_content.t .. skipped: these tests are for release candidate testing
t/release-pod-coverage.t ......... skipped: these tests are for release candidate testing
t/release-pod-syntax.t ........... skipped: these tests are for release candidate testing
All tests successful.
Files=10, Tests=91, 17 wallclock secs ( 0.05 usr 0.02 sys + 5.43 cusr 0.40 csys = 5.90 CPU)
Result: PASS
------------------------------
PREREQUISITES
------------------------------
Prerequisite modules loaded:
requires:
Module Need Have
---------------------------- ---- -------
Carp 0 1.29
Catalyst::Action::RenderView 0 0.16
Catalyst::View::TT 0 0.41
Class::Inspector 0 1.28
Moose 0 2.0802
Moose::Role 0 2.0802
MRO::Compat 0 0.12
strict 0 1.07
warnings 0 1.18
build_requires:
Module Need Have
---------------------------- ---- -------
base 0 2.18
Catalyst 0 5.90042
Catalyst::Controller 0 0
Catalyst::Test 0 0
Catalyst::View 0 0
Catalyst::View::TT 0 0.41
File::Find 0 1.23
File::Temp 0 0.2301
FindBin 0 1.51
HTTP::Request::AsCGI 0 1.2
lib 0 0.63
Test::More 0.96 0.98
Text::Diff 0 1.41
configure_requires:
Module Need Have
---------------------------- ---- -------
ExtUtils::MakeMaker 6.30 6.69_04
------------------------------
ENVIRONMENT AND OTHER CONTEXT
------------------------------
Environment variables:
AUTOMATED_TESTING = 1
LANG = en_US.UTF-8
LANGUAGE = en_US:en
PATH = /usr/lib/ccache:/home/sand/bin:/usr/local/bin:/usr/bin:/bin:/usr/bin/X11:/usr/games:/usr/local/perl/bin:/usr/X11/bin:/sbin:/usr/sbin
PERL5LIB =
PERL5OPT =
PERL5_CPANPLUS_IS_RUNNING = 15586
PERL5_CPAN_IS_RUNNING = 15586
PERL_MM_USE_DEFAULT = 1
SHELL = /usr/bin/zsh
TERM = screen
Perl special variables (and OS-specific diagnostics, for MSWin32):
$^X = /home/sand/src/perl/repoperls/installed-perls/perl/v5.18.0/165a/bin/perl
$UID/$EUID = 1005 / 1005
$GID = 1005 1005
$EGID = 1005 1005
Perl module toolchain versions installed:
Module Have
------------------- --------
CPAN 2.00
CPAN::Meta 2.120921
Cwd 3.40
ExtUtils::CBuilder 0.280210
ExtUtils::Command 1.17
ExtUtils::Install 1.59
ExtUtils::MakeMaker 6.69_04
ExtUtils::Manifest 1.63
ExtUtils::ParseXS 3.18
File::Spec 3.40
JSON 2.59
JSON::PP 2.27202
Module::Build 0.4005
Module::Signature 0.73
Parse::CPAN::Meta 1.4404
Test::Harness 3.28
Test::More 0.98
YAML 0.84
YAML::Syck 1.27
version 0.9902
--
Summary of my perl5 (revision 5 version 18 subversion 0) configuration:
Commit id: a9acda3b5f74585852a57b51b724804ac586cb0b
Platform:
osname=linux, osvers=3.9-1-amd64, archname=x86_64-linux
uname='linux k83 3.9-1-amd64 #1 smp debian 3.9.8-1 x86_64 gnulinux '
config_args='-Dprefix=/home/sand/src/perl/repoperls/installed-perls/perl/v5.18.0/165a -Dmyhostname=k83 -Dinstallusrbinperl=n -Uversiononly -Dusedevel -des -Ui_db -Uuseithreads -Uuselongdouble -DDEBUGGING=-g'
hint=recommended, useposix=true, d_sigaction=define
useithreads=undef, usemultiplicity=undef
useperlio=define, d_sfio=undef, uselargefiles=define, usesocks=undef
use64bitint=define, use64bitall=define, uselongdouble=undef
usemymalloc=n, bincompat5005=undef
Compiler:
cc='cc', ccflags ='-fno-strict-aliasing -pipe -fstack-protector -I/usr/local/include -D_LARGEFILE_SOURCE -D_FILE_OFFSET_BITS=64',
optimize='-O2 -g',
cppflags='-fno-strict-aliasing -pipe -fstack-protector -I/usr/local/include'
ccversion='', gccversion='4.8.1', gccosandvers=''
intsize=4, longsize=8, ptrsize=8, doublesize=8, byteorder=12345678
d_longlong=define, longlongsize=8, d_longdbl=define, longdblsize=16
ivtype='long', ivsize=8, nvtype='double', nvsize=8, Off_t='off_t', lseeksize=8
alignbytes=8, prototype=define
Linker and Libraries:
ld='cc', ldflags =' -fstack-protector -L/usr/local/lib'
libpth=/usr/local/lib /lib/x86_64-linux-gnu /lib/../lib /usr/lib/x86_64-linux-gnu /usr/lib/../lib /lib /usr/lib
libs=-lnsl -lgdbm -ldb -ldl -lm -lcrypt -lutil -lc -lgdbm_compat
perllibs=-lnsl -ldl -lm -lcrypt -lutil -lc
libc=, so=so, useshrplib=false, libperl=libperl.a
gnulibc_version='2.17'
Dynamic Linking:
dlsrc=dl_dlopen.xs, dlext=so, d_dlsymun=undef, ccdlflags='-Wl,-E'
cccdlflags='-fPIC', lddlflags='-shared -O2 -g -L/usr/local/lib -fstack-protector'
Characteristics of this binary (from libperl):
Compile-time options: HAS_TIMES PERLIO_LAYERS PERL_DONT_CREATE_GVSV
PERL_HASH_FUNC_ONE_AT_A_TIME_HARD PERL_MALLOC_WRAP
PERL_PRESERVE_IVUV PERL_SAWAMPERSAND PERL_USE_DEVEL
USE_64_BIT_ALL USE_64_BIT_INT USE_LARGE_FILES
USE_LOCALE USE_LOCALE_COLLATE USE_LOCALE_CTYPE
USE_LOCALE_NUMERIC USE_PERLIO USE_PERL_ATOF
Built under linux
Compiled at Jul 3 2013 00:38:41
%ENV:
PERL5LIB=""
PERL5OPT=""
PERL5_CPANPLUS_IS_RUNNING="15586"
PERL5_CPAN_IS_RUNNING="15586"
PERL_MM_USE_DEFAULT="1"
@INC:
/home/sand/src/perl/repoperls/installed-perls/perl/v5.18.0/165a/lib/site_perl/5.18.0/x86_64-linux
/home/sand/src/perl/repoperls/installed-perls/perl/v5.18.0/165a/lib/site_perl/5.18.0
/home/sand/src/perl/repoperls/installed-perls/perl/v5.18.0/165a/lib/5.18.0/x86_64-linux
/home/sand/src/perl/repoperls/installed-perls/perl/v5.18.0/165a/lib/5.18.0
.