Smart-Comments v1.06 Perl 5 v5.18.2 darwin-thread-multi-2level
- Status
- Pass
- From
- Nigel Horne
- Dist
-
Smart-Comments v1.06
- Platform
- Perl 5 v5.18.2 darwin-thread-multi-2level
- Date
- 2018-02-03 01:44:45
- ID
- cffaaac4-0883-11e8-af2b-acaf1d79aee4
This distribution has been tested as part of the CPAN Testers
project, supporting the Perl programming language. See
http://wiki.cpantesters.org/ for more information or email
questions to cpan-testers-discuss@perl.org
--
Dear Neil Bowers,
This is a computer-generated report for Smart-Comments-1.06
on perl 5.18.2, created by CPAN-Reporter-1.2018.
Thank you for uploading your work to CPAN. Congratulations!
All tests were successful.
Sections of this report:
* Tester comments
* Program output
* Prerequisites
* Environment and other context
------------------------------
TESTER COMMENTS
------------------------------
Additional comments from tester:
this report is from an automated smoke testing program
and was not reviewed by a human for accuracy
------------------------------
PROGRAM OUTPUT
------------------------------
Output from '/usr/bin/make test':
PERL_DL_NONLAZY=1 "/Users/njh/perl5/perlbrew/perls/perl-5.18.2/bin/perl5.18.2" "-MExtUtils::Command::MM" "-MTest::Harness" "-e" "undef *Test::Harness::Switches; test_harness(0, 'blib/lib', 'blib/arch')" t/*.t
# Testing Smart::Comments 1.06
t/00.load.t ................. ok
t/assert.t .................. ok
t/brackets.t ................ ok
t/c_like_for_loop.t ......... ok
t/check.t ................... ok
t/confirm.t ................. ok
t/ensure.t .................. ok
t/ENV_0.t ................... ok
t/ENV_1.t ................... ok
t/ENV_str.t ................. ok
t/insist.t .................. ok
t/labelled_perlish_loop.t ... ok
t/message.t ................. ok
t/perlish_for.t ............. ok
t/perlish_for_percentage.t .. ok
t/pod-coverage.t ............ ok
t/pod.t ..................... ok
t/require.t ................. ok
t/selective.t ............... ok
t/simple_perlish_for.t ...... ok
t/var.t ..................... ok
t/verify.t .................. ok
t/while.t ................... ok
t/while_num.t ............... ok
All tests successful.
Files=24, Tests=121, 1 wallclock secs ( 0.09 usr 0.04 sys + 1.10 cusr 0.24 csys = 1.47 CPU)
Result: PASS
------------------------------
PREREQUISITES
------------------------------
Prerequisite modules loaded:
requires:
Module Need Have
------------------- ----- --------
Carp 0 1.3301
Data::Dumper 0 2.154
Filter::Simple 0 0.91
List::Util 0 1.41
perl 5.008 5.018002
strict 0 1.07
Text::Balanced 0 2.02
warnings 0 1.18
build_requires:
Module Need Have
------------------- ----- --------
ExtUtils::MakeMaker 0 7.04
Test::More 0.99 1.001014
configure_requires:
Module Need Have
------------------- ----- --------
ExtUtils::MakeMaker 0 7.04
------------------------------
ENVIRONMENT AND OTHER CONTEXT
------------------------------
Environment variables:
AUTOMATED_TESTING = 1
PATH = /Users/njh/perl5/perlbrew/bin:/Users/njh/perl5/perlbrew/perls/perl-5.18.2/bin:src/njh/smoker/bin:/usr/bin:/bin
PERL5LIB = /Users/njh/.cpan/build/XML-Bare-0.53-jB8SVv/blib/arch:/Users/njh/.cpan/build/XML-Bare-0.53-jB8SVv/blib/lib:/Users/njh/.cpan/build/Exporter-Easy-0.18-wMNbqW/blib/arch:/Users/njh/.cpan/build/Exporter-Easy-0.18-wMNbqW/blib/lib:/Users/njh/.cpan/build/aliased-0.34-zP4kBb/blib/arch:/Users/njh/.cpan/build/aliased-0.34-zP4kBb/blib/lib:/Users/njh/.cpan/build/Sort-Naturally-1.03-uhso1A/blib/arch:/Users/njh/.cpan/build/Sort-Naturally-1.03-uhso1A/blib/lib
PERL5OPT =
PERL5_CPANPLUS_IS_RUNNING = 3217
PERL5_CPAN_IS_RUNNING = 3217
PERLBREW_HOME = /Users/njh/.perlbrew
PERLBREW_MANPATH = /Users/njh/perl5/perlbrew/perls/perl-5.18.2/man
PERLBREW_PATH = /Users/njh/perl5/perlbrew/bin:/Users/njh/perl5/perlbrew/perls/perl-5.18.2/bin
PERLBREW_PERL = perl-5.18.2
PERLBREW_ROOT = /Users/njh/perl5/perlbrew
PERLBREW_SHELLRC_VERSION = 0.82
PERLBREW_VERSION = 0.82
SHELL = /bin/sh
Perl special variables (and OS-specific diagnostics, for MSWin32):
$^X = /Users/njh/perl5/perlbrew/perls/perl-5.18.2/bin/perl5.18.2
$UID/$EUID = 501 / 501
$GID = 20 20 12 61 401 102 402 100
$EGID = 20 20 12 61 401 102 402 100
Perl module toolchain versions installed:
Module Have
------------------- --------
CPAN 2.10
CPAN::Meta 2.142060
Cwd 3.47
ExtUtils::CBuilder 0.280220
ExtUtils::Command 1.18
ExtUtils::Install 1.68
ExtUtils::MakeMaker 7.04
ExtUtils::Manifest 1.66
ExtUtils::ParseXS 3.24
File::Spec 3.47
JSON 2.61
JSON::PP 2.27203
Module::Build 0.4211
Module::Signature n/a
Parse::CPAN::Meta 1.4414
Test::Harness 3.35
Test::More 1.001014
YAML 1.15
YAML::Syck 1.27
version 0.9909
--
Summary of my perl5 (revision 5 version 18 subversion 2) configuration:
Platform:
osname=darwin, osvers=13.2.0, archname=darwin-thread-multi-2level
uname='darwin mac.bandsman.co.uk 13.2.0 darwin kernel version 13.2.0: thu apr 17 23:03:13 pdt 2014; root:xnu-2422.100.13~1release_x86_64 x86_64 '
config_args='-de -Dprefix=/Users/njh/perl5/perlbrew/perls/perl-5.18.2 -Duseithreads -Dusemultiplicity -Dusedevel -Accflags=-O2 -W -Wformat=2 -Wswitch -Wshadow -Wwrite-strings -Wuninitialized -Wall -pipe -mtune=native -march=native -Aeval:scriptdir=/Users/njh/perl5/perlbrew/perls/perl-5.18.2/bin'
hint=recommended, useposix=true, d_sigaction=define
useithreads=define, usemultiplicity=define
useperlio=define, d_sfio=undef, uselargefiles=define, usesocks=undef
use64bitint=define, use64bitall=define, uselongdouble=undef
usemymalloc=n, bincompat5005=undef
Compiler:
cc='cc', ccflags ='-fno-common -DPERL_DARWIN -O2 -W -Wformat=2 -Wswitch -Wshadow -Wwrite-strings -Wuninitialized -Wall -pipe -mtune=native -march=native -fno-strict-aliasing -fstack-protector',
optimize='-O3',
cppflags='-fno-common -DPERL_DARWIN -O2 -W -Wformat=2 -Wswitch -Wshadow -Wwrite-strings -Wuninitialized -Wall -pipe -mtune=native -march=native -fno-strict-aliasing -fstack-protector'
ccversion='', gccversion='4.2.1 Compatible Apple LLVM 5.1 (clang-503.0.40)', gccosandvers=''
intsize=4, longsize=8, ptrsize=8, doublesize=8, byteorder=12345678
d_longlong=define, longlongsize=8, d_longdbl=define, longdblsize=16
ivtype='long', ivsize=8, nvtype='double', nvsize=8, Off_t='off_t', lseeksize=8
alignbytes=8, prototype=define
Linker and Libraries:
ld='env MACOSX_DEPLOYMENT_TARGET=10.3 cc', ldflags =' -fstack-protector'
libpth=/usr/lib
libs=-ldbm -ldl -lm -lutil -lc
perllibs=-ldl -lm -lutil -lc
libc=, so=dylib, useshrplib=false, libperl=libperl.a
gnulibc_version=''
Dynamic Linking:
dlsrc=dl_dlopen.xs, dlext=bundle, d_dlsymun=undef, ccdlflags=' '
cccdlflags=' ', lddlflags=' -bundle -undefined dynamic_lookup -fstack-protector'
Characteristics of this binary (from libperl):
Compile-time options: HAS_TIMES MULTIPLICITY PERLIO_LAYERS
PERL_DONT_CREATE_GVSV
PERL_HASH_FUNC_ONE_AT_A_TIME_HARD
PERL_IMPLICIT_CONTEXT PERL_MALLOC_WRAP
PERL_PRESERVE_IVUV PERL_SAWAMPERSAND PERL_USE_DEVEL
USE_64_BIT_ALL USE_64_BIT_INT USE_ITHREADS
USE_LARGE_FILES USE_LOCALE USE_LOCALE_COLLATE
USE_LOCALE_CTYPE USE_LOCALE_NUMERIC USE_PERLIO
USE_PERL_ATOF USE_REENTRANT_API
Built under darwin
Compiled at Sep 1 2014 18:03:36
%ENV:
PERL5LIB="/Users/njh/.cpan/build/XML-Bare-0.53-jB8SVv/blib/arch:/Users/njh/.cpan/build/XML-Bare-0.53-jB8SVv/blib/lib:/Users/njh/.cpan/build/Exporter-Easy-0.18-wMNbqW/blib/arch:/Users/njh/.cpan/build/Exporter-Easy-0.18-wMNbqW/blib/lib:/Users/njh/.cpan/build/aliased-0.34-zP4kBb/blib/arch:/Users/njh/.cpan/build/aliased-0.34-zP4kBb/blib/lib:/Users/njh/.cpan/build/Sort-Naturally-1.03-uhso1A/blib/arch:/Users/njh/.cpan/build/Sort-Naturally-1.03-uhso1A/blib/lib"
PERL5OPT=""
PERL5_CPANPLUS_IS_RUNNING="3217"
PERL5_CPAN_IS_RUNNING="3217"
PERLBREW_HOME="/Users/njh/.perlbrew"
PERLBREW_MANPATH="/Users/njh/perl5/perlbrew/perls/perl-5.18.2/man"
PERLBREW_PATH="/Users/njh/perl5/perlbrew/bin:/Users/njh/perl5/perlbrew/perls/perl-5.18.2/bin"
PERLBREW_PERL="perl-5.18.2"
PERLBREW_ROOT="/Users/njh/perl5/perlbrew"
PERLBREW_SHELLRC_VERSION="0.82"
PERLBREW_VERSION="0.82"
@INC:
/Users/njh/.cpan/build/XML-Bare-0.53-jB8SVv/blib/arch
/Users/njh/.cpan/build/XML-Bare-0.53-jB8SVv/blib/lib
/Users/njh/.cpan/build/Exporter-Easy-0.18-wMNbqW/blib/arch
/Users/njh/.cpan/build/Exporter-Easy-0.18-wMNbqW/blib/lib
/Users/njh/.cpan/build/aliased-0.34-zP4kBb/blib/arch
/Users/njh/.cpan/build/aliased-0.34-zP4kBb/blib/lib
/Users/njh/.cpan/build/Sort-Naturally-1.03-uhso1A/blib/arch
/Users/njh/.cpan/build/Sort-Naturally-1.03-uhso1A/blib/lib
/Users/njh/perl5/perlbrew/perls/perl-5.18.2/lib/site_perl/5.18.2/darwin-thread-multi-2level
/Users/njh/perl5/perlbrew/perls/perl-5.18.2/lib/site_perl/5.18.2
/Users/njh/perl5/perlbrew/perls/perl-5.18.2/lib/5.18.2/darwin-thread-multi-2level
/Users/njh/perl5/perlbrew/perls/perl-5.18.2/lib/5.18.2
.