Back
From: metabase:user:30f4dfbe-2aae-11df-837a-5e0a49663a4f
Subject: PASS Math-MatrixReal-2.09 v5.13.1 GNU/Linux
Date: 2012-12-15T18:54:10Z
This distribution has been tested as part of the CPAN Testers
project, supporting the Perl programming language. See
http://wiki.cpantesters.org/ for more information or email
questions to cpan-testers-discuss@perl.org
--
Dear Jonathan Leto,
This is a computer-generated report for Math-MatrixReal-2.09
on perl 5.13.1, created by CPAN-Reporter-1.2007.
Thank you for uploading your work to CPAN. Congratulations!
All tests were successful.
Sections of this report:
* Tester comments
* Program output
* Prerequisites
* Environment and other context
------------------------------
TESTER COMMENTS
------------------------------
Additional comments from tester:
this report is from an automated smoke testing program
and was not reviewed by a human for accuracy
------------------------------
PROGRAM OUTPUT
------------------------------
Output from './Build test':
# Testing Math::MatrixReal 2.09 on linux, Perl (/home/njh/perl5/perlbrew/perls/perl-5.13.1/bin/perl5.13.1) 5.013001
t/00-load.t ............ ok
t/adjoint.t ............ ok
t/arith.t .............. ok
t/assign.t ............. ok
t/basic.t .............. ok
* Estimated diagonalization time for 150x150 matrix: 4.72 s
Estimated biggest matrix diagonalisable within 1 day cpu: 3865x3865
* Estimated eigenvalues-only computation time for 150x150 matrix: 0.72 s
Estimated biggest matrix manageable within 1 day cpu: 7151x7151
Btw, do you want to crunch such one now? (no, just kidding...;-)
t/bench_eigen.t ........ ok
t/bench_eigen2.t ....... ok
t/binary.t ............. ok
t/bool.t ............... ok
t/cofactor.t ........... ok
t/concat.t ............. ok
t/condition.t .......... ok
t/decompose_LR.t ....... ok
t/det.t ................ ok
t/diag.t ............... ok
t/display_precision.t .. ok
t/div.t ................ ok
t/each.t ............... ok
t/eigen_3x3.t .......... ok
t/eigen_7x7.t .......... ok
t/eigen_NxN.t .......... ok
t/equality.t ........... ok
t/exponent.t ........... ok
t/ext1.t ............... ok
t/gramian.t ............ ok
t/gsm.t ................ ok
t/inequality.t ......... ok
t/inverse.t ............ ok
t/is_LR.t .............. ok
t/isrowcol.t ........... ok
t/latex.t .............. ok
t/length.t ............. ok
t/matlab.t ............. ok
t/minimax.t ............ ok
t/minor.t .............. ok
t/norm.t ............... ok
t/normality.t .......... ok
t/orthogonal.t ......... ok
t/periodic.t ........... ok
t/positive.t ........... ok
t/product.t ............ ok
t/quadratic.t .......... ok
t/rand.t ............... ok
t/rank.t ............... ok
t/scinotation.t ........ ok
t/similar.t ............ ok
t/spectral.t ........... ok
t/stringify.t .......... ok
t/submatrix.t .......... ok
t/swap.t ............... ok
t/symmetric.t .......... ok
t/trace.t .............. ok
t/transpose.t .......... ok
t/triang.t ............. ok
t/tridiag.t ............ ok
t/vecnorm.t ............ ok
t/yacas.t .............. ok
All tests successful.
Files=57, Tests=331, 4 wallclock secs ( 0.12 usr 0.05 sys + 2.87 cusr 0.19 csys = 3.23 CPU)
Result: PASS
------------------------------
PREREQUISITES
------------------------------
Prerequisite modules loaded:
build_requires:
Module Need Have
------------- ---- ------
File::Spec 0 3.33
Test::Most 0 0.31
configure_requires:
Module Need Have
------------- ---- ------
Module::Build 0.38 0.4003
------------------------------
ENVIRONMENT AND OTHER CONTEXT
------------------------------
Environment variables:
AUTOMATED_TESTING = 1
LANG = en_GB.UTF-8
LANGUAGE = en_GB:en
LD_LIBRARY_PATH = :/usr/local/lib:/usr/lib/qt-3.3/lib:/usr/X11R6/lib
MANPATH_WITHOUT_PERLBREW = /usr/local/man:/usr/local/share/man:/usr/share/man:/usr/local/man:/home/njh/man:/usr/share/inn/man:/usr/share/perl5/man:/usr/share/tcl-8.0/man:/usr/share/tclX-8.0.4/man:/usr/share/tix-4.1/man:/usr/share/tk-8.0/man:/usr/server/doc:/usr/share/man:/opt/intel/cc/9.1.038/man
PATH = /home/njh/perl5/perlbrew/bin:/home/njh/perl5/perlbrew/perls/perl-5.13.1/bin:/home/njh/perl5/perlbrew/bin:/usr/local/bin:/usr/bin:/bin:/usr/local/games:/usr/games:/home/njh/bin
PATH_WITHOUT_PERLBREW = /usr/local/bin:/usr/bin:/bin:/usr/local/games:/usr/games:/home/njh/bin
PERL5LIB = /home/njh/.cpan/build/Test-Most-0.31-VW3P4P/blib/arch:/home/njh/.cpan/build/Test-Most-0.31-VW3P4P/blib/lib:/home/njh/.cpan/build/DateTime-Calendar-Mayan-0.0601-wPQ9QW/blib/arch:/home/njh/.cpan/build/DateTime-Calendar-Mayan-0.0601-wPQ9QW/blib/lib:/home/njh/.cpan/build/POSIX-Regex-1.0001-3Waz1I/blib/arch:/home/njh/.cpan/build/POSIX-Regex-1.0001-3Waz1I/blib/lib
PERL5OPT =
PERL5_CPANPLUS_IS_RUNNING = 17875
PERL5_CPAN_IS_RUNNING = 17875
PERL5_MINISMOKEBOX = 0.54
PERLBREW_BASHRC_VERSION = 0.49
PERLBREW_HOME = /home/njh/.perlbrew
PERLBREW_LIB =
PERLBREW_MANPATH = /home/njh/perl5/perlbrew/perls/perl-5.13.1/man
PERLBREW_PATH = /home/njh/perl5/perlbrew/bin:/home/njh/perl5/perlbrew/perls/perl-5.13.1/bin
PERLBREW_PERL = perl-5.13.1
PERLBREW_ROOT = /home/njh/perl5/perlbrew
PERLBREW_VERSION = 0.49
PERL_EXTUTILS_AUTOINSTALL = --defaultdeps
PERL_LOCAL_LIB_ROOT =
PERL_MB_OPT =
PERL_MM_OPT =
PERL_MM_USE_DEFAULT = 1
SHELL = /bin/bash
TERM = linux
Perl special variables (and OS-specific diagnostics, for MSWin32):
$^X = /home/njh/perl5/perlbrew/perls/perl-5.13.1/bin/perl5.13.1
$UID/$EUID = 1000 / 1000
$GID = 1000 24 25 29 30 44 46 108 112 1000
$EGID = 1000 24 25 29 30 44 46 108 112 1000
Perl module toolchain versions installed:
Module Have
------------------- --------
CPAN 1.9800
CPAN::Meta 2.120921
Cwd 3.33
ExtUtils::CBuilder 0.280205
ExtUtils::Command 1.17
ExtUtils::Install 1.55
ExtUtils::MakeMaker 6.62
ExtUtils::Manifest 1.61
ExtUtils::ParseXS 3.15
File::Spec 3.33
JSON 2.53
JSON::PP 2.27200
Module::Build 0.4003
Module::Signature 0.68
Parse::CPAN::Meta 1.4404
Test::Harness 3.25
Test::More 0.98
YAML 0.84
YAML::Syck 1.22
version 0.9901
--
Summary of my perl5 (revision 5 version 13 subversion 1) configuration:
Platform:
osname=linux, osvers=3.2.0-2-amd64, archname=x86_64-linux
uname='linux gateway 3.2.0-2-amd64 #1 smp sun apr 15 16:47:38 utc 2012 x86_64 gnulinux '
config_args='-de -Dprefix=/home/njh/perl5/perlbrew/perls/perl-5.13.1 -Dusedevel -Accflags=-O2 -W -Wformat=2 -Wswitch -Wshadow -Wwrite-strings -Wuninitialized -Wall -pipe -mtune=native -march=native -fomit-frame-pointer -mfpmath=sse -pedantic -D_FORTIFY_SOURCE=2 -Wpointer-arith -Wstrict-prototypes -fstack-protector -Wstack-protector -Wextra -Wbad-function-cast -Wcast-align -Wcast-qual -Wdisabled-optimization -Wendif-labels -Wfloat-equal -Wformat-nonliteral -Winline -Wmissing-declarations -Wmissing-prototypes -Wnested-externs -Wpointer-arith -Wundef -Wformat-security'
hint=recommended, useposix=true, d_sigaction=define
useithreads=undef, usemultiplicity=undef
useperlio=define, d_sfio=undef, uselargefiles=define, usesocks=undef
use64bitint=define, use64bitall=define, uselongdouble=undef
usemymalloc=n, bincompat5005=undef
Compiler:
cc='cc', ccflags ='-O2 -W -Wformat=2 -Wswitch -Wshadow -Wwrite-strings -Wuninitialized -Wall -pipe -mtune=native -march=native -fomit-frame-pointer -mfpmath=sse -pedantic -D_FORTIFY_SOURCE=2 -Wpointer-arith -Wstrict-prototypes -fstack-protector -Wstack-protector -Wextra -Wbad-function-cast -Wcast-align -Wcast-qual -Wdisabled-optimization -Wendif-labels -Wfloat-equal -Wformat-nonliteral -Winline -Wmissing-declarations -Wmissing-prototypes -Wnested-externs -Wpointer-arith -Wundef -Wformat-security -fno-strict-aliasing -I/usr/local/include -D_LARGEFILE_SOURCE -D_FILE_OFFSET_BITS=64',
optimize='-O2',
cppflags='-O2 -W -Wformat=2 -Wswitch -Wshadow -Wwrite-strings -Wuninitialized -Wall -pipe -mtune=native -march=native -fomit-frame-pointer -mfpmath=sse -pedantic -D_FORTIFY_SOURCE=2 -Wpointer-arith -Wstrict-prototypes -fstack-protector -Wstack-protector -Wextra -Wbad-function-cast -Wcast-align -Wcast-qual -Wdisabled-optimization -Wendif-labels -Wfloat-equal -Wformat-nonliteral -Winline -Wmissing-declarations -Wmissing-prototypes -Wnested-externs -Wpointer-arith -Wundef -Wformat-security -fno-strict-aliasing -I/usr/local/include'
ccversion='', gccversion='4.6.3', gccosandvers=''
intsize=4, longsize=8, ptrsize=8, doublesize=8, byteorder=12345678
d_longlong=define, longlongsize=8, d_longdbl=define, longdblsize=16
ivtype='long', ivsize=8, nvtype='double', nvsize=8, Off_t='off_t', lseeksize=8
alignbytes=8, prototype=define
Linker and Libraries:
ld='cc', ldflags =' -fstack-protector -L/usr/local/lib'
libpth=/usr/local/lib /lib/x86_64-linux-gnu /lib/../lib /usr/lib/x86_64-linux-gnu /usr/lib/../lib /lib /usr/lib
libs=-lnsl -lgdbm -ldb -ldl -lm -lcrypt -lutil -lc -lgdbm_compat
perllibs=-lnsl -ldl -lm -lcrypt -lutil -lc
libc=, so=so, useshrplib=false, libperl=libperl.a
gnulibc_version='2.13'
Dynamic Linking:
dlsrc=dl_dlopen.xs, dlext=so, d_dlsymun=undef, ccdlflags='-Wl,-E'
cccdlflags='-fPIC', lddlflags='-shared -O2 -L/usr/local/lib -fstack-protector'
Characteristics of this binary (from libperl):
Compile-time options: PERL_DONT_CREATE_GVSV PERL_MALLOC_WRAP PERL_USE_DEVEL
USE_64_BIT_ALL USE_64_BIT_INT USE_LARGE_FILES
USE_PERLIO USE_PERL_ATOF
Built under linux
Compiled at Apr 22 2012 12:18:44
%ENV:
PERL5LIB="/home/njh/.cpan/build/Test-Most-0.31-VW3P4P/blib/arch:/home/njh/.cpan/build/Test-Most-0.31-VW3P4P/blib/lib:/home/njh/.cpan/build/DateTime-Calendar-Mayan-0.0601-wPQ9QW/blib/arch:/home/njh/.cpan/build/DateTime-Calendar-Mayan-0.0601-wPQ9QW/blib/lib:/home/njh/.cpan/build/POSIX-Regex-1.0001-3Waz1I/blib/arch:/home/njh/.cpan/build/POSIX-Regex-1.0001-3Waz1I/blib/lib"
PERL5OPT=""
PERL5_CPANPLUS_IS_RUNNING="17875"
PERL5_CPAN_IS_RUNNING="17875"
PERL5_MINISMOKEBOX="0.54"
PERLBREW_BASHRC_VERSION="0.49"
PERLBREW_HOME="/home/njh/.perlbrew"
PERLBREW_LIB=""
PERLBREW_MANPATH="/home/njh/perl5/perlbrew/perls/perl-5.13.1/man"
PERLBREW_PATH="/home/njh/perl5/perlbrew/bin:/home/njh/perl5/perlbrew/perls/perl-5.13.1/bin"
PERLBREW_PERL="perl-5.13.1"
PERLBREW_ROOT="/home/njh/perl5/perlbrew"
PERLBREW_VERSION="0.49"
PERL_EXTUTILS_AUTOINSTALL="--defaultdeps"
PERL_LOCAL_LIB_ROOT=""
PERL_MB_OPT=""
PERL_MM_OPT=""
PERL_MM_USE_DEFAULT="1"
@INC:
/home/njh/.cpan/build/Test-Most-0.31-VW3P4P/blib/arch
/home/njh/.cpan/build/Test-Most-0.31-VW3P4P/blib/lib
/home/njh/.cpan/build/DateTime-Calendar-Mayan-0.0601-wPQ9QW/blib/arch
/home/njh/.cpan/build/DateTime-Calendar-Mayan-0.0601-wPQ9QW/blib/lib
/home/njh/.cpan/build/POSIX-Regex-1.0001-3Waz1I/blib/arch
/home/njh/.cpan/build/POSIX-Regex-1.0001-3Waz1I/blib/lib
/home/njh/perl5/perlbrew/perls/perl-5.13.1/lib/site_perl/5.13.1/x86_64-linux
/home/njh/perl5/perlbrew/perls/perl-5.13.1/lib/site_perl/5.13.1
/home/njh/perl5/perlbrew/perls/perl-5.13.1/lib/5.13.1/x86_64-linux
/home/njh/perl5/perlbrew/perls/perl-5.13.1/lib/5.13.1
.