Data-Sah-CoerceRule-array-str_comma_sep v0.009 Perl 5 v5.14.1 x86_64-dragonfly
- Status
- Pass
- From
- Nigel Horne
- Dist
-
Data-Sah-CoerceRule-array-str_comma_sep v0.009
- Platform
- Perl 5 v5.14.1 x86_64-dragonfly
- Date
- 2019-08-24 05:48:34
- ID
- cfb3521e-c632-11e9-a42f-d2fd83b17628
This distribution has been tested as part of the CPAN Testers
project, supporting the Perl programming language. See
http://wiki.cpantesters.org/ for more information or email
questions to cpan-testers-discuss@perl.org
--
Dear perlancar,
This is a computer-generated report for Data-Sah-CoerceRule-array-str_comma_sep-0.009
on perl 5.14.1, created by CPAN-Reporter-1.2018.
Thank you for uploading your work to CPAN. Congratulations!
All tests were successful.
Sections of this report:
* Tester comments
* Program output
* Prerequisites
* Environment and other context
------------------------------
TESTER COMMENTS
------------------------------
Additional comments from tester:
this report is from an automated smoke testing program
and was not reviewed by a human for accuracy
------------------------------
PROGRAM OUTPUT
------------------------------
Output from '/usr/bin/make test':
PERL_DL_NONLAZY=1 "/home/njh/perl5/perlbrew/perls/perl-5.14.1/bin/perl" "-MExtUtils::Command::MM" "-MTest::Harness" "-e" "undef *Test::Harness::Switches; test_harness(0, 'blib/lib', 'blib/arch')" t/*.t
t/00-compile.t ........... ok
t/author-critic.t ........ skipped: these tests are for testing by the author
t/author-pod-coverage.t .. skipped: these tests are for testing by the author
t/author-pod-syntax.t .... skipped: these tests are for testing by the author
t/js.t ................... skipped: node.js not available
t/perl.t ................. ok
All tests successful.
Files=6, Tests=4, 0 wallclock secs ( 0.06 usr 0.03 sys + 0.45 cusr 0.18 csys = 0.73 CPU)
Result: PASS
------------------------------
PREREQUISITES
------------------------------
Prerequisite modules loaded:
requires:
Module Need Have
------------------- -------- --------
perl 5.010001 5.014001
strict 0 1.04
warnings 0 1.12
build_requires:
Module Need Have
------------------- -------- --------
Data::Sah::Coerce 0.032 0.033
Data::Sah::CoerceJS 0.011 0.033
ExtUtils::MakeMaker 0 7.30
File::Spec 0 3.75
IO::Handle 0 1.31
IPC::Open3 0 1.09
Nodejs::Util 0.007 0.012
Test::More 0.98 1.302136
configure_requires:
Module Need Have
------------------- -------- --------
ExtUtils::MakeMaker 0 7.30
------------------------------
ENVIRONMENT AND OTHER CONTEXT
------------------------------
Environment variables:
AUTOMATED_TESTING = 1
NONINTERACTIVE_TESTING = 1
PATH = /home/njh/perl5/perlbrew/bin:/home/njh/perl5/perlbrew/perls/perl-5.14.1/bin:src/njh/smoker/bin:/bin:/sbin:/usr/bin:/usr/sbin:/usr/local/bin:/usr/local/sbin:/usr/pkg/bin:/usr/pkg/sbin
PERL5LIB = /home/njh/.cpan/build/Data-Sah-Coerce-0.033-1/blib/arch:/home/njh/.cpan/build/Data-Sah-Coerce-0.033-1/blib/lib:/home/njh/.cpan/build/subroutines-0.001-1/blib/arch:/home/njh/.cpan/build/subroutines-0.001-1/blib/lib:/home/njh/.cpan/build/Nodejs-Util-0.012-1/blib/arch:/home/njh/.cpan/build/Nodejs-Util-0.012-1/blib/lib:/home/njh/.cpan/build/IPC-System-Options-0.331-1/blib/arch:/home/njh/.cpan/build/IPC-System-Options-0.331-1/blib/lib:/home/njh/.cpan/build/String-ShellQuote-1.04-1/blib/arch:/home/njh/.cpan/build/String-ShellQuote-1.04-1/blib/lib:/home/njh/.cpan/build/Proc-ChildError-0.04-1/blib/arch:/home/njh/.cpan/build/Proc-ChildError-0.04-1/blib/lib:/home/njh/.cpan/build/Complete-Util-0.603-1/blib/arch:/home/njh/.cpan/build/Complete-Util-0.603-1/blib/lib:/home/njh/.cpan/build/Complete-Common-0.22-1/blib/arch:/home/njh/.cpan/build/Complete-Common-0.22-1/blib/lib
PERL5OPT =
PERL5_CPANPLUS_IS_RUNNING = 253398
PERL5_CPAN_IS_RUNNING = 253398
PERL5_CPAN_IS_RUNNING_IN_RECURSION = 253375,253398
PERLBREW_HOME = /home/njh/.perlbrew
PERLBREW_MANPATH = /home/njh/perl5/perlbrew/perls/perl-5.14.1/man
PERLBREW_PATH = /home/njh/perl5/perlbrew/bin:/home/njh/perl5/perlbrew/perls/perl-5.14.1/bin
PERLBREW_PERL = perl-5.14.1
PERLBREW_ROOT = /home/njh/perl5/perlbrew
PERLBREW_SHELLRC_VERSION = 0.86
PERLBREW_VERSION = 0.86
PERL_MM_USE_DEFAULT = 1
PERL_USE_UNSAFE_INC = 1
SHELL = /bin/sh
TMPDIR = /tmp/testwrapper.253380
Perl special variables (and OS-specific diagnostics, for MSWin32):
$^X = /home/njh/perl5/perlbrew/perls/perl-5.14.1/bin/perl
$UID/$EUID = 1001 / 1001
$GID = 1001 1001 0
$EGID = 1001 1001 0
Perl module toolchain versions installed:
Module Have
------------------- --------
CPAN 2.26
CPAN::Meta 2.150010
Cwd 3.75
ExtUtils::CBuilder 0.280203
ExtUtils::Command 7.30
ExtUtils::Install 2.06
ExtUtils::MakeMaker 7.30
ExtUtils::Manifest 1.70
ExtUtils::ParseXS 3.35
File::Spec 3.75
JSON 4.02
JSON::PP 2.97001
Module::Build 0.4224
Module::Signature n/a
Parse::CPAN::Meta 2.150010
Test::Harness 3.39
Test::More 1.302136
YAML 1.29
YAML::Syck 1.31
version 0.88
--
Summary of my perl5 (revision 5 version 14 subversion 1) configuration:
Platform:
osname=dragonfly, osvers=5.0-release, archname=x86_64-dragonfly
uname='dragonfly david.bandsman.co.uk 5.0-release dragonfly v5.0.2-release #4: sun dec 3 17:42:25 est 2017 root@www.shiningsilence.com:usrobjhomejustinrelease5_0sysx86_64_generic x86_64 '
config_args='-de -Dprefix=/home/njh/perl5/perlbrew/perls/perl-5.14.1 -Aeval:scriptdir=/home/njh/perl5/perlbrew/perls/perl-5.14.1/bin'
hint=recommended, useposix=true, d_sigaction=define
useithreads=undef, usemultiplicity=undef
useperlio=define, d_sfio=undef, uselargefiles=define, usesocks=undef
use64bitint=define, use64bitall=define, uselongdouble=undef
usemymalloc=n, bincompat5005=undef
Compiler:
cc='cc', ccflags ='-DHAS_FPSETMASK -DHAS_FLOATINGPOINT_H -fno-strict-aliasing -pipe -fstack-protector -I/usr/local/include',
optimize='-O',
cppflags='-DHAS_FPSETMASK -DHAS_FLOATINGPOINT_H -fno-strict-aliasing -pipe -fstack-protector -I/usr/local/include'
ccversion='', gccversion='5.4.1 [DragonFly] Release/2016-08-27', gccosandvers=''
intsize=4, longsize=8, ptrsize=8, doublesize=8, byteorder=12345678
d_longlong=define, longlongsize=8, d_longdbl=define, longdblsize=16
ivtype='long', ivsize=8, nvtype='double', nvsize=8, Off_t='off_t', lseeksize=8
alignbytes=8, prototype=define
Linker and Libraries:
ld='cc', ldflags ='-Wl,-E -fstack-protector -L/usr/local/lib'
libpth=/usr/lib /usr/local/lib
libs=-ldl -lm -lcrypt -lutil -lc
perllibs=-ldl -lm -lcrypt -lutil -lc
libc=, so=so, useshrplib=false, libperl=libperl.a
gnulibc_version=''
Dynamic Linking:
dlsrc=dl_dlopen.xs, dlext=so, d_dlsymun=undef, ccdlflags=' '
cccdlflags='-DPIC -fPIC', lddlflags='-shared -L/usr/local/lib -fstack-protector'
Characteristics of this binary (from libperl):
Compile-time options: PERL_DONT_CREATE_GVSV PERL_MALLOC_WRAP
PERL_PRESERVE_IVUV USE_64_BIT_ALL USE_64_BIT_INT
USE_LARGE_FILES USE_PERLIO USE_PERL_ATOF
Locally applied patches:
Devel::PatchPerl 1.48
Built under dragonfly
Compiled at Jan 28 2018 06:32:23
%ENV:
PERL5LIB="/home/njh/.cpan/build/Data-Sah-Coerce-0.033-1/blib/arch:/home/njh/.cpan/build/Data-Sah-Coerce-0.033-1/blib/lib:/home/njh/.cpan/build/subroutines-0.001-1/blib/arch:/home/njh/.cpan/build/subroutines-0.001-1/blib/lib:/home/njh/.cpan/build/Nodejs-Util-0.012-1/blib/arch:/home/njh/.cpan/build/Nodejs-Util-0.012-1/blib/lib:/home/njh/.cpan/build/IPC-System-Options-0.331-1/blib/arch:/home/njh/.cpan/build/IPC-System-Options-0.331-1/blib/lib:/home/njh/.cpan/build/String-ShellQuote-1.04-1/blib/arch:/home/njh/.cpan/build/String-ShellQuote-1.04-1/blib/lib:/home/njh/.cpan/build/Proc-ChildError-0.04-1/blib/arch:/home/njh/.cpan/build/Proc-ChildError-0.04-1/blib/lib:/home/njh/.cpan/build/Complete-Util-0.603-1/blib/arch:/home/njh/.cpan/build/Complete-Util-0.603-1/blib/lib:/home/njh/.cpan/build/Complete-Common-0.22-1/blib/arch:/home/njh/.cpan/build/Complete-Common-0.22-1/blib/lib"
PERL5OPT=""
PERL5_CPANPLUS_IS_RUNNING="253398"
PERL5_CPAN_IS_RUNNING="253398"
PERL5_CPAN_IS_RUNNING_IN_RECURSION="253375,253398"
PERLBREW_HOME="/home/njh/.perlbrew"
PERLBREW_MANPATH="/home/njh/perl5/perlbrew/perls/perl-5.14.1/man"
PERLBREW_PATH="/home/njh/perl5/perlbrew/bin:/home/njh/perl5/perlbrew/perls/perl-5.14.1/bin"
PERLBREW_PERL="perl-5.14.1"
PERLBREW_ROOT="/home/njh/perl5/perlbrew"
PERLBREW_SHELLRC_VERSION="0.86"
PERLBREW_VERSION="0.86"
PERL_MM_USE_DEFAULT="1"
PERL_USE_UNSAFE_INC="1"
@INC:
/home/njh/.cpan/build/Data-Sah-Coerce-0.033-1/blib/arch
/home/njh/.cpan/build/Data-Sah-Coerce-0.033-1/blib/lib
/home/njh/.cpan/build/subroutines-0.001-1/blib/arch
/home/njh/.cpan/build/subroutines-0.001-1/blib/lib
/home/njh/.cpan/build/Nodejs-Util-0.012-1/blib/arch
/home/njh/.cpan/build/Nodejs-Util-0.012-1/blib/lib
/home/njh/.cpan/build/IPC-System-Options-0.331-1/blib/arch
/home/njh/.cpan/build/IPC-System-Options-0.331-1/blib/lib
/home/njh/.cpan/build/String-ShellQuote-1.04-1/blib/arch
/home/njh/.cpan/build/String-ShellQuote-1.04-1/blib/lib
/home/njh/.cpan/build/Proc-ChildError-0.04-1/blib/arch
/home/njh/.cpan/build/Proc-ChildError-0.04-1/blib/lib
/home/njh/.cpan/build/Complete-Util-0.603-1/blib/arch
/home/njh/.cpan/build/Complete-Util-0.603-1/blib/lib
/home/njh/.cpan/build/Complete-Common-0.22-1/blib/arch
/home/njh/.cpan/build/Complete-Common-0.22-1/blib/lib
/home/njh/perl5/perlbrew/perls/perl-5.14.1/lib/site_perl/5.14.1/x86_64-dragonfly
/home/njh/perl5/perlbrew/perls/perl-5.14.1/lib/site_perl/5.14.1
/home/njh/perl5/perlbrew/perls/perl-5.14.1/lib/5.14.1/x86_64-dragonfly
/home/njh/perl5/perlbrew/perls/perl-5.14.1/lib/5.14.1
.