Back
From: metabase:user:3138bf04-2aae-11df-837a-5e0a49663a4f
Subject: PASS HTML-Tree-5.04 v5.18.2 Mac OS X
Date: 2017-04-22T10:59:52Z
This distribution has been tested as part of the CPAN Testers
project, supporting the Perl programming language. See
http://wiki.cpantesters.org/ for more information or email
questions to cpan-testers-discuss@perl.org
--
Dear Jeff Fearn,
This is a computer-generated report for HTML-Tree-5.04
on perl 5.18.2, created by CPAN-Reporter-1.2018.
Thank you for uploading your work to CPAN. Congratulations!
All tests were successful.
Sections of this report:
* Tester comments
* Program output
* Prerequisites
* Environment and other context
------------------------------
TESTER COMMENTS
------------------------------
Additional comments from tester:
none provided
------------------------------
PROGRAM OUTPUT
------------------------------
Output from './Build test':
t/00system.t ........ ok
t/assubs.t .......... ok
t/attributes.t ...... ok
t/body.t ............ ok
t/building.t ........ ok
t/children.t ........ ok
t/clonei.t .......... ok
t/comment.t ......... ok
t/construct_tree.t .. ok
t/doctype.t ......... ok
t/escape.t .......... ok
t/leaktest.t ........ ok
t/oldparse.t ........ ok
t/parents.t ......... ok
t/parse.t ........... ok
t/parsefile.t ....... ok
t/refloop.t ......... ok
t/split.t ........... ok
t/subclass.t ........ ok
t/tag-rendering.t ... ok
t/unicode.t ......... ok
t/whitespace.t ...... ok
All tests successful.
Files=22, Tests=945, 3 wallclock secs ( 0.20 usr 0.07 sys + 2.23 cusr 0.29 csys = 2.79 CPU)
Result: PASS
------------------------------
PREREQUISITES
------------------------------
Prerequisite modules loaded:
requires:
Module Need Have
--------------- ------ --------
HTML::Parser 3.46 3.72
HTML::Tagset 3.02 3.20
LWP::UserAgent 5.802 6.24
perl v5.8.0 5.018002
Pod::Usage 0 1.69
Scalar::Util 0 1.47
build_requires:
Module Need Have
--------------- ------ --------
HTML::Parser 3.46 3.72
HTML::Tagset 3.02 3.20
LWP::UserAgent 0 6.24
Module::Build 0 0.4222
Pod::Usage 0 1.69
Test::Exception 0 0.43
Test::More 0 1.302083
URI::file 0 4.21
configure_requires:
Module Need Have
--------------- ------ --------
Module::Build 0 0.4222
------------------------------
ENVIRONMENT AND OTHER CONTEXT
------------------------------
Environment variables:
LANG = en_US.UTF-8
LC_ALL = en_US.UTF-8
LC_CTYPE = UTF-8
PATH = /usr/bin:/bin
PERL5LIB = /Users/roland/.cpan/build/CPAN-2.16-2bsyOU/blib/arch:/Users/roland/.cpan/build/CPAN-2.16-2bsyOU/blib/lib
PERL5OPT =
PERL5_CPANPLUS_IS_RUNNING = 2930
PERL5_CPAN_IS_RUNNING = 2930
SHELL = /bin/sh
TERM = xterm-256color
VERSIONER_PERL_PREFER_32_BIT = no
VERSIONER_PERL_VERSION = 5.18
Perl special variables (and OS-specific diagnostics, for MSWin32):
$^X = /usr/bin/perl
$UID/$EUID = 0 / 0
$GID = 0 0 1 2 3 4 5 8 9 12 20 29 61 80 33 98 100 204 395 398 399
$EGID = 0 0 1 2 3 4 5 8 9 12 20 29 61 80 33 98 100 204 395 398 399
Perl module toolchain versions installed:
Module Have
------------------- --------
CPAN 2.16
CPAN::Meta 2.150010
Cwd 3.62
ExtUtils::CBuilder 0.280224
ExtUtils::Command 7.24
ExtUtils::Install 2.04
ExtUtils::MakeMaker 7.24
ExtUtils::Manifest 1.70
ExtUtils::ParseXS 3.30
File::Spec 3.62
JSON 2.90
JSON::PP 2.27400
Module::Build 0.4222
Module::Signature 0.81
Parse::CPAN::Meta 2.150010
Test::Harness 3.39
Test::More 1.302083
YAML 1.23
YAML::Syck 1.29
version 0.9917
--
Summary of my perl5 (revision 5 version 18 subversion 2) configuration:
Platform:
osname=darwin, osvers=16.0, archname=darwin-thread-multi-2level
uname='darwin osx338.sd.apple.com 16.0 darwin kernel version 15.0.0: wed jun 22 17:57:08 pdt 2016; root:xnu-3247.1.106.2.9~1development_x86_64 x86_64 '
config_args='-ds -e -Dprefix=/usr -Dccflags=-g -pipe -Dldflags= -Dman3ext=3pm -Duseithreads -Duseshrplib -Dinc_version_list=none -Dcc=cc'
hint=recommended, useposix=true, d_sigaction=define
useithreads=define, usemultiplicity=define
useperlio=define, d_sfio=undef, uselargefiles=define, usesocks=undef
use64bitint=define, use64bitall=define, uselongdouble=undef
usemymalloc=n, bincompat5005=undef
Compiler:
cc='cc', ccflags ='-arch i386 -arch x86_64 -g -pipe -fno-common -DPERL_DARWIN -fno-strict-aliasing -fstack-protector',
optimize='-Os',
cppflags='-g -pipe -fno-common -DPERL_DARWIN -fno-strict-aliasing -fstack-protector'
ccversion='', gccversion='4.2.1 Compatible Apple LLVM 8.0.0 (clang-800.0.34)', gccosandvers=''
intsize=4, longsize=8, ptrsize=8, doublesize=8, byteorder=12345678
d_longlong=define, longlongsize=8, d_longdbl=define, longdblsize=16
ivtype='long', ivsize=8, nvtype='double', nvsize=8, Off_t='off_t', lseeksize=8
alignbytes=8, prototype=define
Linker and Libraries:
ld='cc -mmacosx-version-min=10.12.4', ldflags ='-arch i386 -arch x86_64 -fstack-protector'
libpth=/usr/lib /usr/local/lib
libs=
perllibs=
libc=, so=dylib, useshrplib=true, libperl=libperl.dylib
gnulibc_version=''
Dynamic Linking:
dlsrc=dl_dlopen.xs, dlext=bundle, d_dlsymun=undef, ccdlflags=' '
cccdlflags=' ', lddlflags='-arch i386 -arch x86_64 -bundle -undefined dynamic_lookup -fstack-protector'
Characteristics of this binary (from libperl):
Compile-time options: HAS_TIMES MULTIPLICITY PERLIO_LAYERS
PERL_DONT_CREATE_GVSV
PERL_HASH_FUNC_ONE_AT_A_TIME_HARD
PERL_IMPLICIT_CONTEXT PERL_MALLOC_WRAP
PERL_PRESERVE_IVUV PERL_SAWAMPERSAND USE_64_BIT_ALL
USE_64_BIT_INT USE_ITHREADS USE_LARGE_FILES
USE_LOCALE USE_LOCALE_COLLATE USE_LOCALE_CTYPE
USE_LOCALE_NUMERIC USE_PERLIO USE_PERL_ATOF
USE_REENTRANT_API
Locally applied patches:
/Library/Perl/Updates/<version> comes before system perl directories
installprivlib and installarchlib points to the Updates directory
Built under darwin
Compiled at Feb 6 2017 22:13:46
%ENV:
PERL5LIB="/Users/roland/.cpan/build/CPAN-2.16-2bsyOU/blib/arch:/Users/roland/.cpan/build/CPAN-2.16-2bsyOU/blib/lib"
PERL5OPT=""
PERL5_CPANPLUS_IS_RUNNING="2930"
PERL5_CPAN_IS_RUNNING="2930"
@INC:
/Users/roland/.cpan/build/CPAN-2.16-2bsyOU/blib/arch
/Users/roland/.cpan/build/CPAN-2.16-2bsyOU/blib/lib
/Library/Perl/5.18/darwin-thread-multi-2level
/Library/Perl/5.18
/Network/Library/Perl/5.18/darwin-thread-multi-2level
/Network/Library/Perl/5.18
/Library/Perl/Updates/5.18.2/darwin-thread-multi-2level
/Library/Perl/Updates/5.18.2
/System/Library/Perl/5.18/darwin-thread-multi-2level
/System/Library/Perl/5.18
/System/Library/Perl/Extras/5.18/darwin-thread-multi-2level
/System/Library/Perl/Extras/5.18
.