Back
From: metabase:user:30ae4450-2aae-11df-837a-5e0a49663a4f
Subject: PASS Alien-Libarchive-Installer-0.08_06 v5.18.1
Date: 2014-07-04T14:11:12Z
This distribution has been tested as part of the CPAN Testers
project, supporting the Perl programming language. See
http://wiki.cpantesters.org/ for more information or email
questions to cpan-testers-discuss@perl.org
--
Dear Graham Ollis,
This is a computer-generated report for Alien-Libarchive-Installer-0.08_06
on perl 5.18.1, created by CPAN-Reporter-1.2011.
Thank you for uploading your work to CPAN. Congratulations!
All tests were successful.
Sections of this report:
* Tester comments
* Program output
* Prerequisites
* Environment and other context
------------------------------
TESTER COMMENTS
------------------------------
Additional comments from tester:
this report is from an automated smoke testing program
and was not reviewed by a human for accuracy
------------------------------
PROGRAM OUTPUT
------------------------------
Output from 'C:\strawberry181\perl\bin\perl.exe ./Build test':
readline() on closed filehandle $fh at t/00_diag.t line 15.
#
#
#
# HARNESS_ACTIVE=1
# HARNESS_VERSION=3.30
# PERL5LIB=C:\strawberry181\cpan\build\Alien-Libarchive-Installer-0.08_06-n4T6WJ\blib\lib;C:\strawberry181\cpan\build\Alien-Libarchive-Installer-0.08_06-n4T6WJ\blib\arch
# PERL5_CPANPLUS_IS_RUNNING=480
# PERL5_CPAN_IS_RUNNING=480
# PERL5_CPAN_IS_RUNNING_IN_RECURSION=1540,480
# PERL_CR_SMOKER_CURRENT=Alien-Libarchive-Installer-0.08_06
# PERL_DL_NONLAZY=1
# PERL_EXTUTILS_AUTOINSTALL=--defaultdeps
# PERL_HASH_SEED=0x11111111
# PERL_MM_USE_DEFAULT=1
#
#
#
# PERL5LIB path
# C:\strawberry181\cpan\build\Alien-Libarchive-Installer-0.08_06-n4T6WJ\blib\lib
# C:\strawberry181\cpan\build\Alien-Libarchive-Installer-0.08_06-n4T6WJ\blib\arch
#
#
#
# perl v5.18.1
# Alien::CMake -
# Alien::Libarchive -
# Alien::MSYS -
# Alien::bz2 -
# Archive::Ar -
# Archive::Ar::Libarchive -
# Archive::Tar 1.96
# Archive::Zip 1.30
# Class::Method::Modifiers 2.04
# ExtUtils::CBuilder 0.28021
# FFI::Raw -
# HTTP::Tiny 0.034
# Module::Build 0.4204
# Net::FTP 2.77
# PkgConfig -
# Role::Tiny 1.003002
# Test::More 1.001002
#
#
#
t/00_diag.t ................................ ok
t/bz2/01_use.t ............................. ok
t/bz2/build_install.t ...................... skipped: set ALIEN_BZ2_INSTALLER_EXTRA_TESTS to run test
t/bz2/build_requires.t ..................... ok
t/bz2/fetch.t .............................. skipped: set ALIEN_BZ2_INSTALLER_EXTRA_TESTS to run test
t/bz2/system_install.t ..................... skipped: requires bz2 already installed
t/bz2/system_requires.t .................... ok
t/bz2/test_compiler_run.t .................. skipped: test requires bz2 already installed
t/bz2/test_ffi.t ........................... skipped: test requires FFI::Raw
t/bz2/versions_available.t ................. ok
t/install/01_use.t ......................... ok
t/install/util_config.t .................... ok
t/install/util_filespec.t .................. ok
t/install/util_register_build_requires.t ... ok
t/install/util_register_hook.t ............. ok
t/install/util_register_system_requires.t .. ok
t/install/version_sort_multiple.t .......... ok
t/install/version_sort_simple.t ............ ok
t/libarchive/01_use.t ...................... ok
t/libarchive/build_install.t ............... skipped: set ALIEN_LIBARCHIVE_INSTALLER_EXTRA_TESTS to run test
t/libarchive/build_requires.t .............. ok
t/libarchive/fetch.t ....................... skipped: set ALIEN_LIBARCHIVE_INSTALLER_EXTRA_TESTS to run test
t/libarchive/system_install.t .............. skipped: requires libarchive already installed
t/libarchive/system_requires.t ............. ok
t/libarchive/test_compile_run.t ............ skipped: requires libarchive already installed
t/libarchive/test_ffi.t .................... skipped: test requires FFI::Raw
t/libarchive/versions.t .................... skipped: set ALIEN_LIBARCHIVE_INSTALLER_EXTRA_TESTS to run test
t/libffi/01_use.t .......................... ok
t/libffi/versions.t ........................ skipped: set ALIEN_LIBFFI_INSTALLER_EXTRA_TESTS to run test
t/libfoo/01_use.t .......................... ok
t/libfoo/build_install.t ................... skipped: set ALIEN_FOO_INSTALLER_EXTRA_TESTS to run test
t/libfoo/build_requires.t .................. ok
t/libfoo/fetch.t ........................... ok
t/libfoo/system_install.t .................. skipped: requires libfoo already installed
t/libfoo/system_requires.t ................. ok
t/libfoo/test_compile_run.t ................ skipped: requires libfoo already installed
t/libfoo/test_ffi.t ........................ skipped: test requires FFI::Raw
t/libfoo/versions.t ........................ ok
t/lzo/01_use.t ............................. ok
t/lzo/build_install.t ...................... skipped: set ALIEN_LZO_INSTALLER_EXTRA_TESTS to run test
t/lzo/build_requires.t ..................... ok
t/lzo/fetch.t .............................. skipped: set ALIEN_LZO_INSTALLER_EXTRA_TESTS to run test
t/lzo/system_install.t ..................... skipped: requires LZO already installed
t/lzo/system_requires.t .................... ok
t/lzo/test_compiler_run.t .................. skipped: test requires LZO already installed
t/lzo/test_ffi.t ........................... skipped: test requires FFI::Raw
t/lzo/versions_available.t ................. skipped: set ALIEN_LZO_INSTALLER_EXTRA_TESTS to run test
All tests successful.
Files=47, Tests=73, 11 wallclock secs ( 0.14 usr + 0.24 sys = 0.38 CPU)
Result: PASS
------------------------------
PREREQUISITES
------------------------------
Prerequisite modules loaded:
requires:
Module Need Have
------------------------ -------- --------
base 0 2.18
Class::Method::Modifiers 0 2.04
ExtUtils::CBuilder 0 0.280210
perl 5.006 5.018001
Role::Tiny 1.003001 1.003002
build_requires:
Module Need Have
------------------------ -------- --------
Module::Build 0.3601 0.4204
Test::More 0.94 1.001002
configure_requires:
Module Need Have
------------------------ -------- --------
Module::Build 0.3601 0.4204
------------------------------
ENVIRONMENT AND OTHER CONTEXT
------------------------------
Environment variables:
AUTOMATED_TESTING = 1
COMSPEC = C:\WINDOWS\system32\cmd.exe
NUMBER_OF_PROCESSORS = 1
PATH = C:\Program Files\Far Manager\;C:\WINDOWS\system32;C:\WINDOWS;C:\WINDOWS\System32\Wbem;C:\strawberry181\c\bin;C:\strawberry181\perl\site\bin;C:\strawberry181\perl\bin
PERL5LIB =
PERL5OPT =
PERL5_CPANPLUS_IS_RUNNING = 480
PERL5_CPAN_IS_RUNNING = 480
PERL5_CPAN_IS_RUNNING_IN_RECURSION = 1540,480
PERL_CR_SMOKER_CURRENT = Alien-Libarchive-Installer-0.08_06
PERL_EXTUTILS_AUTOINSTALL = --defaultdeps
PERL_HASH_SEED = 0x11111111
PERL_MM_USE_DEFAULT = 1
PROCESSOR_IDENTIFIER = x86 Family 16 Model 5 Stepping 3, AuthenticAMD
TEMP = C:\DOCUME~1\c\LOCALS~1\Temp
TERM = dumb
Perl special variables (and OS-specific diagnostics, for MSWin32):
$^X = C:\strawberry181\perl\bin\perl.exe
$UID/$EUID = 0 / 0
$GID = 0
$EGID = 0
Win32::GetOSName = WinXP/.Net
Win32::GetOSVersion = Service Pack 3, 5, 1, 2600, 2, 3, 0, 256, 1
Win32::FsType = NTFS
Win32::IsAdminUser = 1
Perl module toolchain versions installed:
Module Have
------------------- --------
CPAN 2.00
CPAN::Meta 2.132140
Cwd 3.40
ExtUtils::CBuilder 0.280210
ExtUtils::Command 1.17
ExtUtils::Install 1.59
ExtUtils::MakeMaker 6.72
ExtUtils::Manifest 1.63
ExtUtils::ParseXS 3.22
File::Spec 3.40
JSON 2.59
JSON::PP 2.27202
Module::Build 0.4204
Module::Signature n/a
Parse::CPAN::Meta 1.4405
Test::Harness 3.30
Test::More 1.001002
YAML 0.88
YAML::Syck 1.27
version 0.9902
--
Summary of my perl5 (revision 5 version 18 subversion 1) configuration:
Platform:
osname=MSWin32, osvers=4.0, archname=MSWin32-x86-multi-thread-64int
uname='Win32 strawberry-perl 5.18.1.1 #1 Tue Aug 13 19:20:13 2013 i386'
config_args='undef'
hint=recommended, useposix=true, d_sigaction=undef
useithreads=define, usemultiplicity=define
useperlio=define, d_sfio=undef, uselargefiles=define, usesocks=undef
use64bitint=define, use64bitall=undef, uselongdouble=undef
usemymalloc=n, bincompat5005=undef
Compiler:
cc='gcc', ccflags =' -s -O2 -DWIN32 -DPERL_TEXTMODE_SCRIPTS -DPERL_IMPLICIT_CONTEXT -DPERL_IMPLICIT_SYS -DUSE_PERLIO -fno-strict-aliasing -mms-bitfields',
optimize='-s -O2',
cppflags='-DWIN32'
ccversion='', gccversion='4.7.3', gccosandvers=''
intsize=4, longsize=4, ptrsize=4, doublesize=8, byteorder=12345678
d_longlong=define, longlongsize=8, d_longdbl=define, longdblsize=12
ivtype='long long', ivsize=8, nvtype='double', nvsize=8, Off_t='long long', lseeksize=8
alignbytes=8, prototype=define
Linker and Libraries:
ld='g++', ldflags ='-s -L"C:\strawberry181\perl\lib\CORE" -L"C:\strawberry181\c\lib"'
libpth=C:\strawberry181\c\lib C:\strawberry181\c\i686-w64-mingw32\lib
libs=-lmoldname -lkernel32 -luser32 -lgdi32 -lwinspool -lcomdlg32 -ladvapi32 -lshell32 -lole32 -loleaut32 -lnetapi32 -luuid -lws2_32 -lmpr -lwinmm -lversion -lodbc32 -lodbccp32 -lcomctl32
perllibs=-lmoldname -lkernel32 -luser32 -lgdi32 -lwinspool -lcomdlg32 -ladvapi32 -lshell32 -lole32 -loleaut32 -lnetapi32 -luuid -lws2_32 -lmpr -lwinmm -lversion -lodbc32 -lodbccp32 -lcomctl32
libc=, so=dll, useshrplib=true, libperl=libperl518.a
gnulibc_version=''
Dynamic Linking:
dlsrc=dl_win32.xs, dlext=dll, d_dlsymun=undef, ccdlflags=' '
cccdlflags=' ', lddlflags='-mdll -s -L"C:\strawberry181\perl\lib\CORE" -L"C:\strawberry181\c\lib"'
Characteristics of this binary (from libperl):
Compile-time options: HAS_TIMES HAVE_INTERP_INTERN MULTIPLICITY
PERLIO_LAYERS PERL_DONT_CREATE_GVSV
PERL_HASH_FUNC_ONE_AT_A_TIME_HARD
PERL_IMPLICIT_CONTEXT PERL_IMPLICIT_SYS
PERL_MALLOC_WRAP PERL_PRESERVE_IVUV PERL_SAWAMPERSAND
USE_64_BIT_INT USE_ITHREADS USE_LARGE_FILES
USE_LOCALE USE_LOCALE_COLLATE USE_LOCALE_CTYPE
USE_LOCALE_NUMERIC USE_PERLIO USE_PERL_ATOF
Built under MSWin32
Compiled at Aug 13 2013 19:29:16
%ENV:
PERL5_CPANPLUS_IS_RUNNING="480"
PERL5_CPAN_IS_RUNNING="480"
PERL5_CPAN_IS_RUNNING_IN_RECURSION="1540,480"
PERL_CR_SMOKER_CURRENT="Alien-Libarchive-Installer-0.08_06"
PERL_EXTUTILS_AUTOINSTALL="--defaultdeps"
PERL_HASH_SEED="0x11111111"
PERL_MM_USE_DEFAULT="1"
@INC:
C:/strawberry181/perl/site/lib
C:/strawberry181/perl/vendor/lib
C:/strawberry181/perl/lib
.