JSON-Any v1.40 Perl 5 v5.36.3 x86_64-cygwin-threads-multi

Status
Pass
From
Dist
JSON-Any v1.40
Platform
Perl 5 v5.36.3 x86_64-cygwin-threads-multi
Date
2024-02-23 07:07:01
ID
cf73005c-7aca-1014-8288-bbea69b3b2e6
This distribution has been tested as part of the CPAN Testers
project, supporting the Perl programming language.  See
http://wiki.cpantesters.org/ for more information or email
questions to cpan-testers-discuss@perl.org


--
Dear Karen Etheridge,

This is a computer-generated report for JSON-Any-1.40
on perl 5.36.3, created by CPAN-Reporter-1.2019.

Thank you for uploading your work to CPAN.  Congratulations!
All tests were successful.

Sections of this report:

    * Tester comments
    * Program output
    * Prerequisites
    * Environment and other context

------------------------------
TESTER COMMENTS
------------------------------

Additional comments from tester:

none provided

------------------------------
PROGRAM OUTPUT
------------------------------

Output from '/usr/bin/make test':

PERL_DL_NONLAZY=1 "/usr/bin/perl.exe" "-MExtUtils::Command::MM" "-MTest::Harness" "-e" "undef *Test::Harness::Switches; test_harness(0, 'blib/lib', 'blib/arch')" t/*.t
# Testing JSON::Any 1.40, Perl 5.036003, /usr/bin/perl
t/00-load.t ............ ok
# 
# Versions for all modules listed in MYMETA.json (including optional ones):
# 
# === Configure Requires ===
# 
#     Module                       Want     Have
#     ------------------------ -------- --------
#     CPAN::Meta::Requirements 2.120620    2.140
#     ExtUtils::MakeMaker           any     7.64
#     Module::Metadata              any 1.000037
#     perl                        5.008 5.036003
# 
# === Build Requires ===
# 
#     Module              Want Have
#     ------------------- ---- ----
#     ExtUtils::MakeMaker  any 7.64
# 
# === Test Requires ===
# 
#     Module                 Want     Have
#     --------------------- ----- --------
#     Data::Dumper            any    2.184
#     ExtUtils::MakeMaker     any     7.64
#     File::Spec              any     3.84
#     Storable                any     3.26
#     Test::Fatal             any    0.017
#     Test::More             0.88 1.302198
#     Test::Needs             any 0.002010
#     Test::Warnings        0.009    0.033
#     Test::Without::Module   any     0.21
#     open                    any     1.13
#     perl                  5.008 5.036003
#     utf8                    any     1.24
# 
# === Test Recommends ===
# 
#     Module         Want     Have
#     ---------- -------- --------
#     CPAN::Meta 2.120900 2.150010
# 
# === Runtime Requires ===
# 
#     Module    Want     Have
#     -------- ----- --------
#     Carp       any     1.52
#     constant   any     1.33
#     perl     5.008 5.036003
#     strict     any     1.12
#     warnings   any     1.58
# 
# === Other Modules ===
# 
#     Module               Have
#     ---------------- --------
#     Cpanel::JSON::XS     4.37
#     Encode               3.20
#     File::Temp         0.2311
#     JSON                 4.10
#     JSON::DWIW        missing
#     JSON::MaybeXS    1.004005
#     JSON::PP             4.16
#     JSON::Syck        missing
#     JSON::XS          missing
#     Module::Runtime     0.016
#     Pod::Coverage        0.23
#     Sub::Name            0.27
#     YAML              missing
#     autodie              2.34
#     constant             1.33
# 
t/00-report-prereqs.t .. ok
# Testing JSON.pm backend
t/01-JSON.t ............ ok
t/02-JSON-XS.t ......... skipped: JSON::XS not installed: Couldn't find a JSON package. Need JSON::XS at (eval 9) line 1.
t/03-JSON-DWIW.t ....... skipped: JSON::DWIW not installed: Couldn't find a JSON package. Need JSON::DWIW at (eval 9) line 1.
t/04-ENV.t ............. ok
t/05-JSON-Syck.t ....... skipped: JSON::Syck not installed: Couldn't find a JSON package. Need JSON::Syck at (eval 9) line 1.
# Testing JSON::PP backend
t/06-JSON-PP.t ......... ok
# Testing Cpanel::JSON::XS backend
t/07-CPanel-JSON-XS.t .. ok
t/10_unicode.t ......... ok
t/11-string-escape.t ... ok
t/12-boolean.t ......... ok
t/13-no-backends.t ..... ok
t/14-deprecated.t ...... skipped: Need JSON::Syck
All tests successful.
Files=14, Tests=181,  7 wallclock secs ( 0.05 usr  0.31 sys +  1.63 cusr  4.35 csys =  6.34 CPU)
Result: PASS

------------------------------
PREREQUISITES
------------------------------

Prerequisite modules loaded:

requires:

    Module                   Need     Have    
    ------------------------ -------- --------
    Carp                     0        1.52    
    constant                 0        1.33    
    perl                     5.008    5.036003
    strict                   0        1.12    
    warnings                 0        1.58    

build_requires:

    Module                   Need     Have    
    ------------------------ -------- --------
    Data::Dumper             0        2.184   
    ExtUtils::MakeMaker      0        7.64    
    File::Spec               0        3.84    
    open                     0        1.13    
    Storable                 0        3.26    
    Test::Fatal              0        0.017   
    Test::More               0.88     1.302198
    Test::Needs              0        0.002010
    Test::Warnings           0.009    0.033   
    Test::Without::Module    0        0.21    
    utf8                     0        1.24    

configure_requires:

    Module                   Need     Have    
    ------------------------ -------- --------
    CPAN::Meta::Requirements 2.120620 2.140   
    ExtUtils::MakeMaker      0        7.64    
    Module::Metadata         0        1.000037
    perl                     5.008    5.036003

opt_build_requires:

    Module                   Need     Have    
    ------------------------ -------- --------
    CPAN::Meta               2.120900 2.150010


------------------------------
ENVIRONMENT AND OTHER CONTEXT
------------------------------

Environment variables:

    COMSPEC = C:\WINDOWS\system32\cmd.exe
    LC_CTYPE = fr_FR.UTF-8
    NONINTERACTIVE_TESTING = 1
    NUMBER_OF_PROCESSORS = 4
    PATH = /usr/local/bin:/usr/bin:/cygdrive/c/Program Files (x86)/Lenovo/FusionEngine:/cygdrive/c/Program Files (x86)/Intel/iCLS Client:/cygdrive/c/Program Files/Intel/iCLS Client:/cygdrive/c/Program Files (x86)/NVIDIA Corporation/PhysX/Common:/cygdrive/c/WINDOWS/system32:/cygdrive/c/WINDOWS:/cygdrive/c/WINDOWS/System32/Wbem:/cygdrive/c/WINDOWS/System32/WindowsPowerShell/v1.0:/cygdrive/c/Program Files/Intel/Intel(R) Management Engine Components/DAL:/cygdrive/c/Program Files/Intel/Intel(R) Management Engine Components/IPT:/cygdrive/c/Program Files (x86)/Intel/Intel(R) Management Engine Components/DAL:/cygdrive/c/Program Files (x86)/Intel/Intel(R) Management Engine Components/IPT:/cygdrive/c/Program Files (x86)/Common Files/lenovo/easyplussdk/bin:/cygdrive/c/Strawberry/perl-5.22.0.1-32bits/c/bin:/cygdrive/c/Strawberry/perl-5.22.0.1-32bits/perl/site/bin:/cygdrive/c/Strawberry/perl-5.22.0.1-32bits/perl/bin:/cygdrive/c/Program Files (x86)/Windows Kits/8.1/Windows Performance Toolkit:/cygdrive/c/WINDOWS/System32/OpenSSH:/cygdrive/c/Program Files/Microsoft SQL Server/110/Tools/Binn:/cygdrive/c/Program Files (x86)/Windows Kits/10/Windows Performance Toolkit:/cygdrive/c/Program Files (x86)/Lenovo/FusionEngine:/cygdrive/c/Program Files (x86)/Intel/iCLS Client:/cygdrive/c/Program Files/Intel/iCLS Client:/cygdrive/c/Program Files (x86)/NVIDIA Corporation/PhysX/Common:/cygdrive/c/WINDOWS/system32:/cygdrive/c/WINDOWS:/cygdrive/c/WINDOWS/System32/Wbem:/cygdrive/c/WINDOWS/System32/WindowsPowerShell/v1.0:/cygdrive/c/Program Files/Intel/Intel(R) Management Engine Components/DAL:/cygdrive/c/Program Files/Intel/Intel(R) Management Engine Components/IPT:/cygdrive/c/Program Files (x86)/Intel/Intel(R) Management Engine Components/DAL:/cygdrive/c/Program Files (x86)/Intel/Intel(R) Management Engine Components/IPT:/cygdrive/c/Program Files (x86)/Common Files/lenovo/easyplussdk/bin:/cygdrive/c/Strawberry/perl-5.22.0.1-32bits/c/bin:/cygdrive/c/Strawberry/perl-5.22.0.1-32bits/perl/site/bin:/cygdrive/c/Strawberry/perl-5.22.0.1-32bits/perl/bin:/cygdrive/c/Program Files (x86)/Windows Kits/8.1/Windows Performance Toolkit:/cygdrive/c/WINDOWS/System32/OpenSSH:/cygdrive/c/Program Files/Microsoft SQL Server/110/Tools/Binn:/cygdrive/c/Program Files (x86)/Windows Kits/10/Windows Performance Toolkit:/cygdrive/c/Users/Jean-Damien/AppData/Local/GitHub/PortableGit_c2ba306e536fdf878271f7fe636a147ff37326ad/bin:/cygdrive/c/Users/Jean-Damien/AppData/Local/Microsoft/WindowsApps:/cygdrive/c/Program Files (x86)/Dr. Memory/bin:/usr/lib/lapack
    PERL5LIB = 
    PERL5OPT = 
    PERL5_CPANPLUS_IS_RUNNING = 11011
    PERL5_CPAN_IS_RUNNING = 11011
    PERL_MM_USE_DEFAULT = 1
    PERL_USE_UNSAFE_INC = 1
    PROCESSOR_IDENTIFIER = Intel64 Family 6 Model 69 Stepping 1, GenuineIntel
    SHELL = /bin/bash
    TEMP = /tmp
    TERM = xterm

Perl special variables (and OS-specific diagnostics, for MSWin32):

    $^X = /usr/bin/perl
    $UID/$EUID = 197610 / 197610
    $GID = 197121 197121 197611 559 545 4 66049 11 15 113 4095 66048 262154 401408
    $EGID = 197121 197121 197611 559 545 4 66049 11 15 113 4095 66048 262154 401408

Perl module toolchain versions installed:

    Module              Have    
    ------------------- --------
    CPAN                2.33    
    CPAN::Meta          2.150010
    Cwd                 3.84    
    ExtUtils::CBuilder  0.280236
    ExtUtils::Command   7.64    
    ExtUtils::Install   2.20    
    ExtUtils::MakeMaker 7.64    
    ExtUtils::Manifest  1.73    
    ExtUtils::ParseXS   3.45    
    File::Spec          3.84    
    JSON                4.10    
    JSON::PP            4.16    
    Module::Build       0.4234  
    Module::Signature   n/a     
    Parse::CPAN::Meta   2.150010
    Test2               1.302198
    Test::Harness       3.44    
    Test::More          1.302198
    YAML                n/a     
    YAML::Syck          n/a     
    version             0.9929  


--

Summary of my perl5 (revision 5 version 36 subversion 3) configuration:
   
  Platform:
    osname=cygwin
    osvers=3.4.10-1.x86_64
    archname=x86_64-cygwin-threads-multi
    uname='cygwin_nt-10.0-22631 walter 3.4.10-1.x86_64 2023-11-29 12:12 utc x86_64 cygwin '
    config_args='-des -Dprefix=/usr -Dmksymlinks -Darchname=x86_64-cygwin-threads -Dlibperl=cygperl5_36.dll -Dcc=gcc -Dld=g++ -Accflags=-ggdb -O2 -pipe -Wall -Werror=format-security -D_FORTIFY_SOURCE=2 -fstack-protector-strong --param=ssp-buffer-size=4 -fdebug-prefix-map=/mnt/share/cygpkgs/perl/perl.x86_64/build=/usr/src/debug/perl-5.36.3-1 -fdebug-prefix-map=/mnt/share/cygpkgs/perl/perl.x86_64/src/perl-5.36.3=/usr/src/debug/perl-5.36.3-1 -fwrapv'
    hint=recommended
    useposix=true
    d_sigaction=define
    useithreads=define
    usemultiplicity=define
    use64bitint=define
    use64bitall=define
    uselongdouble=undef
    usemymalloc=n
    default_inc_excludes_dot=define
  Compiler:
    cc='gcc'
    ccflags ='-DPERL_USE_SAFE_PUTENV -U__STRICT_ANSI__ -D_GNU_SOURCE -ggdb -O2 -pipe -Wall -Werror=format-security -D_FORTIFY_SOURCE=2 -fstack-protector-strong --param=ssp-buffer-size=4 -fdebug-prefix-map=/mnt/share/cygpkgs/perl/perl.x86_64/build=/usr/src/debug/perl-5.36.3-1 -fdebug-prefix-map=/mnt/share/cygpkgs/perl/perl.x86_64/src/perl-5.36.3=/usr/src/debug/perl-5.36.3-1 -fwrapv -fno-strict-aliasing'
    optimize='-O3'
    cppflags='-DPERL_USE_SAFE_PUTENV -U__STRICT_ANSI__ -D_GNU_SOURCE -ggdb -O2 -pipe -Wall -Werror=format-security -D_FORTIFY_SOURCE=2 -fstack-protector-strong --param=ssp-buffer-size=4 -fdebug-prefix-map=/mnt/share/cygpkgs/perl/perl.x86_64/build=/usr/src/debug/perl-5.36.3-1 -fdebug-prefix-map=/mnt/share/cygpkgs/perl/perl.x86_64/src/perl-5.36.3=/usr/src/debug/perl-5.36.3-1 -fwrapv -fno-strict-aliasing'
    ccversion=''
    gccversion='11.4.0'
    gccosandvers=''
    intsize=4
    longsize=8
    ptrsize=8
    doublesize=8
    byteorder=12345678
    doublekind=3
    d_longlong=define
    longlongsize=8
    d_longdbl=define
    longdblsize=16
    longdblkind=3
    ivtype='long'
    ivsize=8
    nvtype='double'
    nvsize=8
    Off_t='off_t'
    lseeksize=8
    alignbytes=8
    prototype=define
  Linker and Libraries:
    ld='g++'
    ldflags =' -Wl,--enable-auto-import -Wl,--export-all-symbols -Wl,--enable-auto-image-base -fstack-protector-strong'
    libpth=/usr/lib
    libs=-lpthread -lnsl -lgdbm -ldb -ldl -lcrypt -lgdbm_compat
    perllibs=-lpthread -lnsl -ldl -lcrypt
    libc=/usr/lib/libcygwin.a
    so=dll
    useshrplib=true
    libperl=cygperl5_36.dll
    gnulibc_version=''
  Dynamic Linking:
    dlsrc=dl_dlopen.xs
    dlext=dll
    d_dlsymun=undef
    ccdlflags=' '
    cccdlflags=' '
    lddlflags=' --shared  -Wl,--enable-auto-import -Wl,--export-all-symbols -Wl,--enable-auto-image-base -fstack-protector-strong'


Characteristics of this binary (from libperl): 
  Compile-time options:
    HAS_TIMES
    MULTIPLICITY
    PERLIO_LAYERS
    PERL_COPY_ON_WRITE
    PERL_DONT_CREATE_GVSV
    PERL_OP_PARENT
    PERL_PRESERVE_IVUV
    PERL_USE_SAFE_PUTENV
    USE_64_BIT_ALL
    USE_64_BIT_INT
    USE_ITHREADS
    USE_LARGE_FILES
    USE_LOCALE
    USE_LOCALE_COLLATE
    USE_LOCALE_CTYPE
    USE_LOCALE_NUMERIC
    USE_LOCALE_TIME
    USE_PERLIO
    USE_PERL_ATOF
    USE_REENTRANT_API
    USE_THREAD_SAFE_LOCALE
  Locally applied patches:
    Cygwin: README
    Cygwin: use auto-image-base instead of fixed DLL base address
    Cygwin: modify hints
    Cygwin: Configure correct libsearch
    Cygwin: Configure correct libpth
    Cygwin: Win32 correct UTF8 handling
  Built under cygwin
  Compiled at Nov 30 2023 21:40:29
  %ENV:
    PERL5LIB=""
    PERL5OPT=""
    PERL5_CPANPLUS_IS_RUNNING="11011"
    PERL5_CPAN_IS_RUNNING="11011"
    PERL_MM_USE_DEFAULT="1"
    PERL_USE_UNSAFE_INC="1"
  @INC:
    /usr/local/lib/perl5/site_perl/5.36/x86_64-cygwin-threads
    /usr/local/share/perl5/site_perl/5.36
    /usr/lib/perl5/vendor_perl/5.36/x86_64-cygwin-threads
    /usr/share/perl5/vendor_perl/5.36
    /usr/lib/perl5/5.36/x86_64-cygwin-threads
    /usr/share/perl5/5.36
    .