Future-HTTP v0.17 Perl 5 v5.20.3 MSWin32-x86-multi-thread-64int

Status
Pass
From
NONAME
Dist
Future-HTTP v0.17
Platform
Perl 5 v5.20.3 MSWin32-x86-multi-thread-64int
Date
2024-04-16 09:13:01
ID
cf4a25f9-6dc9-1014-b4c3-d6c4e3396204
This distribution has been tested as part of the CPAN Testers
project, supporting the Perl programming language.  See
http://wiki.cpantesters.org/ for more information or email
questions to cpan-testers-discuss@perl.org


--
Dear Max Maischein,

This is a computer-generated report for Future-HTTP-0.17
on perl 5.20.3, created by CPAN-Reporter-1.2018.

Thank you for uploading your work to CPAN.  Congratulations!
All tests were successful.

Sections of this report:

    * Tester comments
    * Program output
    * Prerequisites
    * Environment and other context

------------------------------
TESTER COMMENTS
------------------------------

Additional comments from tester:

none provided

------------------------------
PROGRAM OUTPUT
------------------------------

Output from 'c:\Strawberry\c\bin\dmake.exe test':

C:\"Strawberry\perl\bin\perl.exe" "-MExtUtils::Command::MM" "-MTest::Harness" "-e" "undef *Test::Harness::Switches; test_harness(0, 'blib\lib', 'blib\arch')" t/00-load.t t/01-anyevent-http.t t/01-backend-selection.t t/01-backends-anyevent.t t/01-backends-default.t t/01-backends-mojolicious.t t/01-backends-netasync.t t/01-backends-tiny-paranoid.t t/01-http-tiny-paranoid.t t/01-http-tiny.t t/01-mojo.t t/01-netasync.t t/02-changedefault1.t t/02-changedefault2.t
# Testing Future::HTTP 0.17, Perl 5.020003
# Carp 1.50
# Config 5.020003
# Cwd 3.75
# DynaLoader 1.25
# Encode 3.21
# Encode::Alias 2.25
# Encode::CJKConstants 2.02
# Encode::Config 2.05
# Encode::Encoding 2.08
# Encode::JP 2.05
# Encode::JP::JIS7 2.08
# Encode::MIME::Name 1.03
# Exporter 5.78
# Exporter::Heavy 5.78
# ExtUtils::Liblist 7.70
# ExtUtils::Liblist::Kid 7.70
# ExtUtils::MM 7.70
# ExtUtils::MM_Any 7.70
# ExtUtils::MM_Unix 7.70
# ExtUtils::MM_Win32 7.70
# ExtUtils::MY 7.70
# ExtUtils::MakeMaker 7.70
# ExtUtils::MakeMaker::Config 7.70
# ExtUtils::MakeMaker::Locale 7.70
# ExtUtils::MakeMaker::version 7.70
# Fcntl 1.11
# File::Basename 2.85
# File::Glob 1.23
# File::Path 2.18
# File::Spec 3.75
# File::Spec::Unix 3.75
# File::Spec::Win32 3.75
# Future::HTTP 0.17
# List::Util 1.63
# POSIX 1.38_03
# PerlIO 1.09
# Scalar::Util 1.63
# Storable 3.25
# Test::Builder 1.302198
# Test::Builder::Formatter 1.302198
# Test::Builder::Module 1.302198
# Test::Builder::TodoDiag 1.302198
# Test::More 1.302198
# Test2::API 1.302198
# Test2::API::Context 1.302198
# Test2::API::Instance 1.302198
# Test2::API::Stack 1.302198
# Test2::Event 1.302198
# Test2::Event::Bail 1.302198
# Test2::Event::Diag 1.302198
# Test2::Event::Exception 1.302198
# Test2::Event::Fail 1.302198
# Test2::Event::Note 1.302198
# Test2::Event::Ok 1.302198
# Test2::Event::Pass 1.302198
# Test2::Event::Plan 1.302198
# Test2::Event::Skip 1.302198
# Test2::Event::Subtest 1.302198
# Test2::Event::V2 1.302198
# Test2::Event::Waiting 1.302198
# Test2::EventFacet 1.302198
# Test2::EventFacet::About 1.302198
# Test2::EventFacet::Amnesty 1.302198
# Test2::EventFacet::Assert 1.302198
# Test2::EventFacet::Control 1.302198
# Test2::EventFacet::Error 1.302198
# Test2::EventFacet::Hub 1.302198
# Test2::EventFacet::Info 1.302198
# Test2::EventFacet::Meta 1.302198
# Test2::EventFacet::Parent 1.302198
# Test2::EventFacet::Plan 1.302198
# Test2::EventFacet::Trace 1.302198
# Test2::Formatter 1.302198
# Test2::Formatter::TAP 1.302198
# Test2::Hub 1.302198
# Test2::Hub::Interceptor 1.302198
# Test2::Hub::Interceptor::Terminator 1.302198
# Test2::Hub::Subtest 1.302198
# Test2::Util 1.302198
# Test2::Util::ExternalMeta 1.302198
# Test2::Util::Facets2Legacy 1.302198
# Test2::Util::HashBase 1.302198
# Test2::Util::Trace 1.302198
# Tie::Hash 1.05
# Time::HiRes 1.976402
# Win32 0.59
# XSLoader 0.24
# base 2.23
# bytes 1.04
# constant 1.33
# experimental 0.031
# feature 1.36_01
# mro 1.16
# overloading 0.02
# parent 0.241
# re 0.26
# strict 1.08
# vars 1.03
# version 0.9930
# version::regex 0.9930
# version::vxs 0.9930
# warnings 1.23
# warnings::register 1.03
t/00-load.t .................... ok
# Version of AnyEvent::HTTP: 2.25
t/01-anyevent-http.t ........... ok
t/01-backend-selection.t ....... ok
t/01-backends-anyevent.t ....... ok
t/01-backends-default.t ........ ok
# Skipped check for Future::HTTP::Mojo backend: Future::Mojo version 1.003 required--this is only version 1.001 at C:\strawberry\cpan\build\Future-HTTP-0.17-1\blib\lib/Future/HTTP/Mojo.pm line 3.
# BEGIN failed--compilation aborted at C:\strawberry\cpan\build\Future-HTTP-0.17-1\blib\lib/Future/HTTP/Mojo.pm line 3.
# Compilation failed in require at (eval 140) line 1.
t/01-backends-mojolicious.t .... ok
# Skipped check for Future::HTTP::NetAsync backend: Can't locate IO/Async.pm in @INC (you may need to install the IO::Async module) (@INC contains: C:\strawberry\cpan\build\Future-HTTP-0.17-1\blib\lib C:\strawberry\cpan\build\Future-HTTP-0.17-1\blib\arch C:\home\grape\perl5\lib\perl5/MSWin32-x86-multi-thread-64int C:\home\grape\perl5\lib\perl5/MSWin32-x86-multi-thread-64int C:\home\grape\perl5\lib\perl5 C:\home\grape\perl5\lib\perl5/MSWin32-x86-multi-thread-64int C:\home\grape\perl5\lib\perl5 C:/Strawberry/perl/site/lib C:/Strawberry/perl/vendor/lib C:/Strawberry/perl/lib .) at t/01-backends-netasync.t line 13.
t/01-backends-netasync.t ....... ok
t/01-backends-tiny-paranoid.t .. ok
# Version of HTTP::Tiny::Paranoid: 0.07
t/01-http-tiny-paranoid.t ...... ok
# Version of HTTP::Tiny: 0.088
t/01-http-tiny.t ............... ok
t/01-mojo.t .................... skipped: Couldn't load Future::HTTP::Mojo: Future::Mojo version 1.003 required--this is only version 1.001 at C:\strawberry\cpan\build\Future-HTTP-0.17-1\blib\lib/Future/HTTP/Mojo.pm line 3.
t/01-netasync.t ................ skipped: Couldn't load Net::Async::HTTP: Can't locate Net/Async/HTTP.pm in @INC (you may need to install the Net::Async::HTTP module) (@INC contains: C:\strawberry\cpan\build\Future-HTTP-0.17-1\blib\lib C:\strawberry\cpan\build\Future-HTTP-0.17-1\blib\arch C:\home\grape\perl5\lib\perl5/MSWin32-x86-multi-thread-64int C:\home\grape\perl5\lib\perl5/MSWin32-x86-multi-thread-64int C:\home\grape\perl5\lib\perl5 C:\home\grape\perl5\lib\perl5/MSWin32-x86-multi-thread-64int C:\home\grape\perl5\lib\perl5 C:/Strawberry/perl/site/lib C:/Strawberry/perl/vendor/lib C:/Strawberry/perl/lib .) at t/01-netasync.t line 10.
t/02-changedefault1.t .......... ok
t/02-changedefault2.t .......... ok
All tests successful.
Files=14, Tests=45, 21 wallclock secs ( 0.17 usr +  0.06 sys =  0.23 CPU)
Result: PASS

------------------------------
PREREQUISITES
------------------------------

Prerequisite modules loaded:

requires:

    Module                  Need  Have    
    ----------------------- ----- --------
    experimental            0.031 0.031   
    Future                  0.49  0.49    
    HTTP::Headers           6.07  6.45    
    HTTP::Tiny              0     0.088   
    Moo                     2     2.005005
    perl                    5.020 5.020003

build_requires:

    Module                  Need  Have    
    ----------------------- ----- --------
    Data::Dumper            0     2.183   
    ExtUtils::MakeMaker     0     7.70    
    Test::HTTP::LocalServer 0     0.76    
    Test::More              0     1.302198

configure_requires:

    Module                  Need  Have    
    ----------------------- ----- --------
    ExtUtils::MakeMaker     0     7.70    


------------------------------
ENVIRONMENT AND OTHER CONTEXT
------------------------------

Environment variables:

    COMSPEC = C:\windows\system32\cmd.exe
    NONINTERACTIVE_TESTING = 1
    NUMBER_OF_PROCESSORS = 4
    PATH = C:\home\grape\perl5\bin;C:\windows\system32;C:\windows;C:\windows\System32\Wbem;C:\windows\System32\WindowsPowerShell\v1.0\;C:\Strawberry\c\bin;C:\Strawberry\perl\site\bin;C:\Strawberry\perl\bin
    PERL5LIB = C:\home\grape\perl5\lib\perl5
    PERL5OPT = 
    PERL5_CPANPLUS_IS_RUNNING = 9052
    PERL5_CPAN_IS_RUNNING = 9052
    PERL_LOCAL_LIB_ROOT = C:\home\grape\perl5
    PERL_MB_OPT = --install_base "C:\\home\\grape\\perl5"
    PERL_MM_OPT = INSTALL_BASE=C:\\home\\grape\\perl5
    PERL_MM_USE_DEFAULT = 1
    PERL_USE_UNSAFE_INC = 1
    PROCESSOR_IDENTIFIER = x86 Family 6 Model 37 Stepping 5, GenuineIntel
    TEMP = C:\Users\user\AppData\Local\Temp
    TERM = dumb
    TUGI_PERLVER = 5.020003

Perl special variables (and OS-specific diagnostics, for MSWin32):

    $^X = C:\Strawberry\perl\bin\perl.exe
    $UID/$EUID = 0 / 0
    $GID = 0
    $EGID = 0
    Win32::GetOSName = Win7
    Win32::GetOSVersion = Service Pack 1, 6, 1, 7601, 2, 1, 0, 256, 1
    Win32::FsType = NTFS
    Win32::IsAdminUser = 0

Perl module toolchain versions installed:

    Module              Have    
    ------------------- --------
    CPAN                2.34    
    CPAN::Meta          2.150010
    Cwd                 3.75    
    ExtUtils::CBuilder  0.280236
    ExtUtils::Command   7.70    
    ExtUtils::Install   2.22    
    ExtUtils::MakeMaker 7.70    
    ExtUtils::Manifest  1.75    
    ExtUtils::ParseXS   3.51    
    File::Spec          3.75    
    JSON                4.10    
    JSON::PP            4.17_01 
    Module::Build       0.4234  
    Module::Signature   0.88    
    Parse::CPAN::Meta   2.150010
    Test::Harness       3.47    
    Test::More          1.302198
    YAML                1.31    
    YAML::Syck          1.34    
    version             0.9930  


--

Summary of my perl5 (revision 5 version 20 subversion 3) configuration:
   
  Platform:
    osname=MSWin32, osvers=6.3, archname=MSWin32-x86-multi-thread-64int
    uname='Win32 strawberry-perl 5.20.3.3 #1 Tue Mar  8 06:38:32 2016 i386'
    config_args='undef'
    hint=recommended, useposix=true, d_sigaction=undef
    useithreads=define, usemultiplicity=define
    use64bitint=define, use64bitall=undef, uselongdouble=undef
    usemymalloc=n, bincompat5005=undef
  Compiler:
    cc='gcc', ccflags =' -s -O2 -DWIN32  -DPERL_TEXTMODE_SCRIPTS -DPERL_IMPLICIT_CONTEXT -DPERL_IMPLICIT_SYS -DUSE_PERLIO -fwrapv -fno-strict-aliasing -mms-bitfields',
    optimize='-s -O2',
    cppflags='-DWIN32'
    ccversion='', gccversion='4.8.3', gccosandvers=''
    intsize=4, longsize=4, ptrsize=4, doublesize=8, byteorder=12345678
    d_longlong=define, longlongsize=8, d_longdbl=define, longdblsize=12
    ivtype='long long', ivsize=8, nvtype='double', nvsize=8, Off_t='long long', lseeksize=8
    alignbytes=8, prototype=define
  Linker and Libraries:
    ld='g++', ldflags ='-s -L"c:\Strawberry\perl\lib\CORE" -L"c:\Strawberry\c\lib"'
    libpth=c:\Strawberry\c\lib c:\Strawberry\c\i686-w64-mingw32\lib c:\Strawberry\c\lib\gcc\i686-w64-mingw32\4.8.3
    libs=-lmoldname -lkernel32 -luser32 -lgdi32 -lwinspool -lcomdlg32 -ladvapi32 -lshell32 -lole32 -loleaut32 -lnetapi32 -luuid -lws2_32 -lmpr -lwinmm -lversion -lodbc32 -lodbccp32 -lcomctl32
    perllibs=-lmoldname -lkernel32 -luser32 -lgdi32 -lwinspool -lcomdlg32 -ladvapi32 -lshell32 -lole32 -loleaut32 -lnetapi32 -luuid -lws2_32 -lmpr -lwinmm -lversion -lodbc32 -lodbccp32 -lcomctl32
    libc=, so=dll, useshrplib=true, libperl=libperl520.a
    gnulibc_version=''
  Dynamic Linking:
    dlsrc=dl_win32.xs, dlext=xs.dll, d_dlsymun=undef, ccdlflags=' '
    cccdlflags=' ', lddlflags='-mdll -s -L"c:\Strawberry\perl\lib\CORE" -L"c:\Strawberry\c\lib"'


Characteristics of this binary (from libperl): 
  Compile-time options: HAS_TIMES HAVE_INTERP_INTERN MULTIPLICITY
                        PERLIO_LAYERS PERL_DONT_CREATE_GVSV
                        PERL_HASH_FUNC_ONE_AT_A_TIME_HARD
                        PERL_IMPLICIT_CONTEXT PERL_IMPLICIT_SYS
                        PERL_MALLOC_WRAP PERL_NEW_COPY_ON_WRITE
                        PERL_PRESERVE_IVUV USE_64_BIT_INT USE_ITHREADS
                        USE_LARGE_FILES USE_LOCALE USE_LOCALE_COLLATE
                        USE_LOCALE_CTYPE USE_LOCALE_NUMERIC USE_PERLIO
                        USE_PERL_ATOF
  Built under MSWin32
  Compiled at Mar  8 2016 06:43:07
  %ENV:
    PERL5LIB="C:\home\grape\perl5\lib\perl5"
    PERL5_CPANPLUS_IS_RUNNING="9052"
    PERL5_CPAN_IS_RUNNING="9052"
    PERL_LOCAL_LIB_ROOT="C:\home\grape\perl5"
    PERL_MB_OPT="--install_base "C:\\home\\grape\\perl5""
    PERL_MM_OPT="INSTALL_BASE=C:\\home\\grape\\perl5"
    PERL_MM_USE_DEFAULT="1"
    PERL_USE_UNSAFE_INC="1"
  @INC:
    C:\home\grape\perl5\lib\perl5/MSWin32-x86-multi-thread-64int
    C:\home\grape\perl5\lib\perl5
    C:/Strawberry/perl/site/lib
    C:/Strawberry/perl/vendor/lib
    C:/Strawberry/perl/lib
    .