Sodium-FFI v0.009 Perl 5 v5.32.1 OpenBSD.amd64-openbsd-thread-multi

Status
Pass
From
David Cantrell (DCANTRELL)
Dist
Sodium-FFI v0.009
Platform
Perl 5 v5.32.1 OpenBSD.amd64-openbsd-thread-multi
Date
2023-04-11 22:47:16
ID
cf2cc228-d8ba-11ed-9772-020c8c546fa6
This distribution has been tested as part of the CPAN Testers
project, supporting the Perl programming language.  See
http://wiki.cpantesters.org/ for more information or email
questions to cpan-testers-discuss@perl.org


--
Dear Chase Whitener,

This is a computer-generated report for Sodium-FFI-0.009
on perl 5.32.1, created by CPAN-Reporter-1.2018.

Thank you for uploading your work to CPAN.  Congratulations!
All tests were successful.

Sections of this report:

    * Tester comments
    * Program output
    * Prerequisites
    * Environment and other context

------------------------------
TESTER COMMENTS
------------------------------

Additional comments from tester:

this report is from an automated smoke testing program
and was not reviewed by a human for accuracy

------------------------------
PROGRAM OUTPUT
------------------------------

Output from '/usr/bin/make test':

"/home/david/cpantesting/perl-5.32.1/bin/perl" -MFFI::Build::MM=cmd -e fbx_build
"/home/david/cpantesting/perl-5.32.1/bin/perl" -MFFI::Build::MM=cmd -e fbx_test
PERL_DL_NONLAZY=1 "/home/david/cpantesting/perl-5.32.1/bin/perl" "-MExtUtils::Command::MM" "-MTest::Harness" "-e" "undef *Test::Harness::Switches; test_harness(0, 'blib/lib', 'blib/arch')" t/*.t t/aead/*.t t/pub_key_crypto/*.t
# 
# Versions for all modules listed in MYMETA.json (including optional ones):
# 
# === Configure Requires ===
# 
#     Module                Want     Have
#     -------------------- ----- --------
#     Alien::Base::Wrapper   any     2.78
#     Alien::Sodium         2.00    2.000
#     ExtUtils::MakeMaker    any     7.44
#     FFI::Build::MM        0.83     2.07
#     perl                 5.008 5.032001
# 
# === Build Requires ===
# 
#     Module        Want  Have
#     ------------- ---- -----
#     Alien::Sodium  any 2.000
# 
# === Test Requires ===
# 
#     Module               Want     Have
#     ------------------- ----- --------
#     ExtUtils::MakeMaker   any     7.44
#     File::Spec            any     3.78
#     Test::More           0.88 1.302194
#     perl                5.008 5.032001
# 
# === Test Recommends ===
# 
#     Module         Want     Have
#     ---------- -------- --------
#     CPAN::Meta 2.120900 2.150010
# 
# === Runtime Requires ===
# 
#     Module                Want     Have
#     -------------------- ----- --------
#     Alien::Base::Wrapper   any     2.78
#     Alien::Sodium        2.000    2.000
#     Carp                   any     1.50
#     Cwd                    any     3.78
#     Exporter              5.57     5.74
#     FFI::Platypus         1.00     2.07
#     File::Basename         any     2.85
#     File::ShareDir         any    1.118
#     File::Spec             any     3.78
#     Path::Tiny             any    0.122
#     Ref::Util              any    0.204
#     Sub::Util              any     1.63
#     feature                any     1.58
#     perl                 5.008 5.032001
#     strict                 any     1.11
#     utf8                   any     1.22
#     warnings               any     1.47
# 
t/00-report-prereqs.t ........... ok
t/10-versions.t ................. ok
t/11-utils.t .................... ok
t/12-random.t ................... ok
t/aead/aes256gcm.t .............. skipped: AEAD_AES256 Not Available.
t/aead/chacha20poly1305.t ....... ok
t/aead/chacha20poly1305_ietf.t .. ok
t/crypto_auth.t ................. ok
t/pub_key_crypto/box.t .......... ok
t/pub_key_crypto/pubkey_sig.t ... ok
All tests successful.
Files=10, Tests=136, 14 wallclock secs ( 0.42 usr  0.11 sys + 10.82 cusr  1.99 csys = 13.34 CPU)
Result: PASS

------------------------------
PREREQUISITES
------------------------------

Prerequisite modules loaded:

requires:

    Module               Need  Have    
    -------------------- ----- --------
    Alien::Base::Wrapper 0     2.78    
    Alien::Sodium        2.000 2.000   
    Carp                 0     1.50    
    Cwd                  0     3.78    
    Exporter             5.57  5.74    
    feature              0     1.58    
    FFI::Platypus        1.00  2.07    
    File::Basename       0     2.85    
    File::ShareDir       0     1.118   
    File::Spec           0     3.78    
    Path::Tiny           0     0.122   
    Ref::Util            0     0.204   
    strict               0     1.11    
    Sub::Util            0     1.63    
    utf8                 0     1.22    
    warnings             0     1.47    

build_requires:

    Module               Need  Have    
    -------------------- ----- --------
    Alien::Sodium        0     2.000   
    ExtUtils::MakeMaker  0     7.44    
    File::Spec           0     3.78    
    Test::More           0.88  1.302194

configure_requires:

    Module               Need  Have    
    -------------------- ----- --------
    Alien::Base::Wrapper 0     2.78    
    Alien::Sodium        2.00  2.000   
    ExtUtils::MakeMaker  0     7.44    
    FFI::Build::MM       0.83  2.07    
    perl                 5.008 5.032001


------------------------------
ENVIRONMENT AND OTHER CONTEXT
------------------------------

Environment variables:

    AUTOMATED_TESTING = 1
    NONINTERACTIVE_TESTING = 1
    PATH = /home/david/perl5/perlbrew/bin:/home/david/perl5/perlbrew/perls/perl-5.32.0/bin:/home/david/bin:/bin:/sbin:/usr/bin:/usr/sbin:/usr/X11R6/bin:/usr/local/bin:/usr/local/sbin:/usr/games:/home/david/.fzf/bin
    PERL = 5.32.1
    PERL5LIB = 
    PERL5OPT = 
    PERL5_CPANPLUS_IS_RUNNING = 59732
    PERL5_CPAN_IS_RUNNING = 59732
    PERLBREW_HOME = /home/david/.perlbrew
    PERLBREW_MANPATH = /home/david/perl5/perlbrew/perls/perl-5.32.0/man
    PERLBREW_PATH = /home/david/perl5/perlbrew/bin:/home/david/perl5/perlbrew/perls/perl-5.32.0/bin
    PERLBREW_PERL = perl-5.32.0
    PERLBREW_ROOT = /home/david/perl5/perlbrew
    PERLBREW_SHELLRC_VERSION = 0.92
    PERLBREW_VERSION = 0.92
    PERLVER = 5.32.1
    PERL_INLINE_DIRECTORY = /home/david/.Inline-5.32.1
    PERL_MM_USE_DEFAULT = 1
    PERL_USE_UNSAFE_INC = 0
    SHELL = /usr/local/bin/bash
    TERM = screen

Perl special variables (and OS-specific diagnostics, for MSWin32):

    $^X = /home/david/cpantesting/perl-5.32.1/bin/perl
    $UID/$EUID = 1000 / 1000
    $GID = 1000 1000 0
    $EGID = 1000 1000 0

Perl module toolchain versions installed:

    Module              Have    
    ------------------- --------
    CPAN                2.27    
    CPAN::Meta          2.150010
    Cwd                 3.78    
    ExtUtils::CBuilder  0.280236
    ExtUtils::Command   7.44    
    ExtUtils::Install   2.14    
    ExtUtils::MakeMaker 7.44    
    ExtUtils::Manifest  1.72    
    ExtUtils::ParseXS   3.40    
    File::Spec          3.78    
    JSON                4.10    
    JSON::PP            4.04    
    Module::Build       0.4231  
    Module::Signature   n/a     
    Parse::CPAN::Meta   2.150010
    Test::Harness       3.42    
    Test::More          1.302194
    YAML                1.30    
    YAML::Syck          n/a     
    version             0.9924  


--

Summary of my perl5 (revision 5 version 32 subversion 1) configuration:
   
  Platform:
    osname=openbsd
    osvers=7.0
    archname=OpenBSD.amd64-openbsd-thread-multi
    uname='openbsd cpantesting-openbsd-utm.home 7.0 generic.mp#232 amd64 '
    config_args='-de -Dprefix=/home/david/cpantesting/perl-5.32.1 -Dusethreads'
    hint=recommended
    useposix=true
    d_sigaction=define
    useithreads=define
    usemultiplicity=define
    use64bitint=define
    use64bitall=define
    uselongdouble=undef
    usemymalloc=n
    default_inc_excludes_dot=define
    bincompat5005=undef
  Compiler:
    cc='cc'
    ccflags ='-pthread -fno-strict-aliasing -pipe -fstack-protector-strong -I/usr/local/include'
    optimize='-O2'
    cppflags='-pthread -fno-strict-aliasing -pipe -fstack-protector-strong -I/usr/local/include'
    ccversion=''
    gccversion='OpenBSD Clang 11.1.0'
    gccosandvers=''
    intsize=4
    longsize=8
    ptrsize=8
    doublesize=8
    byteorder=12345678
    doublekind=3
    d_longlong=define
    longlongsize=8
    d_longdbl=define
    longdblsize=16
    longdblkind=3
    ivtype='long'
    ivsize=8
    nvtype='double'
    nvsize=8
    Off_t='off_t'
    lseeksize=8
    alignbytes=8
    prototype=define
  Linker and Libraries:
    ld='cc'
    ldflags ='-pthread -Wl,-E  -fstack-protector-strong -L/usr/local/lib'
    libpth=/usr/lib /usr/local/lib
    libs=-lpthread -lm -lutil -lc
    perllibs=-lpthread -lm -lutil -lc
    libc=/usr/lib/libc.so.96.1
    so=so
    useshrplib=false
    libperl=libperl.a
    gnulibc_version=''
  Dynamic Linking:
    dlsrc=dl_dlopen.xs
    dlext=so
    d_dlsymun=undef
    ccdlflags=' '
    cccdlflags='-DPIC -fPIC '
    lddlflags='-shared -fPIC  -L/usr/local/lib -fstack-protector-strong'


Characteristics of this binary (from libperl): 
  Compile-time options:
    HAS_TIMES
    MULTIPLICITY
    PERLIO_LAYERS
    PERL_COPY_ON_WRITE
    PERL_DONT_CREATE_GVSV
    PERL_IMPLICIT_CONTEXT
    PERL_MALLOC_WRAP
    PERL_OP_PARENT
    PERL_PRESERVE_IVUV
    USE_64_BIT_ALL
    USE_64_BIT_INT
    USE_ITHREADS
    USE_LARGE_FILES
    USE_LOCALE
    USE_LOCALE_COLLATE
    USE_LOCALE_CTYPE
    USE_LOCALE_NUMERIC
    USE_LOCALE_TIME
    USE_PERLIO
    USE_PERL_ATOF
    USE_REENTRANT_API
  Built under openbsd
  Compiled at Feb 12 2022 00:11:28
  %ENV:
    PERL="5.32.1"
    PERL5LIB=""
    PERL5OPT=""
    PERL5_CPANPLUS_IS_RUNNING="59732"
    PERL5_CPAN_IS_RUNNING="59732"
    PERLBREW_HOME="/home/david/.perlbrew"
    PERLBREW_MANPATH="/home/david/perl5/perlbrew/perls/perl-5.32.0/man"
    PERLBREW_PATH="/home/david/perl5/perlbrew/bin:/home/david/perl5/perlbrew/perls/perl-5.32.0/bin"
    PERLBREW_PERL="perl-5.32.0"
    PERLBREW_ROOT="/home/david/perl5/perlbrew"
    PERLBREW_SHELLRC_VERSION="0.92"
    PERLBREW_VERSION="0.92"
    PERLVER="5.32.1"
    PERL_INLINE_DIRECTORY="/home/david/.Inline-5.32.1"
    PERL_MM_USE_DEFAULT="1"
    PERL_USE_UNSAFE_INC="0"
  @INC:
    /home/david/cpantesting/perl-5.32.1/lib/site_perl/5.32.1/OpenBSD.amd64-openbsd-thread-multi
    /home/david/cpantesting/perl-5.32.1/lib/site_perl/5.32.1
    /home/david/cpantesting/perl-5.32.1/lib/5.32.1/OpenBSD.amd64-openbsd-thread-multi
    /home/david/cpantesting/perl-5.32.1/lib/5.32.1