DateTime-Format-Strptime v1.79 Perl 5 v5.35.10 amd64-freebsd-thread-multi
- Status
- Pass
- From
- James E Keenan
- Dist
-
DateTime-Format-Strptime v1.79
- Platform
- Perl 5 v5.35.10 amd64-freebsd-thread-multi
- Date
- 2022-03-01 19:43:03
- ID
- cf18f724-9997-11ec-acf7-6f47c7e46b64
This distribution has been tested as part of the CPAN Testers
project, supporting the Perl programming language. See
http://wiki.cpantesters.org/ for more information or email
questions to cpan-testers-discuss@perl.org
--
Dear Dave Rolsky,
This is a computer-generated report for DateTime-Format-Strptime-1.79
on perl 5.35.10, created by CPAN-Reporter-1.2018.
Thank you for uploading your work to CPAN. Congratulations!
All tests were successful.
Sections of this report:
* Tester comments
* Program output
* Prerequisites
* Environment and other context
------------------------------
TESTER COMMENTS
------------------------------
Additional comments from tester:
none provided
------------------------------
PROGRAM OUTPUT
------------------------------
Output from '/usr/bin/make test':
PERL_DL_NONLAZY=1 "/usr/home/jkeenan/testing/blead/bin/perl" "-MExtUtils::Command::MM" "-MTest::Harness" "-e" "undef *Test::Harness::Switches; test_harness(0, 'blib/lib', 'blib/arch')" t/*.t
#
# Versions for all modules listed in MYMETA.json (including optional ones):
#
# === Configure Requires ===
#
# Module Want Have
# ------------------- ---- ----
# ExtUtils::MakeMaker any 7.64
#
# === Configure Suggests ===
#
# Module Want Have
# -------- ------- ----
# JSON::PP 2.27300 4.07
#
# === Build Requires ===
#
# Module Want Have
# ------------------- ---- ----
# ExtUtils::MakeMaker any 7.64
#
# === Test Requires ===
#
# Module Want Have
# ------------------- ---- --------
# ExtUtils::MakeMaker any 7.64
# File::Spec any 3.83
# FindBin any 1.53
# Test::Builder any 1.302188
# Test::Fatal any 0.016
# Test::More 0.96 1.302188
# Test::Warnings any 0.031
# lib any 0.65
# utf8 any 1.24
#
# === Test Recommends ===
#
# Module Want Have
# ---------- -------- --------
# CPAN::Meta 2.120900 2.150010
#
# === Runtime Requires ===
#
# Module Want Have
# -------------------------- ---- -----
# Carp any 1.52
# DateTime 1.00 1.55
# DateTime::Locale 1.30 1.33
# DateTime::Locale::Base any 1.33
# DateTime::Locale::FromData any 1.33
# DateTime::TimeZone 2.09 2.51
# Exporter any 5.77
# Params::ValidationCompiler any 0.30
# Specio 0.33 0.47
# Specio::Declare any 0.47
# Specio::Exporter any 0.47
# Specio::Library::Builtins any 0.47
# Specio::Library::String any 0.47
# Try::Tiny any 0.31
# constant any 1.33
# parent any 0.238
# strict any 1.12
# warnings any 1.57
#
t/00-report-prereqs.t .... ok
t/basic.t ................ ok
t/edge.t ................. ok
t/errors.t ............... ok
t/format-datetime.t ...... ok
t/format-with-locale.t ... ok
t/generated-locale-de.t .. ok
t/generated-locale-en.t .. ok
t/generated-locale-ga.t .. ok
t/generated-locale-pt.t .. ok
t/generated-locale-zh.t .. ok
t/import.t ............... ok
t/zones.t ................ ok
All tests successful.
Files=13, Tests=143, 5 wallclock secs ( 0.13 usr 0.05 sys + 4.16 cusr 0.77 csys = 5.12 CPU)
Result: PASS
------------------------------
PREREQUISITES
------------------------------
Prerequisite modules loaded:
requires:
Module Need Have
-------------------------- -------- --------
Carp 0 1.52
constant 0 1.33
DateTime 1.00 1.55
DateTime::Locale 1.30 1.33
DateTime::Locale::Base 0 1.33
DateTime::Locale::FromData 0 1.33
DateTime::TimeZone 2.09 2.51
Exporter 0 5.77
Params::ValidationCompiler 0 0.30
parent 0 0.238
Specio 0.33 0.47
Specio::Declare 0 0.47
Specio::Exporter 0 0.47
Specio::Library::Builtins 0 0.47
Specio::Library::String 0 0.47
strict 0 1.12
Try::Tiny 0 0.31
warnings 0 1.57
build_requires:
Module Need Have
-------------------------- -------- --------
ExtUtils::MakeMaker 0 7.64
File::Spec 0 3.83
FindBin 0 1.53
lib 0 0.65
Test::Builder 0 1.302188
Test::Fatal 0 0.016
Test::More 0.96 1.302188
Test::Warnings 0 0.031
utf8 0 1.24
configure_requires:
Module Need Have
-------------------------- -------- --------
ExtUtils::MakeMaker 0 7.64
opt_build_requires:
Module Need Have
-------------------------- -------- --------
CPAN::Meta 2.120900 2.150010
------------------------------
ENVIRONMENT AND OTHER CONTEXT
------------------------------
Environment variables:
LANG = C.UTF-8
NONINTERACTIVE_TESTING = 1
PATH = /sbin:/bin:/usr/sbin:/usr/bin:/usr/local/sbin:/usr/local/bin:/home/jkeenan/bin:/home/jkeenan/bin/perl:/home/jkeenan/bin/shell
PERL5LIB =
PERL5OPT =
PERL5_CPANPLUS_IS_RUNNING = 89879
PERL5_CPAN_IS_RUNNING = 89879
PERL_MM_USE_DEFAULT = 1
PERL_USE_UNSAFE_INC = 1
PERL_WORKDIR = /home/jkeenan/gitwork/perl
SHELL = /bin/sh
TERM = xterm-256color
Perl special variables (and OS-specific diagnostics, for MSWin32):
$^X = /usr/home/jkeenan/testing/blead/bin/perl
$UID/$EUID = 1002 / 1002
$GID = 1002 1002 0 5
$EGID = 1002 1002 0 5
Perl module toolchain versions installed:
Module Have
------------------- --------
CPAN 2.33
CPAN::Meta 2.150010
Cwd 3.83
ExtUtils::CBuilder 0.280236
ExtUtils::Command 7.64
ExtUtils::Install 2.20
ExtUtils::MakeMaker 7.64
ExtUtils::Manifest 1.73
ExtUtils::ParseXS 3.44
File::Spec 3.83
JSON 4.05
JSON::PP 4.07
Module::Build 0.4231
Module::Signature n/a
Parse::CPAN::Meta 2.150010
Test::Harness 3.43
Test::More 1.302188
YAML 1.30
YAML::Syck n/a
version 0.9929
--
Summary of my perl5 (revision 5 version 35 subversion 10) configuration:
Commit id: f0ef35deb0072805b68cef82ebe28739f67ca79a
Platform:
osname=freebsd
osvers=13.0-release
archname=amd64-freebsd-thread-multi
uname='freebsd perl-reporter-12 13.0-release freebsd 13.0-release #0 releng13.0-n244733-ea31abc261f: fri apr 9 04:24:09 utc 2021 root@releng1.nyi.freebsd.org:usrobjusrsrcamd64.amd64sysgeneric amd64 '
config_args='-des -Dusedevel -Uversiononly -Dprefix=/home/jkeenan/testing/blead -Dman1dir=none -Dman3dir=none -Duseithreads -Doptimize=-O2 -pipe -fstack-protector -fno-strict-aliasing'
hint=recommended
useposix=true
d_sigaction=define
useithreads=define
usemultiplicity=define
use64bitint=define
use64bitall=define
uselongdouble=undef
usemymalloc=n
default_inc_excludes_dot=define
Compiler:
cc='cc'
ccflags ='-DHAS_FPSETMASK -DHAS_FLOATINGPOINT_H -fno-strict-aliasing -pipe -fstack-protector-strong -I/usr/local/include'
optimize='-O2 -pipe -fstack-protector -fno-strict-aliasing'
cppflags='-DHAS_FPSETMASK -DHAS_FLOATINGPOINT_H -fno-strict-aliasing -pipe -fstack-protector-strong -I/usr/local/include'
ccversion=''
gccversion='FreeBSD Clang 11.0.1 (git@github.com:llvm/llvm-project.git llvmorg-11.0.1-0-g43ff75f2c3fe)'
gccosandvers=''
intsize=4
longsize=8
ptrsize=8
doublesize=8
byteorder=12345678
doublekind=3
d_longlong=define
longlongsize=8
d_longdbl=define
longdblsize=16
longdblkind=3
ivtype='long'
ivsize=8
nvtype='double'
nvsize=8
Off_t='off_t'
lseeksize=8
alignbytes=8
prototype=define
Linker and Libraries:
ld='cc'
ldflags ='-pthread -Wl,-E -fstack-protector-strong -L/usr/local/lib'
libpth=/usr/lib /usr/local/lib /usr/lib/clang/11.0.1/lib
libs=-lpthread -lgdbm -ldl -lm -lcrypt -lutil
perllibs=-lpthread -ldl -lm -lcrypt -lutil
libc=
so=so
useshrplib=false
libperl=libperl.a
gnulibc_version=''
Dynamic Linking:
dlsrc=dl_dlopen.xs
dlext=so
d_dlsymun=undef
ccdlflags=' '
cccdlflags='-DPIC -fPIC'
lddlflags='-shared -L/usr/local/lib -fstack-protector-strong'
Characteristics of this binary (from libperl):
Compile-time options:
HAS_TIMES
MULTIPLICITY
PERLIO_LAYERS
PERL_COPY_ON_WRITE
PERL_DONT_CREATE_GVSV
PERL_MALLOC_WRAP
PERL_OP_PARENT
PERL_PRESERVE_IVUV
PERL_USE_DEVEL
USE_64_BIT_ALL
USE_64_BIT_INT
USE_ITHREADS
USE_LARGE_FILES
USE_LOCALE
USE_LOCALE_COLLATE
USE_LOCALE_CTYPE
USE_LOCALE_NUMERIC
USE_LOCALE_TIME
USE_PERLIO
USE_PERL_ATOF
USE_REENTRANT_API
USE_THREAD_SAFE_LOCALE
Built under freebsd
Compiled at Mar 1 2022 13:09:38
%ENV:
PERL5LIB=""
PERL5OPT=""
PERL5_CPANPLUS_IS_RUNNING="89879"
PERL5_CPAN_IS_RUNNING="89879"
PERL_MM_USE_DEFAULT="1"
PERL_USE_UNSAFE_INC="1"
PERL_WORKDIR="/home/jkeenan/gitwork/perl"
@INC:
/home/jkeenan/testing/blead/lib/perl5/site_perl/5.35.10/amd64-freebsd-thread-multi
/home/jkeenan/testing/blead/lib/perl5/site_perl/5.35.10
/home/jkeenan/testing/blead/lib/perl5/5.35.10/amd64-freebsd-thread-multi
/home/jkeenan/testing/blead/lib/perl5/5.35.10
.